{"text_format":"1","workbook":"xlsx","n_sheets":14,"sheets":["Instructions","Données personnelles","Planification Sport","Planification Formation","Récapitulatif","Hilfsblatt Zeitstrahl","Annexe","Hilfstabelle Alter","Hilfstabelle Sport Kategorien","Hilfstabelle Sport Saisonziele","Hilfstabelle Sport Grobplan","Hilfstabelle Schule Ausbildung","Hilfstabelle Schule Meilenstein","Feuil1"],"not_rendered":{"charts":4,"images":6,"macros":1,"external_links":2,"defined_names":5,"comments":0,"pivot_tables":0},"unopened":[],"bounds":{"document_bytes":16777216,"sheet_cells":100000,"rows_first":2000,"rows_last":500,"rows_between":2000,"halvings":0,"cell_chars":16384,"cell_head_chars":4096},"cells_cut":0,"cells_raw":0,"read":"whole","date_system":"1900"}

{"sheet":"Instructions","index":0,"n_rows":20,"n_cols":1,"rows_kept":20,"cut":false,"hidden":false,"merged":[[0,0,0,7],[4,0,4,7],[6,0,6,7],[3,0,3,7],[1,0,1,7],[15,0,15,7],[16,0,16,7],[18,0,18,7],[19,0,19,7],[7,0,7,7],[9,0,9,7],[10,0,10,7],[12,0,12,7],[13,0,13,7]]}
["Instructions"]
["Clique sur le « + » à gauche pour voir les descriptions concernant chaque thème."]
[]
["1 Organisation et logique du tableau Excel :"]
["La planification pluriannuelle est répartie sur les cinq feuilles de calcul suivantes :\n\n- Instructions\n- Données personnelles\n- Planification Sport\n- Planification Formation\n- Récapitulatif\n\nPour ne rien oublier, traite ces cinq feuilles de calcul de gauche à droite. Chaque feuille de calcul comprend une brève description (toujours en rouge) de ce que tu dois compléter.\n\nTu trouveras d’autres informations sur chaque feuille de calcul aux points 1.1 - 1.5.\n\n"]
[]
["1.1 Feuille de calcul « Instructions » :"]
["Tu trouveras dans cette feuille une brève description du modèle de planification de carrière."]
[]
["1.2 Feuille de calcul « Données personnelles » :"]
["Cette feuille sert à indiquer les données personnelles. Elles seront reprises sur la feuille récapitulative. \nTu ne dois la remplir qu'une seule fois, l'année où tu commences la planification pluriannuelle !"]
[]
["1.3 Feuille de calcul « Planification Sport » :"]
["Cette feuille de calcul comprend trois colonnes :\n\n- Catégorie / cadre\n- Buts de la saison\n- Planification générale de l’entraînement\n\nLes années respectivement les saisons à compléter sont automatiquement surlignées en jaune et servent d’aide visuelle.\n\nCatégorie / cadre :\nIndique dans cette colonne ta catégorie ou ton cadre par année ou par saison. Par exemple « M16 » ou « Cadre A ». \n\nButs de la saison :\nIndique dans cette colonne tes buts de la saison par année respectivement par saison. Pour cela, complète seulement la date (au format JJ/MM/AAAA) et la description du buts de la saison (par ex. « CM » ou « Jeux Olympiques »).\n\nIl y a en plus pour chaque année deux lignes supplémentaires « Service militaire ». Tu peux y insérer l’école de recrues (RS) ou le cours de répétition (CR). Si tu ne fais pas de service militaire, alors laisse ces lignes vides. \n\nPlanification générale de l’entraînement :\nDans cette colonne, tu peux insérer pour tes unités d’entraînement par semaine, ton volume d’entraînement (en heures par semaine) et les points principaux de ton entraînement pur chaque année respectivement saison."]
[]
["1.4 Feuille de calcul « Planification Formation » :"]
["La logique et l’organisation de cette feuille correspondent à celles de la feuille de calcul « Planification Sport ». Cette feuille de calcul est composée de deux colonnes :\n\n- Formation\n- Echéances importantes\n\nFormation :\nTu peux insérer dans cette colonne la formation que tu es en train de suivre ou que tu prévois de suivre par année respectivement par saison (par ex. « Apprentissage de commerce » ou « Gymnase »). Si tu changes de formation en cours d’année ou de saison (par ex. fin du gymnase ou début des études), tu peux l’indiquer comme suit : « Gymnase/études ».\n\nEchéances importantes :\nLe fonctionnement de cette colonne est analogue à celui des « Buts de la saison » de la feuille de calcul « Planification Sport ». Tu dois seulement indiquer la date (au format JJ/MM/AAAA) ainsi que la description (par ex. « Examens finaux » ou « Cours obligatoire »).\n"]
[]
["1.5 Feuille de calcul « Récapitulatif » :"]
["Cette feuille de calcul est complétée automatiquement avec les informations indiquées sur les feuilles de calcul précédentes (Données personnelles, Planification Sport et Planification Formation). Si tu remarques que des informations saisies sont fausses, modifie-les sur les feuilles de calcul correspondantes. \n\nAu milieu de la feuille récapitulative, tu trouveras la ligne de temps avec les buts de la saison/échéances pour les quatre prochaines années. Si deux objectifs de la saison/échéances ont lieu en même temps, tu as sûrement un conflit d’horaire. Si c’est le cas, tu devrais revoir ton planning et l’adapter si nécessaire.\n\n\n"]

{"sheet":"Données personnelles","index":1,"n_rows":12,"n_cols":2,"rows_kept":12,"cut":false,"hidden":false,"merged":[[1,0,1,1]]}
["Données personnelles"]
["Complète correctement les champs gris vides. Les données sont pertinentes pour les autres feuilles de calcul et sont reprises automatiquement."]
[]
["Nom"]
["Prénom"]
["Date de naissance"]
[]
["Sport"]
["Fédération sportive"]
[]
[]
["Début Planification de carrière",2022]

{"sheet":"Planification Sport","index":2,"n_rows":115,"n_cols":18,"rows_kept":115,"cut":false,"hidden":false,"merged":[[107,0,114,0],[107,1,114,4],[67,0,74,0],[67,1,74,4],[55,1,55,4],[57,0,64,0],[57,1,64,4],[47,0,54,0],[66,10,66,11],[76,10,76,11],[86,10,86,11],[96,10,96,11],[106,10,106,11],[65,10,65,11],[77,1,84,4],[56,1,56,4],[66,1,66,4],[76,1,76,4],[86,1,86,4],[96,1,96,4],[0,0,0,18],[3,9,3,12],[105,10,105,11],[75,10,75,11],[85,10,85,11],[95,10,95,11],[3,0,3,5],[25,10,25,11],[35,10,35,11],[45,10,45,11],[55,10,55,11],[26,10,26,11],[36,10,36,11],[46,10,46,11],[56,10,56,11],[47,1,54,4],[105,1,105,4],[95,1,95,4],[97,0,104,0],[97,1,104,4],[85,1,85,4],[87,0,94,0],[87,1,94,4],[77,0,84,0],[45,1,45,4],[35,1,35,4],[37,0,44,0],[37,1,44,4],[25,1,25,4],[27,0,34,0],[27,1,34,4],[17,0,24,0],[17,1,24,4],[26,1,26,4],[36,1,36,4],[15,1,15,4],[5,1,5,4],[7,0,14,0],[7,1,14,4],[11,16,14,16],[11,17,14,17],[6,1,6,4],[6,10,6,11],[16,1,16,4],[16,10,16,11],[5,10,5,11],[15,10,15,11],[7,16,8,16],[7,17,8,17],[9,16,10,16],[9,17,10,17],[17,16,18,16],[19,16,20,16],[17,17,18,17],[19,17,20,17],[21,16,24,16],[21,17,24,17],[31,16,34,16],[31,17,34,17],[41,16,44,16],[41,17,44,17],[27,16,28,16],[27,17,28,17],[29,16,30,16],[29,17,30,17],[37,16,38,16],[37,17,38,17],[39,16,40,16],[39,17,40,17],[51,16,54,16],[51,17,54,17],[61,16,64,16],[61,17,64,17],[47,16,48,16],[47,17,48,17],[49,16,50,16],[49,17,50,17],[57,16,58,16],[57,17,58,17],[59,16,60,16],[59,17,60,17],[81,16,84,16],[81,17,84,17],[91,16,94,16],[91,17,94,17],[77,16,78,16],[77,17,78,17],[79,16,80,16],[79,17,80,17],[87,16,88,16],[87,17,88,17],[89,16,90,16],[89,17,90,17],[2,16,2,17],[3,16,3,17],[46,1,46,4],[106,1,106,4],[75,1,75,4],[65,1,65,4],[101,16,104,16],[101,17,104,17],[111,16,114,16],[111,17,114,17],[97,16,98,16],[97,17,98,17],[99,16,100,16],[99,17,100,17],[107,16,108,16],[107,17,108,17],[109,16,110,16],[109,17,110,17],[67,16,68,16],[67,17,68,17],[69,16,70,16],[69,17,70,17],[71,16,74,16],[71,17,74,17]]}
["Planification Sport"]
[]
["Catégorie / Cadre",null,null,null,null,null,null,null,null,"Buts de la saison",null,null,null,null,null,null,"Planification générale de l’entraînement"]
["Indique ici ton cadre/ta catégorie selon les années/saisons. Utilise pour cela le champ blanc.\nTu dois seulement remplir les champs colorés.\n",null,null,null,null,null,null,null,null,"Saisis dans les champs suivants les compétitions que tu vises et les compétitions principales ainsi que d’autres objectifs par année/saison. Les deux lignes en rouge sont prévues pour le service militaire (ER ou CR). Il suffit de saisir la date de l’objectif de la saison ainsi que sa description (par ex. Jeux Olympiques) par année/saison. \nTu dois seulement remplir les champs colorés.\n\nFormat de la date: JJ/MM/AAAA\n\n\n",null,null,null,null,null,null,"Complète dans chacun des champs vides suivants tes unités d’entraînement par semaine, ton volume d’entraînement (en heures par semaine) ainsi que les points principaux de ton entraînement (par ex. endurance, force, etc.) pour chaque année/saison.\nTu dois seulement remplir les champs colorés."]
[]
[null,{"$f":"'Données personnelles'!$B$12","v":2022},null,null,null,null,{"$f":"TODAY()","v":"2022-11-22"},null,null,null,{"$f":"B6","v":2022},null,null,null,null,null,null,{"$f":"$B6","v":2022}]
[]
["Catégorie / cadre",null,null,null,null,null,{"$f":"YEAR(G6)","v":2022},null,null,null,"Date","Buts de la saison",null,null,null,null,"Unités d’entraînement par semaine"]
[null,null,null,null,null,null,{"$f":"G8+1","v":2023},null,null,"But de la saison 1"]
[null,null,null,null,null,null,{"$f":"G9+1","v":2024},null,null,"But de la saison 2",null,null,null,null,null,null,"Volume d’entraînement (h/semaine)"]
[null,null,null,null,null,null,{"$f":"G10+1","v":2025},null,null,"But de la saison 3"]
[null,null,null,null,null,null,null,null,null,"But de la saison 4",null,null,null,null,null,null,"Points principaux d’entraînement"]
[null,null,null,null,null,null,null,null,null,"But de la saison 5"]
[null,null,null,null,null,null,null,null,null,"Service militaire debut"]
[null,null,null,null,null,null,null,null,null,"Service militaire fin"]
[null,{"$f":"B6+1","v":2023},null,null,null,null,null,null,null,null,{"$f":"B16","v":2023},null,null,null,null,null,null,{"$f":"$B16","v":2023}]
[]
["Catégorie / cadre",null,null,null,null,null,null,null,null,null,"Date","Buts de la saison",null,null,null,null,"Unités d’entraînement par semaine"]
[null,null,null,null,null,null,null,null,null,"But de la saison 1"]
[null,null,null,null,null,null,null,null,null,"But de la saison 2",null,null,null,null,null,null,"Volume d’entraînement (h/semaine)"]
[null,null,null,null,null,null,null,null,null,"But de la saison 3"]
[null,null,null,null,null,null,null,null,null,"But de la saison 4",null,null,null,null,null,null,"Points principaux d’entraînement"]
[null,null,null,null,null,null,null,null,null,"But de la saison 5"]
[null,null,null,null,null,null,null,null,null,"Service militaire debut"]
[null,null,null,null,null,null,null,null,null,"Service militaire fin"]
[null,{"$f":"B16+1","v":2024},null,null,null,null,null,null,null,null,{"$f":"B26","v":2024},null,null,null,null,null,null,{"$f":"$B26","v":2024}]
[]
["Catégorie / cadre",null,null,null,null,null,null,null,null,null,"Date","Buts de la saison",null,null,null,null,"Unités d’entraînement par semaine"]
[null,null,null,null,null,null,null,null,null,"But de la saison 1"]
[null,null,null,null,null,null,null,null,null,"But de la saison 2",null,null,null,null,null,null,"Volume d’entraînement (h/semaine)"]
[null,null,null,null,null,null,null,null,null,"But de la saison 3"]
[null,null,null,null,null,null,null,null,null,"But de la saison 4",null,null,null,null,null,null,"Points principaux d’entraînement"]
[null,null,null,null,null,null,null,null,null,"But de la saison 5"]
[null,null,null,null,null,null,null,null,null,"Service militaire debut"]
[null,null,null,null,null,null,null,null,null,"Service militaire fin"]
[null,{"$f":"B26+1","v":2025},null,null,null,null,null,null,null,null,{"$f":"B36","v":2025},null,null,null,null,null,null,{"$f":"$B36","v":2025}]
[]
["Catégorie / cadre",null,null,null,null,null,null,null,null,null,"Date","Buts de la saison",null,null,null,null,"Unités d’entraînement par semaine"]
[null,null,null,null,null,null,null,null,null,"But de la saison 1"]
[null,null,null,null,null,null,null,null,null,"But de la saison 2",null,null,null,null,null,null,"Volume d’entraînement (h/semaine)"]
[null,null,null,null,null,null,null,null,null,"But de la saison 3"]
[null,null,null,null,null,null,null,null,null,"But de la saison 4",null,null,null,null,null,null,"Points principaux d’entraînement"]
[null,null,null,null,null,null,null,null,null,"But de la saison 5"]
[null,null,null,null,null,null,null,null,null,"Service militaire debut"]
[null,null,null,null,null,null,null,null,null,"Service militaire fin"]
[null,{"$f":"B36+1","v":2026},null,null,null,null,null,null,null,null,{"$f":"B46","v":2026},null,null,null,null,null,null,{"$f":"$B46","v":2026}]
[]
["Catégorie / cadre",null,null,null,null,null,null,null,null,null,"Date","Buts de la saison",null,null,null,null,"Unités d’entraînement par semaine"]
[null,null,null,null,null,null,null,null,null,"But de la saison 1"]
[null,null,null,null,null,null,null,null,null,"But de la saison 2",null,null,null,null,null,null,"Volume d’entraînement (h/semaine)"]
[null,null,null,null,null,null,null,null,null,"But de la saison 3"]
[null,null,null,null,null,null,null,null,null,"But de la saison 4",null,null,null,null,null,null,"Points principaux d’entraînement"]
[null,null,null,null,null,null,null,null,null,"But de la saison 5"]
[null,null,null,null,null,null,null,null,null,"Service militaire debut"]
[null,null,null,null,null,null,null,null,null,"Service militaire fin"]
[null,{"$f":"B46+1","v":2027},null,null,null,null,null,null,null,null,{"$f":"B56","v":2027},null,null,null,null,null,null,{"$f":"$B56","v":2027}]
[]
["Catégorie / cadre",null,null,null,null,null,null,null,null,null,"Date","Buts de la saison",null,null,null,null,"Unités d’entraînement par semaine"]
[null,null,null,null,null,null,null,null,null,"But de la saison 1"]
[null,null,null,null,null,null,null,null,null,"But de la saison 2",null,null,null,null,null,null,"Volume d’entraînement (h/semaine)"]
[null,null,null,null,null,null,null,null,null,"But de la saison 3"]
[null,null,null,null,null,null,null,null,null,"But de la saison 4",null,null,null,null,null,null,"Points principaux d’entraînement"]
[null,null,null,null,null,null,null,null,null,"But de la saison 5"]
[null,null,null,null,null,null,null,null,null,"Service militaire debut"]
[null,null,null,null,null,null,null,null,null,"Service militaire fin"]
[null,{"$f":"B56+1","v":2028},null,null,null,null,null,null,null,null,{"$f":"B66","v":2028},null,null,null,null,null,null,{"$f":"$B66","v":2028}]
[]
["Catégorie / cadre",null,null,null,null,null,null,null,null,null,"Date","Buts de la saison",null,null,null,null,"Unités d’entraînement par semaine"]
[null,null,null,null,null,null,null,null,null,"But de la saison 1"]
[null,null,null,null,null,null,null,null,null,"But de la saison 2",null,null,null,null,null,null,"Volume d’entraînement (h/semaine)"]
[null,null,null,null,null,null,null,null,null,"But de la saison 3"]
[null,null,null,null,null,null,null,null,null,"But de la saison 4",null,null,null,null,null,null,"Points principaux d’entraînement"]
[null,null,null,null,null,null,null,null,null,"But de la saison 5"]
[null,null,null,null,null,null,null,null,null,"Service militaire debut"]
[null,null,null,null,null,null,null,null,null,"Service militaire fin"]
[null,{"$f":"B66+1","v":2029},null,null,null,null,null,null,null,null,{"$f":"B76","v":2029},null,null,null,null,null,null,{"$f":"$B76","v":2029}]
[]
["Catégorie / cadre",null,null,null,null,null,null,null,null,null,"Date","Buts de la saison",null,null,null,null,"Unités d’entraînement par semaine"]
[null,null,null,null,null,null,null,null,null,"But de la saison 1"]
[null,null,null,null,null,null,null,null,null,"But de la saison 2",null,null,null,null,null,null,"Volume d’entraînement (h/semaine)"]
[null,null,null,null,null,null,null,null,null,"But de la saison 3"]
[null,null,null,null,null,null,null,null,null,"But de la saison 4",null,null,null,null,null,null,"Points principaux d’entraînement"]
[null,null,null,null,null,null,null,null,null,"But de la saison 5"]
[null,null,null,null,null,null,null,null,null,"Service militaire debut"]
[null,null,null,null,null,null,null,null,null,"Service militaire fin"]
[null,{"$f":"B76+1","v":2030},null,null,null,null,null,null,null,null,{"$f":"B86","v":2030},null,null,null,null,null,null,{"$f":"$B86","v":2030}]
[]
["Catégorie / cadre",null,null,null,null,null,null,null,null,null,"Date","Buts de la saison",null,null,null,null,"Unités d’entraînement par semaine"]
[null,null,null,null,null,null,null,null,null,"But de la saison 1"]
[null,null,null,null,null,null,null,null,null,"But de la saison 2",null,null,null,null,null,null,"Volume d’entraînement (h/semaine)"]
[null,null,null,null,null,null,null,null,null,"But de la saison 3"]
[null,null,null,null,null,null,null,null,null,"But de la saison 4",null,null,null,null,null,null,"Points principaux d’entraînement"]
[null,null,null,null,null,null,null,null,null,"But de la saison 5"]
[null,null,null,null,null,null,null,null,null,"Service militaire debut"]
[null,null,null,null,null,null,null,null,null,"Service militaire fin"]
[null,{"$f":"B86+1","v":2031},null,null,null,null,null,null,null,null,{"$f":"B96","v":2031},null,null,null,null,null,null,{"$f":"$B96","v":2031}]
[]
["Catégorie / cadre",null,null,null,null,null,null,null,null,null,"Date","Buts de la saison",null,null,null,null,"Unités d’entraînement par semaine"]
[null,null,null,null,null,null,null,null,null,"But de la saison 1"]
[null,null,null,null,null,null,null,null,null,"But de la saison 2",null,null,null,null,null,null,"Volume d’entraînement (h/semaine)"]
[null,null,null,null,null,null,null,null,null,"But de la saison 3"]
[null,null,null,null,null,null,null,null,null,"But de la saison 4",null,null,null,null,null,null,"Points principaux d’entraînement"]
[null,null,null,null,null,null,null,null,null,"But de la saison 5"]
[null,null,null,null,null,null,null,null,null,"Service militaire debut"]
[null,null,null,null,null,null,null,null,null,"Service militaire fin"]
[null,{"$f":"B96+1","v":2032},null,null,null,null,null,null,null,null,{"$f":"B106","v":2032},null,null,null,null,null,null,{"$f":"$B106","v":2032}]
[]
["Catégorie / cadre",null,null,null,null,null,null,null,null,null,"Date","Buts de la saison",null,null,null,null,"Unités d’entraînement par semaine"]
[null,null,null,null,null,null,null,null,null,"But de la saison 1"]
[null,null,null,null,null,null,null,null,null,"But de la saison 2",null,null,null,null,null,null,"Volume d’entraînement (h/semaine)"]
[null,null,null,null,null,null,null,null,null,"But de la saison 3"]
[null,null,null,null,null,null,null,null,null,"But de la saison 4",null,null,null,null,null,null,"Points principaux d’entraînement"]
[null,null,null,null,null,null,null,null,null,"But de la saison 5"]
[null,null,null,null,null,null,null,null,null,"Service militaire debut"]
[null,null,null,null,null,null,null,null,null,"Service militaire fin"]

{"sheet":"Planification Formation","index":3,"n_rows":93,"n_cols":12,"rows_kept":93,"cut":false,"hidden":false,"merged":[[0,0,0,13],[3,9,3,12],[61,1,61,4],[47,0,52,0],[47,1,52,4],[30,1,30,4],[38,1,38,4],[46,1,46,4],[21,10,21,11],[45,10,45,11],[30,10,30,11],[38,10,38,11],[46,10,46,11],[54,10,54,11],[13,10,13,11],[6,1,6,4],[86,10,86,11],[22,10,22,11],[37,1,37,4],[62,1,62,4],[70,1,70,4],[53,1,53,4],[69,1,69,4],[45,1,45,4],[37,10,37,11],[29,10,29,11],[85,10,85,11],[77,10,77,11],[69,10,69,11],[61,10,61,11],[53,10,53,11],[71,1,76,4],[78,10,78,11],[71,0,76,0],[54,1,54,4],[55,0,60,0],[55,1,60,4],[63,0,68,0],[63,1,68,4],[77,1,77,4],[13,1,13,4],[62,10,62,11],[70,10,70,11],[29,1,29,4],[31,0,36,0],[31,1,36,4],[39,0,44,0],[39,1,44,4],[23,0,28,0],[23,1,28,4],[14,1,14,4],[22,1,22,4],[14,10,14,11],[15,0,20,0],[15,1,20,4],[21,1,21,4],[3,0,3,6],[5,1,5,4],[7,0,12,0],[7,1,12,4],[6,10,6,11],[5,10,5,11],[87,0,92,0],[79,0,84,0],[86,1,86,4],[78,1,78,4],[85,1,85,4],[87,1,92,4],[79,1,84,4]]}
["Planification Formation"]
[]
["Formation",null,null,null,null,null,null,null,null,"Echéances importantes"]
["Saisis la formation correspondante par année/saison. Si tu changes de formation en cours d’année (par ex. fin du gymnase et début des études), tu peux l’indiquer comme suit : « Gymnase/études »\nTu dois seulement remplir les champs colorés.",null,null,null,null,null,null,null,null,"Indique dans les champs suivants les échéances les plus importantes par année/saison. Il est important de saisir la date ainsi que la description (par ex. examen de fin d’apprentissage, cours obligatoires, examens de fin de semestre) par année.\nTu dois seulement remplir les champs colorés.\n\nFormat de la date: JJ/MM/AAAA"]
[]
[null,{"$f":"'Planification Sport'!B6","v":2022},null,null,null,null,null,null,{"$f":"'Planification Sport'!$G$6","v":"2022-11-22"},null,{"$f":"B6","v":2022}]
[]
["Formation",null,null,null,null,null,null,null,{"$f":"YEAR(I6)","v":2022},null,"Date","Echéances importantes"]
[null,null,null,null,null,null,null,null,{"$f":"I8+1","v":2023},"Echéance 1"]
[null,null,null,null,null,null,null,null,{"$f":"I9+1","v":2024},"Echéance 2"]
[null,null,null,null,null,null,null,null,{"$f":"I10+1","v":2025},"Echéance 3"]
[null,null,null,null,null,null,null,null,null,"Echéance 4"]
[null,null,null,null,null,null,null,null,null,"Echéance 5"]
[null,{"$f":"B6+1","v":2023},null,null,null,null,null,null,null,null,{"$f":"B14","v":2023}]
[]
["Formation",null,null,null,null,null,null,null,null,null,"Date","Echéances importantes"]
[null,null,null,null,null,null,null,null,null,"Echéance 1"]
[null,null,null,null,null,null,null,null,null,"Echéance 2"]
[null,null,null,null,null,null,null,null,null,"Echéance 3"]
[null,null,null,null,null,null,null,null,null,"Echéance 4"]
[null,null,null,null,null,null,null,null,null,"Echéance 5"]
[null,{"$f":"B14+1","v":2024},null,null,null,null,null,null,null,null,{"$f":"B22","v":2024}]
[]
["Formation",null,null,null,null,null,null,null,null,null,"Date","Echéances importantes"]
[null,null,null,null,null,null,null,null,null,"Echéance 1"]
[null,null,null,null,null,null,null,null,null,"Echéance 2"]
[null,null,null,null,null,null,null,null,null,"Echéance 3"]
[null,null,null,null,null,null,null,null,null,"Echéance 4"]
[null,null,null,null,null,null,null,null,null,"Echéance 5"]
[null,{"$f":"B22+1","v":2025},null,null,null,null,null,null,null,null,{"$f":"B30","v":2025}]
[]
["Formation",null,null,null,null,null,null,null,null,null,"Date","Echéances importantes"]
[null,null,null,null,null,null,null,null,null,"Echéance 1"]
[null,null,null,null,null,null,null,null,null,"Echéance 2"]
[null,null,null,null,null,null,null,null,null,"Echéance 3"]
[null,null,null,null,null,null,null,null,null,"Echéance 4"]
[null,null,null,null,null,null,null,null,null,"Echéance 5"]
[null,{"$f":"B30+1","v":2026},null,null,null,null,null,null,null,null,{"$f":"B38","v":2026}]
[]
["Formation",null,null,null,null,null,null,null,null,null,"Date","Echéances importantes"]
[null,null,null,null,null,null,null,null,null,"Echéance 1"]
[null,null,null,null,null,null,null,null,null,"Echéance 2"]
[null,null,null,null,null,null,null,null,null,"Echéance 3"]
[null,null,null,null,null,null,null,null,null,"Echéance 4"]
[null,null,null,null,null,null,null,null,null,"Echéance 5"]
[null,{"$f":"B38+1","v":2027},null,null,null,null,null,null,null,null,{"$f":"B46","v":2027}]
[]
["Formation",null,null,null,null,null,null,null,null,null,"Date","Echéances importantes"]
[null,null,null,null,null,null,null,null,null,"Echéance 1"]
[null,null,null,null,null,null,null,null,null,"Echéance 2"]
[null,null,null,null,null,null,null,null,null,"Echéance 3"]
[null,null,null,null,null,null,null,null,null,"Echéance 4"]
[null,null,null,null,null,null,null,null,null,"Echéance 5"]
[null,{"$f":"B46+1","v":2028},null,null,null,null,null,null,null,null,{"$f":"B54","v":2028}]
[]
["Formation",null,null,null,null,null,null,null,null,null,"Date","Echéances importantes"]
[null,null,null,null,null,null,null,null,null,"Echéance 1"]
[null,null,null,null,null,null,null,null,null,"Echéance 2"]
[null,null,null,null,null,null,null,null,null,"Echéance 3"]
[null,null,null,null,null,null,null,null,null,"Echéance 4"]
[null,null,null,null,null,null,null,null,null,"Echéance 5"]
[null,{"$f":"B54+1","v":2029},null,null,null,null,null,null,null,null,{"$f":"B62","v":2029}]
[]
["Formation",null,null,null,null,null,null,null,null,null,"Date","Echéances importantes"]
[null,null,null,null,null,null,null,null,null,"Echéance 1"]
[null,null,null,null,null,null,null,null,null,"Echéance 2"]
[null,null,null,null,null,null,null,null,null,"Echéance 3"]
[null,null,null,null,null,null,null,null,null,"Echéance 4"]
[null,null,null,null,null,null,null,null,null,"Echéance 5"]
[null,{"$f":"B62+1","v":2030},null,null,null,null,null,null,null,null,{"$f":"B70","v":2030}]
[]
["Formation",null,null,null,null,null,null,null,null,null,"Date","Echéances importantes"]
[null,null,null,null,null,null,null,null,null,"Echéance 1"]
[null,null,null,null,null,null,null,null,null,"Echéance 2"]
[null,null,null,null,null,null,null,null,null,"Echéance 3"]
[null,null,null,null,null,null,null,null,null,"Echéance 4"]
[null,null,null,null,null,null,null,null,null,"Echéance 5"]
[null,{"$f":"B70+1","v":2031},null,null,null,null,null,null,null,null,{"$f":"B78","v":2031}]
[]
["Formation",null,null,null,null,null,null,null,null,null,"Date","Echéances importantes"]
[null,null,null,null,null,null,null,null,null,"Echéance 1"]
[null,null,null,null,null,null,null,null,null,"Echéance 2"]
[null,null,null,null,null,null,null,null,null,"Echéance 3"]
[null,null,null,null,null,null,null,null,null,"Echéance 4"]
[null,null,null,null,null,null,null,null,null,"Echéance 5"]
[null,{"$f":"B78+1","v":2032},null,null,null,null,null,null,null,null,{"$f":"B86","v":2032}]
[]
["Formation",null,null,null,null,null,null,null,null,null,"Date","Echéances importantes"]
[null,null,null,null,null,null,null,null,null,"Echéance 1"]
[null,null,null,null,null,null,null,null,null,"Echéance 2"]
[null,null,null,null,null,null,null,null,null,"Echéance 3"]
[null,null,null,null,null,null,null,null,null,"Echéance 4"]
[null,null,null,null,null,null,null,null,null,"Echéance 5"]

{"sheet":"Récapitulatif","index":4,"n_rows":68,"n_cols":17,"rows_kept":68,"cut":false,"hidden":false,"merged":[[64,2,64,4],[64,6,64,8],[64,10,64,12],[64,14,64,16],[67,2,67,4],[67,6,67,8],[67,10,67,12],[67,14,67,16],[65,2,65,4],[65,6,65,8],[65,10,65,12],[65,14,65,16],[66,2,66,4],[66,6,66,8],[66,10,66,12],[66,14,66,16],[62,2,62,4],[62,6,62,8],[62,10,62,12],[62,14,62,16],[63,2,63,4],[63,6,63,8],[63,10,63,12],[63,14,63,16],[61,2,61,4],[61,6,61,8],[61,10,61,12],[61,14,61,16],[58,2,58,4],[58,6,58,8],[58,10,58,12],[58,14,58,16],[56,0,56,16],[23,2,23,4],[23,6,23,8],[23,10,23,12],[23,14,23,16],[19,2,19,4],[19,6,19,8],[19,10,19,12],[19,14,19,16],[22,2,22,4],[22,6,22,8],[22,10,22,12],[22,14,22,16],[21,2,21,4],[21,6,21,8],[21,10,21,12],[21,14,21,16],[20,2,20,4],[20,6,20,8],[20,10,20,12],[20,14,20,16],[16,2,16,4],[16,6,16,8],[16,10,16,12],[16,14,16,16],[17,2,17,4],[17,6,17,8],[17,10,17,12],[17,14,17,16],[13,2,13,4],[13,6,13,8],[13,10,13,12],[13,14,13,16],[18,2,18,4],[18,6,18,8],[18,10,18,12],[18,14,18,16],[14,2,14,4],[14,6,14,8],[14,10,14,12],[14,14,14,16],[15,2,15,4],[15,6,15,8],[15,10,15,12],[15,14,15,16],[11,2,11,4],[11,6,11,8],[11,10,11,12],[11,14,11,16],[12,2,12,4],[12,6,12,8],[12,10,12,12],[12,14,12,16],[5,0,5,16],[0,2,0,16],[1,2,1,12],[2,2,2,12],[10,2,10,4],[10,6,10,8],[10,10,10,12],[10,14,10,16],[7,2,7,4],[7,6,7,8],[7,10,7,12],[7,14,7,16]]}
["Récapitulatif de :",null,{"$f":"'Données personnelles'!$B$5&\" \"&'Données personnelles'!$B$4","v":" "}]
["Sport :",null,{"$f":"'Données personnelles'!$B$8","v":0}]
["Fédération sportive : ",null,{"$f":"'Données personnelles'!$B$9","v":0}]
[]
["Planification Sport"]
["Tous les champs sont complétés automatiquement. Pour cela tu dois remplir les feuilles de calcul « Données personnelles » et « Planification Sport » en entier."]
[]
[null,null,{"$f":"'Planification Sport'!G8","v":2022},null,null,null,{"$f":"'Planification Sport'!G9","v":2023},null,null,null,{"$f":"'Planification Sport'!G10","v":2024},null,null,null,{"$f":"'Planification Sport'!G11","v":2025}]
[null,null,{"$f":"DATE(C8,1,1)","v":"2022-01-01"},null,{"$f":"VLOOKUP($C$8,'Hilfstabelle Alter'!$A$1:$B$43,2,0)","v":"2022-07-01"},null,{"$f":"DATE(G8,1,1)","v":"2023-01-01"},null,{"$f":"VLOOKUP($G$8,'Hilfstabelle Alter'!$A$1:$B$43,2,0)","v":"2023-07-01"},null,{"$f":"DATE(K8,1,1)","v":"2024-01-01"},null,{"$f":"VLOOKUP($K$8,'Hilfstabelle Alter'!$A$1:$B$43,2,0)","v":"2024-07-01"},null,{"$f":"DATE(O8,1,1)","v":"2025-01-01"},null,{"$f":"VLOOKUP($O$8,'Hilfstabelle Alter'!$A$1:$B$43,2,0)","v":"2025-07-01"}]
[]
["Age",null,{"$f":"IF('Données personnelles'!$B$6=\"\",\"\",DATEDIF('Données personnelles'!$B$6,Récapitulatif!E$9,\"Y\"))","v":""},null,null,null,{"$f":"IF('Données personnelles'!$B$6=\"\",\"\",DATEDIF('Données personnelles'!$B$6,Récapitulatif!I$9,\"Y\"))","v":""},null,null,null,{"$f":"IF('Données personnelles'!$B$6=\"\",\"\",DATEDIF('Données personnelles'!$B$6,Récapitulatif!M$9,\"Y\"))","v":""},null,null,null,{"$f":"IF('Données personnelles'!$B$6=\"\",\"\",DATEDIF('Données personnelles'!$B$6,Récapitulatif!Q$9,\"Y\"))","v":""}]
["Catégorie / cadre",null,{"$f":"VLOOKUP(C$8,'Hilfstabelle Sport Kategorien'!$A$1:$B$22,2,0)","v":0},null,null,null,{"$f":"VLOOKUP(G$8,'Hilfstabelle Sport Kategorien'!$A$1:$B$22,2,0)","v":0},null,null,null,{"$f":"VLOOKUP(K$8,'Hilfstabelle Sport Kategorien'!$A$1:$B$22,2,0)","v":0},null,null,null,{"$f":"VLOOKUP(O$8,'Hilfstabelle Sport Kategorien'!$A$1:$B$22,2,0)","v":0}]
["Buts de la saison"]
["But de la saison 1",{"$f":"VLOOKUP(C$8&$A14,CHOOSE({1,2},'Hilfstabelle Sport Saisonziele'!$A$2:$A$294&'Hilfstabelle Sport Saisonziele'!$C$2:$C$294,'Hilfstabelle Sport Saisonziele'!$B$2:$B$294),2,0)","v":"00:00:00"},{"$f":"IFERROR(IF(VLOOKUP(C$8&$A14,CHOOSE({1,2},'Hilfstabelle Sport Saisonziele'!$A$2:$A$148&'Hilfstabelle Sport Saisonziele'!$C$2:$C$148,'Hilfstabelle Sport Saisonziele'!$D$2:$D$148),2,FALSE)=0,\"\",VLOOKUP(C$8&$A14,CHOOSE({1,2},'Hilfstabelle Sport Saisonziele'!$A$2:$A$148&'Hilfstabelle Sport Saisonziele'!$C$2:$C$148,'Hilfstabelle Sport Saisonziele'!$D$2:$D$148),2,FALSE)),\"\")","v":""},null,null,{"$f":"IFERROR(IF(VLOOKUP(G$8&$A14,CHOOSE({1,2},'Hilfstabelle Sport Saisonziele'!$A$2:$A$294&'Hilfstabelle Sport Saisonziele'!$C$2:$C$294,'Hilfstabelle Sport Saisonziele'!$B$2:$B$294),2,FALSE)=0,\"\",VLOOKUP(G$8&$A14,CHOOSE({1,2},'Hilfstabelle Sport Saisonziele'!$A$2:$A$294&'Hilfstabelle Sport Saisonziele'!$C$2:$C$294,'Hilfstabelle Sport Saisonziele'!$B$2:$B$294),2,FALSE)),\"\")","v":""},{"$f":"IFERROR(IF(VLOOKUP(G$8&$A14,CHOOSE({1,2},'Hilfstabelle Sport Saisonziele'!$A$2:$A$148&'Hilfstabelle Sport Saisonziele'!$C$2:$C$148,'Hilfstabelle Sport Saisonziele'!$D$2:$D$148),2,FALSE)=0,\"\",VLOOKUP(G$8&$A14,CHOOSE({1,2},'Hilfstabelle Sport Saisonziele'!$A$2:$A$148&'Hilfstabelle Sport Saisonziele'!$C$2:$C$148,'Hilfstabelle Sport Saisonziele'!$D$2:$D$148),2,FALSE)),\"\")","v":""},null,null,{"$f":"IFERROR(IF(VLOOKUP(K$8&$A14,CHOOSE({1,2},'Hilfstabelle Sport Saisonziele'!$A$2:$A$294&'Hilfstabelle Sport Saisonziele'!$C$2:$C$294,'Hilfstabelle Sport Saisonziele'!$B$2:$B$294),2,FALSE)=0,\"\",VLOOKUP(K$8&$A14,CHOOSE({1,2},'Hilfstabelle Sport Saisonziele'!$A$2:$A$294&'Hilfstabelle Sport Saisonziele'!$C$2:$C$294,'Hilfstabelle Sport Saisonziele'!$B$2:$B$294),2,FALSE)),\"\")","v":""},{"$f":"IFERROR(IF(VLOOKUP(K$8&$A14,CHOOSE({1,2},'Hilfstabelle Sport Saisonziele'!$A$2:$A$148&'Hilfstabelle Sport Saisonziele'!$C$2:$C$148,'Hilfstabelle Sport Saisonziele'!$D$2:$D$148),2,FALSE)=0,\"\",VLOOKUP(K$8&$A14,CHOOSE({1,2},'Hilfstabelle Sport Saisonziele'!$A$2:$A$148&'Hilfstabelle Sport Saisonziele'!$C$2:$C$148,'Hilfstabelle Sport Saisonziele'!$D$2:$D$148),2,FALSE)),\"\")","v":""},null,null,{"$f":"IFERROR(IF(VLOOKUP(O$8&$A14,CHOOSE({1,2},'Hilfstabelle Sport Saisonziele'!$A$2:$A$294&'Hilfstabelle Sport Saisonziele'!$C$2:$C$294,'Hilfstabelle Sport Saisonziele'!$B$2:$B$294),2,FALSE)=0,\"\",VLOOKUP(O$8&$A14,CHOOSE({1,2},'Hilfstabelle Sport Saisonziele'!$A$2:$A$294&'Hilfstabelle Sport Saisonziele'!$C$2:$C$294,'Hilfstabelle Sport Saisonziele'!$B$2:$B$294),2,FALSE)),\"\")","v":""},{"$f":"IFERROR(IF(VLOOKUP(O$8&$A14,CHOOSE({1,2},'Hilfstabelle Sport Saisonziele'!$A$2:$A$148&'Hilfstabelle Sport Saisonziele'!$C$2:$C$148,'Hilfstabelle Sport Saisonziele'!$D$2:$D$148),2,FALSE)=0,\"\",VLOOKUP(O$8&$A14,CHOOSE({1,2},'Hilfstabelle Sport Saisonziele'!$A$2:$A$148&'Hilfstabelle Sport Saisonziele'!$C$2:$C$148,'Hilfstabelle Sport Saisonziele'!$D$2:$D$148),2,FALSE)),\"\")","v":""}]
["But de la saison 2",{"$f":"VLOOKUP(C$8&$A15,CHOOSE({1,2},'Hilfstabelle Sport Saisonziele'!$A$2:$A$294&'Hilfstabelle Sport Saisonziele'!$C$2:$C$294,'Hilfstabelle Sport Saisonziele'!$B$2:$B$294),2,0)","v":"00:00:00"},{"$f":"IFERROR(IF(VLOOKUP(C$8&$A15,CHOOSE({1,2},'Hilfstabelle Sport Saisonziele'!$A$2:$A$148&'Hilfstabelle Sport Saisonziele'!$C$2:$C$148,'Hilfstabelle Sport Saisonziele'!$D$2:$D$148),2,FALSE)=0,\"\",VLOOKUP(C$8&$A15,CHOOSE({1,2},'Hilfstabelle Sport Saisonziele'!$A$2:$A$148&'Hilfstabelle Sport Saisonziele'!$C$2:$C$148,'Hilfstabelle Sport Saisonziele'!$D$2:$D$148),2,FALSE)),\"\")","v":""},null,null,{"$f":"IFERROR(IF(VLOOKUP(G$8&$A15,CHOOSE({1,2},'Hilfstabelle Sport Saisonziele'!$A$2:$A$294&'Hilfstabelle Sport Saisonziele'!$C$2:$C$294,'Hilfstabelle Sport Saisonziele'!$B$2:$B$294),2,FALSE)=0,\"\",VLOOKUP(G$8&$A15,CHOOSE({1,2},'Hilfstabelle Sport Saisonziele'!$A$2:$A$294&'Hilfstabelle Sport Saisonziele'!$C$2:$C$294,'Hilfstabelle Sport Saisonziele'!$B$2:$B$294),2,FALSE)),\"\")","v":""},{"$f":"IFERROR(IF(VLOOKUP(G$8&$A15,CHOOSE({1,2},'Hilfstabelle Sport Saisonziele'!$A$2:$A$148&'Hilfstabelle Sport Saisonziele'!$C$2:$C$148,'Hilfstabelle Sport Saisonziele'!$D$2:$D$148),2,FALSE)=0,\"\",VLOOKUP(G$8&$A15,CHOOSE({1,2},'Hilfstabelle Sport Saisonziele'!$A$2:$A$148&'Hilfstabelle Sport Saisonziele'!$C$2:$C$148,'Hilfstabelle Sport Saisonziele'!$D$2:$D$148),2,FALSE)),\"\")","v":""},null,null,{"$f":"IFERROR(IF(VLOOKUP(K$8&$A15,CHOOSE({1,2},'Hilfstabelle Sport Saisonziele'!$A$2:$A$294&'Hilfstabelle Sport Saisonziele'!$C$2:$C$294,'Hilfstabelle Sport Saisonziele'!$B$2:$B$294),2,FALSE)=0,\"\",VLOOKUP(K$8&$A15,CHOOSE({1,2},'Hilfstabelle Sport Saisonziele'!$A$2:$A$294&'Hilfstabelle Sport Saisonziele'!$C$2:$C$294,'Hilfstabelle Sport Saisonziele'!$B$2:$B$294),2,FALSE)),\"\")","v":""},{"$f":"IFERROR(IF(VLOOKUP(K$8&$A15,CHOOSE({1,2},'Hilfstabelle Sport Saisonziele'!$A$2:$A$148&'Hilfstabelle Sport Saisonziele'!$C$2:$C$148,'Hilfstabelle Sport Saisonziele'!$D$2:$D$148),2,FALSE)=0,\"\",VLOOKUP(K$8&$A15,CHOOSE({1,2},'Hilfstabelle Sport Saisonziele'!$A$2:$A$148&'Hilfstabelle Sport Saisonziele'!$C$2:$C$148,'Hilfstabelle Sport Saisonziele'!$D$2:$D$148),2,FALSE)),\"\")","v":""},null,null,{"$f":"IFERROR(IF(VLOOKUP(O$8&$A15,CHOOSE({1,2},'Hilfstabelle Sport Saisonziele'!$A$2:$A$294&'Hilfstabelle Sport Saisonziele'!$C$2:$C$294,'Hilfstabelle Sport Saisonziele'!$B$2:$B$294),2,FALSE)=0,\"\",VLOOKUP(O$8&$A15,CHOOSE({1,2},'Hilfstabelle Sport Saisonziele'!$A$2:$A$294&'Hilfstabelle Sport Saisonziele'!$C$2:$C$294,'Hilfstabelle Sport Saisonziele'!$B$2:$B$294),2,FALSE)),\"\")","v":""},{"$f":"IFERROR(IF(VLOOKUP(O$8&$A15,CHOOSE({1,2},'Hilfstabelle Sport Saisonziele'!$A$2:$A$148&'Hilfstabelle Sport Saisonziele'!$C$2:$C$148,'Hilfstabelle Sport Saisonziele'!$D$2:$D$148),2,FALSE)=0,\"\",VLOOKUP(O$8&$A15,CHOOSE({1,2},'Hilfstabelle Sport Saisonziele'!$A$2:$A$148&'Hilfstabelle Sport Saisonziele'!$C$2:$C$148,'Hilfstabelle Sport Saisonziele'!$D$2:$D$148),2,FALSE)),\"\")","v":""}]
["But de la saison 3",{"$f":"VLOOKUP(C$8&$A16,CHOOSE({1,2},'Hilfstabelle Sport Saisonziele'!$A$2:$A$294&'Hilfstabelle Sport Saisonziele'!$C$2:$C$294,'Hilfstabelle Sport Saisonziele'!$B$2:$B$294),2,0)","v":"00:00:00"},{"$f":"IFERROR(IF(VLOOKUP(C$8&$A16,CHOOSE({1,2},'Hilfstabelle Sport Saisonziele'!$A$2:$A$148&'Hilfstabelle Sport Saisonziele'!$C$2:$C$148,'Hilfstabelle Sport Saisonziele'!$D$2:$D$148),2,FALSE)=0,\"\",VLOOKUP(C$8&$A16,CHOOSE({1,2},'Hilfstabelle Sport Saisonziele'!$A$2:$A$148&'Hilfstabelle Sport Saisonziele'!$C$2:$C$148,'Hilfstabelle Sport Saisonziele'!$D$2:$D$148),2,FALSE)),\"\")","v":""},null,null,{"$f":"IFERROR(IF(VLOOKUP(G$8&$A16,CHOOSE({1,2},'Hilfstabelle Sport Saisonziele'!$A$2:$A$294&'Hilfstabelle Sport Saisonziele'!$C$2:$C$294,'Hilfstabelle Sport Saisonziele'!$B$2:$B$294),2,FALSE)=0,\"\",VLOOKUP(G$8&$A16,CHOOSE({1,2},'Hilfstabelle Sport Saisonziele'!$A$2:$A$294&'Hilfstabelle Sport Saisonziele'!$C$2:$C$294,'Hilfstabelle Sport Saisonziele'!$B$2:$B$294),2,FALSE)),\"\")","v":""},{"$f":"IFERROR(IF(VLOOKUP(G$8&$A16,CHOOSE({1,2},'Hilfstabelle Sport Saisonziele'!$A$2:$A$148&'Hilfstabelle Sport Saisonziele'!$C$2:$C$148,'Hilfstabelle Sport Saisonziele'!$D$2:$D$148),2,FALSE)=0,\"\",VLOOKUP(G$8&$A16,CHOOSE({1,2},'Hilfstabelle Sport Saisonziele'!$A$2:$A$148&'Hilfstabelle Sport Saisonziele'!$C$2:$C$148,'Hilfstabelle Sport Saisonziele'!$D$2:$D$148),2,FALSE)),\"\")","v":""},null,null,{"$f":"IFERROR(IF(VLOOKUP(K$8&$A16,CHOOSE({1,2},'Hilfstabelle Sport Saisonziele'!$A$2:$A$294&'Hilfstabelle Sport Saisonziele'!$C$2:$C$294,'Hilfstabelle Sport Saisonziele'!$B$2:$B$294),2,FALSE)=0,\"\",VLOOKUP(K$8&$A16,CHOOSE({1,2},'Hilfstabelle Sport Saisonziele'!$A$2:$A$294&'Hilfstabelle Sport Saisonziele'!$C$2:$C$294,'Hilfstabelle Sport Saisonziele'!$B$2:$B$294),2,FALSE)),\"\")","v":""},{"$f":"IFERROR(IF(VLOOKUP(K$8&$A16,CHOOSE({1,2},'Hilfstabelle Sport Saisonziele'!$A$2:$A$148&'Hilfstabelle Sport Saisonziele'!$C$2:$C$148,'Hilfstabelle Sport Saisonziele'!$D$2:$D$148),2,FALSE)=0,\"\",VLOOKUP(K$8&$A16,CHOOSE({1,2},'Hilfstabelle Sport Saisonziele'!$A$2:$A$148&'Hilfstabelle Sport Saisonziele'!$C$2:$C$148,'Hilfstabelle Sport Saisonziele'!$D$2:$D$148),2,FALSE)),\"\")","v":""},null,null,{"$f":"IFERROR(IF(VLOOKUP(O$8&$A16,CHOOSE({1,2},'Hilfstabelle Sport Saisonziele'!$A$2:$A$294&'Hilfstabelle Sport Saisonziele'!$C$2:$C$294,'Hilfstabelle Sport Saisonziele'!$B$2:$B$294),2,FALSE)=0,\"\",VLOOKUP(O$8&$A16,CHOOSE({1,2},'Hilfstabelle Sport Saisonziele'!$A$2:$A$294&'Hilfstabelle Sport Saisonziele'!$C$2:$C$294,'Hilfstabelle Sport Saisonziele'!$B$2:$B$294),2,FALSE)),\"\")","v":""},{"$f":"IFERROR(IF(VLOOKUP(O$8&$A16,CHOOSE({1,2},'Hilfstabelle Sport Saisonziele'!$A$2:$A$148&'Hilfstabelle Sport Saisonziele'!$C$2:$C$148,'Hilfstabelle Sport Saisonziele'!$D$2:$D$148),2,FALSE)=0,\"\",VLOOKUP(O$8&$A16,CHOOSE({1,2},'Hilfstabelle Sport Saisonziele'!$A$2:$A$148&'Hilfstabelle Sport Saisonziele'!$C$2:$C$148,'Hilfstabelle Sport Saisonziele'!$D$2:$D$148),2,FALSE)),\"\")","v":""}]
["But de la saison 4",{"$f":"IFERROR(IF(VLOOKUP(C$8&$A17,CHOOSE({1,2},'Hilfstabelle Sport Saisonziele'!$A$2:$A$294&'Hilfstabelle Sport Saisonziele'!$C$2:$C$294,'Hilfstabelle Sport Saisonziele'!$B$2:$B$294),2,FALSE)=0,\"\",VLOOKUP(C$8&$A17,CHOOSE({1,2},'Hilfstabelle Sport Saisonziele'!$A$2:$A$294&'Hilfstabelle Sport Saisonziele'!$C$2:$C$294,'Hilfstabelle Sport Saisonziele'!$B$2:$B$294),2,FALSE)),\"\")","v":""},{"$f":"IFERROR(IF(VLOOKUP(C$8&$A17,CHOOSE({1,2},'Hilfstabelle Sport Saisonziele'!$A$2:$A$148&'Hilfstabelle Sport Saisonziele'!$C$2:$C$148,'Hilfstabelle Sport Saisonziele'!$D$2:$D$148),2,FALSE)=0,\"\",VLOOKUP(C$8&$A17,CHOOSE({1,2},'Hilfstabelle Sport Saisonziele'!$A$2:$A$148&'Hilfstabelle Sport Saisonziele'!$C$2:$C$148,'Hilfstabelle Sport Saisonziele'!$D$2:$D$148),2,FALSE)),\"\")","v":""},null,null,{"$f":"IFERROR(IF(VLOOKUP(G$8&$A17,CHOOSE({1,2},'Hilfstabelle Sport Saisonziele'!$A$2:$A$294&'Hilfstabelle Sport Saisonziele'!$C$2:$C$294,'Hilfstabelle Sport Saisonziele'!$B$2:$B$294),2,FALSE)=0,\"\",VLOOKUP(G$8&$A17,CHOOSE({1,2},'Hilfstabelle Sport Saisonziele'!$A$2:$A$294&'Hilfstabelle Sport Saisonziele'!$C$2:$C$294,'Hilfstabelle Sport Saisonziele'!$B$2:$B$294),2,FALSE)),\"\")","v":""},{"$f":"IFERROR(IF(VLOOKUP(G$8&$A17,CHOOSE({1,2},'Hilfstabelle Sport Saisonziele'!$A$2:$A$148&'Hilfstabelle Sport Saisonziele'!$C$2:$C$148,'Hilfstabelle Sport Saisonziele'!$D$2:$D$148),2,FALSE)=0,\"\",VLOOKUP(G$8&$A17,CHOOSE({1,2},'Hilfstabelle Sport Saisonziele'!$A$2:$A$148&'Hilfstabelle Sport Saisonziele'!$C$2:$C$148,'Hilfstabelle Sport Saisonziele'!$D$2:$D$148),2,FALSE)),\"\")","v":""},null,null,{"$f":"IFERROR(IF(VLOOKUP(K$8&$A17,CHOOSE({1,2},'Hilfstabelle Sport Saisonziele'!$A$2:$A$294&'Hilfstabelle Sport Saisonziele'!$C$2:$C$294,'Hilfstabelle Sport Saisonziele'!$B$2:$B$294),2,FALSE)=0,\"\",VLOOKUP(K$8&$A17,CHOOSE({1,2},'Hilfstabelle Sport Saisonziele'!$A$2:$A$294&'Hilfstabelle Sport Saisonziele'!$C$2:$C$294,'Hilfstabelle Sport Saisonziele'!$B$2:$B$294),2,FALSE)),\"\")","v":""},{"$f":"IFERROR(IF(VLOOKUP(K$8&$A17,CHOOSE({1,2},'Hilfstabelle Sport Saisonziele'!$A$2:$A$148&'Hilfstabelle Sport Saisonziele'!$C$2:$C$148,'Hilfstabelle Sport Saisonziele'!$D$2:$D$148),2,FALSE)=0,\"\",VLOOKUP(K$8&$A17,CHOOSE({1,2},'Hilfstabelle Sport Saisonziele'!$A$2:$A$148&'Hilfstabelle Sport Saisonziele'!$C$2:$C$148,'Hilfstabelle Sport Saisonziele'!$D$2:$D$148),2,FALSE)),\"\")","v":""},null,null,{"$f":"IFERROR(IF(VLOOKUP(O$8&$A17,CHOOSE({1,2},'Hilfstabelle Sport Saisonziele'!$A$2:$A$294&'Hilfstabelle Sport Saisonziele'!$C$2:$C$294,'Hilfstabelle Sport Saisonziele'!$B$2:$B$294),2,FALSE)=0,\"\",VLOOKUP(O$8&$A17,CHOOSE({1,2},'Hilfstabelle Sport Saisonziele'!$A$2:$A$294&'Hilfstabelle Sport Saisonziele'!$C$2:$C$294,'Hilfstabelle Sport Saisonziele'!$B$2:$B$294),2,FALSE)),\"\")","v":""},{"$f":"IFERROR(IF(VLOOKUP(O$8&$A17,CHOOSE({1,2},'Hilfstabelle Sport Saisonziele'!$A$2:$A$148&'Hilfstabelle Sport Saisonziele'!$C$2:$C$148,'Hilfstabelle Sport Saisonziele'!$D$2:$D$148),2,FALSE)=0,\"\",VLOOKUP(O$8&$A17,CHOOSE({1,2},'Hilfstabelle Sport Saisonziele'!$A$2:$A$148&'Hilfstabelle Sport Saisonziele'!$C$2:$C$148,'Hilfstabelle Sport Saisonziele'!$D$2:$D$148),2,FALSE)),\"\")","v":""}]
["But de la saison 5",{"$f":"IFERROR(IF(VLOOKUP(C$8&$A18,CHOOSE({1,2},'Hilfstabelle Sport Saisonziele'!$A$2:$A$294&'Hilfstabelle Sport Saisonziele'!$C$2:$C$294,'Hilfstabelle Sport Saisonziele'!$B$2:$B$294),2,FALSE)=0,\"\",VLOOKUP(C$8&$A18,CHOOSE({1,2},'Hilfstabelle Sport Saisonziele'!$A$2:$A$294&'Hilfstabelle Sport Saisonziele'!$C$2:$C$294,'Hilfstabelle Sport Saisonziele'!$B$2:$B$294),2,FALSE)),\"\")","v":""},{"$f":"IFERROR(IF(VLOOKUP(C$8&$A18,CHOOSE({1,2},'Hilfstabelle Sport Saisonziele'!$A$2:$A$148&'Hilfstabelle Sport Saisonziele'!$C$2:$C$148,'Hilfstabelle Sport Saisonziele'!$D$2:$D$148),2,FALSE)=0,\"\",VLOOKUP(C$8&$A18,CHOOSE({1,2},'Hilfstabelle Sport Saisonziele'!$A$2:$A$148&'Hilfstabelle Sport Saisonziele'!$C$2:$C$148,'Hilfstabelle Sport Saisonziele'!$D$2:$D$148),2,FALSE)),\"\")","v":""},null,null,{"$f":"IFERROR(IF(VLOOKUP(G$8&$A18,CHOOSE({1,2},'Hilfstabelle Sport Saisonziele'!$A$2:$A$294&'Hilfstabelle Sport Saisonziele'!$C$2:$C$294,'Hilfstabelle Sport Saisonziele'!$B$2:$B$294),2,FALSE)=0,\"\",VLOOKUP(G$8&$A18,CHOOSE({1,2},'Hilfstabelle Sport Saisonziele'!$A$2:$A$294&'Hilfstabelle Sport Saisonziele'!$C$2:$C$294,'Hilfstabelle Sport Saisonziele'!$B$2:$B$294),2,FALSE)),\"\")","v":""},{"$f":"IFERROR(IF(VLOOKUP(G$8&$A18,CHOOSE({1,2},'Hilfstabelle Sport Saisonziele'!$A$2:$A$148&'Hilfstabelle Sport Saisonziele'!$C$2:$C$148,'Hilfstabelle Sport Saisonziele'!$D$2:$D$148),2,FALSE)=0,\"\",VLOOKUP(G$8&$A18,CHOOSE({1,2},'Hilfstabelle Sport Saisonziele'!$A$2:$A$148&'Hilfstabelle Sport Saisonziele'!$C$2:$C$148,'Hilfstabelle Sport Saisonziele'!$D$2:$D$148),2,FALSE)),\"\")","v":""},null,null,{"$f":"IFERROR(IF(VLOOKUP(K$8&$A18,CHOOSE({1,2},'Hilfstabelle Sport Saisonziele'!$A$2:$A$294&'Hilfstabelle Sport Saisonziele'!$C$2:$C$294,'Hilfstabelle Sport Saisonziele'!$B$2:$B$294),2,FALSE)=0,\"\",VLOOKUP(K$8&$A18,CHOOSE({1,2},'Hilfstabelle Sport Saisonziele'!$A$2:$A$294&'Hilfstabelle Sport Saisonziele'!$C$2:$C$294,'Hilfstabelle Sport Saisonziele'!$B$2:$B$294),2,FALSE)),\"\")","v":""},{"$f":"IFERROR(IF(VLOOKUP(K$8&$A18,CHOOSE({1,2},'Hilfstabelle Sport Saisonziele'!$A$2:$A$148&'Hilfstabelle Sport Saisonziele'!$C$2:$C$148,'Hilfstabelle Sport Saisonziele'!$D$2:$D$148),2,FALSE)=0,\"\",VLOOKUP(K$8&$A18,CHOOSE({1,2},'Hilfstabelle Sport Saisonziele'!$A$2:$A$148&'Hilfstabelle Sport Saisonziele'!$C$2:$C$148,'Hilfstabelle Sport Saisonziele'!$D$2:$D$148),2,FALSE)),\"\")","v":""},null,null,{"$f":"IFERROR(IF(VLOOKUP(O$8&$A18,CHOOSE({1,2},'Hilfstabelle Sport Saisonziele'!$A$2:$A$294&'Hilfstabelle Sport Saisonziele'!$C$2:$C$294,'Hilfstabelle Sport Saisonziele'!$B$2:$B$294),2,FALSE)=0,\"\",VLOOKUP(O$8&$A18,CHOOSE({1,2},'Hilfstabelle Sport Saisonziele'!$A$2:$A$294&'Hilfstabelle Sport Saisonziele'!$C$2:$C$294,'Hilfstabelle Sport Saisonziele'!$B$2:$B$294),2,FALSE)),\"\")","v":""},{"$f":"IFERROR(IF(VLOOKUP(O$8&$A18,CHOOSE({1,2},'Hilfstabelle Sport Saisonziele'!$A$2:$A$148&'Hilfstabelle Sport Saisonziele'!$C$2:$C$148,'Hilfstabelle Sport Saisonziele'!$D$2:$D$148),2,FALSE)=0,\"\",VLOOKUP(O$8&$A18,CHOOSE({1,2},'Hilfstabelle Sport Saisonziele'!$A$2:$A$148&'Hilfstabelle Sport Saisonziele'!$C$2:$C$148,'Hilfstabelle Sport Saisonziele'!$D$2:$D$148),2,FALSE)),\"\")","v":""}]
["Unités d’entraînement par semaine",null,{"$f":"VLOOKUP(C$8&$A19,CHOOSE({1,2},'Hilfstabelle Sport Grobplan'!$A$2:$A$64&'Hilfstabelle Sport Grobplan'!$B$2:$B$64,'Hilfstabelle Sport Grobplan'!$C$2:$C$64),2,0)","v":0},null,null,null,{"$f":"VLOOKUP(G$8&$A19,CHOOSE({1,2},'Hilfstabelle Sport Grobplan'!$A$2:$A$64&'Hilfstabelle Sport Grobplan'!$B$2:$B$64,'Hilfstabelle Sport Grobplan'!$C$2:$C$64),2,0)","v":0},null,null,null,{"$f":"VLOOKUP(K$8&$A19,CHOOSE({1,2},'Hilfstabelle Sport Grobplan'!$A$2:$A$64&'Hilfstabelle Sport Grobplan'!$B$2:$B$64,'Hilfstabelle Sport Grobplan'!$C$2:$C$64),2,0)","v":0},null,null,null,{"$f":"VLOOKUP(O$8&$A19,CHOOSE({1,2},'Hilfstabelle Sport Grobplan'!$A$2:$A$64&'Hilfstabelle Sport Grobplan'!$B$2:$B$64,'Hilfstabelle Sport Grobplan'!$C$2:$C$64),2,0)","v":0}]
["Volume d’entraînement (h/semaine)",null,{"$f":"(VLOOKUP(C$8&$A20,CHOOSE({1,2},'Hilfstabelle Sport Grobplan'!$A$2:$A$64&'Hilfstabelle Sport Grobplan'!$B$2:$B$64,'Hilfstabelle Sport Grobplan'!$C$2:$C$64),2,0))","v":0},null,null,null,{"$f":"VLOOKUP(G$8&$A20,CHOOSE({1,2},'Hilfstabelle Sport Grobplan'!$A:$A&'Hilfstabelle Sport Grobplan'!$B:$B,'Hilfstabelle Sport Grobplan'!$C:$C),2,0)","v":0},null,null,null,{"$f":"VLOOKUP(K$8&$A20,CHOOSE({1,2},'Hilfstabelle Sport Grobplan'!$A$2:$A$64&'Hilfstabelle Sport Grobplan'!$B$2:$B$64,'Hilfstabelle Sport Grobplan'!$C$2:$C$64),2,0)","v":0},null,null,null,{"$f":"VLOOKUP(O$8&$A20,CHOOSE({1,2},'Hilfstabelle Sport Grobplan'!$A$2:$A$64&'Hilfstabelle Sport Grobplan'!$B$2:$B$64,'Hilfstabelle Sport Grobplan'!$C$2:$C$64),2,0)","v":0}]
["Points principaux d’entraînement",null,{"$f":"VLOOKUP(C$8&$A21,CHOOSE({1,2},'Hilfstabelle Sport Grobplan'!$A$2:$A$64&'Hilfstabelle Sport Grobplan'!$B$2:$B$64,'Hilfstabelle Sport Grobplan'!$C$2:$C$64),2,0)","v":0},null,null,null,{"$f":"VLOOKUP(G$8&$A21,CHOOSE({1,2},'Hilfstabelle Sport Grobplan'!$A$2:$A$64&'Hilfstabelle Sport Grobplan'!$B$2:$B$64,'Hilfstabelle Sport Grobplan'!$C$2:$C$64),2,0)","v":0},null,null,null,{"$f":"VLOOKUP(K$8&$A21,CHOOSE({1,2},'Hilfstabelle Sport Grobplan'!$A$2:$A$64&'Hilfstabelle Sport Grobplan'!$B$2:$B$64,'Hilfstabelle Sport Grobplan'!$C$2:$C$64),2,0)","v":0},null,null,null,{"$f":"VLOOKUP(O$8&$A21,CHOOSE({1,2},'Hilfstabelle Sport Grobplan'!$A$2:$A$64&'Hilfstabelle Sport Grobplan'!$B$2:$B$64,'Hilfstabelle Sport Grobplan'!$C$2:$C$64),2,0)","v":0}]
["Service militaire"]
["Service militaire debut",{"$f":"IFERROR(IF(VLOOKUP(C$8&$A23,CHOOSE({1,2},'Hilfstabelle Sport Saisonziele'!$A$2:$A$294&'Hilfstabelle Sport Saisonziele'!$C$2:$C$294,'Hilfstabelle Sport Saisonziele'!$B$2:$B$294),2,FALSE)=0,\"\",VLOOKUP(C$8&$A23,CHOOSE({1,2},'Hilfstabelle Sport Saisonziele'!$A$2:$A$294&'Hilfstabelle Sport Saisonziele'!$C$2:$C$294,'Hilfstabelle Sport Saisonziele'!$B$2:$B$294),2,FALSE)),\"\")","v":""},{"$f":"IFERROR(IF(VLOOKUP(C$8&$A23,CHOOSE({1,2},'Hilfstabelle Sport Saisonziele'!$A$2:$A$148&'Hilfstabelle Sport Saisonziele'!$C$2:$C$148,'Hilfstabelle Sport Saisonziele'!$D$2:$D$148),2,FALSE)=0,\"\",VLOOKUP(C$8&$A23,CHOOSE({1,2},'Hilfstabelle Sport Saisonziele'!$A$2:$A$148&'Hilfstabelle Sport Saisonziele'!$C$2:$C$148,'Hilfstabelle Sport Saisonziele'!$D$2:$D$148),2,FALSE)),\"\")","v":""},null,null,{"$f":"IFERROR(IF(VLOOKUP(G$8&$A23,CHOOSE({1,2},'Hilfstabelle Sport Saisonziele'!$A$2:$A$294&'Hilfstabelle Sport Saisonziele'!$C$2:$C$294,'Hilfstabelle Sport Saisonziele'!$B$2:$B$294),2,FALSE)=0,\"\",VLOOKUP(G$8&$A23,CHOOSE({1,2},'Hilfstabelle Sport Saisonziele'!$A$2:$A$294&'Hilfstabelle Sport Saisonziele'!$C$2:$C$294,'Hilfstabelle Sport Saisonziele'!$B$2:$B$294),2,FALSE)),\"\")","v":""},{"$f":"IFERROR(IF(VLOOKUP(G$8&$A23,CHOOSE({1,2},'Hilfstabelle Sport Saisonziele'!$A$2:$A$148&'Hilfstabelle Sport Saisonziele'!$C$2:$C$148,'Hilfstabelle Sport Saisonziele'!$D$2:$D$148),2,FALSE)=0,\"\",VLOOKUP(G$8&$A23,CHOOSE({1,2},'Hilfstabelle Sport Saisonziele'!$A$2:$A$148&'Hilfstabelle Sport Saisonziele'!$C$2:$C$148,'Hilfstabelle Sport Saisonziele'!$D$2:$D$148),2,FALSE)),\"\")","v":""},null,null,{"$f":"IFERROR(IF(VLOOKUP(K$8&$A23,CHOOSE({1,2},'Hilfstabelle Sport Saisonziele'!$A$2:$A$294&'Hilfstabelle Sport Saisonziele'!$C$2:$C$294,'Hilfstabelle Sport Saisonziele'!$B$2:$B$294),2,FALSE)=0,\"\",VLOOKUP(K$8&$A23,CHOOSE({1,2},'Hilfstabelle Sport Saisonziele'!$A$2:$A$294&'Hilfstabelle Sport Saisonziele'!$C$2:$C$294,'Hilfstabelle Sport Saisonziele'!$B$2:$B$294),2,FALSE)),\"\")","v":""},{"$f":"IFERROR(IF(VLOOKUP(K$8&$A23,CHOOSE({1,2},'Hilfstabelle Sport Saisonziele'!$A$2:$A$148&'Hilfstabelle Sport Saisonziele'!$C$2:$C$148,'Hilfstabelle Sport Saisonziele'!$D$2:$D$148),2,FALSE)=0,\"\",VLOOKUP(K$8&$A23,CHOOSE({1,2},'Hilfstabelle Sport Saisonziele'!$A$2:$A$148&'Hilfstabelle Sport Saisonziele'!$C$2:$C$148,'Hilfstabelle Sport Saisonziele'!$D$2:$D$148),2,FALSE)),\"\")","v":""},null,null,{"$f":"IFERROR(IF(VLOOKUP(O$8&$A23,CHOOSE({1,2},'Hilfstabelle Sport Saisonziele'!$A$2:$A$294&'Hilfstabelle Sport Saisonziele'!$C$2:$C$294,'Hilfstabelle Sport Saisonziele'!$B$2:$B$294),2,FALSE)=0,\"\",VLOOKUP(O$8&$A23,CHOOSE({1,2},'Hilfstabelle Sport Saisonziele'!$A$2:$A$294&'Hilfstabelle Sport Saisonziele'!$C$2:$C$294,'Hilfstabelle Sport Saisonziele'!$B$2:$B$294),2,FALSE)),\"\")","v":""},{"$f":"IFERROR(IF(VLOOKUP(O$8&$A23,CHOOSE({1,2},'Hilfstabelle Sport Saisonziele'!$A$2:$A$148&'Hilfstabelle Sport Saisonziele'!$C$2:$C$148,'Hilfstabelle Sport Saisonziele'!$D$2:$D$148),2,FALSE)=0,\"\",VLOOKUP(O$8&$A23,CHOOSE({1,2},'Hilfstabelle Sport Saisonziele'!$A$2:$A$148&'Hilfstabelle Sport Saisonziele'!$C$2:$C$148,'Hilfstabelle Sport Saisonziele'!$D$2:$D$148),2,FALSE)),\"\")","v":""}]
["Service militaire fin",{"$f":"IFERROR(IF(VLOOKUP(C$8&$A24,CHOOSE({1,2},'Hilfstabelle Sport Saisonziele'!$A$2:$A$294&'Hilfstabelle Sport Saisonziele'!$C$2:$C$294,'Hilfstabelle Sport Saisonziele'!$B$2:$B$294),2,FALSE)=0,\"\",VLOOKUP(C$8&$A24,CHOOSE({1,2},'Hilfstabelle Sport Saisonziele'!$A$2:$A$294&'Hilfstabelle Sport Saisonziele'!$C$2:$C$294,'Hilfstabelle Sport Saisonziele'!$B$2:$B$294),2,FALSE)),\"\")","v":""},{"$f":"IFERROR(IF(VLOOKUP(C$8&$A24,CHOOSE({1,2},'Hilfstabelle Sport Saisonziele'!$A$2:$A$148&'Hilfstabelle Sport Saisonziele'!$C$2:$C$148,'Hilfstabelle Sport Saisonziele'!$D$2:$D$148),2,FALSE)=0,\"\",VLOOKUP(C$8&$A24,CHOOSE({1,2},'Hilfstabelle Sport Saisonziele'!$A$2:$A$148&'Hilfstabelle Sport Saisonziele'!$C$2:$C$148,'Hilfstabelle Sport Saisonziele'!$D$2:$D$148),2,FALSE)),\"\")","v":""},null,null,{"$f":"IFERROR(IF(VLOOKUP(G$8&$A24,CHOOSE({1,2},'Hilfstabelle Sport Saisonziele'!$A$2:$A$294&'Hilfstabelle Sport Saisonziele'!$C$2:$C$294,'Hilfstabelle Sport Saisonziele'!$B$2:$B$294),2,FALSE)=0,\"\",VLOOKUP(G$8&$A24,CHOOSE({1,2},'Hilfstabelle Sport Saisonziele'!$A$2:$A$294&'Hilfstabelle Sport Saisonziele'!$C$2:$C$294,'Hilfstabelle Sport Saisonziele'!$B$2:$B$294),2,FALSE)),\"\")","v":""},{"$f":"IFERROR(IF(VLOOKUP(G$8&$A24,CHOOSE({1,2},'Hilfstabelle Sport Saisonziele'!$A$2:$A$148&'Hilfstabelle Sport Saisonziele'!$C$2:$C$148,'Hilfstabelle Sport Saisonziele'!$D$2:$D$148),2,FALSE)=0,\"\",VLOOKUP(G$8&$A24,CHOOSE({1,2},'Hilfstabelle Sport Saisonziele'!$A$2:$A$148&'Hilfstabelle Sport Saisonziele'!$C$2:$C$148,'Hilfstabelle Sport Saisonziele'!$D$2:$D$148),2,FALSE)),\"\")","v":""},null,null,{"$f":"IFERROR(IF(VLOOKUP(K$8&$A24,CHOOSE({1,2},'Hilfstabelle Sport Saisonziele'!$A$2:$A$294&'Hilfstabelle Sport Saisonziele'!$C$2:$C$294,'Hilfstabelle Sport Saisonziele'!$B$2:$B$294),2,FALSE)=0,\"\",VLOOKUP(K$8&$A24,CHOOSE({1,2},'Hilfstabelle Sport Saisonziele'!$A$2:$A$294&'Hilfstabelle Sport Saisonziele'!$C$2:$C$294,'Hilfstabelle Sport Saisonziele'!$B$2:$B$294),2,FALSE)),\"\")","v":""},{"$f":"IFERROR(IF(VLOOKUP(K$8&$A24,CHOOSE({1,2},'Hilfstabelle Sport Saisonziele'!$A$2:$A$148&'Hilfstabelle Sport Saisonziele'!$C$2:$C$148,'Hilfstabelle Sport Saisonziele'!$D$2:$D$148),2,FALSE)=0,\"\",VLOOKUP(K$8&$A24,CHOOSE({1,2},'Hilfstabelle Sport Saisonziele'!$A$2:$A$148&'Hilfstabelle Sport Saisonziele'!$C$2:$C$148,'Hilfstabelle Sport Saisonziele'!$D$2:$D$148),2,FALSE)),\"\")","v":""},null,null,{"$f":"IFERROR(IF(VLOOKUP(O$8&$A24,CHOOSE({1,2},'Hilfstabelle Sport Saisonziele'!$A$2:$A$294&'Hilfstabelle Sport Saisonziele'!$C$2:$C$294,'Hilfstabelle Sport Saisonziele'!$B$2:$B$294),2,FALSE)=0,\"\",VLOOKUP(O$8&$A24,CHOOSE({1,2},'Hilfstabelle Sport Saisonziele'!$A$2:$A$294&'Hilfstabelle Sport Saisonziele'!$C$2:$C$294,'Hilfstabelle Sport Saisonziele'!$B$2:$B$294),2,FALSE)),\"\")","v":""},{"$f":"IFERROR(IF(VLOOKUP(O$8&$A24,CHOOSE({1,2},'Hilfstabelle Sport Saisonziele'!$A$2:$A$148&'Hilfstabelle Sport Saisonziele'!$C$2:$C$148,'Hilfstabelle Sport Saisonziele'!$D$2:$D$148),2,FALSE)=0,\"\",VLOOKUP(O$8&$A24,CHOOSE({1,2},'Hilfstabelle Sport Saisonziele'!$A$2:$A$148&'Hilfstabelle Sport Saisonziele'!$C$2:$C$148,'Hilfstabelle Sport Saisonziele'!$D$2:$D$148),2,FALSE)),\"\")","v":""}]
[]
[]
[]
[]
[]
[]
[]
[]
[]
[]
[]
[]
[]
[]
[]
[]
[]
[]
[]
[]
[]
[]
[]
[]
[]
[]
[]
[]
[]
[]
[]
["Planification Formation"]
["Tous les champs sont complétés automatiquement. Pour cela tu dois remplir les feuilles de calcul « Données personnelles » et « Planification Formation » en entier."]
[]
[null,null,{"$f":"'Planification Formation'!I8","v":2022},null,null,null,{"$f":"'Planification Formation'!I9","v":2023},null,null,null,{"$f":"'Planification Formation'!I10","v":2024},null,null,null,{"$f":"'Planification Formation'!I11","v":2025}]
[null,null,{"$f":"DATE(C59,1,1)","v":"2022-01-01"},null,null,null,{"$f":"DATE(G59,1,1)","v":"2023-01-01"},null,null,null,{"$f":"DATE(K59,1,1)","v":"2024-01-01"},null,null,null,{"$f":"DATE(O59,1,1)","v":"2025-01-01"}]
[]
["Formation",null,{"$f":"VLOOKUP(C$59,'Hilfstabelle Schule Ausbildung'!$A$1:$B$22,2,0)","v":0},null,null,null,{"$f":"VLOOKUP(G$59,'Hilfstabelle Schule Ausbildung'!$A$1:$B$22,2,0)","v":0},null,null,null,{"$f":"VLOOKUP(K$59,'Hilfstabelle Schule Ausbildung'!$A$1:$B$22,2,0)","v":0},null,null,null,{"$f":"VLOOKUP(O$59,'Hilfstabelle Schule Ausbildung'!$A$1:$B$22,2,0)","v":0}]
["Etapes"]
["Echéance 1",{"$f":"IFERROR(IF(VLOOKUP(C$59&$A64,CHOOSE({1,2},'Hilfstabelle Schule Meilenstein'!$A$2:$A$210&'Hilfstabelle Schule Meilenstein'!$C$2:$C$210,'Hilfstabelle Schule Meilenstein'!$B$2:$B$210),2,FALSE)=0,\"\",VLOOKUP(C$59&$A64,CHOOSE({1,2},'Hilfstabelle Schule Meilenstein'!$A$2:$A$210&'Hilfstabelle Schule Meilenstein'!$C$2:$C$210,'Hilfstabelle Schule Meilenstein'!$B$2:$B$210),2,FALSE)),\"\")","v":""},{"$f":"IFERROR(IF(VLOOKUP(C$59&$A64,CHOOSE({1,2},'Hilfstabelle Schule Meilenstein'!$A$2:$A$106&'Hilfstabelle Schule Meilenstein'!$C$2:$C$106,'Hilfstabelle Schule Meilenstein'!$D$2:$D$106),2,FALSE)=0,\"\",VLOOKUP(C$59&$A64,CHOOSE({1,2},'Hilfstabelle Schule Meilenstein'!$A$2:$A$106&'Hilfstabelle Schule Meilenstein'!$C$2:$C$106,'Hilfstabelle Schule Meilenstein'!$D$2:$D$106),2,FALSE)),\"\")","v":""},null,null,{"$f":"IFERROR(IF(VLOOKUP(G$59&$A64,CHOOSE({1,2},'Hilfstabelle Schule Meilenstein'!$A$2:$A$210&'Hilfstabelle Schule Meilenstein'!$C$2:$C$210,'Hilfstabelle Schule Meilenstein'!$B$2:$B$210),2,FALSE)=0,\"\",VLOOKUP(G$59&$A64,CHOOSE({1,2},'Hilfstabelle Schule Meilenstein'!$A$2:$A$210&'Hilfstabelle Schule Meilenstein'!$C$2:$C$210,'Hilfstabelle Schule Meilenstein'!$B$2:$B$210),2,FALSE)),\"\")","v":""},{"$f":"IFERROR(IF(VLOOKUP(G$59&$A64,CHOOSE({1,2},'Hilfstabelle Schule Meilenstein'!$A$2:$A$106&'Hilfstabelle Schule Meilenstein'!$C$2:$C$106,'Hilfstabelle Schule Meilenstein'!$D$2:$D$106),2,FALSE)=0,\"\",VLOOKUP(G$59&$A64,CHOOSE({1,2},'Hilfstabelle Schule Meilenstein'!$A$2:$A$106&'Hilfstabelle Schule Meilenstein'!$C$2:$C$106,'Hilfstabelle Schule Meilenstein'!$D$2:$D$106),2,FALSE)),\"\")","v":""},null,null,{"$f":"IFERROR(IF(VLOOKUP(K$59&$A64,CHOOSE({1,2},'Hilfstabelle Schule Meilenstein'!$A$2:$A$210&'Hilfstabelle Schule Meilenstein'!$C$2:$C$210,'Hilfstabelle Schule Meilenstein'!$B$2:$B$210),2,FALSE)=0,\"\",VLOOKUP(K$59&$A64,CHOOSE({1,2},'Hilfstabelle Schule Meilenstein'!$A$2:$A$210&'Hilfstabelle Schule Meilenstein'!$C$2:$C$210,'Hilfstabelle Schule Meilenstein'!$B$2:$B$210),2,FALSE)),\"\")","v":""},{"$f":"IFERROR(IF(VLOOKUP(K$59&$A64,CHOOSE({1,2},'Hilfstabelle Schule Meilenstein'!$A$2:$A$106&'Hilfstabelle Schule Meilenstein'!$C$2:$C$106,'Hilfstabelle Schule Meilenstein'!$D$2:$D$106),2,FALSE)=0,\"\",VLOOKUP(K$59&$A64,CHOOSE({1,2},'Hilfstabelle Schule Meilenstein'!$A$2:$A$106&'Hilfstabelle Schule Meilenstein'!$C$2:$C$106,'Hilfstabelle Schule Meilenstein'!$D$2:$D$106),2,FALSE)),\"\")","v":""},null,null,{"$f":"IFERROR(IF(VLOOKUP(O$59&$A64,CHOOSE({1,2},'Hilfstabelle Schule Meilenstein'!$A$2:$A$210&'Hilfstabelle Schule Meilenstein'!$C$2:$C$210,'Hilfstabelle Schule Meilenstein'!$B$2:$B$210),2,FALSE)=0,\"\",VLOOKUP(O$59&$A64,CHOOSE({1,2},'Hilfstabelle Schule Meilenstein'!$A$2:$A$210&'Hilfstabelle Schule Meilenstein'!$C$2:$C$210,'Hilfstabelle Schule Meilenstein'!$B$2:$B$210),2,FALSE)),\"\")","v":""},{"$f":"IFERROR(IF(VLOOKUP(O$59&$A64,CHOOSE({1,2},'Hilfstabelle Schule Meilenstein'!$A$2:$A$106&'Hilfstabelle Schule Meilenstein'!$C$2:$C$106,'Hilfstabelle Schule Meilenstein'!$D$2:$D$106),2,FALSE)=0,\"\",VLOOKUP(O$59&$A64,CHOOSE({1,2},'Hilfstabelle Schule Meilenstein'!$A$2:$A$106&'Hilfstabelle Schule Meilenstein'!$C$2:$C$106,'Hilfstabelle Schule Meilenstein'!$D$2:$D$106),2,FALSE)),\"\")","v":""}]
["Echéance 2",{"$f":"IFERROR(IF(VLOOKUP(C$59&$A65,CHOOSE({1,2},'Hilfstabelle Schule Meilenstein'!$A$2:$A$210&'Hilfstabelle Schule Meilenstein'!$C$2:$C$210,'Hilfstabelle Schule Meilenstein'!$B$2:$B$210),2,FALSE)=0,\"\",VLOOKUP(C$59&$A65,CHOOSE({1,2},'Hilfstabelle Schule Meilenstein'!$A$2:$A$210&'Hilfstabelle Schule Meilenstein'!$C$2:$C$210,'Hilfstabelle Schule Meilenstein'!$B$2:$B$210),2,FALSE)),\"\")","v":""},{"$f":"IFERROR(IF(VLOOKUP(C$59&$A65,CHOOSE({1,2},'Hilfstabelle Schule Meilenstein'!$A$2:$A$106&'Hilfstabelle Schule Meilenstein'!$C$2:$C$106,'Hilfstabelle Schule Meilenstein'!$D$2:$D$106),2,FALSE)=0,\"\",VLOOKUP(C$59&$A65,CHOOSE({1,2},'Hilfstabelle Schule Meilenstein'!$A$2:$A$106&'Hilfstabelle Schule Meilenstein'!$C$2:$C$106,'Hilfstabelle Schule Meilenstein'!$D$2:$D$106),2,FALSE)),\"\")","v":""},null,null,{"$f":"IFERROR(IF(VLOOKUP(G$59&$A65,CHOOSE({1,2},'Hilfstabelle Schule Meilenstein'!$A$2:$A$210&'Hilfstabelle Schule Meilenstein'!$C$2:$C$210,'Hilfstabelle Schule Meilenstein'!$B$2:$B$210),2,FALSE)=0,\"\",VLOOKUP(G$59&$A65,CHOOSE({1,2},'Hilfstabelle Schule Meilenstein'!$A$2:$A$210&'Hilfstabelle Schule Meilenstein'!$C$2:$C$210,'Hilfstabelle Schule Meilenstein'!$B$2:$B$210),2,FALSE)),\"\")","v":""},{"$f":"IFERROR(IF(VLOOKUP(G$59&$A65,CHOOSE({1,2},'Hilfstabelle Schule Meilenstein'!$A$2:$A$106&'Hilfstabelle Schule Meilenstein'!$C$2:$C$106,'Hilfstabelle Schule Meilenstein'!$D$2:$D$106),2,FALSE)=0,\"\",VLOOKUP(G$59&$A65,CHOOSE({1,2},'Hilfstabelle Schule Meilenstein'!$A$2:$A$106&'Hilfstabelle Schule Meilenstein'!$C$2:$C$106,'Hilfstabelle Schule Meilenstein'!$D$2:$D$106),2,FALSE)),\"\")","v":""},null,null,{"$f":"IFERROR(IF(VLOOKUP(K$59&$A65,CHOOSE({1,2},'Hilfstabelle Schule Meilenstein'!$A$2:$A$210&'Hilfstabelle Schule Meilenstein'!$C$2:$C$210,'Hilfstabelle Schule Meilenstein'!$B$2:$B$210),2,FALSE)=0,\"\",VLOOKUP(K$59&$A65,CHOOSE({1,2},'Hilfstabelle Schule Meilenstein'!$A$2:$A$210&'Hilfstabelle Schule Meilenstein'!$C$2:$C$210,'Hilfstabelle Schule Meilenstein'!$B$2:$B$210),2,FALSE)),\"\")","v":""},{"$f":"IFERROR(IF(VLOOKUP(K$59&$A65,CHOOSE({1,2},'Hilfstabelle Schule Meilenstein'!$A$2:$A$106&'Hilfstabelle Schule Meilenstein'!$C$2:$C$106,'Hilfstabelle Schule Meilenstein'!$D$2:$D$106),2,FALSE)=0,\"\",VLOOKUP(K$59&$A65,CHOOSE({1,2},'Hilfstabelle Schule Meilenstein'!$A$2:$A$106&'Hilfstabelle Schule Meilenstein'!$C$2:$C$106,'Hilfstabelle Schule Meilenstein'!$D$2:$D$106),2,FALSE)),\"\")","v":""},null,null,{"$f":"IFERROR(IF(VLOOKUP(O$59&$A65,CHOOSE({1,2},'Hilfstabelle Schule Meilenstein'!$A$2:$A$210&'Hilfstabelle Schule Meilenstein'!$C$2:$C$210,'Hilfstabelle Schule Meilenstein'!$B$2:$B$210),2,FALSE)=0,\"\",VLOOKUP(O$59&$A65,CHOOSE({1,2},'Hilfstabelle Schule Meilenstein'!$A$2:$A$210&'Hilfstabelle Schule Meilenstein'!$C$2:$C$210,'Hilfstabelle Schule Meilenstein'!$B$2:$B$210),2,FALSE)),\"\")","v":""},{"$f":"IFERROR(IF(VLOOKUP(O$59&$A65,CHOOSE({1,2},'Hilfstabelle Schule Meilenstein'!$A$2:$A$106&'Hilfstabelle Schule Meilenstein'!$C$2:$C$106,'Hilfstabelle Schule Meilenstein'!$D$2:$D$106),2,FALSE)=0,\"\",VLOOKUP(O$59&$A65,CHOOSE({1,2},'Hilfstabelle Schule Meilenstein'!$A$2:$A$106&'Hilfstabelle Schule Meilenstein'!$C$2:$C$106,'Hilfstabelle Schule Meilenstein'!$D$2:$D$106),2,FALSE)),\"\")","v":""}]
["Echéance 3",{"$f":"IFERROR(IF(VLOOKUP(C$59&$A66,CHOOSE({1,2},'Hilfstabelle Schule Meilenstein'!$A$2:$A$210&'Hilfstabelle Schule Meilenstein'!$C$2:$C$210,'Hilfstabelle Schule Meilenstein'!$B$2:$B$210),2,FALSE)=0,\"\",VLOOKUP(C$59&$A66,CHOOSE({1,2},'Hilfstabelle Schule Meilenstein'!$A$2:$A$210&'Hilfstabelle Schule Meilenstein'!$C$2:$C$210,'Hilfstabelle Schule Meilenstein'!$B$2:$B$210),2,FALSE)),\"\")","v":""},{"$f":"IFERROR(IF(VLOOKUP(C$59&$A66,CHOOSE({1,2},'Hilfstabelle Schule Meilenstein'!$A$2:$A$106&'Hilfstabelle Schule Meilenstein'!$C$2:$C$106,'Hilfstabelle Schule Meilenstein'!$D$2:$D$106),2,FALSE)=0,\"\",VLOOKUP(C$59&$A66,CHOOSE({1,2},'Hilfstabelle Schule Meilenstein'!$A$2:$A$106&'Hilfstabelle Schule Meilenstein'!$C$2:$C$106,'Hilfstabelle Schule Meilenstein'!$D$2:$D$106),2,FALSE)),\"\")","v":""},null,null,{"$f":"IFERROR(IF(VLOOKUP(G$59&$A66,CHOOSE({1,2},'Hilfstabelle Schule Meilenstein'!$A$2:$A$210&'Hilfstabelle Schule Meilenstein'!$C$2:$C$210,'Hilfstabelle Schule Meilenstein'!$B$2:$B$210),2,FALSE)=0,\"\",VLOOKUP(G$59&$A66,CHOOSE({1,2},'Hilfstabelle Schule Meilenstein'!$A$2:$A$210&'Hilfstabelle Schule Meilenstein'!$C$2:$C$210,'Hilfstabelle Schule Meilenstein'!$B$2:$B$210),2,FALSE)),\"\")","v":""},{"$f":"IFERROR(IF(VLOOKUP(G$59&$A66,CHOOSE({1,2},'Hilfstabelle Schule Meilenstein'!$A$2:$A$106&'Hilfstabelle Schule Meilenstein'!$C$2:$C$106,'Hilfstabelle Schule Meilenstein'!$D$2:$D$106),2,FALSE)=0,\"\",VLOOKUP(G$59&$A66,CHOOSE({1,2},'Hilfstabelle Schule Meilenstein'!$A$2:$A$106&'Hilfstabelle Schule Meilenstein'!$C$2:$C$106,'Hilfstabelle Schule Meilenstein'!$D$2:$D$106),2,FALSE)),\"\")","v":""},null,null,{"$f":"IFERROR(IF(VLOOKUP(K$59&$A66,CHOOSE({1,2},'Hilfstabelle Schule Meilenstein'!$A$2:$A$210&'Hilfstabelle Schule Meilenstein'!$C$2:$C$210,'Hilfstabelle Schule Meilenstein'!$B$2:$B$210),2,FALSE)=0,\"\",VLOOKUP(K$59&$A66,CHOOSE({1,2},'Hilfstabelle Schule Meilenstein'!$A$2:$A$210&'Hilfstabelle Schule Meilenstein'!$C$2:$C$210,'Hilfstabelle Schule Meilenstein'!$B$2:$B$210),2,FALSE)),\"\")","v":""},{"$f":"IFERROR(IF(VLOOKUP(K$59&$A66,CHOOSE({1,2},'Hilfstabelle Schule Meilenstein'!$A$2:$A$106&'Hilfstabelle Schule Meilenstein'!$C$2:$C$106,'Hilfstabelle Schule Meilenstein'!$D$2:$D$106),2,FALSE)=0,\"\",VLOOKUP(K$59&$A66,CHOOSE({1,2},'Hilfstabelle Schule Meilenstein'!$A$2:$A$106&'Hilfstabelle Schule Meilenstein'!$C$2:$C$106,'Hilfstabelle Schule Meilenstein'!$D$2:$D$106),2,FALSE)),\"\")","v":""},null,null,{"$f":"IFERROR(IF(VLOOKUP(O$59&$A66,CHOOSE({1,2},'Hilfstabelle Schule Meilenstein'!$A$2:$A$210&'Hilfstabelle Schule Meilenstein'!$C$2:$C$210,'Hilfstabelle Schule Meilenstein'!$B$2:$B$210),2,FALSE)=0,\"\",VLOOKUP(O$59&$A66,CHOOSE({1,2},'Hilfstabelle Schule Meilenstein'!$A$2:$A$210&'Hilfstabelle Schule Meilenstein'!$C$2:$C$210,'Hilfstabelle Schule Meilenstein'!$B$2:$B$210),2,FALSE)),\"\")","v":""},{"$f":"IFERROR(IF(VLOOKUP(O$59&$A66,CHOOSE({1,2},'Hilfstabelle Schule Meilenstein'!$A$2:$A$106&'Hilfstabelle Schule Meilenstein'!$C$2:$C$106,'Hilfstabelle Schule Meilenstein'!$D$2:$D$106),2,FALSE)=0,\"\",VLOOKUP(O$59&$A66,CHOOSE({1,2},'Hilfstabelle Schule Meilenstein'!$A$2:$A$106&'Hilfstabelle Schule Meilenstein'!$C$2:$C$106,'Hilfstabelle Schule Meilenstein'!$D$2:$D$106),2,FALSE)),\"\")","v":""}]
["Echéance 4",{"$f":"IFERROR(IF(VLOOKUP(C$59&$A67,CHOOSE({1,2},'Hilfstabelle Schule Meilenstein'!$A$2:$A$210&'Hilfstabelle Schule Meilenstein'!$C$2:$C$210,'Hilfstabelle Schule Meilenstein'!$B$2:$B$210),2,FALSE)=0,\"\",VLOOKUP(C$59&$A67,CHOOSE({1,2},'Hilfstabelle Schule Meilenstein'!$A$2:$A$210&'Hilfstabelle Schule Meilenstein'!$C$2:$C$210,'Hilfstabelle Schule Meilenstein'!$B$2:$B$210),2,FALSE)),\"\")","v":""},{"$f":"IFERROR(IF(VLOOKUP(C$59&$A67,CHOOSE({1,2},'Hilfstabelle Schule Meilenstein'!$A$2:$A$106&'Hilfstabelle Schule Meilenstein'!$C$2:$C$106,'Hilfstabelle Schule Meilenstein'!$D$2:$D$106),2,FALSE)=0,\"\",VLOOKUP(C$59&$A67,CHOOSE({1,2},'Hilfstabelle Schule Meilenstein'!$A$2:$A$106&'Hilfstabelle Schule Meilenstein'!$C$2:$C$106,'Hilfstabelle Schule Meilenstein'!$D$2:$D$106),2,FALSE)),\"\")","v":""},null,null,{"$f":"IFERROR(IF(VLOOKUP(G$59&$A67,CHOOSE({1,2},'Hilfstabelle Schule Meilenstein'!$A$2:$A$210&'Hilfstabelle Schule Meilenstein'!$C$2:$C$210,'Hilfstabelle Schule Meilenstein'!$B$2:$B$210),2,FALSE)=0,\"\",VLOOKUP(G$59&$A67,CHOOSE({1,2},'Hilfstabelle Schule Meilenstein'!$A$2:$A$210&'Hilfstabelle Schule Meilenstein'!$C$2:$C$210,'Hilfstabelle Schule Meilenstein'!$B$2:$B$210),2,FALSE)),\"\")","v":""},{"$f":"IFERROR(IF(VLOOKUP(G$59&$A67,CHOOSE({1,2},'Hilfstabelle Schule Meilenstein'!$A$2:$A$106&'Hilfstabelle Schule Meilenstein'!$C$2:$C$106,'Hilfstabelle Schule Meilenstein'!$D$2:$D$106),2,FALSE)=0,\"\",VLOOKUP(G$59&$A67,CHOOSE({1,2},'Hilfstabelle Schule Meilenstein'!$A$2:$A$106&'Hilfstabelle Schule Meilenstein'!$C$2:$C$106,'Hilfstabelle Schule Meilenstein'!$D$2:$D$106),2,FALSE)),\"\")","v":""},null,null,{"$f":"IFERROR(IF(VLOOKUP(K$59&$A67,CHOOSE({1,2},'Hilfstabelle Schule Meilenstein'!$A$2:$A$210&'Hilfstabelle Schule Meilenstein'!$C$2:$C$210,'Hilfstabelle Schule Meilenstein'!$B$2:$B$210),2,FALSE)=0,\"\",VLOOKUP(K$59&$A67,CHOOSE({1,2},'Hilfstabelle Schule Meilenstein'!$A$2:$A$210&'Hilfstabelle Schule Meilenstein'!$C$2:$C$210,'Hilfstabelle Schule Meilenstein'!$B$2:$B$210),2,FALSE)),\"\")","v":""},{"$f":"IFERROR(IF(VLOOKUP(K$59&$A67,CHOOSE({1,2},'Hilfstabelle Schule Meilenstein'!$A$2:$A$106&'Hilfstabelle Schule Meilenstein'!$C$2:$C$106,'Hilfstabelle Schule Meilenstein'!$D$2:$D$106),2,FALSE)=0,\"\",VLOOKUP(K$59&$A67,CHOOSE({1,2},'Hilfstabelle Schule Meilenstein'!$A$2:$A$106&'Hilfstabelle Schule Meilenstein'!$C$2:$C$106,'Hilfstabelle Schule Meilenstein'!$D$2:$D$106),2,FALSE)),\"\")","v":""},null,null,{"$f":"IFERROR(IF(VLOOKUP(O$59&$A67,CHOOSE({1,2},'Hilfstabelle Schule Meilenstein'!$A$2:$A$210&'Hilfstabelle Schule Meilenstein'!$C$2:$C$210,'Hilfstabelle Schule Meilenstein'!$B$2:$B$210),2,FALSE)=0,\"\",VLOOKUP(O$59&$A67,CHOOSE({1,2},'Hilfstabelle Schule Meilenstein'!$A$2:$A$210&'Hilfstabelle Schule Meilenstein'!$C$2:$C$210,'Hilfstabelle Schule Meilenstein'!$B$2:$B$210),2,FALSE)),\"\")","v":""},{"$f":"IFERROR(IF(VLOOKUP(O$59&$A67,CHOOSE({1,2},'Hilfstabelle Schule Meilenstein'!$A$2:$A$106&'Hilfstabelle Schule Meilenstein'!$C$2:$C$106,'Hilfstabelle Schule Meilenstein'!$D$2:$D$106),2,FALSE)=0,\"\",VLOOKUP(O$59&$A67,CHOOSE({1,2},'Hilfstabelle Schule Meilenstein'!$A$2:$A$106&'Hilfstabelle Schule Meilenstein'!$C$2:$C$106,'Hilfstabelle Schule Meilenstein'!$D$2:$D$106),2,FALSE)),\"\")","v":""}]
["Echéance 5",{"$f":"IFERROR(IF(VLOOKUP(C$59&$A68,CHOOSE({1,2},'Hilfstabelle Schule Meilenstein'!$A$2:$A$210&'Hilfstabelle Schule Meilenstein'!$C$2:$C$210,'Hilfstabelle Schule Meilenstein'!$B$2:$B$210),2,FALSE)=0,\"\",VLOOKUP(C$59&$A68,CHOOSE({1,2},'Hilfstabelle Schule Meilenstein'!$A$2:$A$210&'Hilfstabelle Schule Meilenstein'!$C$2:$C$210,'Hilfstabelle Schule Meilenstein'!$B$2:$B$210),2,FALSE)),\"\")","v":""},{"$f":"IFERROR(IF(VLOOKUP(C$59&$A68,CHOOSE({1,2},'Hilfstabelle Schule Meilenstein'!$A$2:$A$106&'Hilfstabelle Schule Meilenstein'!$C$2:$C$106,'Hilfstabelle Schule Meilenstein'!$D$2:$D$106),2,FALSE)=0,\"\",VLOOKUP(C$59&$A68,CHOOSE({1,2},'Hilfstabelle Schule Meilenstein'!$A$2:$A$106&'Hilfstabelle Schule Meilenstein'!$C$2:$C$106,'Hilfstabelle Schule Meilenstein'!$D$2:$D$106),2,FALSE)),\"\")","v":""},null,null,{"$f":"IFERROR(IF(VLOOKUP(G$59&$A68,CHOOSE({1,2},'Hilfstabelle Schule Meilenstein'!$A$2:$A$210&'Hilfstabelle Schule Meilenstein'!$C$2:$C$210,'Hilfstabelle Schule Meilenstein'!$B$2:$B$210),2,FALSE)=0,\"\",VLOOKUP(G$59&$A68,CHOOSE({1,2},'Hilfstabelle Schule Meilenstein'!$A$2:$A$210&'Hilfstabelle Schule Meilenstein'!$C$2:$C$210,'Hilfstabelle Schule Meilenstein'!$B$2:$B$210),2,FALSE)),\"\")","v":""},{"$f":"IFERROR(IF(VLOOKUP(G$59&$A68,CHOOSE({1,2},'Hilfstabelle Schule Meilenstein'!$A$2:$A$106&'Hilfstabelle Schule Meilenstein'!$C$2:$C$106,'Hilfstabelle Schule Meilenstein'!$D$2:$D$106),2,FALSE)=0,\"\",VLOOKUP(G$59&$A68,CHOOSE({1,2},'Hilfstabelle Schule Meilenstein'!$A$2:$A$106&'Hilfstabelle Schule Meilenstein'!$C$2:$C$106,'Hilfstabelle Schule Meilenstein'!$D$2:$D$106),2,FALSE)),\"\")","v":""},null,null,{"$f":"IFERROR(IF(VLOOKUP(K$59&$A68,CHOOSE({1,2},'Hilfstabelle Schule Meilenstein'!$A$2:$A$210&'Hilfstabelle Schule Meilenstein'!$C$2:$C$210,'Hilfstabelle Schule Meilenstein'!$B$2:$B$210),2,FALSE)=0,\"\",VLOOKUP(K$59&$A68,CHOOSE({1,2},'Hilfstabelle Schule Meilenstein'!$A$2:$A$210&'Hilfstabelle Schule Meilenstein'!$C$2:$C$210,'Hilfstabelle Schule Meilenstein'!$B$2:$B$210),2,FALSE)),\"\")","v":""},{"$f":"IFERROR(IF(VLOOKUP(K$59&$A68,CHOOSE({1,2},'Hilfstabelle Schule Meilenstein'!$A$2:$A$106&'Hilfstabelle Schule Meilenstein'!$C$2:$C$106,'Hilfstabelle Schule Meilenstein'!$D$2:$D$106),2,FALSE)=0,\"\",VLOOKUP(K$59&$A68,CHOOSE({1,2},'Hilfstabelle Schule Meilenstein'!$A$2:$A$106&'Hilfstabelle Schule Meilenstein'!$C$2:$C$106,'Hilfstabelle Schule Meilenstein'!$D$2:$D$106),2,FALSE)),\"\")","v":""},null,null,{"$f":"IFERROR(IF(VLOOKUP(O$59&$A68,CHOOSE({1,2},'Hilfstabelle Schule Meilenstein'!$A$2:$A$210&'Hilfstabelle Schule Meilenstein'!$C$2:$C$210,'Hilfstabelle Schule Meilenstein'!$B$2:$B$210),2,FALSE)=0,\"\",VLOOKUP(O$59&$A68,CHOOSE({1,2},'Hilfstabelle Schule Meilenstein'!$A$2:$A$210&'Hilfstabelle Schule Meilenstein'!$C$2:$C$210,'Hilfstabelle Schule Meilenstein'!$B$2:$B$210),2,FALSE)),\"\")","v":""},{"$f":"IFERROR(IF(VLOOKUP(O$59&$A68,CHOOSE({1,2},'Hilfstabelle Schule Meilenstein'!$A$2:$A$106&'Hilfstabelle Schule Meilenstein'!$C$2:$C$106,'Hilfstabelle Schule Meilenstein'!$D$2:$D$106),2,FALSE)=0,\"\",VLOOKUP(O$59&$A68,CHOOSE({1,2},'Hilfstabelle Schule Meilenstein'!$A$2:$A$106&'Hilfstabelle Schule Meilenstein'!$C$2:$C$106,'Hilfstabelle Schule Meilenstein'!$D$2:$D$106),2,FALSE)),\"\")","v":""}]

{"sheet":"Hilfsblatt Zeitstrahl","index":5,"n_rows":1468,"n_cols":11,"rows_kept":1468,"cut":false,"hidden":true,"merged":[]}
["Jahr","Datum","Meilenstein","Hilfspalte 2","Hilfspalte 1",null,"Jahr","Datum","Meilenstein","Hilfspalte 2","Hilfspalte 1"]
[{"$f":"'Planification Formation'!$I$8","v":2022},{"$f":"DATE(A2,1,1)","v":"2022-01-01"},{"$f":"IFERROR(IF(VLOOKUP($B2,Récapitulatif!$B$64:$E$68,2,FALSE)=0,\"\",VLOOKUP($B2,Récapitulatif!$B$64:$E$68,2,FALSE)),\"\")","v":""},{"$f":"IF($C2=\"\",0,$E2)","v":0},-3.5,null,{"$f":"'Planification Sport'!$G$8","v":2022},{"$f":"DATE(G2,1,1)","v":"2022-01-01"},{"$f":"IFERROR(IF(VLOOKUP($H2,Récapitulatif!$B$14:$E$24,2,FALSE)=0,\"\",VLOOKUP(H2,Récapitulatif!$B$14:$E$24,2,FALSE)),\"\")","v":""},{"$f":"IF($I2=\"\",0,$K2)","v":0},3.5]
[{"$f":"YEAR(B3)","v":2022},{"$f":"B2+1","v":"2022-01-02"},{"$f":"IFERROR(IF(VLOOKUP($B3,Récapitulatif!$B$64:$E$68,2,FALSE)=0,\"\",VLOOKUP($B3,Récapitulatif!$B$64:$E$68,2,FALSE)),\"\")","v":""},{"$f":"IF($C3=\"\",0,$E3)","v":0},-3.5,null,{"$f":"YEAR(H3)","v":2022},{"$f":"H2+1","v":"2022-01-02"},{"$f":"IFERROR(IF(VLOOKUP($H3,Récapitulatif!$B$14:$E$24,2,FALSE)=0,\"\",VLOOKUP(H3,Récapitulatif!$B$14:$E$24,2,FALSE)),\"\")","v":""},{"$f":"IF($I3=\"\",0,$K3)","v":0},3.5]
[{"$f":"YEAR(B4)","v":2022},{"$f":"B3+1","v":"2022-01-03"},{"$f":"IFERROR(IF(VLOOKUP($B4,Récapitulatif!$B$64:$E$68,2,FALSE)=0,\"\",VLOOKUP($B4,Récapitulatif!$B$64:$E$68,2,FALSE)),\"\")","v":""},0,-3.5,null,{"$f":"YEAR(H4)","v":2022},{"$f":"H3+1","v":"2022-01-03"},{"$f":"IFERROR(IF(VLOOKUP($H4,Récapitulatif!$B$14:$E$24,2,FALSE)=0,\"\",VLOOKUP(H4,Récapitulatif!$B$14:$E$24,2,FALSE)),\"\")","v":""},0,3.5]
[2022,"2022-01-04",{"$f":"IFERROR(IF(VLOOKUP($B5,Récapitulatif!$B$64:$E$68,2,FALSE)=0,\"\",VLOOKUP($B5,Récapitulatif!$B$64:$E$68,2,FALSE)),\"\")","v":""},0,-3.5,null,2022,"2022-01-04",{"$f":"IFERROR(IF(VLOOKUP($H5,Récapitulatif!$B$14:$E$24,2,FALSE)=0,\"\",VLOOKUP(H5,Récapitulatif!$B$14:$E$24,2,FALSE)),\"\")","v":""},0,3.5]
[2022,"2022-01-05",{"$f":"IFERROR(IF(VLOOKUP($B6,Récapitulatif!$B$64:$E$68,2,FALSE)=0,\"\",VLOOKUP($B6,Récapitulatif!$B$64:$E$68,2,FALSE)),\"\")","v":""},0,-3.5,null,2022,"2022-01-05",{"$f":"IFERROR(IF(VLOOKUP($H6,Récapitulatif!$B$14:$E$24,2,FALSE)=0,\"\",VLOOKUP(H6,Récapitulatif!$B$14:$E$24,2,FALSE)),\"\")","v":""},0,3.5]
[2022,"2022-01-06",{"$f":"IFERROR(IF(VLOOKUP($B7,Récapitulatif!$B$64:$E$68,2,FALSE)=0,\"\",VLOOKUP($B7,Récapitulatif!$B$64:$E$68,2,FALSE)),\"\")","v":""},0,-3.5,null,2022,"2022-01-06",{"$f":"IFERROR(IF(VLOOKUP($H7,Récapitulatif!$B$14:$E$24,2,FALSE)=0,\"\",VLOOKUP(H7,Récapitulatif!$B$14:$E$24,2,FALSE)),\"\")","v":""},0,3.5]
[2022,"2022-01-07",{"$f":"IFERROR(IF(VLOOKUP($B8,Récapitulatif!$B$64:$E$68,2,FALSE)=0,\"\",VLOOKUP($B8,Récapitulatif!$B$64:$E$68,2,FALSE)),\"\")","v":""},0,-3.5,null,2022,"2022-01-07",{"$f":"IFERROR(IF(VLOOKUP($H8,Récapitulatif!$B$14:$E$24,2,FALSE)=0,\"\",VLOOKUP(H8,Récapitulatif!$B$14:$E$24,2,FALSE)),\"\")","v":""},0,3.5]
[2022,"2022-01-08",{"$f":"IFERROR(IF(VLOOKUP($B9,Récapitulatif!$B$64:$E$68,2,FALSE)=0,\"\",VLOOKUP($B9,Récapitulatif!$B$64:$E$68,2,FALSE)),\"\")","v":""},0,-3.5,null,2022,"2022-01-08",{"$f":"IFERROR(IF(VLOOKUP($H9,Récapitulatif!$B$14:$E$24,2,FALSE)=0,\"\",VLOOKUP(H9,Récapitulatif!$B$14:$E$24,2,FALSE)),\"\")","v":""},0,3.5]
[2022,"2022-01-09",{"$f":"IFERROR(IF(VLOOKUP($B10,Récapitulatif!$B$64:$E$68,2,FALSE)=0,\"\",VLOOKUP($B10,Récapitulatif!$B$64:$E$68,2,FALSE)),\"\")","v":""},0,-3.5,null,2022,"2022-01-09",{"$f":"IFERROR(IF(VLOOKUP($H10,Récapitulatif!$B$14:$E$24,2,FALSE)=0,\"\",VLOOKUP(H10,Récapitulatif!$B$14:$E$24,2,FALSE)),\"\")","v":""},0,3.5]
[2022,"2022-01-10",{"$f":"IFERROR(IF(VLOOKUP($B11,Récapitulatif!$B$64:$E$68,2,FALSE)=0,\"\",VLOOKUP($B11,Récapitulatif!$B$64:$E$68,2,FALSE)),\"\")","v":""},0,-3.5,null,2022,"2022-01-10",{"$f":"IFERROR(IF(VLOOKUP($H11,Récapitulatif!$B$14:$E$24,2,FALSE)=0,\"\",VLOOKUP(H11,Récapitulatif!$B$14:$E$24,2,FALSE)),\"\")","v":""},0,3.5]
[2022,"2022-01-11",{"$f":"IFERROR(IF(VLOOKUP($B12,Récapitulatif!$B$64:$E$68,2,FALSE)=0,\"\",VLOOKUP($B12,Récapitulatif!$B$64:$E$68,2,FALSE)),\"\")","v":""},0,-3.5,null,2022,"2022-01-11",{"$f":"IFERROR(IF(VLOOKUP($H12,Récapitulatif!$B$14:$E$24,2,FALSE)=0,\"\",VLOOKUP(H12,Récapitulatif!$B$14:$E$24,2,FALSE)),\"\")","v":""},0,3.5]
[2022,"2022-01-12",{"$f":"IFERROR(IF(VLOOKUP($B13,Récapitulatif!$B$64:$E$68,2,FALSE)=0,\"\",VLOOKUP($B13,Récapitulatif!$B$64:$E$68,2,FALSE)),\"\")","v":""},0,-3.5,null,2022,"2022-01-12",{"$f":"IFERROR(IF(VLOOKUP($H13,Récapitulatif!$B$14:$E$24,2,FALSE)=0,\"\",VLOOKUP(H13,Récapitulatif!$B$14:$E$24,2,FALSE)),\"\")","v":""},0,3.5]
[2022,"2022-01-13",{"$f":"IFERROR(IF(VLOOKUP($B14,Récapitulatif!$B$64:$E$68,2,FALSE)=0,\"\",VLOOKUP($B14,Récapitulatif!$B$64:$E$68,2,FALSE)),\"\")","v":""},0,-3.5,null,2022,"2022-01-13",{"$f":"IFERROR(IF(VLOOKUP($H14,Récapitulatif!$B$14:$E$24,2,FALSE)=0,\"\",VLOOKUP(H14,Récapitulatif!$B$14:$E$24,2,FALSE)),\"\")","v":""},0,3.5]
[2022,"2022-01-14",{"$f":"IFERROR(IF(VLOOKUP($B15,Récapitulatif!$B$64:$E$68,2,FALSE)=0,\"\",VLOOKUP($B15,Récapitulatif!$B$64:$E$68,2,FALSE)),\"\")","v":""},0,-3.5,null,2022,"2022-01-14",{"$f":"IFERROR(IF(VLOOKUP($H15,Récapitulatif!$B$14:$E$24,2,FALSE)=0,\"\",VLOOKUP(H15,Récapitulatif!$B$14:$E$24,2,FALSE)),\"\")","v":""},0,3.5]
[2022,"2022-01-15",{"$f":"IFERROR(IF(VLOOKUP($B16,Récapitulatif!$B$64:$E$68,2,FALSE)=0,\"\",VLOOKUP($B16,Récapitulatif!$B$64:$E$68,2,FALSE)),\"\")","v":""},0,-3.5,null,2022,"2022-01-15",{"$f":"IFERROR(IF(VLOOKUP($H16,Récapitulatif!$B$14:$E$24,2,FALSE)=0,\"\",VLOOKUP(H16,Récapitulatif!$B$14:$E$24,2,FALSE)),\"\")","v":""},0,3.5]
[2022,"2022-01-16",{"$f":"IFERROR(IF(VLOOKUP($B17,Récapitulatif!$B$64:$E$68,2,FALSE)=0,\"\",VLOOKUP($B17,Récapitulatif!$B$64:$E$68,2,FALSE)),\"\")","v":""},0,-3.5,null,2022,"2022-01-16",{"$f":"IFERROR(IF(VLOOKUP($H17,Récapitulatif!$B$14:$E$24,2,FALSE)=0,\"\",VLOOKUP(H17,Récapitulatif!$B$14:$E$24,2,FALSE)),\"\")","v":""},0,3.5]
[2022,"2022-01-17",{"$f":"IFERROR(IF(VLOOKUP($B18,Récapitulatif!$B$64:$E$68,2,FALSE)=0,\"\",VLOOKUP($B18,Récapitulatif!$B$64:$E$68,2,FALSE)),\"\")","v":""},0,-3.5,null,2022,"2022-01-17",{"$f":"IFERROR(IF(VLOOKUP($H18,Récapitulatif!$B$14:$E$24,2,FALSE)=0,\"\",VLOOKUP(H18,Récapitulatif!$B$14:$E$24,2,FALSE)),\"\")","v":""},0,3.5]
[2022,"2022-01-18",{"$f":"IFERROR(IF(VLOOKUP($B19,Récapitulatif!$B$64:$E$68,2,FALSE)=0,\"\",VLOOKUP($B19,Récapitulatif!$B$64:$E$68,2,FALSE)),\"\")","v":""},0,-3.5,null,2022,"2022-01-18",{"$f":"IFERROR(IF(VLOOKUP($H19,Récapitulatif!$B$14:$E$24,2,FALSE)=0,\"\",VLOOKUP(H19,Récapitulatif!$B$14:$E$24,2,FALSE)),\"\")","v":""},0,3.5]
[2022,"2022-01-19",{"$f":"IFERROR(IF(VLOOKUP($B20,Récapitulatif!$B$64:$E$68,2,FALSE)=0,\"\",VLOOKUP($B20,Récapitulatif!$B$64:$E$68,2,FALSE)),\"\")","v":""},0,-3.5,null,2022,"2022-01-19",{"$f":"IFERROR(IF(VLOOKUP($H20,Récapitulatif!$B$14:$E$24,2,FALSE)=0,\"\",VLOOKUP(H20,Récapitulatif!$B$14:$E$24,2,FALSE)),\"\")","v":""},0,3.5]
[2022,"2022-01-20",{"$f":"IFERROR(IF(VLOOKUP($B21,Récapitulatif!$B$64:$E$68,2,FALSE)=0,\"\",VLOOKUP($B21,Récapitulatif!$B$64:$E$68,2,FALSE)),\"\")","v":""},0,-3.5,null,2022,"2022-01-20",{"$f":"IFERROR(IF(VLOOKUP($H21,Récapitulatif!$B$14:$E$24,2,FALSE)=0,\"\",VLOOKUP(H21,Récapitulatif!$B$14:$E$24,2,FALSE)),\"\")","v":""},0,3.5]
[2022,"2022-01-21",{"$f":"IFERROR(IF(VLOOKUP($B22,Récapitulatif!$B$64:$E$68,2,FALSE)=0,\"\",VLOOKUP($B22,Récapitulatif!$B$64:$E$68,2,FALSE)),\"\")","v":""},0,-3.5,null,2022,"2022-01-21",{"$f":"IFERROR(IF(VLOOKUP($H22,Récapitulatif!$B$14:$E$24,2,FALSE)=0,\"\",VLOOKUP(H22,Récapitulatif!$B$14:$E$24,2,FALSE)),\"\")","v":""},0,3.5]
[2022,"2022-01-22",{"$f":"IFERROR(IF(VLOOKUP($B23,Récapitulatif!$B$64:$E$68,2,FALSE)=0,\"\",VLOOKUP($B23,Récapitulatif!$B$64:$E$68,2,FALSE)),\"\")","v":""},0,-3.5,null,2022,"2022-01-22",{"$f":"IFERROR(IF(VLOOKUP($H23,Récapitulatif!$B$14:$E$24,2,FALSE)=0,\"\",VLOOKUP(H23,Récapitulatif!$B$14:$E$24,2,FALSE)),\"\")","v":""},0,3.5]
[2022,"2022-01-23",{"$f":"IFERROR(IF(VLOOKUP($B24,Récapitulatif!$B$64:$E$68,2,FALSE)=0,\"\",VLOOKUP($B24,Récapitulatif!$B$64:$E$68,2,FALSE)),\"\")","v":""},0,-3.5,null,2022,"2022-01-23",{"$f":"IFERROR(IF(VLOOKUP($H24,Récapitulatif!$B$14:$E$24,2,FALSE)=0,\"\",VLOOKUP(H24,Récapitulatif!$B$14:$E$24,2,FALSE)),\"\")","v":""},0,3.5]
[2022,"2022-01-24",{"$f":"IFERROR(IF(VLOOKUP($B25,Récapitulatif!$B$64:$E$68,2,FALSE)=0,\"\",VLOOKUP($B25,Récapitulatif!$B$64:$E$68,2,FALSE)),\"\")","v":""},0,-3.5,null,2022,"2022-01-24",{"$f":"IFERROR(IF(VLOOKUP($H25,Récapitulatif!$B$14:$E$24,2,FALSE)=0,\"\",VLOOKUP(H25,Récapitulatif!$B$14:$E$24,2,FALSE)),\"\")","v":""},0,3.5]
[2022,"2022-01-25",{"$f":"IFERROR(IF(VLOOKUP($B26,Récapitulatif!$B$64:$E$68,2,FALSE)=0,\"\",VLOOKUP($B26,Récapitulatif!$B$64:$E$68,2,FALSE)),\"\")","v":""},0,-3.5,null,2022,"2022-01-25",{"$f":"IFERROR(IF(VLOOKUP($H26,Récapitulatif!$B$14:$E$24,2,FALSE)=0,\"\",VLOOKUP(H26,Récapitulatif!$B$14:$E$24,2,FALSE)),\"\")","v":""},0,3.5]
[2022,"2022-01-26",{"$f":"IFERROR(IF(VLOOKUP($B27,Récapitulatif!$B$64:$E$68,2,FALSE)=0,\"\",VLOOKUP($B27,Récapitulatif!$B$64:$E$68,2,FALSE)),\"\")","v":""},0,-3.5,null,2022,"2022-01-26",{"$f":"IFERROR(IF(VLOOKUP($H27,Récapitulatif!$B$14:$E$24,2,FALSE)=0,\"\",VLOOKUP(H27,Récapitulatif!$B$14:$E$24,2,FALSE)),\"\")","v":""},0,3.5]
[2022,"2022-01-27",{"$f":"IFERROR(IF(VLOOKUP($B28,Récapitulatif!$B$64:$E$68,2,FALSE)=0,\"\",VLOOKUP($B28,Récapitulatif!$B$64:$E$68,2,FALSE)),\"\")","v":""},0,-3.5,null,2022,"2022-01-27",{"$f":"IFERROR(IF(VLOOKUP($H28,Récapitulatif!$B$14:$E$24,2,FALSE)=0,\"\",VLOOKUP(H28,Récapitulatif!$B$14:$E$24,2,FALSE)),\"\")","v":""},0,3.5]
[2022,"2022-01-28",{"$f":"IFERROR(IF(VLOOKUP($B29,Récapitulatif!$B$64:$E$68,2,FALSE)=0,\"\",VLOOKUP($B29,Récapitulatif!$B$64:$E$68,2,FALSE)),\"\")","v":""},0,-3.5,null,2022,"2022-01-28",{"$f":"IFERROR(IF(VLOOKUP($H29,Récapitulatif!$B$14:$E$24,2,FALSE)=0,\"\",VLOOKUP(H29,Récapitulatif!$B$14:$E$24,2,FALSE)),\"\")","v":""},0,3.5]
[2022,"2022-01-29",{"$f":"IFERROR(IF(VLOOKUP($B30,Récapitulatif!$B$64:$E$68,2,FALSE)=0,\"\",VLOOKUP($B30,Récapitulatif!$B$64:$E$68,2,FALSE)),\"\")","v":""},0,-3.5,null,2022,"2022-01-29",{"$f":"IFERROR(IF(VLOOKUP($H30,Récapitulatif!$B$14:$E$24,2,FALSE)=0,\"\",VLOOKUP(H30,Récapitulatif!$B$14:$E$24,2,FALSE)),\"\")","v":""},0,3.5]
[2022,"2022-01-30",{"$f":"IFERROR(IF(VLOOKUP($B31,Récapitulatif!$B$64:$E$68,2,FALSE)=0,\"\",VLOOKUP($B31,Récapitulatif!$B$64:$E$68,2,FALSE)),\"\")","v":""},0,-3.5,null,2022,"2022-01-30",{"$f":"IFERROR(IF(VLOOKUP($H31,Récapitulatif!$B$14:$E$24,2,FALSE)=0,\"\",VLOOKUP(H31,Récapitulatif!$B$14:$E$24,2,FALSE)),\"\")","v":""},0,3.5]
[2022,"2022-01-31",{"$f":"IFERROR(IF(VLOOKUP($B32,Récapitulatif!$B$64:$E$68,2,FALSE)=0,\"\",VLOOKUP($B32,Récapitulatif!$B$64:$E$68,2,FALSE)),\"\")","v":""},0,-3.5,null,2022,"2022-01-31",{"$f":"IFERROR(IF(VLOOKUP($H32,Récapitulatif!$B$14:$E$24,2,FALSE)=0,\"\",VLOOKUP(H32,Récapitulatif!$B$14:$E$24,2,FALSE)),\"\")","v":""},0,3.5]
[2022,"2022-02-01",{"$f":"IFERROR(IF(VLOOKUP($B33,Récapitulatif!$B$64:$E$68,2,FALSE)=0,\"\",VLOOKUP($B33,Récapitulatif!$B$64:$E$68,2,FALSE)),\"\")","v":""},0,-12.5,null,2022,"2022-02-01",{"$f":"IFERROR(IF(VLOOKUP($H33,Récapitulatif!$B$14:$E$24,2,FALSE)=0,\"\",VLOOKUP(H33,Récapitulatif!$B$14:$E$24,2,FALSE)),\"\")","v":""},0,12.5]
[2022,"2022-02-02",{"$f":"IFERROR(IF(VLOOKUP($B34,Récapitulatif!$B$64:$E$68,2,FALSE)=0,\"\",VLOOKUP($B34,Récapitulatif!$B$64:$E$68,2,FALSE)),\"\")","v":""},0,-12.5,null,2022,"2022-02-02",{"$f":"IFERROR(IF(VLOOKUP($H34,Récapitulatif!$B$14:$E$24,2,FALSE)=0,\"\",VLOOKUP(H34,Récapitulatif!$B$14:$E$24,2,FALSE)),\"\")","v":""},0,12.5]
[2022,"2022-02-03",{"$f":"IFERROR(IF(VLOOKUP($B35,Récapitulatif!$B$64:$E$68,2,FALSE)=0,\"\",VLOOKUP($B35,Récapitulatif!$B$64:$E$68,2,FALSE)),\"\")","v":""},0,-12.5,null,2022,"2022-02-03",{"$f":"IFERROR(IF(VLOOKUP($H35,Récapitulatif!$B$14:$E$24,2,FALSE)=0,\"\",VLOOKUP(H35,Récapitulatif!$B$14:$E$24,2,FALSE)),\"\")","v":""},0,12.5]
[2022,"2022-02-04",{"$f":"IFERROR(IF(VLOOKUP($B36,Récapitulatif!$B$64:$E$68,2,FALSE)=0,\"\",VLOOKUP($B36,Récapitulatif!$B$64:$E$68,2,FALSE)),\"\")","v":""},0,-12.5,null,2022,"2022-02-04",{"$f":"IFERROR(IF(VLOOKUP($H36,Récapitulatif!$B$14:$E$24,2,FALSE)=0,\"\",VLOOKUP(H36,Récapitulatif!$B$14:$E$24,2,FALSE)),\"\")","v":""},0,12.5]
[2022,"2022-02-05",{"$f":"IFERROR(IF(VLOOKUP($B37,Récapitulatif!$B$64:$E$68,2,FALSE)=0,\"\",VLOOKUP($B37,Récapitulatif!$B$64:$E$68,2,FALSE)),\"\")","v":""},0,-12.5,null,2022,"2022-02-05",{"$f":"IFERROR(IF(VLOOKUP($H37,Récapitulatif!$B$14:$E$24,2,FALSE)=0,\"\",VLOOKUP(H37,Récapitulatif!$B$14:$E$24,2,FALSE)),\"\")","v":""},0,12.5]
[2022,"2022-02-06",{"$f":"IFERROR(IF(VLOOKUP($B38,Récapitulatif!$B$64:$E$68,2,FALSE)=0,\"\",VLOOKUP($B38,Récapitulatif!$B$64:$E$68,2,FALSE)),\"\")","v":""},0,-12.5,null,2022,"2022-02-06",{"$f":"IFERROR(IF(VLOOKUP($H38,Récapitulatif!$B$14:$E$24,2,FALSE)=0,\"\",VLOOKUP(H38,Récapitulatif!$B$14:$E$24,2,FALSE)),\"\")","v":""},0,12.5]
[2022,"2022-02-07",{"$f":"IFERROR(IF(VLOOKUP($B39,Récapitulatif!$B$64:$E$68,2,FALSE)=0,\"\",VLOOKUP($B39,Récapitulatif!$B$64:$E$68,2,FALSE)),\"\")","v":""},0,-12.5,null,2022,"2022-02-07",{"$f":"IFERROR(IF(VLOOKUP($H39,Récapitulatif!$B$14:$E$24,2,FALSE)=0,\"\",VLOOKUP(H39,Récapitulatif!$B$14:$E$24,2,FALSE)),\"\")","v":""},0,12.5]
[2022,"2022-02-08",{"$f":"IFERROR(IF(VLOOKUP($B40,Récapitulatif!$B$64:$E$68,2,FALSE)=0,\"\",VLOOKUP($B40,Récapitulatif!$B$64:$E$68,2,FALSE)),\"\")","v":""},0,-12.5,null,2022,"2022-02-08",{"$f":"IFERROR(IF(VLOOKUP($H40,Récapitulatif!$B$14:$E$24,2,FALSE)=0,\"\",VLOOKUP(H40,Récapitulatif!$B$14:$E$24,2,FALSE)),\"\")","v":""},0,12.5]
[2022,"2022-02-09",{"$f":"IFERROR(IF(VLOOKUP($B41,Récapitulatif!$B$64:$E$68,2,FALSE)=0,\"\",VLOOKUP($B41,Récapitulatif!$B$64:$E$68,2,FALSE)),\"\")","v":""},0,-12.5,null,2022,"2022-02-09",{"$f":"IFERROR(IF(VLOOKUP($H41,Récapitulatif!$B$14:$E$24,2,FALSE)=0,\"\",VLOOKUP(H41,Récapitulatif!$B$14:$E$24,2,FALSE)),\"\")","v":""},0,12.5]
[2022,"2022-02-10",{"$f":"IFERROR(IF(VLOOKUP($B42,Récapitulatif!$B$64:$E$68,2,FALSE)=0,\"\",VLOOKUP($B42,Récapitulatif!$B$64:$E$68,2,FALSE)),\"\")","v":""},0,-12.5,null,2022,"2022-02-10",{"$f":"IFERROR(IF(VLOOKUP($H42,Récapitulatif!$B$14:$E$24,2,FALSE)=0,\"\",VLOOKUP(H42,Récapitulatif!$B$14:$E$24,2,FALSE)),\"\")","v":""},0,12.5]
[2022,"2022-02-11",{"$f":"IFERROR(IF(VLOOKUP($B43,Récapitulatif!$B$64:$E$68,2,FALSE)=0,\"\",VLOOKUP($B43,Récapitulatif!$B$64:$E$68,2,FALSE)),\"\")","v":""},0,-12.5,null,2022,"2022-02-11",{"$f":"IFERROR(IF(VLOOKUP($H43,Récapitulatif!$B$14:$E$24,2,FALSE)=0,\"\",VLOOKUP(H43,Récapitulatif!$B$14:$E$24,2,FALSE)),\"\")","v":""},0,12.5]
[2022,"2022-02-12",{"$f":"IFERROR(IF(VLOOKUP($B44,Récapitulatif!$B$64:$E$68,2,FALSE)=0,\"\",VLOOKUP($B44,Récapitulatif!$B$64:$E$68,2,FALSE)),\"\")","v":""},0,-12.5,null,2022,"2022-02-12",{"$f":"IFERROR(IF(VLOOKUP($H44,Récapitulatif!$B$14:$E$24,2,FALSE)=0,\"\",VLOOKUP(H44,Récapitulatif!$B$14:$E$24,2,FALSE)),\"\")","v":""},0,12.5]
[2022,"2022-02-13",{"$f":"IFERROR(IF(VLOOKUP($B45,Récapitulatif!$B$64:$E$68,2,FALSE)=0,\"\",VLOOKUP($B45,Récapitulatif!$B$64:$E$68,2,FALSE)),\"\")","v":""},0,-12.5,null,2022,"2022-02-13",{"$f":"IFERROR(IF(VLOOKUP($H45,Récapitulatif!$B$14:$E$24,2,FALSE)=0,\"\",VLOOKUP(H45,Récapitulatif!$B$14:$E$24,2,FALSE)),\"\")","v":""},0,12.5]
[2022,"2022-02-14",{"$f":"IFERROR(IF(VLOOKUP($B46,Récapitulatif!$B$64:$E$68,2,FALSE)=0,\"\",VLOOKUP($B46,Récapitulatif!$B$64:$E$68,2,FALSE)),\"\")","v":""},0,-12.5,null,2022,"2022-02-14",{"$f":"IFERROR(IF(VLOOKUP($H46,Récapitulatif!$B$14:$E$24,2,FALSE)=0,\"\",VLOOKUP(H46,Récapitulatif!$B$14:$E$24,2,FALSE)),\"\")","v":""},0,12.5]
[2022,"2022-02-15",{"$f":"IFERROR(IF(VLOOKUP($B47,Récapitulatif!$B$64:$E$68,2,FALSE)=0,\"\",VLOOKUP($B47,Récapitulatif!$B$64:$E$68,2,FALSE)),\"\")","v":""},0,-12.5,null,2022,"2022-02-15",{"$f":"IFERROR(IF(VLOOKUP($H47,Récapitulatif!$B$14:$E$24,2,FALSE)=0,\"\",VLOOKUP(H47,Récapitulatif!$B$14:$E$24,2,FALSE)),\"\")","v":""},0,12.5]
[2022,"2022-02-16",{"$f":"IFERROR(IF(VLOOKUP($B48,Récapitulatif!$B$64:$E$68,2,FALSE)=0,\"\",VLOOKUP($B48,Récapitulatif!$B$64:$E$68,2,FALSE)),\"\")","v":""},0,-12.5,null,2022,"2022-02-16",{"$f":"IFERROR(IF(VLOOKUP($H48,Récapitulatif!$B$14:$E$24,2,FALSE)=0,\"\",VLOOKUP(H48,Récapitulatif!$B$14:$E$24,2,FALSE)),\"\")","v":""},0,12.5]
[2022,"2022-02-17",{"$f":"IFERROR(IF(VLOOKUP($B49,Récapitulatif!$B$64:$E$68,2,FALSE)=0,\"\",VLOOKUP($B49,Récapitulatif!$B$64:$E$68,2,FALSE)),\"\")","v":""},0,-12.5,null,2022,"2022-02-17",{"$f":"IFERROR(IF(VLOOKUP($H49,Récapitulatif!$B$14:$E$24,2,FALSE)=0,\"\",VLOOKUP(H49,Récapitulatif!$B$14:$E$24,2,FALSE)),\"\")","v":""},0,12.5]
[2022,"2022-02-18",{"$f":"IFERROR(IF(VLOOKUP($B50,Récapitulatif!$B$64:$E$68,2,FALSE)=0,\"\",VLOOKUP($B50,Récapitulatif!$B$64:$E$68,2,FALSE)),\"\")","v":""},0,-12.5,null,2022,"2022-02-18",{"$f":"IFERROR(IF(VLOOKUP($H50,Récapitulatif!$B$14:$E$24,2,FALSE)=0,\"\",VLOOKUP(H50,Récapitulatif!$B$14:$E$24,2,FALSE)),\"\")","v":""},0,12.5]
[2022,"2022-02-19",{"$f":"IFERROR(IF(VLOOKUP($B51,Récapitulatif!$B$64:$E$68,2,FALSE)=0,\"\",VLOOKUP($B51,Récapitulatif!$B$64:$E$68,2,FALSE)),\"\")","v":""},0,-12.5,null,2022,"2022-02-19",{"$f":"IFERROR(IF(VLOOKUP($H51,Récapitulatif!$B$14:$E$24,2,FALSE)=0,\"\",VLOOKUP(H51,Récapitulatif!$B$14:$E$24,2,FALSE)),\"\")","v":""},0,12.5]
[2022,"2022-02-20",{"$f":"IFERROR(IF(VLOOKUP($B52,Récapitulatif!$B$64:$E$68,2,FALSE)=0,\"\",VLOOKUP($B52,Récapitulatif!$B$64:$E$68,2,FALSE)),\"\")","v":""},0,-12.5,null,2022,"2022-02-20",{"$f":"IFERROR(IF(VLOOKUP($H52,Récapitulatif!$B$14:$E$24,2,FALSE)=0,\"\",VLOOKUP(H52,Récapitulatif!$B$14:$E$24,2,FALSE)),\"\")","v":""},0,12.5]
[2022,"2022-02-21",{"$f":"IFERROR(IF(VLOOKUP($B53,Récapitulatif!$B$64:$E$68,2,FALSE)=0,\"\",VLOOKUP($B53,Récapitulatif!$B$64:$E$68,2,FALSE)),\"\")","v":""},0,-12.5,null,2022,"2022-02-21",{"$f":"IFERROR(IF(VLOOKUP($H53,Récapitulatif!$B$14:$E$24,2,FALSE)=0,\"\",VLOOKUP(H53,Récapitulatif!$B$14:$E$24,2,FALSE)),\"\")","v":""},0,12.5]
[2022,"2022-02-22",{"$f":"IFERROR(IF(VLOOKUP($B54,Récapitulatif!$B$64:$E$68,2,FALSE)=0,\"\",VLOOKUP($B54,Récapitulatif!$B$64:$E$68,2,FALSE)),\"\")","v":""},0,-12.5,null,2022,"2022-02-22",{"$f":"IFERROR(IF(VLOOKUP($H54,Récapitulatif!$B$14:$E$24,2,FALSE)=0,\"\",VLOOKUP(H54,Récapitulatif!$B$14:$E$24,2,FALSE)),\"\")","v":""},0,12.5]
[2022,"2022-02-23",{"$f":"IFERROR(IF(VLOOKUP($B55,Récapitulatif!$B$64:$E$68,2,FALSE)=0,\"\",VLOOKUP($B55,Récapitulatif!$B$64:$E$68,2,FALSE)),\"\")","v":""},0,-12.5,null,2022,"2022-02-23",{"$f":"IFERROR(IF(VLOOKUP($H55,Récapitulatif!$B$14:$E$24,2,FALSE)=0,\"\",VLOOKUP(H55,Récapitulatif!$B$14:$E$24,2,FALSE)),\"\")","v":""},0,12.5]
[2022,"2022-02-24",{"$f":"IFERROR(IF(VLOOKUP($B56,Récapitulatif!$B$64:$E$68,2,FALSE)=0,\"\",VLOOKUP($B56,Récapitulatif!$B$64:$E$68,2,FALSE)),\"\")","v":""},0,-12.5,null,2022,"2022-02-24",{"$f":"IFERROR(IF(VLOOKUP($H56,Récapitulatif!$B$14:$E$24,2,FALSE)=0,\"\",VLOOKUP(H56,Récapitulatif!$B$14:$E$24,2,FALSE)),\"\")","v":""},0,12.5]
[2022,"2022-02-25",{"$f":"IFERROR(IF(VLOOKUP($B57,Récapitulatif!$B$64:$E$68,2,FALSE)=0,\"\",VLOOKUP($B57,Récapitulatif!$B$64:$E$68,2,FALSE)),\"\")","v":""},0,-12.5,null,2022,"2022-02-25",{"$f":"IFERROR(IF(VLOOKUP($H57,Récapitulatif!$B$14:$E$24,2,FALSE)=0,\"\",VLOOKUP(H57,Récapitulatif!$B$14:$E$24,2,FALSE)),\"\")","v":""},0,12.5]
[2022,"2022-02-26",{"$f":"IFERROR(IF(VLOOKUP($B58,Récapitulatif!$B$64:$E$68,2,FALSE)=0,\"\",VLOOKUP($B58,Récapitulatif!$B$64:$E$68,2,FALSE)),\"\")","v":""},0,-12.5,null,2022,"2022-02-26",{"$f":"IFERROR(IF(VLOOKUP($H58,Récapitulatif!$B$14:$E$24,2,FALSE)=0,\"\",VLOOKUP(H58,Récapitulatif!$B$14:$E$24,2,FALSE)),\"\")","v":""},0,12.5]
[2022,"2022-02-27",{"$f":"IFERROR(IF(VLOOKUP($B59,Récapitulatif!$B$64:$E$68,2,FALSE)=0,\"\",VLOOKUP($B59,Récapitulatif!$B$64:$E$68,2,FALSE)),\"\")","v":""},0,-12.5,null,2022,"2022-02-27",{"$f":"IFERROR(IF(VLOOKUP($H59,Récapitulatif!$B$14:$E$24,2,FALSE)=0,\"\",VLOOKUP(H59,Récapitulatif!$B$14:$E$24,2,FALSE)),\"\")","v":""},0,12.5]
[2022,"2022-02-28",{"$f":"IFERROR(IF(VLOOKUP($B60,Récapitulatif!$B$64:$E$68,2,FALSE)=0,\"\",VLOOKUP($B60,Récapitulatif!$B$64:$E$68,2,FALSE)),\"\")","v":""},0,-12.5,null,2022,"2022-02-28",{"$f":"IFERROR(IF(VLOOKUP($H60,Récapitulatif!$B$14:$E$24,2,FALSE)=0,\"\",VLOOKUP(H60,Récapitulatif!$B$14:$E$24,2,FALSE)),\"\")","v":""},0,12.5]
[2022,"2022-03-01",{"$f":"IFERROR(IF(VLOOKUP($B61,Récapitulatif!$B$64:$E$68,2,FALSE)=0,\"\",VLOOKUP($B61,Récapitulatif!$B$64:$E$68,2,FALSE)),\"\")","v":""},0,-12.5,null,2022,"2022-03-01",{"$f":"IFERROR(IF(VLOOKUP($H61,Récapitulatif!$B$14:$E$24,2,FALSE)=0,\"\",VLOOKUP(H61,Récapitulatif!$B$14:$E$24,2,FALSE)),\"\")","v":""},0,12.5]
[2022,{"$f":"DATE(A2,3,1)","v":"2022-03-01"},{"$f":"IFERROR(IF(VLOOKUP($B62,Récapitulatif!$B$64:$E$68,2,FALSE)=0,\"\",VLOOKUP($B62,Récapitulatif!$B$64:$E$68,2,FALSE)),\"\")","v":""},0,-6.5,null,2022,{"$f":"DATE(G2,3,1)","v":"2022-03-01"},{"$f":"IFERROR(IF(VLOOKUP($H62,Récapitulatif!$B$14:$E$24,2,FALSE)=0,\"\",VLOOKUP(H62,Récapitulatif!$B$14:$E$24,2,FALSE)),\"\")","v":""},0,6.5]
[2022,"2022-03-02",{"$f":"IFERROR(IF(VLOOKUP($B63,Récapitulatif!$B$64:$E$68,2,FALSE)=0,\"\",VLOOKUP($B63,Récapitulatif!$B$64:$E$68,2,FALSE)),\"\")","v":""},0,-6.5,null,2022,"2022-03-02",{"$f":"IFERROR(IF(VLOOKUP($H63,Récapitulatif!$B$14:$E$24,2,FALSE)=0,\"\",VLOOKUP(H63,Récapitulatif!$B$14:$E$24,2,FALSE)),\"\")","v":""},0,6.5]
[2022,"2022-03-03",{"$f":"IFERROR(IF(VLOOKUP($B64,Récapitulatif!$B$64:$E$68,2,FALSE)=0,\"\",VLOOKUP($B64,Récapitulatif!$B$64:$E$68,2,FALSE)),\"\")","v":""},0,-6.5,null,2022,"2022-03-03",{"$f":"IFERROR(IF(VLOOKUP($H64,Récapitulatif!$B$14:$E$24,2,FALSE)=0,\"\",VLOOKUP(H64,Récapitulatif!$B$14:$E$24,2,FALSE)),\"\")","v":""},0,6.5]
[2022,"2022-03-04",{"$f":"IFERROR(IF(VLOOKUP($B65,Récapitulatif!$B$64:$E$68,2,FALSE)=0,\"\",VLOOKUP($B65,Récapitulatif!$B$64:$E$68,2,FALSE)),\"\")","v":""},0,-6.5,null,2022,"2022-03-04",{"$f":"IFERROR(IF(VLOOKUP($H65,Récapitulatif!$B$14:$E$24,2,FALSE)=0,\"\",VLOOKUP(H65,Récapitulatif!$B$14:$E$24,2,FALSE)),\"\")","v":""},0,6.5]
[2022,"2022-03-05",{"$f":"IFERROR(IF(VLOOKUP($B66,Récapitulatif!$B$64:$E$68,2,FALSE)=0,\"\",VLOOKUP($B66,Récapitulatif!$B$64:$E$68,2,FALSE)),\"\")","v":""},0,-6.5,null,2022,"2022-03-05",{"$f":"IFERROR(IF(VLOOKUP($H66,Récapitulatif!$B$14:$E$24,2,FALSE)=0,\"\",VLOOKUP(H66,Récapitulatif!$B$14:$E$24,2,FALSE)),\"\")","v":""},0,6.5]
[2022,"2022-03-06",{"$f":"IFERROR(IF(VLOOKUP($B67,Récapitulatif!$B$64:$E$68,2,FALSE)=0,\"\",VLOOKUP($B67,Récapitulatif!$B$64:$E$68,2,FALSE)),\"\")","v":""},0,-6.5,null,2022,"2022-03-06",{"$f":"IFERROR(IF(VLOOKUP($H67,Récapitulatif!$B$14:$E$24,2,FALSE)=0,\"\",VLOOKUP(H67,Récapitulatif!$B$14:$E$24,2,FALSE)),\"\")","v":""},0,6.5]
[2022,"2022-03-07",{"$f":"IFERROR(IF(VLOOKUP($B68,Récapitulatif!$B$64:$E$68,2,FALSE)=0,\"\",VLOOKUP($B68,Récapitulatif!$B$64:$E$68,2,FALSE)),\"\")","v":""},{"$f":"IF($C68=\"\",0,$E68)","v":0},-6.5,null,2022,"2022-03-07",{"$f":"IFERROR(IF(VLOOKUP($H68,Récapitulatif!$B$14:$E$24,2,FALSE)=0,\"\",VLOOKUP(H68,Récapitulatif!$B$14:$E$24,2,FALSE)),\"\")","v":""},{"$f":"IF($I68=\"\",0,$K68)","v":0},6.5]
[{"$f":"YEAR(B69)","v":2022},{"$f":"B68+1","v":"2022-03-08"},{"$f":"IFERROR(IF(VLOOKUP($B69,Récapitulatif!$B$64:$E$68,2,FALSE)=0,\"\",VLOOKUP($B69,Récapitulatif!$B$64:$E$68,2,FALSE)),\"\")","v":""},0,-6.5,null,{"$f":"YEAR(H69)","v":2022},{"$f":"H68+1","v":"2022-03-08"},{"$f":"IFERROR(IF(VLOOKUP($H69,Récapitulatif!$B$14:$E$24,2,FALSE)=0,\"\",VLOOKUP(H69,Récapitulatif!$B$14:$E$24,2,FALSE)),\"\")","v":""},0,6.5]
[2022,"2022-03-09",{"$f":"IFERROR(IF(VLOOKUP($B70,Récapitulatif!$B$64:$E$68,2,FALSE)=0,\"\",VLOOKUP($B70,Récapitulatif!$B$64:$E$68,2,FALSE)),\"\")","v":""},0,-6.5,null,2022,"2022-03-09",{"$f":"IFERROR(IF(VLOOKUP($H70,Récapitulatif!$B$14:$E$24,2,FALSE)=0,\"\",VLOOKUP(H70,Récapitulatif!$B$14:$E$24,2,FALSE)),\"\")","v":""},0,6.5]
[2022,"2022-03-10",{"$f":"IFERROR(IF(VLOOKUP($B71,Récapitulatif!$B$64:$E$68,2,FALSE)=0,\"\",VLOOKUP($B71,Récapitulatif!$B$64:$E$68,2,FALSE)),\"\")","v":""},0,-6.5,null,2022,"2022-03-10",{"$f":"IFERROR(IF(VLOOKUP($H71,Récapitulatif!$B$14:$E$24,2,FALSE)=0,\"\",VLOOKUP(H71,Récapitulatif!$B$14:$E$24,2,FALSE)),\"\")","v":""},0,6.5]
[2022,"2022-03-11",{"$f":"IFERROR(IF(VLOOKUP($B72,Récapitulatif!$B$64:$E$68,2,FALSE)=0,\"\",VLOOKUP($B72,Récapitulatif!$B$64:$E$68,2,FALSE)),\"\")","v":""},0,-6.5,null,2022,"2022-03-11",{"$f":"IFERROR(IF(VLOOKUP($H72,Récapitulatif!$B$14:$E$24,2,FALSE)=0,\"\",VLOOKUP(H72,Récapitulatif!$B$14:$E$24,2,FALSE)),\"\")","v":""},0,6.5]
[2022,"2022-03-12",{"$f":"IFERROR(IF(VLOOKUP($B73,Récapitulatif!$B$64:$E$68,2,FALSE)=0,\"\",VLOOKUP($B73,Récapitulatif!$B$64:$E$68,2,FALSE)),\"\")","v":""},0,-6.5,null,2022,"2022-03-12",{"$f":"IFERROR(IF(VLOOKUP($H73,Récapitulatif!$B$14:$E$24,2,FALSE)=0,\"\",VLOOKUP(H73,Récapitulatif!$B$14:$E$24,2,FALSE)),\"\")","v":""},0,6.5]
[2022,"2022-03-13",{"$f":"IFERROR(IF(VLOOKUP($B74,Récapitulatif!$B$64:$E$68,2,FALSE)=0,\"\",VLOOKUP($B74,Récapitulatif!$B$64:$E$68,2,FALSE)),\"\")","v":""},0,-6.5,null,2022,"2022-03-13",{"$f":"IFERROR(IF(VLOOKUP($H74,Récapitulatif!$B$14:$E$24,2,FALSE)=0,\"\",VLOOKUP(H74,Récapitulatif!$B$14:$E$24,2,FALSE)),\"\")","v":""},0,6.5]
[2022,"2022-03-14",{"$f":"IFERROR(IF(VLOOKUP($B75,Récapitulatif!$B$64:$E$68,2,FALSE)=0,\"\",VLOOKUP($B75,Récapitulatif!$B$64:$E$68,2,FALSE)),\"\")","v":""},0,-6.5,null,2022,"2022-03-14",{"$f":"IFERROR(IF(VLOOKUP($H75,Récapitulatif!$B$14:$E$24,2,FALSE)=0,\"\",VLOOKUP(H75,Récapitulatif!$B$14:$E$24,2,FALSE)),\"\")","v":""},0,6.5]
[2022,"2022-03-15",{"$f":"IFERROR(IF(VLOOKUP($B76,Récapitulatif!$B$64:$E$68,2,FALSE)=0,\"\",VLOOKUP($B76,Récapitulatif!$B$64:$E$68,2,FALSE)),\"\")","v":""},0,-6.5,null,2022,"2022-03-15",{"$f":"IFERROR(IF(VLOOKUP($H76,Récapitulatif!$B$14:$E$24,2,FALSE)=0,\"\",VLOOKUP(H76,Récapitulatif!$B$14:$E$24,2,FALSE)),\"\")","v":""},0,6.5]
[2022,"2022-03-16",{"$f":"IFERROR(IF(VLOOKUP($B77,Récapitulatif!$B$64:$E$68,2,FALSE)=0,\"\",VLOOKUP($B77,Récapitulatif!$B$64:$E$68,2,FALSE)),\"\")","v":""},0,-6.5,null,2022,"2022-03-16",{"$f":"IFERROR(IF(VLOOKUP($H77,Récapitulatif!$B$14:$E$24,2,FALSE)=0,\"\",VLOOKUP(H77,Récapitulatif!$B$14:$E$24,2,FALSE)),\"\")","v":""},0,6.5]
[2022,"2022-03-17",{"$f":"IFERROR(IF(VLOOKUP($B78,Récapitulatif!$B$64:$E$68,2,FALSE)=0,\"\",VLOOKUP($B78,Récapitulatif!$B$64:$E$68,2,FALSE)),\"\")","v":""},0,-6.5,null,2022,"2022-03-17",{"$f":"IFERROR(IF(VLOOKUP($H78,Récapitulatif!$B$14:$E$24,2,FALSE)=0,\"\",VLOOKUP(H78,Récapitulatif!$B$14:$E$24,2,FALSE)),\"\")","v":""},0,6.5]
[2022,"2022-03-18",{"$f":"IFERROR(IF(VLOOKUP($B79,Récapitulatif!$B$64:$E$68,2,FALSE)=0,\"\",VLOOKUP($B79,Récapitulatif!$B$64:$E$68,2,FALSE)),\"\")","v":""},0,-6.5,null,2022,"2022-03-18",{"$f":"IFERROR(IF(VLOOKUP($H79,Récapitulatif!$B$14:$E$24,2,FALSE)=0,\"\",VLOOKUP(H79,Récapitulatif!$B$14:$E$24,2,FALSE)),\"\")","v":""},0,6.5]
[2022,"2022-03-19",{"$f":"IFERROR(IF(VLOOKUP($B80,Récapitulatif!$B$64:$E$68,2,FALSE)=0,\"\",VLOOKUP($B80,Récapitulatif!$B$64:$E$68,2,FALSE)),\"\")","v":""},0,-6.5,null,2022,"2022-03-19",{"$f":"IFERROR(IF(VLOOKUP($H80,Récapitulatif!$B$14:$E$24,2,FALSE)=0,\"\",VLOOKUP(H80,Récapitulatif!$B$14:$E$24,2,FALSE)),\"\")","v":""},0,6.5]
[2022,"2022-03-20",{"$f":"IFERROR(IF(VLOOKUP($B81,Récapitulatif!$B$64:$E$68,2,FALSE)=0,\"\",VLOOKUP($B81,Récapitulatif!$B$64:$E$68,2,FALSE)),\"\")","v":""},0,-6.5,null,2022,"2022-03-20",{"$f":"IFERROR(IF(VLOOKUP($H81,Récapitulatif!$B$14:$E$24,2,FALSE)=0,\"\",VLOOKUP(H81,Récapitulatif!$B$14:$E$24,2,FALSE)),\"\")","v":""},0,6.5]
[2022,"2022-03-21",{"$f":"IFERROR(IF(VLOOKUP($B82,Récapitulatif!$B$64:$E$68,2,FALSE)=0,\"\",VLOOKUP($B82,Récapitulatif!$B$64:$E$68,2,FALSE)),\"\")","v":""},0,-6.5,null,2022,"2022-03-21",{"$f":"IFERROR(IF(VLOOKUP($H82,Récapitulatif!$B$14:$E$24,2,FALSE)=0,\"\",VLOOKUP(H82,Récapitulatif!$B$14:$E$24,2,FALSE)),\"\")","v":""},0,6.5]
[2022,"2022-03-22",{"$f":"IFERROR(IF(VLOOKUP($B83,Récapitulatif!$B$64:$E$68,2,FALSE)=0,\"\",VLOOKUP($B83,Récapitulatif!$B$64:$E$68,2,FALSE)),\"\")","v":""},0,-6.5,null,2022,"2022-03-22",{"$f":"IFERROR(IF(VLOOKUP($H83,Récapitulatif!$B$14:$E$24,2,FALSE)=0,\"\",VLOOKUP(H83,Récapitulatif!$B$14:$E$24,2,FALSE)),\"\")","v":""},0,6.5]
[2022,"2022-03-23",{"$f":"IFERROR(IF(VLOOKUP($B84,Récapitulatif!$B$64:$E$68,2,FALSE)=0,\"\",VLOOKUP($B84,Récapitulatif!$B$64:$E$68,2,FALSE)),\"\")","v":""},0,-6.5,null,2022,"2022-03-23",{"$f":"IFERROR(IF(VLOOKUP($H84,Récapitulatif!$B$14:$E$24,2,FALSE)=0,\"\",VLOOKUP(H84,Récapitulatif!$B$14:$E$24,2,FALSE)),\"\")","v":""},0,6.5]
[2022,"2022-03-24",{"$f":"IFERROR(IF(VLOOKUP($B85,Récapitulatif!$B$64:$E$68,2,FALSE)=0,\"\",VLOOKUP($B85,Récapitulatif!$B$64:$E$68,2,FALSE)),\"\")","v":""},0,-6.5,null,2022,"2022-03-24",{"$f":"IFERROR(IF(VLOOKUP($H85,Récapitulatif!$B$14:$E$24,2,FALSE)=0,\"\",VLOOKUP(H85,Récapitulatif!$B$14:$E$24,2,FALSE)),\"\")","v":""},0,6.5]
[2022,"2022-03-25",{"$f":"IFERROR(IF(VLOOKUP($B86,Récapitulatif!$B$64:$E$68,2,FALSE)=0,\"\",VLOOKUP($B86,Récapitulatif!$B$64:$E$68,2,FALSE)),\"\")","v":""},0,-6.5,null,2022,"2022-03-25",{"$f":"IFERROR(IF(VLOOKUP($H86,Récapitulatif!$B$14:$E$24,2,FALSE)=0,\"\",VLOOKUP(H86,Récapitulatif!$B$14:$E$24,2,FALSE)),\"\")","v":""},0,6.5]
[2022,"2022-03-26",{"$f":"IFERROR(IF(VLOOKUP($B87,Récapitulatif!$B$64:$E$68,2,FALSE)=0,\"\",VLOOKUP($B87,Récapitulatif!$B$64:$E$68,2,FALSE)),\"\")","v":""},0,-6.5,null,2022,"2022-03-26",{"$f":"IFERROR(IF(VLOOKUP($H87,Récapitulatif!$B$14:$E$24,2,FALSE)=0,\"\",VLOOKUP(H87,Récapitulatif!$B$14:$E$24,2,FALSE)),\"\")","v":""},0,6.5]
[2022,"2022-03-27",{"$f":"IFERROR(IF(VLOOKUP($B88,Récapitulatif!$B$64:$E$68,2,FALSE)=0,\"\",VLOOKUP($B88,Récapitulatif!$B$64:$E$68,2,FALSE)),\"\")","v":""},0,-6.5,null,2022,"2022-03-27",{"$f":"IFERROR(IF(VLOOKUP($H88,Récapitulatif!$B$14:$E$24,2,FALSE)=0,\"\",VLOOKUP(H88,Récapitulatif!$B$14:$E$24,2,FALSE)),\"\")","v":""},0,6.5]
[2022,"2022-03-28",{"$f":"IFERROR(IF(VLOOKUP($B89,Récapitulatif!$B$64:$E$68,2,FALSE)=0,\"\",VLOOKUP($B89,Récapitulatif!$B$64:$E$68,2,FALSE)),\"\")","v":""},0,-6.5,null,2022,"2022-03-28",{"$f":"IFERROR(IF(VLOOKUP($H89,Récapitulatif!$B$14:$E$24,2,FALSE)=0,\"\",VLOOKUP(H89,Récapitulatif!$B$14:$E$24,2,FALSE)),\"\")","v":""},0,6.5]
[2022,"2022-03-29",{"$f":"IFERROR(IF(VLOOKUP($B90,Récapitulatif!$B$64:$E$68,2,FALSE)=0,\"\",VLOOKUP($B90,Récapitulatif!$B$64:$E$68,2,FALSE)),\"\")","v":""},0,-6.5,null,2022,"2022-03-29",{"$f":"IFERROR(IF(VLOOKUP($H90,Récapitulatif!$B$14:$E$24,2,FALSE)=0,\"\",VLOOKUP(H90,Récapitulatif!$B$14:$E$24,2,FALSE)),\"\")","v":""},0,6.5]
[2022,"2022-03-30",{"$f":"IFERROR(IF(VLOOKUP($B91,Récapitulatif!$B$64:$E$68,2,FALSE)=0,\"\",VLOOKUP($B91,Récapitulatif!$B$64:$E$68,2,FALSE)),\"\")","v":""},0,-6.5,null,2022,"2022-03-30",{"$f":"IFERROR(IF(VLOOKUP($H91,Récapitulatif!$B$14:$E$24,2,FALSE)=0,\"\",VLOOKUP(H91,Récapitulatif!$B$14:$E$24,2,FALSE)),\"\")","v":""},0,6.5]
[2022,"2022-03-31",{"$f":"IFERROR(IF(VLOOKUP($B92,Récapitulatif!$B$64:$E$68,2,FALSE)=0,\"\",VLOOKUP($B92,Récapitulatif!$B$64:$E$68,2,FALSE)),\"\")","v":""},0,-6.5,null,2022,"2022-03-31",{"$f":"IFERROR(IF(VLOOKUP($H92,Récapitulatif!$B$14:$E$24,2,FALSE)=0,\"\",VLOOKUP(H92,Récapitulatif!$B$14:$E$24,2,FALSE)),\"\")","v":""},0,6.5]
[2022,"2022-04-01",{"$f":"IFERROR(IF(VLOOKUP($B93,Récapitulatif!$B$64:$E$68,2,FALSE)=0,\"\",VLOOKUP($B93,Récapitulatif!$B$64:$E$68,2,FALSE)),\"\")","v":""},0,-9.5,null,2022,"2022-04-01",{"$f":"IFERROR(IF(VLOOKUP($H93,Récapitulatif!$B$14:$E$24,2,FALSE)=0,\"\",VLOOKUP(H93,Récapitulatif!$B$14:$E$24,2,FALSE)),\"\")","v":""},0,9.5]
[2022,"2022-04-02",{"$f":"IFERROR(IF(VLOOKUP($B94,Récapitulatif!$B$64:$E$68,2,FALSE)=0,\"\",VLOOKUP($B94,Récapitulatif!$B$64:$E$68,2,FALSE)),\"\")","v":""},0,-9.5,null,2022,"2022-04-02",{"$f":"IFERROR(IF(VLOOKUP($H94,Récapitulatif!$B$14:$E$24,2,FALSE)=0,\"\",VLOOKUP(H94,Récapitulatif!$B$14:$E$24,2,FALSE)),\"\")","v":""},0,9.5]
[2022,"2022-04-03",{"$f":"IFERROR(IF(VLOOKUP($B95,Récapitulatif!$B$64:$E$68,2,FALSE)=0,\"\",VLOOKUP($B95,Récapitulatif!$B$64:$E$68,2,FALSE)),\"\")","v":""},0,-9.5,null,2022,"2022-04-03",{"$f":"IFERROR(IF(VLOOKUP($H95,Récapitulatif!$B$14:$E$24,2,FALSE)=0,\"\",VLOOKUP(H95,Récapitulatif!$B$14:$E$24,2,FALSE)),\"\")","v":""},0,9.5]
[2022,"2022-04-04",{"$f":"IFERROR(IF(VLOOKUP($B96,Récapitulatif!$B$64:$E$68,2,FALSE)=0,\"\",VLOOKUP($B96,Récapitulatif!$B$64:$E$68,2,FALSE)),\"\")","v":""},0,-9.5,null,2022,"2022-04-04",{"$f":"IFERROR(IF(VLOOKUP($H96,Récapitulatif!$B$14:$E$24,2,FALSE)=0,\"\",VLOOKUP(H96,Récapitulatif!$B$14:$E$24,2,FALSE)),\"\")","v":""},0,9.5]
[2022,"2022-04-05",{"$f":"IFERROR(IF(VLOOKUP($B97,Récapitulatif!$B$64:$E$68,2,FALSE)=0,\"\",VLOOKUP($B97,Récapitulatif!$B$64:$E$68,2,FALSE)),\"\")","v":""},0,-9.5,null,2022,"2022-04-05",{"$f":"IFERROR(IF(VLOOKUP($H97,Récapitulatif!$B$14:$E$24,2,FALSE)=0,\"\",VLOOKUP(H97,Récapitulatif!$B$14:$E$24,2,FALSE)),\"\")","v":""},0,9.5]
[2022,"2022-04-06",{"$f":"IFERROR(IF(VLOOKUP($B98,Récapitulatif!$B$64:$E$68,2,FALSE)=0,\"\",VLOOKUP($B98,Récapitulatif!$B$64:$E$68,2,FALSE)),\"\")","v":""},0,-9.5,null,2022,"2022-04-06",{"$f":"IFERROR(IF(VLOOKUP($H98,Récapitulatif!$B$14:$E$24,2,FALSE)=0,\"\",VLOOKUP(H98,Récapitulatif!$B$14:$E$24,2,FALSE)),\"\")","v":""},0,9.5]
[2022,"2022-04-07",{"$f":"IFERROR(IF(VLOOKUP($B99,Récapitulatif!$B$64:$E$68,2,FALSE)=0,\"\",VLOOKUP($B99,Récapitulatif!$B$64:$E$68,2,FALSE)),\"\")","v":""},0,-9.5,null,2022,"2022-04-07",{"$f":"IFERROR(IF(VLOOKUP($H99,Récapitulatif!$B$14:$E$24,2,FALSE)=0,\"\",VLOOKUP(H99,Récapitulatif!$B$14:$E$24,2,FALSE)),\"\")","v":""},0,9.5]
[2022,"2022-04-08",{"$f":"IFERROR(IF(VLOOKUP($B100,Récapitulatif!$B$64:$E$68,2,FALSE)=0,\"\",VLOOKUP($B100,Récapitulatif!$B$64:$E$68,2,FALSE)),\"\")","v":""},0,-9.5,null,2022,"2022-04-08",{"$f":"IFERROR(IF(VLOOKUP($H100,Récapitulatif!$B$14:$E$24,2,FALSE)=0,\"\",VLOOKUP(H100,Récapitulatif!$B$14:$E$24,2,FALSE)),\"\")","v":""},0,9.5]
[2022,"2022-04-09",{"$f":"IFERROR(IF(VLOOKUP($B101,Récapitulatif!$B$64:$E$68,2,FALSE)=0,\"\",VLOOKUP($B101,Récapitulatif!$B$64:$E$68,2,FALSE)),\"\")","v":""},0,-9.5,null,2022,"2022-04-09",{"$f":"IFERROR(IF(VLOOKUP($H101,Récapitulatif!$B$14:$E$24,2,FALSE)=0,\"\",VLOOKUP(H101,Récapitulatif!$B$14:$E$24,2,FALSE)),\"\")","v":""},0,9.5]
[2022,"2022-04-10",{"$f":"IFERROR(IF(VLOOKUP($B102,Récapitulatif!$B$64:$E$68,2,FALSE)=0,\"\",VLOOKUP($B102,Récapitulatif!$B$64:$E$68,2,FALSE)),\"\")","v":""},0,-9.5,null,2022,"2022-04-10",{"$f":"IFERROR(IF(VLOOKUP($H102,Récapitulatif!$B$14:$E$24,2,FALSE)=0,\"\",VLOOKUP(H102,Récapitulatif!$B$14:$E$24,2,FALSE)),\"\")","v":""},0,9.5]
[2022,"2022-04-11",{"$f":"IFERROR(IF(VLOOKUP($B103,Récapitulatif!$B$64:$E$68,2,FALSE)=0,\"\",VLOOKUP($B103,Récapitulatif!$B$64:$E$68,2,FALSE)),\"\")","v":""},0,-9.5,null,2022,"2022-04-11",{"$f":"IFERROR(IF(VLOOKUP($H103,Récapitulatif!$B$14:$E$24,2,FALSE)=0,\"\",VLOOKUP(H103,Récapitulatif!$B$14:$E$24,2,FALSE)),\"\")","v":""},0,9.5]
[2022,"2022-04-12",{"$f":"IFERROR(IF(VLOOKUP($B104,Récapitulatif!$B$64:$E$68,2,FALSE)=0,\"\",VLOOKUP($B104,Récapitulatif!$B$64:$E$68,2,FALSE)),\"\")","v":""},0,-9.5,null,2022,"2022-04-12",{"$f":"IFERROR(IF(VLOOKUP($H104,Récapitulatif!$B$14:$E$24,2,FALSE)=0,\"\",VLOOKUP(H104,Récapitulatif!$B$14:$E$24,2,FALSE)),\"\")","v":""},0,9.5]
[2022,"2022-04-13",{"$f":"IFERROR(IF(VLOOKUP($B105,Récapitulatif!$B$64:$E$68,2,FALSE)=0,\"\",VLOOKUP($B105,Récapitulatif!$B$64:$E$68,2,FALSE)),\"\")","v":""},0,-9.5,null,2022,"2022-04-13",{"$f":"IFERROR(IF(VLOOKUP($H105,Récapitulatif!$B$14:$E$24,2,FALSE)=0,\"\",VLOOKUP(H105,Récapitulatif!$B$14:$E$24,2,FALSE)),\"\")","v":""},0,9.5]
[2022,"2022-04-14",{"$f":"IFERROR(IF(VLOOKUP($B106,Récapitulatif!$B$64:$E$68,2,FALSE)=0,\"\",VLOOKUP($B106,Récapitulatif!$B$64:$E$68,2,FALSE)),\"\")","v":""},0,-9.5,null,2022,"2022-04-14",{"$f":"IFERROR(IF(VLOOKUP($H106,Récapitulatif!$B$14:$E$24,2,FALSE)=0,\"\",VLOOKUP(H106,Récapitulatif!$B$14:$E$24,2,FALSE)),\"\")","v":""},0,9.5]
[2022,"2022-04-15",{"$f":"IFERROR(IF(VLOOKUP($B107,Récapitulatif!$B$64:$E$68,2,FALSE)=0,\"\",VLOOKUP($B107,Récapitulatif!$B$64:$E$68,2,FALSE)),\"\")","v":""},0,-9.5,null,2022,"2022-04-15",{"$f":"IFERROR(IF(VLOOKUP($H107,Récapitulatif!$B$14:$E$24,2,FALSE)=0,\"\",VLOOKUP(H107,Récapitulatif!$B$14:$E$24,2,FALSE)),\"\")","v":""},0,9.5]
[2022,"2022-04-16",{"$f":"IFERROR(IF(VLOOKUP($B108,Récapitulatif!$B$64:$E$68,2,FALSE)=0,\"\",VLOOKUP($B108,Récapitulatif!$B$64:$E$68,2,FALSE)),\"\")","v":""},0,-9.5,null,2022,"2022-04-16",{"$f":"IFERROR(IF(VLOOKUP($H108,Récapitulatif!$B$14:$E$24,2,FALSE)=0,\"\",VLOOKUP(H108,Récapitulatif!$B$14:$E$24,2,FALSE)),\"\")","v":""},0,9.5]
[2022,"2022-04-17",{"$f":"IFERROR(IF(VLOOKUP($B109,Récapitulatif!$B$64:$E$68,2,FALSE)=0,\"\",VLOOKUP($B109,Récapitulatif!$B$64:$E$68,2,FALSE)),\"\")","v":""},0,-9.5,null,2022,"2022-04-17",{"$f":"IFERROR(IF(VLOOKUP($H109,Récapitulatif!$B$14:$E$24,2,FALSE)=0,\"\",VLOOKUP(H109,Récapitulatif!$B$14:$E$24,2,FALSE)),\"\")","v":""},0,9.5]
[2022,"2022-04-18",{"$f":"IFERROR(IF(VLOOKUP($B110,Récapitulatif!$B$64:$E$68,2,FALSE)=0,\"\",VLOOKUP($B110,Récapitulatif!$B$64:$E$68,2,FALSE)),\"\")","v":""},0,-9.5,null,2022,"2022-04-18",{"$f":"IFERROR(IF(VLOOKUP($H110,Récapitulatif!$B$14:$E$24,2,FALSE)=0,\"\",VLOOKUP(H110,Récapitulatif!$B$14:$E$24,2,FALSE)),\"\")","v":""},0,9.5]
[2022,"2022-04-19",{"$f":"IFERROR(IF(VLOOKUP($B111,Récapitulatif!$B$64:$E$68,2,FALSE)=0,\"\",VLOOKUP($B111,Récapitulatif!$B$64:$E$68,2,FALSE)),\"\")","v":""},0,-9.5,null,2022,"2022-04-19",{"$f":"IFERROR(IF(VLOOKUP($H111,Récapitulatif!$B$14:$E$24,2,FALSE)=0,\"\",VLOOKUP(H111,Récapitulatif!$B$14:$E$24,2,FALSE)),\"\")","v":""},0,9.5]
[2022,"2022-04-20",{"$f":"IFERROR(IF(VLOOKUP($B112,Récapitulatif!$B$64:$E$68,2,FALSE)=0,\"\",VLOOKUP($B112,Récapitulatif!$B$64:$E$68,2,FALSE)),\"\")","v":""},0,-9.5,null,2022,"2022-04-20",{"$f":"IFERROR(IF(VLOOKUP($H112,Récapitulatif!$B$14:$E$24,2,FALSE)=0,\"\",VLOOKUP(H112,Récapitulatif!$B$14:$E$24,2,FALSE)),\"\")","v":""},0,9.5]
[2022,"2022-04-21",{"$f":"IFERROR(IF(VLOOKUP($B113,Récapitulatif!$B$64:$E$68,2,FALSE)=0,\"\",VLOOKUP($B113,Récapitulatif!$B$64:$E$68,2,FALSE)),\"\")","v":""},0,-9.5,null,2022,"2022-04-21",{"$f":"IFERROR(IF(VLOOKUP($H113,Récapitulatif!$B$14:$E$24,2,FALSE)=0,\"\",VLOOKUP(H113,Récapitulatif!$B$14:$E$24,2,FALSE)),\"\")","v":""},0,9.5]
[2022,"2022-04-22",{"$f":"IFERROR(IF(VLOOKUP($B114,Récapitulatif!$B$64:$E$68,2,FALSE)=0,\"\",VLOOKUP($B114,Récapitulatif!$B$64:$E$68,2,FALSE)),\"\")","v":""},0,-9.5,null,2022,"2022-04-22",{"$f":"IFERROR(IF(VLOOKUP($H114,Récapitulatif!$B$14:$E$24,2,FALSE)=0,\"\",VLOOKUP(H114,Récapitulatif!$B$14:$E$24,2,FALSE)),\"\")","v":""},0,9.5]
[2022,"2022-04-23",{"$f":"IFERROR(IF(VLOOKUP($B115,Récapitulatif!$B$64:$E$68,2,FALSE)=0,\"\",VLOOKUP($B115,Récapitulatif!$B$64:$E$68,2,FALSE)),\"\")","v":""},0,-9.5,null,2022,"2022-04-23",{"$f":"IFERROR(IF(VLOOKUP($H115,Récapitulatif!$B$14:$E$24,2,FALSE)=0,\"\",VLOOKUP(H115,Récapitulatif!$B$14:$E$24,2,FALSE)),\"\")","v":""},0,9.5]
[2022,"2022-04-24",{"$f":"IFERROR(IF(VLOOKUP($B116,Récapitulatif!$B$64:$E$68,2,FALSE)=0,\"\",VLOOKUP($B116,Récapitulatif!$B$64:$E$68,2,FALSE)),\"\")","v":""},0,-9.5,null,2022,"2022-04-24",{"$f":"IFERROR(IF(VLOOKUP($H116,Récapitulatif!$B$14:$E$24,2,FALSE)=0,\"\",VLOOKUP(H116,Récapitulatif!$B$14:$E$24,2,FALSE)),\"\")","v":""},0,9.5]
[2022,"2022-04-25",{"$f":"IFERROR(IF(VLOOKUP($B117,Récapitulatif!$B$64:$E$68,2,FALSE)=0,\"\",VLOOKUP($B117,Récapitulatif!$B$64:$E$68,2,FALSE)),\"\")","v":""},0,-9.5,null,2022,"2022-04-25",{"$f":"IFERROR(IF(VLOOKUP($H117,Récapitulatif!$B$14:$E$24,2,FALSE)=0,\"\",VLOOKUP(H117,Récapitulatif!$B$14:$E$24,2,FALSE)),\"\")","v":""},0,9.5]
[2022,"2022-04-26",{"$f":"IFERROR(IF(VLOOKUP($B118,Récapitulatif!$B$64:$E$68,2,FALSE)=0,\"\",VLOOKUP($B118,Récapitulatif!$B$64:$E$68,2,FALSE)),\"\")","v":""},0,-9.5,null,2022,"2022-04-26",{"$f":"IFERROR(IF(VLOOKUP($H118,Récapitulatif!$B$14:$E$24,2,FALSE)=0,\"\",VLOOKUP(H118,Récapitulatif!$B$14:$E$24,2,FALSE)),\"\")","v":""},0,9.5]
[2022,"2022-04-27",{"$f":"IFERROR(IF(VLOOKUP($B119,Récapitulatif!$B$64:$E$68,2,FALSE)=0,\"\",VLOOKUP($B119,Récapitulatif!$B$64:$E$68,2,FALSE)),\"\")","v":""},0,-9.5,null,2022,"2022-04-27",{"$f":"IFERROR(IF(VLOOKUP($H119,Récapitulatif!$B$14:$E$24,2,FALSE)=0,\"\",VLOOKUP(H119,Récapitulatif!$B$14:$E$24,2,FALSE)),\"\")","v":""},0,9.5]
[2022,"2022-04-28",{"$f":"IFERROR(IF(VLOOKUP($B120,Récapitulatif!$B$64:$E$68,2,FALSE)=0,\"\",VLOOKUP($B120,Récapitulatif!$B$64:$E$68,2,FALSE)),\"\")","v":""},0,-9.5,null,2022,"2022-04-28",{"$f":"IFERROR(IF(VLOOKUP($H120,Récapitulatif!$B$14:$E$24,2,FALSE)=0,\"\",VLOOKUP(H120,Récapitulatif!$B$14:$E$24,2,FALSE)),\"\")","v":""},0,9.5]
[2022,"2022-04-29",{"$f":"IFERROR(IF(VLOOKUP($B121,Récapitulatif!$B$64:$E$68,2,FALSE)=0,\"\",VLOOKUP($B121,Récapitulatif!$B$64:$E$68,2,FALSE)),\"\")","v":""},0,-9.5,null,2022,"2022-04-29",{"$f":"IFERROR(IF(VLOOKUP($H121,Récapitulatif!$B$14:$E$24,2,FALSE)=0,\"\",VLOOKUP(H121,Récapitulatif!$B$14:$E$24,2,FALSE)),\"\")","v":""},0,9.5]
[2022,"2022-04-30",{"$f":"IFERROR(IF(VLOOKUP($B122,Récapitulatif!$B$64:$E$68,2,FALSE)=0,\"\",VLOOKUP($B122,Récapitulatif!$B$64:$E$68,2,FALSE)),\"\")","v":""},0,-9.5,null,2022,"2022-04-30",{"$f":"IFERROR(IF(VLOOKUP($H122,Récapitulatif!$B$14:$E$24,2,FALSE)=0,\"\",VLOOKUP(H122,Récapitulatif!$B$14:$E$24,2,FALSE)),\"\")","v":""},0,9.5]
[2022,"2022-05-01",{"$f":"IFERROR(IF(VLOOKUP($B123,Récapitulatif!$B$64:$E$68,2,FALSE)=0,\"\",VLOOKUP($B123,Récapitulatif!$B$64:$E$68,2,FALSE)),\"\")","v":""},0,-11.5,null,2022,"2022-05-01",{"$f":"IFERROR(IF(VLOOKUP($H123,Récapitulatif!$B$14:$E$24,2,FALSE)=0,\"\",VLOOKUP(H123,Récapitulatif!$B$14:$E$24,2,FALSE)),\"\")","v":""},0,11.5]
[2022,"2022-05-02",{"$f":"IFERROR(IF(VLOOKUP($B124,Récapitulatif!$B$64:$E$68,2,FALSE)=0,\"\",VLOOKUP($B124,Récapitulatif!$B$64:$E$68,2,FALSE)),\"\")","v":""},0,-11.5,null,2022,"2022-05-02",{"$f":"IFERROR(IF(VLOOKUP($H124,Récapitulatif!$B$14:$E$24,2,FALSE)=0,\"\",VLOOKUP(H124,Récapitulatif!$B$14:$E$24,2,FALSE)),\"\")","v":""},0,11.5]
[2022,"2022-05-03",{"$f":"IFERROR(IF(VLOOKUP($B125,Récapitulatif!$B$64:$E$68,2,FALSE)=0,\"\",VLOOKUP($B125,Récapitulatif!$B$64:$E$68,2,FALSE)),\"\")","v":""},0,-11.5,null,2022,"2022-05-03",{"$f":"IFERROR(IF(VLOOKUP($H125,Récapitulatif!$B$14:$E$24,2,FALSE)=0,\"\",VLOOKUP(H125,Récapitulatif!$B$14:$E$24,2,FALSE)),\"\")","v":""},0,11.5]
[2022,"2022-05-04",{"$f":"IFERROR(IF(VLOOKUP($B126,Récapitulatif!$B$64:$E$68,2,FALSE)=0,\"\",VLOOKUP($B126,Récapitulatif!$B$64:$E$68,2,FALSE)),\"\")","v":""},0,-11.5,null,2022,"2022-05-04",{"$f":"IFERROR(IF(VLOOKUP($H126,Récapitulatif!$B$14:$E$24,2,FALSE)=0,\"\",VLOOKUP(H126,Récapitulatif!$B$14:$E$24,2,FALSE)),\"\")","v":""},0,11.5]
[2022,"2022-05-05",{"$f":"IFERROR(IF(VLOOKUP($B127,Récapitulatif!$B$64:$E$68,2,FALSE)=0,\"\",VLOOKUP($B127,Récapitulatif!$B$64:$E$68,2,FALSE)),\"\")","v":""},0,-11.5,null,2022,"2022-05-05",{"$f":"IFERROR(IF(VLOOKUP($H127,Récapitulatif!$B$14:$E$24,2,FALSE)=0,\"\",VLOOKUP(H127,Récapitulatif!$B$14:$E$24,2,FALSE)),\"\")","v":""},0,11.5]
[2022,"2022-05-06",{"$f":"IFERROR(IF(VLOOKUP($B128,Récapitulatif!$B$64:$E$68,2,FALSE)=0,\"\",VLOOKUP($B128,Récapitulatif!$B$64:$E$68,2,FALSE)),\"\")","v":""},0,-11.5,null,2022,"2022-05-06",{"$f":"IFERROR(IF(VLOOKUP($H128,Récapitulatif!$B$14:$E$24,2,FALSE)=0,\"\",VLOOKUP(H128,Récapitulatif!$B$14:$E$24,2,FALSE)),\"\")","v":""},0,11.5]
[2022,"2022-05-07",{"$f":"IFERROR(IF(VLOOKUP($B129,Récapitulatif!$B$64:$E$68,2,FALSE)=0,\"\",VLOOKUP($B129,Récapitulatif!$B$64:$E$68,2,FALSE)),\"\")","v":""},0,-11.5,null,2022,"2022-05-07",{"$f":"IFERROR(IF(VLOOKUP($H129,Récapitulatif!$B$14:$E$24,2,FALSE)=0,\"\",VLOOKUP(H129,Récapitulatif!$B$14:$E$24,2,FALSE)),\"\")","v":""},0,11.5]
[2022,"2022-05-08",{"$f":"IFERROR(IF(VLOOKUP($B130,Récapitulatif!$B$64:$E$68,2,FALSE)=0,\"\",VLOOKUP($B130,Récapitulatif!$B$64:$E$68,2,FALSE)),\"\")","v":""},0,-11.5,null,2022,"2022-05-08",{"$f":"IFERROR(IF(VLOOKUP($H130,Récapitulatif!$B$14:$E$24,2,FALSE)=0,\"\",VLOOKUP(H130,Récapitulatif!$B$14:$E$24,2,FALSE)),\"\")","v":""},0,11.5]
[2022,"2022-05-09",{"$f":"IFERROR(IF(VLOOKUP($B131,Récapitulatif!$B$64:$E$68,2,FALSE)=0,\"\",VLOOKUP($B131,Récapitulatif!$B$64:$E$68,2,FALSE)),\"\")","v":""},0,-11.5,null,2022,"2022-05-09",{"$f":"IFERROR(IF(VLOOKUP($H131,Récapitulatif!$B$14:$E$24,2,FALSE)=0,\"\",VLOOKUP(H131,Récapitulatif!$B$14:$E$24,2,FALSE)),\"\")","v":""},0,11.5]
[2022,"2022-05-10",{"$f":"IFERROR(IF(VLOOKUP($B132,Récapitulatif!$B$64:$E$68,2,FALSE)=0,\"\",VLOOKUP($B132,Récapitulatif!$B$64:$E$68,2,FALSE)),\"\")","v":""},{"$f":"IF($C132=\"\",0,$E132)","v":0},-11.5,null,2022,"2022-05-10",{"$f":"IFERROR(IF(VLOOKUP($H132,Récapitulatif!$B$14:$E$24,2,FALSE)=0,\"\",VLOOKUP(H132,Récapitulatif!$B$14:$E$24,2,FALSE)),\"\")","v":""},{"$f":"IF($I132=\"\",0,$K132)","v":0},11.5]
[{"$f":"YEAR(B133)","v":2022},{"$f":"B132+1","v":"2022-05-11"},{"$f":"IFERROR(IF(VLOOKUP($B133,Récapitulatif!$B$64:$E$68,2,FALSE)=0,\"\",VLOOKUP($B133,Récapitulatif!$B$64:$E$68,2,FALSE)),\"\")","v":""},0,-11.5,null,{"$f":"YEAR(H133)","v":2022},{"$f":"H132+1","v":"2022-05-11"},{"$f":"IFERROR(IF(VLOOKUP($H133,Récapitulatif!$B$14:$E$24,2,FALSE)=0,\"\",VLOOKUP(H133,Récapitulatif!$B$14:$E$24,2,FALSE)),\"\")","v":""},0,11.5]
[2022,"2022-05-12",{"$f":"IFERROR(IF(VLOOKUP($B134,Récapitulatif!$B$64:$E$68,2,FALSE)=0,\"\",VLOOKUP($B134,Récapitulatif!$B$64:$E$68,2,FALSE)),\"\")","v":""},0,-11.5,null,2022,"2022-05-12",{"$f":"IFERROR(IF(VLOOKUP($H134,Récapitulatif!$B$14:$E$24,2,FALSE)=0,\"\",VLOOKUP(H134,Récapitulatif!$B$14:$E$24,2,FALSE)),\"\")","v":""},0,11.5]
[2022,"2022-05-13",{"$f":"IFERROR(IF(VLOOKUP($B135,Récapitulatif!$B$64:$E$68,2,FALSE)=0,\"\",VLOOKUP($B135,Récapitulatif!$B$64:$E$68,2,FALSE)),\"\")","v":""},0,-11.5,null,2022,"2022-05-13",{"$f":"IFERROR(IF(VLOOKUP($H135,Récapitulatif!$B$14:$E$24,2,FALSE)=0,\"\",VLOOKUP(H135,Récapitulatif!$B$14:$E$24,2,FALSE)),\"\")","v":""},0,11.5]
[2022,"2022-05-14",{"$f":"IFERROR(IF(VLOOKUP($B136,Récapitulatif!$B$64:$E$68,2,FALSE)=0,\"\",VLOOKUP($B136,Récapitulatif!$B$64:$E$68,2,FALSE)),\"\")","v":""},0,-11.5,null,2022,"2022-05-14",{"$f":"IFERROR(IF(VLOOKUP($H136,Récapitulatif!$B$14:$E$24,2,FALSE)=0,\"\",VLOOKUP(H136,Récapitulatif!$B$14:$E$24,2,FALSE)),\"\")","v":""},0,11.5]
[2022,"2022-05-15",{"$f":"IFERROR(IF(VLOOKUP($B137,Récapitulatif!$B$64:$E$68,2,FALSE)=0,\"\",VLOOKUP($B137,Récapitulatif!$B$64:$E$68,2,FALSE)),\"\")","v":""},0,-11.5,null,2022,"2022-05-15",{"$f":"IFERROR(IF(VLOOKUP($H137,Récapitulatif!$B$14:$E$24,2,FALSE)=0,\"\",VLOOKUP(H137,Récapitulatif!$B$14:$E$24,2,FALSE)),\"\")","v":""},0,11.5]
[2022,"2022-05-16",{"$f":"IFERROR(IF(VLOOKUP($B138,Récapitulatif!$B$64:$E$68,2,FALSE)=0,\"\",VLOOKUP($B138,Récapitulatif!$B$64:$E$68,2,FALSE)),\"\")","v":""},0,-11.5,null,2022,"2022-05-16",{"$f":"IFERROR(IF(VLOOKUP($H138,Récapitulatif!$B$14:$E$24,2,FALSE)=0,\"\",VLOOKUP(H138,Récapitulatif!$B$14:$E$24,2,FALSE)),\"\")","v":""},0,11.5]
[2022,"2022-05-17",{"$f":"IFERROR(IF(VLOOKUP($B139,Récapitulatif!$B$64:$E$68,2,FALSE)=0,\"\",VLOOKUP($B139,Récapitulatif!$B$64:$E$68,2,FALSE)),\"\")","v":""},0,-11.5,null,2022,"2022-05-17",{"$f":"IFERROR(IF(VLOOKUP($H139,Récapitulatif!$B$14:$E$24,2,FALSE)=0,\"\",VLOOKUP(H139,Récapitulatif!$B$14:$E$24,2,FALSE)),\"\")","v":""},0,11.5]
[2022,"2022-05-18",{"$f":"IFERROR(IF(VLOOKUP($B140,Récapitulatif!$B$64:$E$68,2,FALSE)=0,\"\",VLOOKUP($B140,Récapitulatif!$B$64:$E$68,2,FALSE)),\"\")","v":""},0,-11.5,null,2022,"2022-05-18",{"$f":"IFERROR(IF(VLOOKUP($H140,Récapitulatif!$B$14:$E$24,2,FALSE)=0,\"\",VLOOKUP(H140,Récapitulatif!$B$14:$E$24,2,FALSE)),\"\")","v":""},0,11.5]
[2022,"2022-05-19",{"$f":"IFERROR(IF(VLOOKUP($B141,Récapitulatif!$B$64:$E$68,2,FALSE)=0,\"\",VLOOKUP($B141,Récapitulatif!$B$64:$E$68,2,FALSE)),\"\")","v":""},0,-11.5,null,2022,"2022-05-19",{"$f":"IFERROR(IF(VLOOKUP($H141,Récapitulatif!$B$14:$E$24,2,FALSE)=0,\"\",VLOOKUP(H141,Récapitulatif!$B$14:$E$24,2,FALSE)),\"\")","v":""},0,11.5]
[2022,"2022-05-20",{"$f":"IFERROR(IF(VLOOKUP($B142,Récapitulatif!$B$64:$E$68,2,FALSE)=0,\"\",VLOOKUP($B142,Récapitulatif!$B$64:$E$68,2,FALSE)),\"\")","v":""},0,-11.5,null,2022,"2022-05-20",{"$f":"IFERROR(IF(VLOOKUP($H142,Récapitulatif!$B$14:$E$24,2,FALSE)=0,\"\",VLOOKUP(H142,Récapitulatif!$B$14:$E$24,2,FALSE)),\"\")","v":""},0,11.5]
[2022,"2022-05-21",{"$f":"IFERROR(IF(VLOOKUP($B143,Récapitulatif!$B$64:$E$68,2,FALSE)=0,\"\",VLOOKUP($B143,Récapitulatif!$B$64:$E$68,2,FALSE)),\"\")","v":""},0,-11.5,null,2022,"2022-05-21",{"$f":"IFERROR(IF(VLOOKUP($H143,Récapitulatif!$B$14:$E$24,2,FALSE)=0,\"\",VLOOKUP(H143,Récapitulatif!$B$14:$E$24,2,FALSE)),\"\")","v":""},0,11.5]
[2022,"2022-05-22",{"$f":"IFERROR(IF(VLOOKUP($B144,Récapitulatif!$B$64:$E$68,2,FALSE)=0,\"\",VLOOKUP($B144,Récapitulatif!$B$64:$E$68,2,FALSE)),\"\")","v":""},0,-11.5,null,2022,"2022-05-22",{"$f":"IFERROR(IF(VLOOKUP($H144,Récapitulatif!$B$14:$E$24,2,FALSE)=0,\"\",VLOOKUP(H144,Récapitulatif!$B$14:$E$24,2,FALSE)),\"\")","v":""},0,11.5]
[2022,"2022-05-23",{"$f":"IFERROR(IF(VLOOKUP($B145,Récapitulatif!$B$64:$E$68,2,FALSE)=0,\"\",VLOOKUP($B145,Récapitulatif!$B$64:$E$68,2,FALSE)),\"\")","v":""},0,-11.5,null,2022,"2022-05-23",{"$f":"IFERROR(IF(VLOOKUP($H145,Récapitulatif!$B$14:$E$24,2,FALSE)=0,\"\",VLOOKUP(H145,Récapitulatif!$B$14:$E$24,2,FALSE)),\"\")","v":""},0,11.5]
[2022,"2022-05-24",{"$f":"IFERROR(IF(VLOOKUP($B146,Récapitulatif!$B$64:$E$68,2,FALSE)=0,\"\",VLOOKUP($B146,Récapitulatif!$B$64:$E$68,2,FALSE)),\"\")","v":""},0,-11.5,null,2022,"2022-05-24",{"$f":"IFERROR(IF(VLOOKUP($H146,Récapitulatif!$B$14:$E$24,2,FALSE)=0,\"\",VLOOKUP(H146,Récapitulatif!$B$14:$E$24,2,FALSE)),\"\")","v":""},0,11.5]
[2022,"2022-05-25",{"$f":"IFERROR(IF(VLOOKUP($B147,Récapitulatif!$B$64:$E$68,2,FALSE)=0,\"\",VLOOKUP($B147,Récapitulatif!$B$64:$E$68,2,FALSE)),\"\")","v":""},0,-11.5,null,2022,"2022-05-25",{"$f":"IFERROR(IF(VLOOKUP($H147,Récapitulatif!$B$14:$E$24,2,FALSE)=0,\"\",VLOOKUP(H147,Récapitulatif!$B$14:$E$24,2,FALSE)),\"\")","v":""},0,11.5]
[2022,"2022-05-26",{"$f":"IFERROR(IF(VLOOKUP($B148,Récapitulatif!$B$64:$E$68,2,FALSE)=0,\"\",VLOOKUP($B148,Récapitulatif!$B$64:$E$68,2,FALSE)),\"\")","v":""},0,-11.5,null,2022,"2022-05-26",{"$f":"IFERROR(IF(VLOOKUP($H148,Récapitulatif!$B$14:$E$24,2,FALSE)=0,\"\",VLOOKUP(H148,Récapitulatif!$B$14:$E$24,2,FALSE)),\"\")","v":""},0,11.5]
[2022,"2022-05-27",{"$f":"IFERROR(IF(VLOOKUP($B149,Récapitulatif!$B$64:$E$68,2,FALSE)=0,\"\",VLOOKUP($B149,Récapitulatif!$B$64:$E$68,2,FALSE)),\"\")","v":""},0,-11.5,null,2022,"2022-05-27",{"$f":"IFERROR(IF(VLOOKUP($H149,Récapitulatif!$B$14:$E$24,2,FALSE)=0,\"\",VLOOKUP(H149,Récapitulatif!$B$14:$E$24,2,FALSE)),\"\")","v":""},0,11.5]
[2022,"2022-05-28",{"$f":"IFERROR(IF(VLOOKUP($B150,Récapitulatif!$B$64:$E$68,2,FALSE)=0,\"\",VLOOKUP($B150,Récapitulatif!$B$64:$E$68,2,FALSE)),\"\")","v":""},0,-11.5,null,2022,"2022-05-28",{"$f":"IFERROR(IF(VLOOKUP($H150,Récapitulatif!$B$14:$E$24,2,FALSE)=0,\"\",VLOOKUP(H150,Récapitulatif!$B$14:$E$24,2,FALSE)),\"\")","v":""},0,11.5]
[2022,"2022-05-29",{"$f":"IFERROR(IF(VLOOKUP($B151,Récapitulatif!$B$64:$E$68,2,FALSE)=0,\"\",VLOOKUP($B151,Récapitulatif!$B$64:$E$68,2,FALSE)),\"\")","v":""},0,-11.5,null,2022,"2022-05-29",{"$f":"IFERROR(IF(VLOOKUP($H151,Récapitulatif!$B$14:$E$24,2,FALSE)=0,\"\",VLOOKUP(H151,Récapitulatif!$B$14:$E$24,2,FALSE)),\"\")","v":""},0,11.5]
[2022,"2022-05-30",{"$f":"IFERROR(IF(VLOOKUP($B152,Récapitulatif!$B$64:$E$68,2,FALSE)=0,\"\",VLOOKUP($B152,Récapitulatif!$B$64:$E$68,2,FALSE)),\"\")","v":""},0,-11.5,null,2022,"2022-05-30",{"$f":"IFERROR(IF(VLOOKUP($H152,Récapitulatif!$B$14:$E$24,2,FALSE)=0,\"\",VLOOKUP(H152,Récapitulatif!$B$14:$E$24,2,FALSE)),\"\")","v":""},0,11.5]
[2022,"2022-05-31",{"$f":"IFERROR(IF(VLOOKUP($B153,Récapitulatif!$B$64:$E$68,2,FALSE)=0,\"\",VLOOKUP($B153,Récapitulatif!$B$64:$E$68,2,FALSE)),\"\")","v":""},0,-11.5,null,2022,"2022-05-31",{"$f":"IFERROR(IF(VLOOKUP($H153,Récapitulatif!$B$14:$E$24,2,FALSE)=0,\"\",VLOOKUP(H153,Récapitulatif!$B$14:$E$24,2,FALSE)),\"\")","v":""},0,11.5]
[2022,"2022-06-01",{"$f":"IFERROR(IF(VLOOKUP($B154,Récapitulatif!$B$64:$E$68,2,FALSE)=0,\"\",VLOOKUP($B154,Récapitulatif!$B$64:$E$68,2,FALSE)),\"\")","v":""},0,-4.5,null,2022,"2022-06-01",{"$f":"IFERROR(IF(VLOOKUP($H154,Récapitulatif!$B$14:$E$24,2,FALSE)=0,\"\",VLOOKUP(H154,Récapitulatif!$B$14:$E$24,2,FALSE)),\"\")","v":""},0,4.5]
[2022,"2022-06-02",{"$f":"IFERROR(IF(VLOOKUP($B155,Récapitulatif!$B$64:$E$68,2,FALSE)=0,\"\",VLOOKUP($B155,Récapitulatif!$B$64:$E$68,2,FALSE)),\"\")","v":""},0,-4.5,null,2022,"2022-06-02",{"$f":"IFERROR(IF(VLOOKUP($H155,Récapitulatif!$B$14:$E$24,2,FALSE)=0,\"\",VLOOKUP(H155,Récapitulatif!$B$14:$E$24,2,FALSE)),\"\")","v":""},0,4.5]
[2022,"2022-06-03",{"$f":"IFERROR(IF(VLOOKUP($B156,Récapitulatif!$B$64:$E$68,2,FALSE)=0,\"\",VLOOKUP($B156,Récapitulatif!$B$64:$E$68,2,FALSE)),\"\")","v":""},0,-4.5,null,2022,"2022-06-03",{"$f":"IFERROR(IF(VLOOKUP($H156,Récapitulatif!$B$14:$E$24,2,FALSE)=0,\"\",VLOOKUP(H156,Récapitulatif!$B$14:$E$24,2,FALSE)),\"\")","v":""},0,4.5]
[2022,"2022-06-04",{"$f":"IFERROR(IF(VLOOKUP($B157,Récapitulatif!$B$64:$E$68,2,FALSE)=0,\"\",VLOOKUP($B157,Récapitulatif!$B$64:$E$68,2,FALSE)),\"\")","v":""},0,-4.5,null,2022,"2022-06-04",{"$f":"IFERROR(IF(VLOOKUP($H157,Récapitulatif!$B$14:$E$24,2,FALSE)=0,\"\",VLOOKUP(H157,Récapitulatif!$B$14:$E$24,2,FALSE)),\"\")","v":""},0,4.5]
[2022,"2022-06-05",{"$f":"IFERROR(IF(VLOOKUP($B158,Récapitulatif!$B$64:$E$68,2,FALSE)=0,\"\",VLOOKUP($B158,Récapitulatif!$B$64:$E$68,2,FALSE)),\"\")","v":""},0,-4.5,null,2022,"2022-06-05",{"$f":"IFERROR(IF(VLOOKUP($H158,Récapitulatif!$B$14:$E$24,2,FALSE)=0,\"\",VLOOKUP(H158,Récapitulatif!$B$14:$E$24,2,FALSE)),\"\")","v":""},0,4.5]
[2022,"2022-06-06",{"$f":"IFERROR(IF(VLOOKUP($B159,Récapitulatif!$B$64:$E$68,2,FALSE)=0,\"\",VLOOKUP($B159,Récapitulatif!$B$64:$E$68,2,FALSE)),\"\")","v":""},0,-4.5,null,2022,"2022-06-06",{"$f":"IFERROR(IF(VLOOKUP($H159,Récapitulatif!$B$14:$E$24,2,FALSE)=0,\"\",VLOOKUP(H159,Récapitulatif!$B$14:$E$24,2,FALSE)),\"\")","v":""},0,4.5]
[2022,"2022-06-07",{"$f":"IFERROR(IF(VLOOKUP($B160,Récapitulatif!$B$64:$E$68,2,FALSE)=0,\"\",VLOOKUP($B160,Récapitulatif!$B$64:$E$68,2,FALSE)),\"\")","v":""},0,-4.5,null,2022,"2022-06-07",{"$f":"IFERROR(IF(VLOOKUP($H160,Récapitulatif!$B$14:$E$24,2,FALSE)=0,\"\",VLOOKUP(H160,Récapitulatif!$B$14:$E$24,2,FALSE)),\"\")","v":""},0,4.5]
[2022,"2022-06-08",{"$f":"IFERROR(IF(VLOOKUP($B161,Récapitulatif!$B$64:$E$68,2,FALSE)=0,\"\",VLOOKUP($B161,Récapitulatif!$B$64:$E$68,2,FALSE)),\"\")","v":""},0,-4.5,null,2022,"2022-06-08",{"$f":"IFERROR(IF(VLOOKUP($H161,Récapitulatif!$B$14:$E$24,2,FALSE)=0,\"\",VLOOKUP(H161,Récapitulatif!$B$14:$E$24,2,FALSE)),\"\")","v":""},0,4.5]
[2022,"2022-06-09",{"$f":"IFERROR(IF(VLOOKUP($B162,Récapitulatif!$B$64:$E$68,2,FALSE)=0,\"\",VLOOKUP($B162,Récapitulatif!$B$64:$E$68,2,FALSE)),\"\")","v":""},0,-4.5,null,2022,"2022-06-09",{"$f":"IFERROR(IF(VLOOKUP($H162,Récapitulatif!$B$14:$E$24,2,FALSE)=0,\"\",VLOOKUP(H162,Récapitulatif!$B$14:$E$24,2,FALSE)),\"\")","v":""},0,4.5]
[2022,"2022-06-10",{"$f":"IFERROR(IF(VLOOKUP($B163,Récapitulatif!$B$64:$E$68,2,FALSE)=0,\"\",VLOOKUP($B163,Récapitulatif!$B$64:$E$68,2,FALSE)),\"\")","v":""},0,-4.5,null,2022,"2022-06-10",{"$f":"IFERROR(IF(VLOOKUP($H163,Récapitulatif!$B$14:$E$24,2,FALSE)=0,\"\",VLOOKUP(H163,Récapitulatif!$B$14:$E$24,2,FALSE)),\"\")","v":""},0,4.5]
[2022,"2022-06-11",{"$f":"IFERROR(IF(VLOOKUP($B164,Récapitulatif!$B$64:$E$68,2,FALSE)=0,\"\",VLOOKUP($B164,Récapitulatif!$B$64:$E$68,2,FALSE)),\"\")","v":""},0,-4.5,null,2022,"2022-06-11",{"$f":"IFERROR(IF(VLOOKUP($H164,Récapitulatif!$B$14:$E$24,2,FALSE)=0,\"\",VLOOKUP(H164,Récapitulatif!$B$14:$E$24,2,FALSE)),\"\")","v":""},0,4.5]
[2022,"2022-06-12",{"$f":"IFERROR(IF(VLOOKUP($B165,Récapitulatif!$B$64:$E$68,2,FALSE)=0,\"\",VLOOKUP($B165,Récapitulatif!$B$64:$E$68,2,FALSE)),\"\")","v":""},0,-4.5,null,2022,"2022-06-12",{"$f":"IFERROR(IF(VLOOKUP($H165,Récapitulatif!$B$14:$E$24,2,FALSE)=0,\"\",VLOOKUP(H165,Récapitulatif!$B$14:$E$24,2,FALSE)),\"\")","v":""},0,4.5]
[2022,"2022-06-13",{"$f":"IFERROR(IF(VLOOKUP($B166,Récapitulatif!$B$64:$E$68,2,FALSE)=0,\"\",VLOOKUP($B166,Récapitulatif!$B$64:$E$68,2,FALSE)),\"\")","v":""},0,-4.5,null,2022,"2022-06-13",{"$f":"IFERROR(IF(VLOOKUP($H166,Récapitulatif!$B$14:$E$24,2,FALSE)=0,\"\",VLOOKUP(H166,Récapitulatif!$B$14:$E$24,2,FALSE)),\"\")","v":""},0,4.5]
[2022,"2022-06-14",{"$f":"IFERROR(IF(VLOOKUP($B167,Récapitulatif!$B$64:$E$68,2,FALSE)=0,\"\",VLOOKUP($B167,Récapitulatif!$B$64:$E$68,2,FALSE)),\"\")","v":""},0,-4.5,null,2022,"2022-06-14",{"$f":"IFERROR(IF(VLOOKUP($H167,Récapitulatif!$B$14:$E$24,2,FALSE)=0,\"\",VLOOKUP(H167,Récapitulatif!$B$14:$E$24,2,FALSE)),\"\")","v":""},0,4.5]
[2022,"2022-06-15",{"$f":"IFERROR(IF(VLOOKUP($B168,Récapitulatif!$B$64:$E$68,2,FALSE)=0,\"\",VLOOKUP($B168,Récapitulatif!$B$64:$E$68,2,FALSE)),\"\")","v":""},0,-4.5,null,2022,"2022-06-15",{"$f":"IFERROR(IF(VLOOKUP($H168,Récapitulatif!$B$14:$E$24,2,FALSE)=0,\"\",VLOOKUP(H168,Récapitulatif!$B$14:$E$24,2,FALSE)),\"\")","v":""},0,4.5]
[2022,"2022-06-16",{"$f":"IFERROR(IF(VLOOKUP($B169,Récapitulatif!$B$64:$E$68,2,FALSE)=0,\"\",VLOOKUP($B169,Récapitulatif!$B$64:$E$68,2,FALSE)),\"\")","v":""},0,-4.5,null,2022,"2022-06-16",{"$f":"IFERROR(IF(VLOOKUP($H169,Récapitulatif!$B$14:$E$24,2,FALSE)=0,\"\",VLOOKUP(H169,Récapitulatif!$B$14:$E$24,2,FALSE)),\"\")","v":""},0,4.5]
[2022,"2022-06-17",{"$f":"IFERROR(IF(VLOOKUP($B170,Récapitulatif!$B$64:$E$68,2,FALSE)=0,\"\",VLOOKUP($B170,Récapitulatif!$B$64:$E$68,2,FALSE)),\"\")","v":""},0,-4.5,null,2022,"2022-06-17",{"$f":"IFERROR(IF(VLOOKUP($H170,Récapitulatif!$B$14:$E$24,2,FALSE)=0,\"\",VLOOKUP(H170,Récapitulatif!$B$14:$E$24,2,FALSE)),\"\")","v":""},0,4.5]
[2022,"2022-06-18",{"$f":"IFERROR(IF(VLOOKUP($B171,Récapitulatif!$B$64:$E$68,2,FALSE)=0,\"\",VLOOKUP($B171,Récapitulatif!$B$64:$E$68,2,FALSE)),\"\")","v":""},0,-4.5,null,2022,"2022-06-18",{"$f":"IFERROR(IF(VLOOKUP($H171,Récapitulatif!$B$14:$E$24,2,FALSE)=0,\"\",VLOOKUP(H171,Récapitulatif!$B$14:$E$24,2,FALSE)),\"\")","v":""},0,4.5]
[2022,"2022-06-19",{"$f":"IFERROR(IF(VLOOKUP($B172,Récapitulatif!$B$64:$E$68,2,FALSE)=0,\"\",VLOOKUP($B172,Récapitulatif!$B$64:$E$68,2,FALSE)),\"\")","v":""},0,-4.5,null,2022,"2022-06-19",{"$f":"IFERROR(IF(VLOOKUP($H172,Récapitulatif!$B$14:$E$24,2,FALSE)=0,\"\",VLOOKUP(H172,Récapitulatif!$B$14:$E$24,2,FALSE)),\"\")","v":""},0,4.5]
[2022,"2022-06-20",{"$f":"IFERROR(IF(VLOOKUP($B173,Récapitulatif!$B$64:$E$68,2,FALSE)=0,\"\",VLOOKUP($B173,Récapitulatif!$B$64:$E$68,2,FALSE)),\"\")","v":""},0,-4.5,null,2022,"2022-06-20",{"$f":"IFERROR(IF(VLOOKUP($H173,Récapitulatif!$B$14:$E$24,2,FALSE)=0,\"\",VLOOKUP(H173,Récapitulatif!$B$14:$E$24,2,FALSE)),\"\")","v":""},0,4.5]
[2022,"2022-06-21",{"$f":"IFERROR(IF(VLOOKUP($B174,Récapitulatif!$B$64:$E$68,2,FALSE)=0,\"\",VLOOKUP($B174,Récapitulatif!$B$64:$E$68,2,FALSE)),\"\")","v":""},0,-4.5,null,2022,"2022-06-21",{"$f":"IFERROR(IF(VLOOKUP($H174,Récapitulatif!$B$14:$E$24,2,FALSE)=0,\"\",VLOOKUP(H174,Récapitulatif!$B$14:$E$24,2,FALSE)),\"\")","v":""},0,4.5]
[2022,"2022-06-22",{"$f":"IFERROR(IF(VLOOKUP($B175,Récapitulatif!$B$64:$E$68,2,FALSE)=0,\"\",VLOOKUP($B175,Récapitulatif!$B$64:$E$68,2,FALSE)),\"\")","v":""},0,-4.5,null,2022,"2022-06-22",{"$f":"IFERROR(IF(VLOOKUP($H175,Récapitulatif!$B$14:$E$24,2,FALSE)=0,\"\",VLOOKUP(H175,Récapitulatif!$B$14:$E$24,2,FALSE)),\"\")","v":""},0,4.5]
[2022,"2022-06-23",{"$f":"IFERROR(IF(VLOOKUP($B176,Récapitulatif!$B$64:$E$68,2,FALSE)=0,\"\",VLOOKUP($B176,Récapitulatif!$B$64:$E$68,2,FALSE)),\"\")","v":""},0,-4.5,null,2022,"2022-06-23",{"$f":"IFERROR(IF(VLOOKUP($H176,Récapitulatif!$B$14:$E$24,2,FALSE)=0,\"\",VLOOKUP(H176,Récapitulatif!$B$14:$E$24,2,FALSE)),\"\")","v":""},0,4.5]
[2022,"2022-06-24",{"$f":"IFERROR(IF(VLOOKUP($B177,Récapitulatif!$B$64:$E$68,2,FALSE)=0,\"\",VLOOKUP($B177,Récapitulatif!$B$64:$E$68,2,FALSE)),\"\")","v":""},0,-4.5,null,2022,"2022-06-24",{"$f":"IFERROR(IF(VLOOKUP($H177,Récapitulatif!$B$14:$E$24,2,FALSE)=0,\"\",VLOOKUP(H177,Récapitulatif!$B$14:$E$24,2,FALSE)),\"\")","v":""},0,4.5]
[2022,"2022-06-25",{"$f":"IFERROR(IF(VLOOKUP($B178,Récapitulatif!$B$64:$E$68,2,FALSE)=0,\"\",VLOOKUP($B178,Récapitulatif!$B$64:$E$68,2,FALSE)),\"\")","v":""},0,-4.5,null,2022,"2022-06-25",{"$f":"IFERROR(IF(VLOOKUP($H178,Récapitulatif!$B$14:$E$24,2,FALSE)=0,\"\",VLOOKUP(H178,Récapitulatif!$B$14:$E$24,2,FALSE)),\"\")","v":""},0,4.5]
[2022,"2022-06-26",{"$f":"IFERROR(IF(VLOOKUP($B179,Récapitulatif!$B$64:$E$68,2,FALSE)=0,\"\",VLOOKUP($B179,Récapitulatif!$B$64:$E$68,2,FALSE)),\"\")","v":""},0,-4.5,null,2022,"2022-06-26",{"$f":"IFERROR(IF(VLOOKUP($H179,Récapitulatif!$B$14:$E$24,2,FALSE)=0,\"\",VLOOKUP(H179,Récapitulatif!$B$14:$E$24,2,FALSE)),\"\")","v":""},0,4.5]
[2022,"2022-06-27",{"$f":"IFERROR(IF(VLOOKUP($B180,Récapitulatif!$B$64:$E$68,2,FALSE)=0,\"\",VLOOKUP($B180,Récapitulatif!$B$64:$E$68,2,FALSE)),\"\")","v":""},0,-4.5,null,2022,"2022-06-27",{"$f":"IFERROR(IF(VLOOKUP($H180,Récapitulatif!$B$14:$E$24,2,FALSE)=0,\"\",VLOOKUP(H180,Récapitulatif!$B$14:$E$24,2,FALSE)),\"\")","v":""},0,4.5]
[2022,"2022-06-28",{"$f":"IFERROR(IF(VLOOKUP($B181,Récapitulatif!$B$64:$E$68,2,FALSE)=0,\"\",VLOOKUP($B181,Récapitulatif!$B$64:$E$68,2,FALSE)),\"\")","v":""},0,-4.5,null,2022,"2022-06-28",{"$f":"IFERROR(IF(VLOOKUP($H181,Récapitulatif!$B$14:$E$24,2,FALSE)=0,\"\",VLOOKUP(H181,Récapitulatif!$B$14:$E$24,2,FALSE)),\"\")","v":""},0,4.5]
[2022,"2022-06-29",{"$f":"IFERROR(IF(VLOOKUP($B182,Récapitulatif!$B$64:$E$68,2,FALSE)=0,\"\",VLOOKUP($B182,Récapitulatif!$B$64:$E$68,2,FALSE)),\"\")","v":""},0,-4.5,null,2022,"2022-06-29",{"$f":"IFERROR(IF(VLOOKUP($H182,Récapitulatif!$B$14:$E$24,2,FALSE)=0,\"\",VLOOKUP(H182,Récapitulatif!$B$14:$E$24,2,FALSE)),\"\")","v":""},0,4.5]
[2022,"2022-06-30",{"$f":"IFERROR(IF(VLOOKUP($B183,Récapitulatif!$B$64:$E$68,2,FALSE)=0,\"\",VLOOKUP($B183,Récapitulatif!$B$64:$E$68,2,FALSE)),\"\")","v":""},0,-4.5,null,2022,"2022-06-30",{"$f":"IFERROR(IF(VLOOKUP($H183,Récapitulatif!$B$14:$E$24,2,FALSE)=0,\"\",VLOOKUP(H183,Récapitulatif!$B$14:$E$24,2,FALSE)),\"\")","v":""},0,4.5]
[2022,"2022-07-01",{"$f":"IFERROR(IF(VLOOKUP($B184,Récapitulatif!$B$64:$E$68,2,FALSE)=0,\"\",VLOOKUP($B184,Récapitulatif!$B$64:$E$68,2,FALSE)),\"\")","v":""},0,-8.5,null,2022,"2022-07-01",{"$f":"IFERROR(IF(VLOOKUP($H184,Récapitulatif!$B$14:$E$24,2,FALSE)=0,\"\",VLOOKUP(H184,Récapitulatif!$B$14:$E$24,2,FALSE)),\"\")","v":""},0,8.5]
[2022,"2022-07-02",{"$f":"IFERROR(IF(VLOOKUP($B185,Récapitulatif!$B$64:$E$68,2,FALSE)=0,\"\",VLOOKUP($B185,Récapitulatif!$B$64:$E$68,2,FALSE)),\"\")","v":""},0,-8.5,null,2022,"2022-07-02",{"$f":"IFERROR(IF(VLOOKUP($H185,Récapitulatif!$B$14:$E$24,2,FALSE)=0,\"\",VLOOKUP(H185,Récapitulatif!$B$14:$E$24,2,FALSE)),\"\")","v":""},0,8.5]
[2022,"2022-07-03",{"$f":"IFERROR(IF(VLOOKUP($B186,Récapitulatif!$B$64:$E$68,2,FALSE)=0,\"\",VLOOKUP($B186,Récapitulatif!$B$64:$E$68,2,FALSE)),\"\")","v":""},0,-8.5,null,2022,"2022-07-03",{"$f":"IFERROR(IF(VLOOKUP($H186,Récapitulatif!$B$14:$E$24,2,FALSE)=0,\"\",VLOOKUP(H186,Récapitulatif!$B$14:$E$24,2,FALSE)),\"\")","v":""},0,8.5]
[2022,"2022-07-04",{"$f":"IFERROR(IF(VLOOKUP($B187,Récapitulatif!$B$64:$E$68,2,FALSE)=0,\"\",VLOOKUP($B187,Récapitulatif!$B$64:$E$68,2,FALSE)),\"\")","v":""},0,-8.5,null,2022,"2022-07-04",{"$f":"IFERROR(IF(VLOOKUP($H187,Récapitulatif!$B$14:$E$24,2,FALSE)=0,\"\",VLOOKUP(H187,Récapitulatif!$B$14:$E$24,2,FALSE)),\"\")","v":""},0,8.5]
[2022,"2022-07-05",{"$f":"IFERROR(IF(VLOOKUP($B188,Récapitulatif!$B$64:$E$68,2,FALSE)=0,\"\",VLOOKUP($B188,Récapitulatif!$B$64:$E$68,2,FALSE)),\"\")","v":""},0,-8.5,null,2022,"2022-07-05",{"$f":"IFERROR(IF(VLOOKUP($H188,Récapitulatif!$B$14:$E$24,2,FALSE)=0,\"\",VLOOKUP(H188,Récapitulatif!$B$14:$E$24,2,FALSE)),\"\")","v":""},0,8.5]
[2022,"2022-07-06",{"$f":"IFERROR(IF(VLOOKUP($B189,Récapitulatif!$B$64:$E$68,2,FALSE)=0,\"\",VLOOKUP($B189,Récapitulatif!$B$64:$E$68,2,FALSE)),\"\")","v":""},0,-8.5,null,2022,"2022-07-06",{"$f":"IFERROR(IF(VLOOKUP($H189,Récapitulatif!$B$14:$E$24,2,FALSE)=0,\"\",VLOOKUP(H189,Récapitulatif!$B$14:$E$24,2,FALSE)),\"\")","v":""},0,8.5]
[2022,"2022-07-07",{"$f":"IFERROR(IF(VLOOKUP($B190,Récapitulatif!$B$64:$E$68,2,FALSE)=0,\"\",VLOOKUP($B190,Récapitulatif!$B$64:$E$68,2,FALSE)),\"\")","v":""},0,-8.5,null,2022,"2022-07-07",{"$f":"IFERROR(IF(VLOOKUP($H190,Récapitulatif!$B$14:$E$24,2,FALSE)=0,\"\",VLOOKUP(H190,Récapitulatif!$B$14:$E$24,2,FALSE)),\"\")","v":""},0,8.5]
[2022,"2022-07-08",{"$f":"IFERROR(IF(VLOOKUP($B191,Récapitulatif!$B$64:$E$68,2,FALSE)=0,\"\",VLOOKUP($B191,Récapitulatif!$B$64:$E$68,2,FALSE)),\"\")","v":""},0,-8.5,null,2022,"2022-07-08",{"$f":"IFERROR(IF(VLOOKUP($H191,Récapitulatif!$B$14:$E$24,2,FALSE)=0,\"\",VLOOKUP(H191,Récapitulatif!$B$14:$E$24,2,FALSE)),\"\")","v":""},0,8.5]
[2022,"2022-07-09",{"$f":"IFERROR(IF(VLOOKUP($B192,Récapitulatif!$B$64:$E$68,2,FALSE)=0,\"\",VLOOKUP($B192,Récapitulatif!$B$64:$E$68,2,FALSE)),\"\")","v":""},0,-8.5,null,2022,"2022-07-09",{"$f":"IFERROR(IF(VLOOKUP($H192,Récapitulatif!$B$14:$E$24,2,FALSE)=0,\"\",VLOOKUP(H192,Récapitulatif!$B$14:$E$24,2,FALSE)),\"\")","v":""},0,8.5]
[2022,"2022-07-10",{"$f":"IFERROR(IF(VLOOKUP($B193,Récapitulatif!$B$64:$E$68,2,FALSE)=0,\"\",VLOOKUP($B193,Récapitulatif!$B$64:$E$68,2,FALSE)),\"\")","v":""},0,-8.5,null,2022,"2022-07-10",{"$f":"IFERROR(IF(VLOOKUP($H193,Récapitulatif!$B$14:$E$24,2,FALSE)=0,\"\",VLOOKUP(H193,Récapitulatif!$B$14:$E$24,2,FALSE)),\"\")","v":""},0,8.5]
[2022,"2022-07-11",{"$f":"IFERROR(IF(VLOOKUP($B194,Récapitulatif!$B$64:$E$68,2,FALSE)=0,\"\",VLOOKUP($B194,Récapitulatif!$B$64:$E$68,2,FALSE)),\"\")","v":""},0,-8.5,null,2022,"2022-07-11",{"$f":"IFERROR(IF(VLOOKUP($H194,Récapitulatif!$B$14:$E$24,2,FALSE)=0,\"\",VLOOKUP(H194,Récapitulatif!$B$14:$E$24,2,FALSE)),\"\")","v":""},0,8.5]
[2022,"2022-07-12",{"$f":"IFERROR(IF(VLOOKUP($B195,Récapitulatif!$B$64:$E$68,2,FALSE)=0,\"\",VLOOKUP($B195,Récapitulatif!$B$64:$E$68,2,FALSE)),\"\")","v":""},0,-8.5,null,2022,"2022-07-12",{"$f":"IFERROR(IF(VLOOKUP($H195,Récapitulatif!$B$14:$E$24,2,FALSE)=0,\"\",VLOOKUP(H195,Récapitulatif!$B$14:$E$24,2,FALSE)),\"\")","v":""},0,8.5]
[2022,"2022-07-13",{"$f":"IFERROR(IF(VLOOKUP($B196,Récapitulatif!$B$64:$E$68,2,FALSE)=0,\"\",VLOOKUP($B196,Récapitulatif!$B$64:$E$68,2,FALSE)),\"\")","v":""},{"$f":"IF($C196=\"\",0,$E196)","v":0},-8.5,null,2022,"2022-07-13",{"$f":"IFERROR(IF(VLOOKUP($H196,Récapitulatif!$B$14:$E$24,2,FALSE)=0,\"\",VLOOKUP(H196,Récapitulatif!$B$14:$E$24,2,FALSE)),\"\")","v":""},{"$f":"IF($I196=\"\",0,$K196)","v":0},8.5]
[{"$f":"YEAR(B197)","v":2022},{"$f":"B196+1","v":"2022-07-14"},{"$f":"IFERROR(IF(VLOOKUP($B197,Récapitulatif!$B$64:$E$68,2,FALSE)=0,\"\",VLOOKUP($B197,Récapitulatif!$B$64:$E$68,2,FALSE)),\"\")","v":""},0,-8.5,null,{"$f":"YEAR(H197)","v":2022},{"$f":"H196+1","v":"2022-07-14"},{"$f":"IFERROR(IF(VLOOKUP($H197,Récapitulatif!$B$14:$E$24,2,FALSE)=0,\"\",VLOOKUP(H197,Récapitulatif!$B$14:$E$24,2,FALSE)),\"\")","v":""},0,8.5]
[2022,"2022-07-15",{"$f":"IFERROR(IF(VLOOKUP($B198,Récapitulatif!$B$64:$E$68,2,FALSE)=0,\"\",VLOOKUP($B198,Récapitulatif!$B$64:$E$68,2,FALSE)),\"\")","v":""},0,-8.5,null,2022,"2022-07-15",{"$f":"IFERROR(IF(VLOOKUP($H198,Récapitulatif!$B$14:$E$24,2,FALSE)=0,\"\",VLOOKUP(H198,Récapitulatif!$B$14:$E$24,2,FALSE)),\"\")","v":""},0,8.5]
[2022,"2022-07-16",{"$f":"IFERROR(IF(VLOOKUP($B199,Récapitulatif!$B$64:$E$68,2,FALSE)=0,\"\",VLOOKUP($B199,Récapitulatif!$B$64:$E$68,2,FALSE)),\"\")","v":""},0,-8.5,null,2022,"2022-07-16",{"$f":"IFERROR(IF(VLOOKUP($H199,Récapitulatif!$B$14:$E$24,2,FALSE)=0,\"\",VLOOKUP(H199,Récapitulatif!$B$14:$E$24,2,FALSE)),\"\")","v":""},0,8.5]
[2022,"2022-07-17",{"$f":"IFERROR(IF(VLOOKUP($B200,Récapitulatif!$B$64:$E$68,2,FALSE)=0,\"\",VLOOKUP($B200,Récapitulatif!$B$64:$E$68,2,FALSE)),\"\")","v":""},0,-8.5,null,2022,"2022-07-17",{"$f":"IFERROR(IF(VLOOKUP($H200,Récapitulatif!$B$14:$E$24,2,FALSE)=0,\"\",VLOOKUP(H200,Récapitulatif!$B$14:$E$24,2,FALSE)),\"\")","v":""},0,8.5]
[2022,"2022-07-18",{"$f":"IFERROR(IF(VLOOKUP($B201,Récapitulatif!$B$64:$E$68,2,FALSE)=0,\"\",VLOOKUP($B201,Récapitulatif!$B$64:$E$68,2,FALSE)),\"\")","v":""},0,-8.5,null,2022,"2022-07-18",{"$f":"IFERROR(IF(VLOOKUP($H201,Récapitulatif!$B$14:$E$24,2,FALSE)=0,\"\",VLOOKUP(H201,Récapitulatif!$B$14:$E$24,2,FALSE)),\"\")","v":""},0,8.5]
[2022,"2022-07-19",{"$f":"IFERROR(IF(VLOOKUP($B202,Récapitulatif!$B$64:$E$68,2,FALSE)=0,\"\",VLOOKUP($B202,Récapitulatif!$B$64:$E$68,2,FALSE)),\"\")","v":""},0,-8.5,null,2022,"2022-07-19",{"$f":"IFERROR(IF(VLOOKUP($H202,Récapitulatif!$B$14:$E$24,2,FALSE)=0,\"\",VLOOKUP(H202,Récapitulatif!$B$14:$E$24,2,FALSE)),\"\")","v":""},0,8.5]
[2022,"2022-07-20",{"$f":"IFERROR(IF(VLOOKUP($B203,Récapitulatif!$B$64:$E$68,2,FALSE)=0,\"\",VLOOKUP($B203,Récapitulatif!$B$64:$E$68,2,FALSE)),\"\")","v":""},0,-8.5,null,2022,"2022-07-20",{"$f":"IFERROR(IF(VLOOKUP($H203,Récapitulatif!$B$14:$E$24,2,FALSE)=0,\"\",VLOOKUP(H203,Récapitulatif!$B$14:$E$24,2,FALSE)),\"\")","v":""},0,8.5]
[2022,"2022-07-21",{"$f":"IFERROR(IF(VLOOKUP($B204,Récapitulatif!$B$64:$E$68,2,FALSE)=0,\"\",VLOOKUP($B204,Récapitulatif!$B$64:$E$68,2,FALSE)),\"\")","v":""},0,-8.5,null,2022,"2022-07-21",{"$f":"IFERROR(IF(VLOOKUP($H204,Récapitulatif!$B$14:$E$24,2,FALSE)=0,\"\",VLOOKUP(H204,Récapitulatif!$B$14:$E$24,2,FALSE)),\"\")","v":""},0,8.5]
[2022,"2022-07-22",{"$f":"IFERROR(IF(VLOOKUP($B205,Récapitulatif!$B$64:$E$68,2,FALSE)=0,\"\",VLOOKUP($B205,Récapitulatif!$B$64:$E$68,2,FALSE)),\"\")","v":""},0,-8.5,null,2022,"2022-07-22",{"$f":"IFERROR(IF(VLOOKUP($H205,Récapitulatif!$B$14:$E$24,2,FALSE)=0,\"\",VLOOKUP(H205,Récapitulatif!$B$14:$E$24,2,FALSE)),\"\")","v":""},0,8.5]
[2022,"2022-07-23",{"$f":"IFERROR(IF(VLOOKUP($B206,Récapitulatif!$B$64:$E$68,2,FALSE)=0,\"\",VLOOKUP($B206,Récapitulatif!$B$64:$E$68,2,FALSE)),\"\")","v":""},0,-8.5,null,2022,"2022-07-23",{"$f":"IFERROR(IF(VLOOKUP($H206,Récapitulatif!$B$14:$E$24,2,FALSE)=0,\"\",VLOOKUP(H206,Récapitulatif!$B$14:$E$24,2,FALSE)),\"\")","v":""},0,8.5]
[2022,"2022-07-24",{"$f":"IFERROR(IF(VLOOKUP($B207,Récapitulatif!$B$64:$E$68,2,FALSE)=0,\"\",VLOOKUP($B207,Récapitulatif!$B$64:$E$68,2,FALSE)),\"\")","v":""},0,-8.5,null,2022,"2022-07-24",{"$f":"IFERROR(IF(VLOOKUP($H207,Récapitulatif!$B$14:$E$24,2,FALSE)=0,\"\",VLOOKUP(H207,Récapitulatif!$B$14:$E$24,2,FALSE)),\"\")","v":""},0,8.5]
[2022,"2022-07-25",{"$f":"IFERROR(IF(VLOOKUP($B208,Récapitulatif!$B$64:$E$68,2,FALSE)=0,\"\",VLOOKUP($B208,Récapitulatif!$B$64:$E$68,2,FALSE)),\"\")","v":""},0,-8.5,null,2022,"2022-07-25",{"$f":"IFERROR(IF(VLOOKUP($H208,Récapitulatif!$B$14:$E$24,2,FALSE)=0,\"\",VLOOKUP(H208,Récapitulatif!$B$14:$E$24,2,FALSE)),\"\")","v":""},0,8.5]
[2022,"2022-07-26",{"$f":"IFERROR(IF(VLOOKUP($B209,Récapitulatif!$B$64:$E$68,2,FALSE)=0,\"\",VLOOKUP($B209,Récapitulatif!$B$64:$E$68,2,FALSE)),\"\")","v":""},0,-8.5,null,2022,"2022-07-26",{"$f":"IFERROR(IF(VLOOKUP($H209,Récapitulatif!$B$14:$E$24,2,FALSE)=0,\"\",VLOOKUP(H209,Récapitulatif!$B$14:$E$24,2,FALSE)),\"\")","v":""},0,8.5]
[2022,"2022-07-27",{"$f":"IFERROR(IF(VLOOKUP($B210,Récapitulatif!$B$64:$E$68,2,FALSE)=0,\"\",VLOOKUP($B210,Récapitulatif!$B$64:$E$68,2,FALSE)),\"\")","v":""},0,-8.5,null,2022,"2022-07-27",{"$f":"IFERROR(IF(VLOOKUP($H210,Récapitulatif!$B$14:$E$24,2,FALSE)=0,\"\",VLOOKUP(H210,Récapitulatif!$B$14:$E$24,2,FALSE)),\"\")","v":""},0,8.5]
[2022,"2022-07-28",{"$f":"IFERROR(IF(VLOOKUP($B211,Récapitulatif!$B$64:$E$68,2,FALSE)=0,\"\",VLOOKUP($B211,Récapitulatif!$B$64:$E$68,2,FALSE)),\"\")","v":""},0,-8.5,null,2022,"2022-07-28",{"$f":"IFERROR(IF(VLOOKUP($H211,Récapitulatif!$B$14:$E$24,2,FALSE)=0,\"\",VLOOKUP(H211,Récapitulatif!$B$14:$E$24,2,FALSE)),\"\")","v":""},0,8.5]
[2022,"2022-07-29",{"$f":"IFERROR(IF(VLOOKUP($B212,Récapitulatif!$B$64:$E$68,2,FALSE)=0,\"\",VLOOKUP($B212,Récapitulatif!$B$64:$E$68,2,FALSE)),\"\")","v":""},0,-8.5,null,2022,"2022-07-29",{"$f":"IFERROR(IF(VLOOKUP($H212,Récapitulatif!$B$14:$E$24,2,FALSE)=0,\"\",VLOOKUP(H212,Récapitulatif!$B$14:$E$24,2,FALSE)),\"\")","v":""},0,8.5]
[2022,"2022-07-30",{"$f":"IFERROR(IF(VLOOKUP($B213,Récapitulatif!$B$64:$E$68,2,FALSE)=0,\"\",VLOOKUP($B213,Récapitulatif!$B$64:$E$68,2,FALSE)),\"\")","v":""},0,-8.5,null,2022,"2022-07-30",{"$f":"IFERROR(IF(VLOOKUP($H213,Récapitulatif!$B$14:$E$24,2,FALSE)=0,\"\",VLOOKUP(H213,Récapitulatif!$B$14:$E$24,2,FALSE)),\"\")","v":""},0,8.5]
[2022,"2022-07-31",{"$f":"IFERROR(IF(VLOOKUP($B214,Récapitulatif!$B$64:$E$68,2,FALSE)=0,\"\",VLOOKUP($B214,Récapitulatif!$B$64:$E$68,2,FALSE)),\"\")","v":""},0,-8.5,null,2022,"2022-07-31",{"$f":"IFERROR(IF(VLOOKUP($H214,Récapitulatif!$B$14:$E$24,2,FALSE)=0,\"\",VLOOKUP(H214,Récapitulatif!$B$14:$E$24,2,FALSE)),\"\")","v":""},0,8.5]
[2022,"2022-08-01",{"$f":"IFERROR(IF(VLOOKUP($B215,Récapitulatif!$B$64:$E$68,2,FALSE)=0,\"\",VLOOKUP($B215,Récapitulatif!$B$64:$E$68,2,FALSE)),\"\")","v":""},0,-5.5,null,2022,"2022-08-01",{"$f":"IFERROR(IF(VLOOKUP($H215,Récapitulatif!$B$14:$E$24,2,FALSE)=0,\"\",VLOOKUP(H215,Récapitulatif!$B$14:$E$24,2,FALSE)),\"\")","v":""},0,5.5]
[2022,"2022-08-02",{"$f":"IFERROR(IF(VLOOKUP($B216,Récapitulatif!$B$64:$E$68,2,FALSE)=0,\"\",VLOOKUP($B216,Récapitulatif!$B$64:$E$68,2,FALSE)),\"\")","v":""},0,-5.5,null,2022,"2022-08-02",{"$f":"IFERROR(IF(VLOOKUP($H216,Récapitulatif!$B$14:$E$24,2,FALSE)=0,\"\",VLOOKUP(H216,Récapitulatif!$B$14:$E$24,2,FALSE)),\"\")","v":""},0,5.5]
[2022,"2022-08-03",{"$f":"IFERROR(IF(VLOOKUP($B217,Récapitulatif!$B$64:$E$68,2,FALSE)=0,\"\",VLOOKUP($B217,Récapitulatif!$B$64:$E$68,2,FALSE)),\"\")","v":""},0,-5.5,null,2022,"2022-08-03",{"$f":"IFERROR(IF(VLOOKUP($H217,Récapitulatif!$B$14:$E$24,2,FALSE)=0,\"\",VLOOKUP(H217,Récapitulatif!$B$14:$E$24,2,FALSE)),\"\")","v":""},0,5.5]
[2022,"2022-08-04",{"$f":"IFERROR(IF(VLOOKUP($B218,Récapitulatif!$B$64:$E$68,2,FALSE)=0,\"\",VLOOKUP($B218,Récapitulatif!$B$64:$E$68,2,FALSE)),\"\")","v":""},0,-5.5,null,2022,"2022-08-04",{"$f":"IFERROR(IF(VLOOKUP($H218,Récapitulatif!$B$14:$E$24,2,FALSE)=0,\"\",VLOOKUP(H218,Récapitulatif!$B$14:$E$24,2,FALSE)),\"\")","v":""},0,5.5]
[2022,"2022-08-05",{"$f":"IFERROR(IF(VLOOKUP($B219,Récapitulatif!$B$64:$E$68,2,FALSE)=0,\"\",VLOOKUP($B219,Récapitulatif!$B$64:$E$68,2,FALSE)),\"\")","v":""},0,-5.5,null,2022,"2022-08-05",{"$f":"IFERROR(IF(VLOOKUP($H219,Récapitulatif!$B$14:$E$24,2,FALSE)=0,\"\",VLOOKUP(H219,Récapitulatif!$B$14:$E$24,2,FALSE)),\"\")","v":""},0,5.5]
[2022,"2022-08-06",{"$f":"IFERROR(IF(VLOOKUP($B220,Récapitulatif!$B$64:$E$68,2,FALSE)=0,\"\",VLOOKUP($B220,Récapitulatif!$B$64:$E$68,2,FALSE)),\"\")","v":""},0,-5.5,null,2022,"2022-08-06",{"$f":"IFERROR(IF(VLOOKUP($H220,Récapitulatif!$B$14:$E$24,2,FALSE)=0,\"\",VLOOKUP(H220,Récapitulatif!$B$14:$E$24,2,FALSE)),\"\")","v":""},0,5.5]
[2022,"2022-08-07",{"$f":"IFERROR(IF(VLOOKUP($B221,Récapitulatif!$B$64:$E$68,2,FALSE)=0,\"\",VLOOKUP($B221,Récapitulatif!$B$64:$E$68,2,FALSE)),\"\")","v":""},0,-5.5,null,2022,"2022-08-07",{"$f":"IFERROR(IF(VLOOKUP($H221,Récapitulatif!$B$14:$E$24,2,FALSE)=0,\"\",VLOOKUP(H221,Récapitulatif!$B$14:$E$24,2,FALSE)),\"\")","v":""},0,5.5]
[2022,"2022-08-08",{"$f":"IFERROR(IF(VLOOKUP($B222,Récapitulatif!$B$64:$E$68,2,FALSE)=0,\"\",VLOOKUP($B222,Récapitulatif!$B$64:$E$68,2,FALSE)),\"\")","v":""},0,-5.5,null,2022,"2022-08-08",{"$f":"IFERROR(IF(VLOOKUP($H222,Récapitulatif!$B$14:$E$24,2,FALSE)=0,\"\",VLOOKUP(H222,Récapitulatif!$B$14:$E$24,2,FALSE)),\"\")","v":""},0,5.5]
[2022,"2022-08-09",{"$f":"IFERROR(IF(VLOOKUP($B223,Récapitulatif!$B$64:$E$68,2,FALSE)=0,\"\",VLOOKUP($B223,Récapitulatif!$B$64:$E$68,2,FALSE)),\"\")","v":""},0,-5.5,null,2022,"2022-08-09",{"$f":"IFERROR(IF(VLOOKUP($H223,Récapitulatif!$B$14:$E$24,2,FALSE)=0,\"\",VLOOKUP(H223,Récapitulatif!$B$14:$E$24,2,FALSE)),\"\")","v":""},0,5.5]
[2022,"2022-08-10",{"$f":"IFERROR(IF(VLOOKUP($B224,Récapitulatif!$B$64:$E$68,2,FALSE)=0,\"\",VLOOKUP($B224,Récapitulatif!$B$64:$E$68,2,FALSE)),\"\")","v":""},0,-5.5,null,2022,"2022-08-10",{"$f":"IFERROR(IF(VLOOKUP($H224,Récapitulatif!$B$14:$E$24,2,FALSE)=0,\"\",VLOOKUP(H224,Récapitulatif!$B$14:$E$24,2,FALSE)),\"\")","v":""},0,5.5]
[2022,"2022-08-11",{"$f":"IFERROR(IF(VLOOKUP($B225,Récapitulatif!$B$64:$E$68,2,FALSE)=0,\"\",VLOOKUP($B225,Récapitulatif!$B$64:$E$68,2,FALSE)),\"\")","v":""},0,-5.5,null,2022,"2022-08-11",{"$f":"IFERROR(IF(VLOOKUP($H225,Récapitulatif!$B$14:$E$24,2,FALSE)=0,\"\",VLOOKUP(H225,Récapitulatif!$B$14:$E$24,2,FALSE)),\"\")","v":""},0,5.5]
[2022,"2022-08-12",{"$f":"IFERROR(IF(VLOOKUP($B226,Récapitulatif!$B$64:$E$68,2,FALSE)=0,\"\",VLOOKUP($B226,Récapitulatif!$B$64:$E$68,2,FALSE)),\"\")","v":""},0,-5.5,null,2022,"2022-08-12",{"$f":"IFERROR(IF(VLOOKUP($H226,Récapitulatif!$B$14:$E$24,2,FALSE)=0,\"\",VLOOKUP(H226,Récapitulatif!$B$14:$E$24,2,FALSE)),\"\")","v":""},0,5.5]
[2022,"2022-08-13",{"$f":"IFERROR(IF(VLOOKUP($B227,Récapitulatif!$B$64:$E$68,2,FALSE)=0,\"\",VLOOKUP($B227,Récapitulatif!$B$64:$E$68,2,FALSE)),\"\")","v":""},0,-5.5,null,2022,"2022-08-13",{"$f":"IFERROR(IF(VLOOKUP($H227,Récapitulatif!$B$14:$E$24,2,FALSE)=0,\"\",VLOOKUP(H227,Récapitulatif!$B$14:$E$24,2,FALSE)),\"\")","v":""},0,5.5]
[2022,"2022-08-14",{"$f":"IFERROR(IF(VLOOKUP($B228,Récapitulatif!$B$64:$E$68,2,FALSE)=0,\"\",VLOOKUP($B228,Récapitulatif!$B$64:$E$68,2,FALSE)),\"\")","v":""},0,-5.5,null,2022,"2022-08-14",{"$f":"IFERROR(IF(VLOOKUP($H228,Récapitulatif!$B$14:$E$24,2,FALSE)=0,\"\",VLOOKUP(H228,Récapitulatif!$B$14:$E$24,2,FALSE)),\"\")","v":""},0,5.5]
[2022,"2022-08-15",{"$f":"IFERROR(IF(VLOOKUP($B229,Récapitulatif!$B$64:$E$68,2,FALSE)=0,\"\",VLOOKUP($B229,Récapitulatif!$B$64:$E$68,2,FALSE)),\"\")","v":""},0,-5.5,null,2022,"2022-08-15",{"$f":"IFERROR(IF(VLOOKUP($H229,Récapitulatif!$B$14:$E$24,2,FALSE)=0,\"\",VLOOKUP(H229,Récapitulatif!$B$14:$E$24,2,FALSE)),\"\")","v":""},0,5.5]
[2022,"2022-08-16",{"$f":"IFERROR(IF(VLOOKUP($B230,Récapitulatif!$B$64:$E$68,2,FALSE)=0,\"\",VLOOKUP($B230,Récapitulatif!$B$64:$E$68,2,FALSE)),\"\")","v":""},0,-5.5,null,2022,"2022-08-16",{"$f":"IFERROR(IF(VLOOKUP($H230,Récapitulatif!$B$14:$E$24,2,FALSE)=0,\"\",VLOOKUP(H230,Récapitulatif!$B$14:$E$24,2,FALSE)),\"\")","v":""},0,5.5]
[2022,"2022-08-17",{"$f":"IFERROR(IF(VLOOKUP($B231,Récapitulatif!$B$64:$E$68,2,FALSE)=0,\"\",VLOOKUP($B231,Récapitulatif!$B$64:$E$68,2,FALSE)),\"\")","v":""},0,-5.5,null,2022,"2022-08-17",{"$f":"IFERROR(IF(VLOOKUP($H231,Récapitulatif!$B$14:$E$24,2,FALSE)=0,\"\",VLOOKUP(H231,Récapitulatif!$B$14:$E$24,2,FALSE)),\"\")","v":""},0,5.5]
[2022,"2022-08-18",{"$f":"IFERROR(IF(VLOOKUP($B232,Récapitulatif!$B$64:$E$68,2,FALSE)=0,\"\",VLOOKUP($B232,Récapitulatif!$B$64:$E$68,2,FALSE)),\"\")","v":""},0,-5.5,null,2022,"2022-08-18",{"$f":"IFERROR(IF(VLOOKUP($H232,Récapitulatif!$B$14:$E$24,2,FALSE)=0,\"\",VLOOKUP(H232,Récapitulatif!$B$14:$E$24,2,FALSE)),\"\")","v":""},0,5.5]
[2022,"2022-08-19",{"$f":"IFERROR(IF(VLOOKUP($B233,Récapitulatif!$B$64:$E$68,2,FALSE)=0,\"\",VLOOKUP($B233,Récapitulatif!$B$64:$E$68,2,FALSE)),\"\")","v":""},0,-5.5,null,2022,"2022-08-19",{"$f":"IFERROR(IF(VLOOKUP($H233,Récapitulatif!$B$14:$E$24,2,FALSE)=0,\"\",VLOOKUP(H233,Récapitulatif!$B$14:$E$24,2,FALSE)),\"\")","v":""},0,5.5]
[2022,"2022-08-20",{"$f":"IFERROR(IF(VLOOKUP($B234,Récapitulatif!$B$64:$E$68,2,FALSE)=0,\"\",VLOOKUP($B234,Récapitulatif!$B$64:$E$68,2,FALSE)),\"\")","v":""},0,-5.5,null,2022,"2022-08-20",{"$f":"IFERROR(IF(VLOOKUP($H234,Récapitulatif!$B$14:$E$24,2,FALSE)=0,\"\",VLOOKUP(H234,Récapitulatif!$B$14:$E$24,2,FALSE)),\"\")","v":""},0,5.5]
[2022,"2022-08-21",{"$f":"IFERROR(IF(VLOOKUP($B235,Récapitulatif!$B$64:$E$68,2,FALSE)=0,\"\",VLOOKUP($B235,Récapitulatif!$B$64:$E$68,2,FALSE)),\"\")","v":""},0,-5.5,null,2022,"2022-08-21",{"$f":"IFERROR(IF(VLOOKUP($H235,Récapitulatif!$B$14:$E$24,2,FALSE)=0,\"\",VLOOKUP(H235,Récapitulatif!$B$14:$E$24,2,FALSE)),\"\")","v":""},0,5.5]
[2022,"2022-08-22",{"$f":"IFERROR(IF(VLOOKUP($B236,Récapitulatif!$B$64:$E$68,2,FALSE)=0,\"\",VLOOKUP($B236,Récapitulatif!$B$64:$E$68,2,FALSE)),\"\")","v":""},0,-5.5,null,2022,"2022-08-22",{"$f":"IFERROR(IF(VLOOKUP($H236,Récapitulatif!$B$14:$E$24,2,FALSE)=0,\"\",VLOOKUP(H236,Récapitulatif!$B$14:$E$24,2,FALSE)),\"\")","v":""},0,5.5]
[2022,"2022-08-23",{"$f":"IFERROR(IF(VLOOKUP($B237,Récapitulatif!$B$64:$E$68,2,FALSE)=0,\"\",VLOOKUP($B237,Récapitulatif!$B$64:$E$68,2,FALSE)),\"\")","v":""},0,-5.5,null,2022,"2022-08-23",{"$f":"IFERROR(IF(VLOOKUP($H237,Récapitulatif!$B$14:$E$24,2,FALSE)=0,\"\",VLOOKUP(H237,Récapitulatif!$B$14:$E$24,2,FALSE)),\"\")","v":""},0,5.5]
[2022,"2022-08-24",{"$f":"IFERROR(IF(VLOOKUP($B238,Récapitulatif!$B$64:$E$68,2,FALSE)=0,\"\",VLOOKUP($B238,Récapitulatif!$B$64:$E$68,2,FALSE)),\"\")","v":""},0,-5.5,null,2022,"2022-08-24",{"$f":"IFERROR(IF(VLOOKUP($H238,Récapitulatif!$B$14:$E$24,2,FALSE)=0,\"\",VLOOKUP(H238,Récapitulatif!$B$14:$E$24,2,FALSE)),\"\")","v":""},0,5.5]
[2022,"2022-08-25",{"$f":"IFERROR(IF(VLOOKUP($B239,Récapitulatif!$B$64:$E$68,2,FALSE)=0,\"\",VLOOKUP($B239,Récapitulatif!$B$64:$E$68,2,FALSE)),\"\")","v":""},0,-5.5,null,2022,"2022-08-25",{"$f":"IFERROR(IF(VLOOKUP($H239,Récapitulatif!$B$14:$E$24,2,FALSE)=0,\"\",VLOOKUP(H239,Récapitulatif!$B$14:$E$24,2,FALSE)),\"\")","v":""},0,5.5]
[2022,"2022-08-26",{"$f":"IFERROR(IF(VLOOKUP($B240,Récapitulatif!$B$64:$E$68,2,FALSE)=0,\"\",VLOOKUP($B240,Récapitulatif!$B$64:$E$68,2,FALSE)),\"\")","v":""},0,-5.5,null,2022,"2022-08-26",{"$f":"IFERROR(IF(VLOOKUP($H240,Récapitulatif!$B$14:$E$24,2,FALSE)=0,\"\",VLOOKUP(H240,Récapitulatif!$B$14:$E$24,2,FALSE)),\"\")","v":""},0,5.5]
[2022,"2022-08-27",{"$f":"IFERROR(IF(VLOOKUP($B241,Récapitulatif!$B$64:$E$68,2,FALSE)=0,\"\",VLOOKUP($B241,Récapitulatif!$B$64:$E$68,2,FALSE)),\"\")","v":""},0,-5.5,null,2022,"2022-08-27",{"$f":"IFERROR(IF(VLOOKUP($H241,Récapitulatif!$B$14:$E$24,2,FALSE)=0,\"\",VLOOKUP(H241,Récapitulatif!$B$14:$E$24,2,FALSE)),\"\")","v":""},0,5.5]
[2022,"2022-08-28",{"$f":"IFERROR(IF(VLOOKUP($B242,Récapitulatif!$B$64:$E$68,2,FALSE)=0,\"\",VLOOKUP($B242,Récapitulatif!$B$64:$E$68,2,FALSE)),\"\")","v":""},0,-5.5,null,2022,"2022-08-28",{"$f":"IFERROR(IF(VLOOKUP($H242,Récapitulatif!$B$14:$E$24,2,FALSE)=0,\"\",VLOOKUP(H242,Récapitulatif!$B$14:$E$24,2,FALSE)),\"\")","v":""},0,5.5]
[2022,"2022-08-29",{"$f":"IFERROR(IF(VLOOKUP($B243,Récapitulatif!$B$64:$E$68,2,FALSE)=0,\"\",VLOOKUP($B243,Récapitulatif!$B$64:$E$68,2,FALSE)),\"\")","v":""},0,-5.5,null,2022,"2022-08-29",{"$f":"IFERROR(IF(VLOOKUP($H243,Récapitulatif!$B$14:$E$24,2,FALSE)=0,\"\",VLOOKUP(H243,Récapitulatif!$B$14:$E$24,2,FALSE)),\"\")","v":""},0,5.5]
[2022,"2022-08-30",{"$f":"IFERROR(IF(VLOOKUP($B244,Récapitulatif!$B$64:$E$68,2,FALSE)=0,\"\",VLOOKUP($B244,Récapitulatif!$B$64:$E$68,2,FALSE)),\"\")","v":""},0,-5.5,null,2022,"2022-08-30",{"$f":"IFERROR(IF(VLOOKUP($H244,Récapitulatif!$B$14:$E$24,2,FALSE)=0,\"\",VLOOKUP(H244,Récapitulatif!$B$14:$E$24,2,FALSE)),\"\")","v":""},0,5.5]
[2022,"2022-08-31",{"$f":"IFERROR(IF(VLOOKUP($B245,Récapitulatif!$B$64:$E$68,2,FALSE)=0,\"\",VLOOKUP($B245,Récapitulatif!$B$64:$E$68,2,FALSE)),\"\")","v":""},0,-5.5,null,2022,"2022-08-31",{"$f":"IFERROR(IF(VLOOKUP($H245,Récapitulatif!$B$14:$E$24,2,FALSE)=0,\"\",VLOOKUP(H245,Récapitulatif!$B$14:$E$24,2,FALSE)),\"\")","v":""},0,5.5]
[2022,"2022-09-01",{"$f":"IFERROR(IF(VLOOKUP($B246,Récapitulatif!$B$64:$E$68,2,FALSE)=0,\"\",VLOOKUP($B246,Récapitulatif!$B$64:$E$68,2,FALSE)),\"\")","v":""},0,-7.5,null,2022,"2022-09-01",{"$f":"IFERROR(IF(VLOOKUP($H246,Récapitulatif!$B$14:$E$24,2,FALSE)=0,\"\",VLOOKUP(H246,Récapitulatif!$B$14:$E$24,2,FALSE)),\"\")","v":""},0,7.5]
[2022,"2022-09-02",{"$f":"IFERROR(IF(VLOOKUP($B247,Récapitulatif!$B$64:$E$68,2,FALSE)=0,\"\",VLOOKUP($B247,Récapitulatif!$B$64:$E$68,2,FALSE)),\"\")","v":""},0,-7.5,null,2022,"2022-09-02",{"$f":"IFERROR(IF(VLOOKUP($H247,Récapitulatif!$B$14:$E$24,2,FALSE)=0,\"\",VLOOKUP(H247,Récapitulatif!$B$14:$E$24,2,FALSE)),\"\")","v":""},0,7.5]
[2022,"2022-09-03",{"$f":"IFERROR(IF(VLOOKUP($B248,Récapitulatif!$B$64:$E$68,2,FALSE)=0,\"\",VLOOKUP($B248,Récapitulatif!$B$64:$E$68,2,FALSE)),\"\")","v":""},0,-7.5,null,2022,"2022-09-03",{"$f":"IFERROR(IF(VLOOKUP($H248,Récapitulatif!$B$14:$E$24,2,FALSE)=0,\"\",VLOOKUP(H248,Récapitulatif!$B$14:$E$24,2,FALSE)),\"\")","v":""},0,7.5]
[2022,"2022-09-04",{"$f":"IFERROR(IF(VLOOKUP($B249,Récapitulatif!$B$64:$E$68,2,FALSE)=0,\"\",VLOOKUP($B249,Récapitulatif!$B$64:$E$68,2,FALSE)),\"\")","v":""},0,-7.5,null,2022,"2022-09-04",{"$f":"IFERROR(IF(VLOOKUP($H249,Récapitulatif!$B$14:$E$24,2,FALSE)=0,\"\",VLOOKUP(H249,Récapitulatif!$B$14:$E$24,2,FALSE)),\"\")","v":""},0,7.5]
[2022,"2022-09-05",{"$f":"IFERROR(IF(VLOOKUP($B250,Récapitulatif!$B$64:$E$68,2,FALSE)=0,\"\",VLOOKUP($B250,Récapitulatif!$B$64:$E$68,2,FALSE)),\"\")","v":""},0,-7.5,null,2022,"2022-09-05",{"$f":"IFERROR(IF(VLOOKUP($H250,Récapitulatif!$B$14:$E$24,2,FALSE)=0,\"\",VLOOKUP(H250,Récapitulatif!$B$14:$E$24,2,FALSE)),\"\")","v":""},0,7.5]
[2022,"2022-09-06",{"$f":"IFERROR(IF(VLOOKUP($B251,Récapitulatif!$B$64:$E$68,2,FALSE)=0,\"\",VLOOKUP($B251,Récapitulatif!$B$64:$E$68,2,FALSE)),\"\")","v":""},0,-7.5,null,2022,"2022-09-06",{"$f":"IFERROR(IF(VLOOKUP($H251,Récapitulatif!$B$14:$E$24,2,FALSE)=0,\"\",VLOOKUP(H251,Récapitulatif!$B$14:$E$24,2,FALSE)),\"\")","v":""},0,7.5]
[2022,"2022-09-07",{"$f":"IFERROR(IF(VLOOKUP($B252,Récapitulatif!$B$64:$E$68,2,FALSE)=0,\"\",VLOOKUP($B252,Récapitulatif!$B$64:$E$68,2,FALSE)),\"\")","v":""},0,-7.5,null,2022,"2022-09-07",{"$f":"IFERROR(IF(VLOOKUP($H252,Récapitulatif!$B$14:$E$24,2,FALSE)=0,\"\",VLOOKUP(H252,Récapitulatif!$B$14:$E$24,2,FALSE)),\"\")","v":""},0,7.5]
[2022,"2022-09-08",{"$f":"IFERROR(IF(VLOOKUP($B253,Récapitulatif!$B$64:$E$68,2,FALSE)=0,\"\",VLOOKUP($B253,Récapitulatif!$B$64:$E$68,2,FALSE)),\"\")","v":""},0,-7.5,null,2022,"2022-09-08",{"$f":"IFERROR(IF(VLOOKUP($H253,Récapitulatif!$B$14:$E$24,2,FALSE)=0,\"\",VLOOKUP(H253,Récapitulatif!$B$14:$E$24,2,FALSE)),\"\")","v":""},0,7.5]
[2022,"2022-09-09",{"$f":"IFERROR(IF(VLOOKUP($B254,Récapitulatif!$B$64:$E$68,2,FALSE)=0,\"\",VLOOKUP($B254,Récapitulatif!$B$64:$E$68,2,FALSE)),\"\")","v":""},0,-7.5,null,2022,"2022-09-09",{"$f":"IFERROR(IF(VLOOKUP($H254,Récapitulatif!$B$14:$E$24,2,FALSE)=0,\"\",VLOOKUP(H254,Récapitulatif!$B$14:$E$24,2,FALSE)),\"\")","v":""},0,7.5]
[2022,"2022-09-10",{"$f":"IFERROR(IF(VLOOKUP($B255,Récapitulatif!$B$64:$E$68,2,FALSE)=0,\"\",VLOOKUP($B255,Récapitulatif!$B$64:$E$68,2,FALSE)),\"\")","v":""},0,-7.5,null,2022,"2022-09-10",{"$f":"IFERROR(IF(VLOOKUP($H255,Récapitulatif!$B$14:$E$24,2,FALSE)=0,\"\",VLOOKUP(H255,Récapitulatif!$B$14:$E$24,2,FALSE)),\"\")","v":""},0,7.5]
[2022,"2022-09-11",{"$f":"IFERROR(IF(VLOOKUP($B256,Récapitulatif!$B$64:$E$68,2,FALSE)=0,\"\",VLOOKUP($B256,Récapitulatif!$B$64:$E$68,2,FALSE)),\"\")","v":""},0,-7.5,null,2022,"2022-09-11",{"$f":"IFERROR(IF(VLOOKUP($H256,Récapitulatif!$B$14:$E$24,2,FALSE)=0,\"\",VLOOKUP(H256,Récapitulatif!$B$14:$E$24,2,FALSE)),\"\")","v":""},0,7.5]
[2022,"2022-09-12",{"$f":"IFERROR(IF(VLOOKUP($B257,Récapitulatif!$B$64:$E$68,2,FALSE)=0,\"\",VLOOKUP($B257,Récapitulatif!$B$64:$E$68,2,FALSE)),\"\")","v":""},0,-7.5,null,2022,"2022-09-12",{"$f":"IFERROR(IF(VLOOKUP($H257,Récapitulatif!$B$14:$E$24,2,FALSE)=0,\"\",VLOOKUP(H257,Récapitulatif!$B$14:$E$24,2,FALSE)),\"\")","v":""},0,7.5]
[2022,"2022-09-13",{"$f":"IFERROR(IF(VLOOKUP($B258,Récapitulatif!$B$64:$E$68,2,FALSE)=0,\"\",VLOOKUP($B258,Récapitulatif!$B$64:$E$68,2,FALSE)),\"\")","v":""},0,-7.5,null,2022,"2022-09-13",{"$f":"IFERROR(IF(VLOOKUP($H258,Récapitulatif!$B$14:$E$24,2,FALSE)=0,\"\",VLOOKUP(H258,Récapitulatif!$B$14:$E$24,2,FALSE)),\"\")","v":""},0,7.5]
[2022,"2022-09-14",{"$f":"IFERROR(IF(VLOOKUP($B259,Récapitulatif!$B$64:$E$68,2,FALSE)=0,\"\",VLOOKUP($B259,Récapitulatif!$B$64:$E$68,2,FALSE)),\"\")","v":""},0,-7.5,null,2022,"2022-09-14",{"$f":"IFERROR(IF(VLOOKUP($H259,Récapitulatif!$B$14:$E$24,2,FALSE)=0,\"\",VLOOKUP(H259,Récapitulatif!$B$14:$E$24,2,FALSE)),\"\")","v":""},0,7.5]
[2022,"2022-09-15",{"$f":"IFERROR(IF(VLOOKUP($B260,Récapitulatif!$B$64:$E$68,2,FALSE)=0,\"\",VLOOKUP($B260,Récapitulatif!$B$64:$E$68,2,FALSE)),\"\")","v":""},{"$f":"IF($C260=\"\",0,$E260)","v":0},-7.5,null,2022,"2022-09-15",{"$f":"IFERROR(IF(VLOOKUP($H260,Récapitulatif!$B$14:$E$24,2,FALSE)=0,\"\",VLOOKUP(H260,Récapitulatif!$B$14:$E$24,2,FALSE)),\"\")","v":""},{"$f":"IF($I260=\"\",0,$K260)","v":0},7.5]
[{"$f":"YEAR(B261)","v":2022},{"$f":"B260+1","v":"2022-09-16"},{"$f":"IFERROR(IF(VLOOKUP($B261,Récapitulatif!$B$64:$E$68,2,FALSE)=0,\"\",VLOOKUP($B261,Récapitulatif!$B$64:$E$68,2,FALSE)),\"\")","v":""},0,-7.5,null,{"$f":"YEAR(H261)","v":2022},{"$f":"H260+1","v":"2022-09-16"},{"$f":"IFERROR(IF(VLOOKUP($H261,Récapitulatif!$B$14:$E$24,2,FALSE)=0,\"\",VLOOKUP(H261,Récapitulatif!$B$14:$E$24,2,FALSE)),\"\")","v":""},0,7.5]
[2022,"2022-09-17",{"$f":"IFERROR(IF(VLOOKUP($B262,Récapitulatif!$B$64:$E$68,2,FALSE)=0,\"\",VLOOKUP($B262,Récapitulatif!$B$64:$E$68,2,FALSE)),\"\")","v":""},0,-7.5,null,2022,"2022-09-17",{"$f":"IFERROR(IF(VLOOKUP($H262,Récapitulatif!$B$14:$E$24,2,FALSE)=0,\"\",VLOOKUP(H262,Récapitulatif!$B$14:$E$24,2,FALSE)),\"\")","v":""},0,7.5]
[2022,"2022-09-18",{"$f":"IFERROR(IF(VLOOKUP($B263,Récapitulatif!$B$64:$E$68,2,FALSE)=0,\"\",VLOOKUP($B263,Récapitulatif!$B$64:$E$68,2,FALSE)),\"\")","v":""},0,-7.5,null,2022,"2022-09-18",{"$f":"IFERROR(IF(VLOOKUP($H263,Récapitulatif!$B$14:$E$24,2,FALSE)=0,\"\",VLOOKUP(H263,Récapitulatif!$B$14:$E$24,2,FALSE)),\"\")","v":""},0,7.5]
[2022,"2022-09-19",{"$f":"IFERROR(IF(VLOOKUP($B264,Récapitulatif!$B$64:$E$68,2,FALSE)=0,\"\",VLOOKUP($B264,Récapitulatif!$B$64:$E$68,2,FALSE)),\"\")","v":""},0,-7.5,null,2022,"2022-09-19",{"$f":"IFERROR(IF(VLOOKUP($H264,Récapitulatif!$B$14:$E$24,2,FALSE)=0,\"\",VLOOKUP(H264,Récapitulatif!$B$14:$E$24,2,FALSE)),\"\")","v":""},0,7.5]
[2022,"2022-09-20",{"$f":"IFERROR(IF(VLOOKUP($B265,Récapitulatif!$B$64:$E$68,2,FALSE)=0,\"\",VLOOKUP($B265,Récapitulatif!$B$64:$E$68,2,FALSE)),\"\")","v":""},0,-7.5,null,2022,"2022-09-20",{"$f":"IFERROR(IF(VLOOKUP($H265,Récapitulatif!$B$14:$E$24,2,FALSE)=0,\"\",VLOOKUP(H265,Récapitulatif!$B$14:$E$24,2,FALSE)),\"\")","v":""},0,7.5]
[2022,"2022-09-21",{"$f":"IFERROR(IF(VLOOKUP($B266,Récapitulatif!$B$64:$E$68,2,FALSE)=0,\"\",VLOOKUP($B266,Récapitulatif!$B$64:$E$68,2,FALSE)),\"\")","v":""},0,-7.5,null,2022,"2022-09-21",{"$f":"IFERROR(IF(VLOOKUP($H266,Récapitulatif!$B$14:$E$24,2,FALSE)=0,\"\",VLOOKUP(H266,Récapitulatif!$B$14:$E$24,2,FALSE)),\"\")","v":""},0,7.5]
[2022,"2022-09-22",{"$f":"IFERROR(IF(VLOOKUP($B267,Récapitulatif!$B$64:$E$68,2,FALSE)=0,\"\",VLOOKUP($B267,Récapitulatif!$B$64:$E$68,2,FALSE)),\"\")","v":""},0,-7.5,null,2022,"2022-09-22",{"$f":"IFERROR(IF(VLOOKUP($H267,Récapitulatif!$B$14:$E$24,2,FALSE)=0,\"\",VLOOKUP(H267,Récapitulatif!$B$14:$E$24,2,FALSE)),\"\")","v":""},0,7.5]
[2022,"2022-09-23",{"$f":"IFERROR(IF(VLOOKUP($B268,Récapitulatif!$B$64:$E$68,2,FALSE)=0,\"\",VLOOKUP($B268,Récapitulatif!$B$64:$E$68,2,FALSE)),\"\")","v":""},0,-7.5,null,2022,"2022-09-23",{"$f":"IFERROR(IF(VLOOKUP($H268,Récapitulatif!$B$14:$E$24,2,FALSE)=0,\"\",VLOOKUP(H268,Récapitulatif!$B$14:$E$24,2,FALSE)),\"\")","v":""},0,7.5]
[2022,"2022-09-24",{"$f":"IFERROR(IF(VLOOKUP($B269,Récapitulatif!$B$64:$E$68,2,FALSE)=0,\"\",VLOOKUP($B269,Récapitulatif!$B$64:$E$68,2,FALSE)),\"\")","v":""},0,-7.5,null,2022,"2022-09-24",{"$f":"IFERROR(IF(VLOOKUP($H269,Récapitulatif!$B$14:$E$24,2,FALSE)=0,\"\",VLOOKUP(H269,Récapitulatif!$B$14:$E$24,2,FALSE)),\"\")","v":""},0,7.5]
[2022,"2022-09-25",{"$f":"IFERROR(IF(VLOOKUP($B270,Récapitulatif!$B$64:$E$68,2,FALSE)=0,\"\",VLOOKUP($B270,Récapitulatif!$B$64:$E$68,2,FALSE)),\"\")","v":""},0,-7.5,null,2022,"2022-09-25",{"$f":"IFERROR(IF(VLOOKUP($H270,Récapitulatif!$B$14:$E$24,2,FALSE)=0,\"\",VLOOKUP(H270,Récapitulatif!$B$14:$E$24,2,FALSE)),\"\")","v":""},0,7.5]
[2022,"2022-09-26",{"$f":"IFERROR(IF(VLOOKUP($B271,Récapitulatif!$B$64:$E$68,2,FALSE)=0,\"\",VLOOKUP($B271,Récapitulatif!$B$64:$E$68,2,FALSE)),\"\")","v":""},0,-7.5,null,2022,"2022-09-26",{"$f":"IFERROR(IF(VLOOKUP($H271,Récapitulatif!$B$14:$E$24,2,FALSE)=0,\"\",VLOOKUP(H271,Récapitulatif!$B$14:$E$24,2,FALSE)),\"\")","v":""},0,7.5]
[2022,"2022-09-27",{"$f":"IFERROR(IF(VLOOKUP($B272,Récapitulatif!$B$64:$E$68,2,FALSE)=0,\"\",VLOOKUP($B272,Récapitulatif!$B$64:$E$68,2,FALSE)),\"\")","v":""},0,-7.5,null,2022,"2022-09-27",{"$f":"IFERROR(IF(VLOOKUP($H272,Récapitulatif!$B$14:$E$24,2,FALSE)=0,\"\",VLOOKUP(H272,Récapitulatif!$B$14:$E$24,2,FALSE)),\"\")","v":""},0,7.5]
[2022,"2022-09-28",{"$f":"IFERROR(IF(VLOOKUP($B273,Récapitulatif!$B$64:$E$68,2,FALSE)=0,\"\",VLOOKUP($B273,Récapitulatif!$B$64:$E$68,2,FALSE)),\"\")","v":""},0,-7.5,null,2022,"2022-09-28",{"$f":"IFERROR(IF(VLOOKUP($H273,Récapitulatif!$B$14:$E$24,2,FALSE)=0,\"\",VLOOKUP(H273,Récapitulatif!$B$14:$E$24,2,FALSE)),\"\")","v":""},0,7.5]
[2022,"2022-09-29",{"$f":"IFERROR(IF(VLOOKUP($B274,Récapitulatif!$B$64:$E$68,2,FALSE)=0,\"\",VLOOKUP($B274,Récapitulatif!$B$64:$E$68,2,FALSE)),\"\")","v":""},0,-7.5,null,2022,"2022-09-29",{"$f":"IFERROR(IF(VLOOKUP($H274,Récapitulatif!$B$14:$E$24,2,FALSE)=0,\"\",VLOOKUP(H274,Récapitulatif!$B$14:$E$24,2,FALSE)),\"\")","v":""},0,7.5]
[2022,"2022-09-30",{"$f":"IFERROR(IF(VLOOKUP($B275,Récapitulatif!$B$64:$E$68,2,FALSE)=0,\"\",VLOOKUP($B275,Récapitulatif!$B$64:$E$68,2,FALSE)),\"\")","v":""},0,-7.5,null,2022,"2022-09-30",{"$f":"IFERROR(IF(VLOOKUP($H275,Récapitulatif!$B$14:$E$24,2,FALSE)=0,\"\",VLOOKUP(H275,Récapitulatif!$B$14:$E$24,2,FALSE)),\"\")","v":""},0,7.5]
[2022,"2022-10-01",{"$f":"IFERROR(IF(VLOOKUP($B276,Récapitulatif!$B$64:$E$68,2,FALSE)=0,\"\",VLOOKUP($B276,Récapitulatif!$B$64:$E$68,2,FALSE)),\"\")","v":""},0,-4.5,null,2022,"2022-10-01",{"$f":"IFERROR(IF(VLOOKUP($H276,Récapitulatif!$B$14:$E$24,2,FALSE)=0,\"\",VLOOKUP(H276,Récapitulatif!$B$14:$E$24,2,FALSE)),\"\")","v":""},0,4.5]
[2022,"2022-10-02",{"$f":"IFERROR(IF(VLOOKUP($B277,Récapitulatif!$B$64:$E$68,2,FALSE)=0,\"\",VLOOKUP($B277,Récapitulatif!$B$64:$E$68,2,FALSE)),\"\")","v":""},0,-4.5,null,2022,"2022-10-02",{"$f":"IFERROR(IF(VLOOKUP($H277,Récapitulatif!$B$14:$E$24,2,FALSE)=0,\"\",VLOOKUP(H277,Récapitulatif!$B$14:$E$24,2,FALSE)),\"\")","v":""},0,4.5]
[2022,"2022-10-03",{"$f":"IFERROR(IF(VLOOKUP($B278,Récapitulatif!$B$64:$E$68,2,FALSE)=0,\"\",VLOOKUP($B278,Récapitulatif!$B$64:$E$68,2,FALSE)),\"\")","v":""},0,-4.5,null,2022,"2022-10-03",{"$f":"IFERROR(IF(VLOOKUP($H278,Récapitulatif!$B$14:$E$24,2,FALSE)=0,\"\",VLOOKUP(H278,Récapitulatif!$B$14:$E$24,2,FALSE)),\"\")","v":""},0,4.5]
[2022,"2022-10-04",{"$f":"IFERROR(IF(VLOOKUP($B279,Récapitulatif!$B$64:$E$68,2,FALSE)=0,\"\",VLOOKUP($B279,Récapitulatif!$B$64:$E$68,2,FALSE)),\"\")","v":""},0,-4.5,null,2022,"2022-10-04",{"$f":"IFERROR(IF(VLOOKUP($H279,Récapitulatif!$B$14:$E$24,2,FALSE)=0,\"\",VLOOKUP(H279,Récapitulatif!$B$14:$E$24,2,FALSE)),\"\")","v":""},0,4.5]
[2022,"2022-10-05",{"$f":"IFERROR(IF(VLOOKUP($B280,Récapitulatif!$B$64:$E$68,2,FALSE)=0,\"\",VLOOKUP($B280,Récapitulatif!$B$64:$E$68,2,FALSE)),\"\")","v":""},0,-4.5,null,2022,"2022-10-05",{"$f":"IFERROR(IF(VLOOKUP($H280,Récapitulatif!$B$14:$E$24,2,FALSE)=0,\"\",VLOOKUP(H280,Récapitulatif!$B$14:$E$24,2,FALSE)),\"\")","v":""},0,4.5]
[2022,"2022-10-06",{"$f":"IFERROR(IF(VLOOKUP($B281,Récapitulatif!$B$64:$E$68,2,FALSE)=0,\"\",VLOOKUP($B281,Récapitulatif!$B$64:$E$68,2,FALSE)),\"\")","v":""},0,-4.5,null,2022,"2022-10-06",{"$f":"IFERROR(IF(VLOOKUP($H281,Récapitulatif!$B$14:$E$24,2,FALSE)=0,\"\",VLOOKUP(H281,Récapitulatif!$B$14:$E$24,2,FALSE)),\"\")","v":""},0,4.5]
[2022,"2022-10-07",{"$f":"IFERROR(IF(VLOOKUP($B282,Récapitulatif!$B$64:$E$68,2,FALSE)=0,\"\",VLOOKUP($B282,Récapitulatif!$B$64:$E$68,2,FALSE)),\"\")","v":""},0,-4.5,null,2022,"2022-10-07",{"$f":"IFERROR(IF(VLOOKUP($H282,Récapitulatif!$B$14:$E$24,2,FALSE)=0,\"\",VLOOKUP(H282,Récapitulatif!$B$14:$E$24,2,FALSE)),\"\")","v":""},0,4.5]
[2022,"2022-10-08",{"$f":"IFERROR(IF(VLOOKUP($B283,Récapitulatif!$B$64:$E$68,2,FALSE)=0,\"\",VLOOKUP($B283,Récapitulatif!$B$64:$E$68,2,FALSE)),\"\")","v":""},0,-4.5,null,2022,"2022-10-08",{"$f":"IFERROR(IF(VLOOKUP($H283,Récapitulatif!$B$14:$E$24,2,FALSE)=0,\"\",VLOOKUP(H283,Récapitulatif!$B$14:$E$24,2,FALSE)),\"\")","v":""},0,4.5]
[2022,"2022-10-09",{"$f":"IFERROR(IF(VLOOKUP($B284,Récapitulatif!$B$64:$E$68,2,FALSE)=0,\"\",VLOOKUP($B284,Récapitulatif!$B$64:$E$68,2,FALSE)),\"\")","v":""},0,-4.5,null,2022,"2022-10-09",{"$f":"IFERROR(IF(VLOOKUP($H284,Récapitulatif!$B$14:$E$24,2,FALSE)=0,\"\",VLOOKUP(H284,Récapitulatif!$B$14:$E$24,2,FALSE)),\"\")","v":""},0,4.5]
[2022,"2022-10-10",{"$f":"IFERROR(IF(VLOOKUP($B285,Récapitulatif!$B$64:$E$68,2,FALSE)=0,\"\",VLOOKUP($B285,Récapitulatif!$B$64:$E$68,2,FALSE)),\"\")","v":""},0,-4.5,null,2022,"2022-10-10",{"$f":"IFERROR(IF(VLOOKUP($H285,Récapitulatif!$B$14:$E$24,2,FALSE)=0,\"\",VLOOKUP(H285,Récapitulatif!$B$14:$E$24,2,FALSE)),\"\")","v":""},0,4.5]
[2022,"2022-10-11",{"$f":"IFERROR(IF(VLOOKUP($B286,Récapitulatif!$B$64:$E$68,2,FALSE)=0,\"\",VLOOKUP($B286,Récapitulatif!$B$64:$E$68,2,FALSE)),\"\")","v":""},0,-4.5,null,2022,"2022-10-11",{"$f":"IFERROR(IF(VLOOKUP($H286,Récapitulatif!$B$14:$E$24,2,FALSE)=0,\"\",VLOOKUP(H286,Récapitulatif!$B$14:$E$24,2,FALSE)),\"\")","v":""},0,4.5]
[2022,"2022-10-12",{"$f":"IFERROR(IF(VLOOKUP($B287,Récapitulatif!$B$64:$E$68,2,FALSE)=0,\"\",VLOOKUP($B287,Récapitulatif!$B$64:$E$68,2,FALSE)),\"\")","v":""},0,-4.5,null,2022,"2022-10-12",{"$f":"IFERROR(IF(VLOOKUP($H287,Récapitulatif!$B$14:$E$24,2,FALSE)=0,\"\",VLOOKUP(H287,Récapitulatif!$B$14:$E$24,2,FALSE)),\"\")","v":""},0,4.5]
[2022,"2022-10-13",{"$f":"IFERROR(IF(VLOOKUP($B288,Récapitulatif!$B$64:$E$68,2,FALSE)=0,\"\",VLOOKUP($B288,Récapitulatif!$B$64:$E$68,2,FALSE)),\"\")","v":""},0,-4.5,null,2022,"2022-10-13",{"$f":"IFERROR(IF(VLOOKUP($H288,Récapitulatif!$B$14:$E$24,2,FALSE)=0,\"\",VLOOKUP(H288,Récapitulatif!$B$14:$E$24,2,FALSE)),\"\")","v":""},0,4.5]
[2022,"2022-10-14",{"$f":"IFERROR(IF(VLOOKUP($B289,Récapitulatif!$B$64:$E$68,2,FALSE)=0,\"\",VLOOKUP($B289,Récapitulatif!$B$64:$E$68,2,FALSE)),\"\")","v":""},0,-4.5,null,2022,"2022-10-14",{"$f":"IFERROR(IF(VLOOKUP($H289,Récapitulatif!$B$14:$E$24,2,FALSE)=0,\"\",VLOOKUP(H289,Récapitulatif!$B$14:$E$24,2,FALSE)),\"\")","v":""},0,4.5]
[2022,"2022-10-15",{"$f":"IFERROR(IF(VLOOKUP($B290,Récapitulatif!$B$64:$E$68,2,FALSE)=0,\"\",VLOOKUP($B290,Récapitulatif!$B$64:$E$68,2,FALSE)),\"\")","v":""},0,-4.5,null,2022,"2022-10-15",{"$f":"IFERROR(IF(VLOOKUP($H290,Récapitulatif!$B$14:$E$24,2,FALSE)=0,\"\",VLOOKUP(H290,Récapitulatif!$B$14:$E$24,2,FALSE)),\"\")","v":""},0,4.5]
[2022,"2022-10-16",{"$f":"IFERROR(IF(VLOOKUP($B291,Récapitulatif!$B$64:$E$68,2,FALSE)=0,\"\",VLOOKUP($B291,Récapitulatif!$B$64:$E$68,2,FALSE)),\"\")","v":""},0,-4.5,null,2022,"2022-10-16",{"$f":"IFERROR(IF(VLOOKUP($H291,Récapitulatif!$B$14:$E$24,2,FALSE)=0,\"\",VLOOKUP(H291,Récapitulatif!$B$14:$E$24,2,FALSE)),\"\")","v":""},0,4.5]
[2022,"2022-10-17",{"$f":"IFERROR(IF(VLOOKUP($B292,Récapitulatif!$B$64:$E$68,2,FALSE)=0,\"\",VLOOKUP($B292,Récapitulatif!$B$64:$E$68,2,FALSE)),\"\")","v":""},0,-4.5,null,2022,"2022-10-17",{"$f":"IFERROR(IF(VLOOKUP($H292,Récapitulatif!$B$14:$E$24,2,FALSE)=0,\"\",VLOOKUP(H292,Récapitulatif!$B$14:$E$24,2,FALSE)),\"\")","v":""},0,4.5]
[2022,"2022-10-18",{"$f":"IFERROR(IF(VLOOKUP($B293,Récapitulatif!$B$64:$E$68,2,FALSE)=0,\"\",VLOOKUP($B293,Récapitulatif!$B$64:$E$68,2,FALSE)),\"\")","v":""},0,-4.5,null,2022,"2022-10-18",{"$f":"IFERROR(IF(VLOOKUP($H293,Récapitulatif!$B$14:$E$24,2,FALSE)=0,\"\",VLOOKUP(H293,Récapitulatif!$B$14:$E$24,2,FALSE)),\"\")","v":""},0,4.5]
[2022,"2022-10-19",{"$f":"IFERROR(IF(VLOOKUP($B294,Récapitulatif!$B$64:$E$68,2,FALSE)=0,\"\",VLOOKUP($B294,Récapitulatif!$B$64:$E$68,2,FALSE)),\"\")","v":""},0,-4.5,null,2022,"2022-10-19",{"$f":"IFERROR(IF(VLOOKUP($H294,Récapitulatif!$B$14:$E$24,2,FALSE)=0,\"\",VLOOKUP(H294,Récapitulatif!$B$14:$E$24,2,FALSE)),\"\")","v":""},0,4.5]
[2022,"2022-10-20",{"$f":"IFERROR(IF(VLOOKUP($B295,Récapitulatif!$B$64:$E$68,2,FALSE)=0,\"\",VLOOKUP($B295,Récapitulatif!$B$64:$E$68,2,FALSE)),\"\")","v":""},0,-4.5,null,2022,"2022-10-20",{"$f":"IFERROR(IF(VLOOKUP($H295,Récapitulatif!$B$14:$E$24,2,FALSE)=0,\"\",VLOOKUP(H295,Récapitulatif!$B$14:$E$24,2,FALSE)),\"\")","v":""},0,4.5]
[2022,"2022-10-21",{"$f":"IFERROR(IF(VLOOKUP($B296,Récapitulatif!$B$64:$E$68,2,FALSE)=0,\"\",VLOOKUP($B296,Récapitulatif!$B$64:$E$68,2,FALSE)),\"\")","v":""},0,-4.5,null,2022,"2022-10-21",{"$f":"IFERROR(IF(VLOOKUP($H296,Récapitulatif!$B$14:$E$24,2,FALSE)=0,\"\",VLOOKUP(H296,Récapitulatif!$B$14:$E$24,2,FALSE)),\"\")","v":""},0,4.5]
[2022,"2022-10-22",{"$f":"IFERROR(IF(VLOOKUP($B297,Récapitulatif!$B$64:$E$68,2,FALSE)=0,\"\",VLOOKUP($B297,Récapitulatif!$B$64:$E$68,2,FALSE)),\"\")","v":""},0,-4.5,null,2022,"2022-10-22",{"$f":"IFERROR(IF(VLOOKUP($H297,Récapitulatif!$B$14:$E$24,2,FALSE)=0,\"\",VLOOKUP(H297,Récapitulatif!$B$14:$E$24,2,FALSE)),\"\")","v":""},0,4.5]
[2022,"2022-10-23",{"$f":"IFERROR(IF(VLOOKUP($B298,Récapitulatif!$B$64:$E$68,2,FALSE)=0,\"\",VLOOKUP($B298,Récapitulatif!$B$64:$E$68,2,FALSE)),\"\")","v":""},0,-4.5,null,2022,"2022-10-23",{"$f":"IFERROR(IF(VLOOKUP($H298,Récapitulatif!$B$14:$E$24,2,FALSE)=0,\"\",VLOOKUP(H298,Récapitulatif!$B$14:$E$24,2,FALSE)),\"\")","v":""},0,4.5]
[2022,"2022-10-24",{"$f":"IFERROR(IF(VLOOKUP($B299,Récapitulatif!$B$64:$E$68,2,FALSE)=0,\"\",VLOOKUP($B299,Récapitulatif!$B$64:$E$68,2,FALSE)),\"\")","v":""},0,-4.5,null,2022,"2022-10-24",{"$f":"IFERROR(IF(VLOOKUP($H299,Récapitulatif!$B$14:$E$24,2,FALSE)=0,\"\",VLOOKUP(H299,Récapitulatif!$B$14:$E$24,2,FALSE)),\"\")","v":""},0,4.5]
[2022,"2022-10-25",{"$f":"IFERROR(IF(VLOOKUP($B300,Récapitulatif!$B$64:$E$68,2,FALSE)=0,\"\",VLOOKUP($B300,Récapitulatif!$B$64:$E$68,2,FALSE)),\"\")","v":""},0,-4.5,null,2022,"2022-10-25",{"$f":"IFERROR(IF(VLOOKUP($H300,Récapitulatif!$B$14:$E$24,2,FALSE)=0,\"\",VLOOKUP(H300,Récapitulatif!$B$14:$E$24,2,FALSE)),\"\")","v":""},0,4.5]
[2022,"2022-10-26",{"$f":"IFERROR(IF(VLOOKUP($B301,Récapitulatif!$B$64:$E$68,2,FALSE)=0,\"\",VLOOKUP($B301,Récapitulatif!$B$64:$E$68,2,FALSE)),\"\")","v":""},0,-4.5,null,2022,"2022-10-26",{"$f":"IFERROR(IF(VLOOKUP($H301,Récapitulatif!$B$14:$E$24,2,FALSE)=0,\"\",VLOOKUP(H301,Récapitulatif!$B$14:$E$24,2,FALSE)),\"\")","v":""},0,4.5]
[2022,"2022-10-27",{"$f":"IFERROR(IF(VLOOKUP($B302,Récapitulatif!$B$64:$E$68,2,FALSE)=0,\"\",VLOOKUP($B302,Récapitulatif!$B$64:$E$68,2,FALSE)),\"\")","v":""},0,-4.5,null,2022,"2022-10-27",{"$f":"IFERROR(IF(VLOOKUP($H302,Récapitulatif!$B$14:$E$24,2,FALSE)=0,\"\",VLOOKUP(H302,Récapitulatif!$B$14:$E$24,2,FALSE)),\"\")","v":""},0,4.5]
[2022,"2022-10-28",{"$f":"IFERROR(IF(VLOOKUP($B303,Récapitulatif!$B$64:$E$68,2,FALSE)=0,\"\",VLOOKUP($B303,Récapitulatif!$B$64:$E$68,2,FALSE)),\"\")","v":""},0,-4.5,null,2022,"2022-10-28",{"$f":"IFERROR(IF(VLOOKUP($H303,Récapitulatif!$B$14:$E$24,2,FALSE)=0,\"\",VLOOKUP(H303,Récapitulatif!$B$14:$E$24,2,FALSE)),\"\")","v":""},0,4.5]
[2022,"2022-10-29",{"$f":"IFERROR(IF(VLOOKUP($B304,Récapitulatif!$B$64:$E$68,2,FALSE)=0,\"\",VLOOKUP($B304,Récapitulatif!$B$64:$E$68,2,FALSE)),\"\")","v":""},0,-4.5,null,2022,"2022-10-29",{"$f":"IFERROR(IF(VLOOKUP($H304,Récapitulatif!$B$14:$E$24,2,FALSE)=0,\"\",VLOOKUP(H304,Récapitulatif!$B$14:$E$24,2,FALSE)),\"\")","v":""},0,4.5]
[2022,"2022-10-30",{"$f":"IFERROR(IF(VLOOKUP($B305,Récapitulatif!$B$64:$E$68,2,FALSE)=0,\"\",VLOOKUP($B305,Récapitulatif!$B$64:$E$68,2,FALSE)),\"\")","v":""},0,-4.5,null,2022,"2022-10-30",{"$f":"IFERROR(IF(VLOOKUP($H305,Récapitulatif!$B$14:$E$24,2,FALSE)=0,\"\",VLOOKUP(H305,Récapitulatif!$B$14:$E$24,2,FALSE)),\"\")","v":""},0,4.5]
[2022,"2022-10-31",{"$f":"IFERROR(IF(VLOOKUP($B306,Récapitulatif!$B$64:$E$68,2,FALSE)=0,\"\",VLOOKUP($B306,Récapitulatif!$B$64:$E$68,2,FALSE)),\"\")","v":""},0,-4.5,null,2022,"2022-10-31",{"$f":"IFERROR(IF(VLOOKUP($H306,Récapitulatif!$B$14:$E$24,2,FALSE)=0,\"\",VLOOKUP(H306,Récapitulatif!$B$14:$E$24,2,FALSE)),\"\")","v":""},0,4.5]
[2022,"2022-11-01",{"$f":"IFERROR(IF(VLOOKUP($B307,Récapitulatif!$B$64:$E$68,2,FALSE)=0,\"\",VLOOKUP($B307,Récapitulatif!$B$64:$E$68,2,FALSE)),\"\")","v":""},0,-13.5,null,2022,"2022-11-01",{"$f":"IFERROR(IF(VLOOKUP($H307,Récapitulatif!$B$14:$E$24,2,FALSE)=0,\"\",VLOOKUP(H307,Récapitulatif!$B$14:$E$24,2,FALSE)),\"\")","v":""},0,13.5]
[2022,"2022-11-02",{"$f":"IFERROR(IF(VLOOKUP($B308,Récapitulatif!$B$64:$E$68,2,FALSE)=0,\"\",VLOOKUP($B308,Récapitulatif!$B$64:$E$68,2,FALSE)),\"\")","v":""},0,-13.5,null,2022,"2022-11-02",{"$f":"IFERROR(IF(VLOOKUP($H308,Récapitulatif!$B$14:$E$24,2,FALSE)=0,\"\",VLOOKUP(H308,Récapitulatif!$B$14:$E$24,2,FALSE)),\"\")","v":""},0,13.5]
[2022,"2022-11-03",{"$f":"IFERROR(IF(VLOOKUP($B309,Récapitulatif!$B$64:$E$68,2,FALSE)=0,\"\",VLOOKUP($B309,Récapitulatif!$B$64:$E$68,2,FALSE)),\"\")","v":""},0,-13.5,null,2022,"2022-11-03",{"$f":"IFERROR(IF(VLOOKUP($H309,Récapitulatif!$B$14:$E$24,2,FALSE)=0,\"\",VLOOKUP(H309,Récapitulatif!$B$14:$E$24,2,FALSE)),\"\")","v":""},0,13.5]
[2022,"2022-11-04",{"$f":"IFERROR(IF(VLOOKUP($B310,Récapitulatif!$B$64:$E$68,2,FALSE)=0,\"\",VLOOKUP($B310,Récapitulatif!$B$64:$E$68,2,FALSE)),\"\")","v":""},0,-13.5,null,2022,"2022-11-04",{"$f":"IFERROR(IF(VLOOKUP($H310,Récapitulatif!$B$14:$E$24,2,FALSE)=0,\"\",VLOOKUP(H310,Récapitulatif!$B$14:$E$24,2,FALSE)),\"\")","v":""},0,13.5]
[2022,"2022-11-05",{"$f":"IFERROR(IF(VLOOKUP($B311,Récapitulatif!$B$64:$E$68,2,FALSE)=0,\"\",VLOOKUP($B311,Récapitulatif!$B$64:$E$68,2,FALSE)),\"\")","v":""},0,-13.5,null,2022,"2022-11-05",{"$f":"IFERROR(IF(VLOOKUP($H311,Récapitulatif!$B$14:$E$24,2,FALSE)=0,\"\",VLOOKUP(H311,Récapitulatif!$B$14:$E$24,2,FALSE)),\"\")","v":""},0,13.5]
[2022,"2022-11-06",{"$f":"IFERROR(IF(VLOOKUP($B312,Récapitulatif!$B$64:$E$68,2,FALSE)=0,\"\",VLOOKUP($B312,Récapitulatif!$B$64:$E$68,2,FALSE)),\"\")","v":""},0,-13.5,null,2022,"2022-11-06",{"$f":"IFERROR(IF(VLOOKUP($H312,Récapitulatif!$B$14:$E$24,2,FALSE)=0,\"\",VLOOKUP(H312,Récapitulatif!$B$14:$E$24,2,FALSE)),\"\")","v":""},0,13.5]
[2022,"2022-11-07",{"$f":"IFERROR(IF(VLOOKUP($B313,Récapitulatif!$B$64:$E$68,2,FALSE)=0,\"\",VLOOKUP($B313,Récapitulatif!$B$64:$E$68,2,FALSE)),\"\")","v":""},0,-13.5,null,2022,"2022-11-07",{"$f":"IFERROR(IF(VLOOKUP($H313,Récapitulatif!$B$14:$E$24,2,FALSE)=0,\"\",VLOOKUP(H313,Récapitulatif!$B$14:$E$24,2,FALSE)),\"\")","v":""},0,13.5]
[2022,"2022-11-08",{"$f":"IFERROR(IF(VLOOKUP($B314,Récapitulatif!$B$64:$E$68,2,FALSE)=0,\"\",VLOOKUP($B314,Récapitulatif!$B$64:$E$68,2,FALSE)),\"\")","v":""},0,-13.5,null,2022,"2022-11-08",{"$f":"IFERROR(IF(VLOOKUP($H314,Récapitulatif!$B$14:$E$24,2,FALSE)=0,\"\",VLOOKUP(H314,Récapitulatif!$B$14:$E$24,2,FALSE)),\"\")","v":""},0,13.5]
[2022,"2022-11-09",{"$f":"IFERROR(IF(VLOOKUP($B315,Récapitulatif!$B$64:$E$68,2,FALSE)=0,\"\",VLOOKUP($B315,Récapitulatif!$B$64:$E$68,2,FALSE)),\"\")","v":""},0,-13.5,null,2022,"2022-11-09",{"$f":"IFERROR(IF(VLOOKUP($H315,Récapitulatif!$B$14:$E$24,2,FALSE)=0,\"\",VLOOKUP(H315,Récapitulatif!$B$14:$E$24,2,FALSE)),\"\")","v":""},0,13.5]
[2022,"2022-11-10",{"$f":"IFERROR(IF(VLOOKUP($B316,Récapitulatif!$B$64:$E$68,2,FALSE)=0,\"\",VLOOKUP($B316,Récapitulatif!$B$64:$E$68,2,FALSE)),\"\")","v":""},0,-13.5,null,2022,"2022-11-10",{"$f":"IFERROR(IF(VLOOKUP($H316,Récapitulatif!$B$14:$E$24,2,FALSE)=0,\"\",VLOOKUP(H316,Récapitulatif!$B$14:$E$24,2,FALSE)),\"\")","v":""},0,13.5]
[2022,"2022-11-11",{"$f":"IFERROR(IF(VLOOKUP($B317,Récapitulatif!$B$64:$E$68,2,FALSE)=0,\"\",VLOOKUP($B317,Récapitulatif!$B$64:$E$68,2,FALSE)),\"\")","v":""},0,-13.5,null,2022,"2022-11-11",{"$f":"IFERROR(IF(VLOOKUP($H317,Récapitulatif!$B$14:$E$24,2,FALSE)=0,\"\",VLOOKUP(H317,Récapitulatif!$B$14:$E$24,2,FALSE)),\"\")","v":""},0,13.5]
[2022,"2022-11-12",{"$f":"IFERROR(IF(VLOOKUP($B318,Récapitulatif!$B$64:$E$68,2,FALSE)=0,\"\",VLOOKUP($B318,Récapitulatif!$B$64:$E$68,2,FALSE)),\"\")","v":""},0,-13.5,null,2022,"2022-11-12",{"$f":"IFERROR(IF(VLOOKUP($H318,Récapitulatif!$B$14:$E$24,2,FALSE)=0,\"\",VLOOKUP(H318,Récapitulatif!$B$14:$E$24,2,FALSE)),\"\")","v":""},0,13.5]
[2022,"2022-11-13",{"$f":"IFERROR(IF(VLOOKUP($B319,Récapitulatif!$B$64:$E$68,2,FALSE)=0,\"\",VLOOKUP($B319,Récapitulatif!$B$64:$E$68,2,FALSE)),\"\")","v":""},0,-13.5,null,2022,"2022-11-13",{"$f":"IFERROR(IF(VLOOKUP($H319,Récapitulatif!$B$14:$E$24,2,FALSE)=0,\"\",VLOOKUP(H319,Récapitulatif!$B$14:$E$24,2,FALSE)),\"\")","v":""},0,13.5]
[2022,"2022-11-14",{"$f":"IFERROR(IF(VLOOKUP($B320,Récapitulatif!$B$64:$E$68,2,FALSE)=0,\"\",VLOOKUP($B320,Récapitulatif!$B$64:$E$68,2,FALSE)),\"\")","v":""},0,-13.5,null,2022,"2022-11-14",{"$f":"IFERROR(IF(VLOOKUP($H320,Récapitulatif!$B$14:$E$24,2,FALSE)=0,\"\",VLOOKUP(H320,Récapitulatif!$B$14:$E$24,2,FALSE)),\"\")","v":""},0,13.5]
[2022,"2022-11-15",{"$f":"IFERROR(IF(VLOOKUP($B321,Récapitulatif!$B$64:$E$68,2,FALSE)=0,\"\",VLOOKUP($B321,Récapitulatif!$B$64:$E$68,2,FALSE)),\"\")","v":""},0,-13.5,null,2022,"2022-11-15",{"$f":"IFERROR(IF(VLOOKUP($H321,Récapitulatif!$B$14:$E$24,2,FALSE)=0,\"\",VLOOKUP(H321,Récapitulatif!$B$14:$E$24,2,FALSE)),\"\")","v":""},0,13.5]
[2022,"2022-11-16",{"$f":"IFERROR(IF(VLOOKUP($B322,Récapitulatif!$B$64:$E$68,2,FALSE)=0,\"\",VLOOKUP($B322,Récapitulatif!$B$64:$E$68,2,FALSE)),\"\")","v":""},0,-13.5,null,2022,"2022-11-16",{"$f":"IFERROR(IF(VLOOKUP($H322,Récapitulatif!$B$14:$E$24,2,FALSE)=0,\"\",VLOOKUP(H322,Récapitulatif!$B$14:$E$24,2,FALSE)),\"\")","v":""},0,13.5]
[2022,"2022-11-17",{"$f":"IFERROR(IF(VLOOKUP($B323,Récapitulatif!$B$64:$E$68,2,FALSE)=0,\"\",VLOOKUP($B323,Récapitulatif!$B$64:$E$68,2,FALSE)),\"\")","v":""},0,-13.5,null,2022,"2022-11-17",{"$f":"IFERROR(IF(VLOOKUP($H323,Récapitulatif!$B$14:$E$24,2,FALSE)=0,\"\",VLOOKUP(H323,Récapitulatif!$B$14:$E$24,2,FALSE)),\"\")","v":""},0,13.5]
[2022,"2022-11-18",{"$f":"IFERROR(IF(VLOOKUP($B324,Récapitulatif!$B$64:$E$68,2,FALSE)=0,\"\",VLOOKUP($B324,Récapitulatif!$B$64:$E$68,2,FALSE)),\"\")","v":""},{"$f":"IF($C324=\"\",0,$E324)","v":0},-13.5,null,2022,"2022-11-18",{"$f":"IFERROR(IF(VLOOKUP($H324,Récapitulatif!$B$14:$E$24,2,FALSE)=0,\"\",VLOOKUP(H324,Récapitulatif!$B$14:$E$24,2,FALSE)),\"\")","v":""},{"$f":"IF($I324=\"\",0,$K324)","v":0},13.5]
[{"$f":"YEAR(B325)","v":2022},{"$f":"B324+1","v":"2022-11-19"},{"$f":"IFERROR(IF(VLOOKUP($B325,Récapitulatif!$B$64:$E$68,2,FALSE)=0,\"\",VLOOKUP($B325,Récapitulatif!$B$64:$E$68,2,FALSE)),\"\")","v":""},0,-13.5,null,{"$f":"YEAR(H325)","v":2022},{"$f":"H324+1","v":"2022-11-19"},{"$f":"IFERROR(IF(VLOOKUP($H325,Récapitulatif!$B$14:$E$24,2,FALSE)=0,\"\",VLOOKUP(H325,Récapitulatif!$B$14:$E$24,2,FALSE)),\"\")","v":""},0,13.5]
[2022,"2022-11-20",{"$f":"IFERROR(IF(VLOOKUP($B326,Récapitulatif!$B$64:$E$68,2,FALSE)=0,\"\",VLOOKUP($B326,Récapitulatif!$B$64:$E$68,2,FALSE)),\"\")","v":""},0,-13.5,null,2022,"2022-11-20",{"$f":"IFERROR(IF(VLOOKUP($H326,Récapitulatif!$B$14:$E$24,2,FALSE)=0,\"\",VLOOKUP(H326,Récapitulatif!$B$14:$E$24,2,FALSE)),\"\")","v":""},0,13.5]
[2022,"2022-11-21",{"$f":"IFERROR(IF(VLOOKUP($B327,Récapitulatif!$B$64:$E$68,2,FALSE)=0,\"\",VLOOKUP($B327,Récapitulatif!$B$64:$E$68,2,FALSE)),\"\")","v":""},0,-13.5,null,2022,"2022-11-21",{"$f":"IFERROR(IF(VLOOKUP($H327,Récapitulatif!$B$14:$E$24,2,FALSE)=0,\"\",VLOOKUP(H327,Récapitulatif!$B$14:$E$24,2,FALSE)),\"\")","v":""},0,13.5]
[2022,"2022-11-22",{"$f":"IFERROR(IF(VLOOKUP($B328,Récapitulatif!$B$64:$E$68,2,FALSE)=0,\"\",VLOOKUP($B328,Récapitulatif!$B$64:$E$68,2,FALSE)),\"\")","v":""},0,-13.5,null,2022,"2022-11-22",{"$f":"IFERROR(IF(VLOOKUP($H328,Récapitulatif!$B$14:$E$24,2,FALSE)=0,\"\",VLOOKUP(H328,Récapitulatif!$B$14:$E$24,2,FALSE)),\"\")","v":""},0,13.5]
[2022,"2022-11-23",{"$f":"IFERROR(IF(VLOOKUP($B329,Récapitulatif!$B$64:$E$68,2,FALSE)=0,\"\",VLOOKUP($B329,Récapitulatif!$B$64:$E$68,2,FALSE)),\"\")","v":""},0,-13.5,null,2022,"2022-11-23",{"$f":"IFERROR(IF(VLOOKUP($H329,Récapitulatif!$B$14:$E$24,2,FALSE)=0,\"\",VLOOKUP(H329,Récapitulatif!$B$14:$E$24,2,FALSE)),\"\")","v":""},0,13.5]
[2022,"2022-11-24",{"$f":"IFERROR(IF(VLOOKUP($B330,Récapitulatif!$B$64:$E$68,2,FALSE)=0,\"\",VLOOKUP($B330,Récapitulatif!$B$64:$E$68,2,FALSE)),\"\")","v":""},0,-13.5,null,2022,"2022-11-24",{"$f":"IFERROR(IF(VLOOKUP($H330,Récapitulatif!$B$14:$E$24,2,FALSE)=0,\"\",VLOOKUP(H330,Récapitulatif!$B$14:$E$24,2,FALSE)),\"\")","v":""},0,13.5]
[2022,"2022-11-25",{"$f":"IFERROR(IF(VLOOKUP($B331,Récapitulatif!$B$64:$E$68,2,FALSE)=0,\"\",VLOOKUP($B331,Récapitulatif!$B$64:$E$68,2,FALSE)),\"\")","v":""},0,-13.5,null,2022,"2022-11-25",{"$f":"IFERROR(IF(VLOOKUP($H331,Récapitulatif!$B$14:$E$24,2,FALSE)=0,\"\",VLOOKUP(H331,Récapitulatif!$B$14:$E$24,2,FALSE)),\"\")","v":""},0,13.5]
[2022,"2022-11-26",{"$f":"IFERROR(IF(VLOOKUP($B332,Récapitulatif!$B$64:$E$68,2,FALSE)=0,\"\",VLOOKUP($B332,Récapitulatif!$B$64:$E$68,2,FALSE)),\"\")","v":""},0,-13.5,null,2022,"2022-11-26",{"$f":"IFERROR(IF(VLOOKUP($H332,Récapitulatif!$B$14:$E$24,2,FALSE)=0,\"\",VLOOKUP(H332,Récapitulatif!$B$14:$E$24,2,FALSE)),\"\")","v":""},0,13.5]
[2022,"2022-11-27",{"$f":"IFERROR(IF(VLOOKUP($B333,Récapitulatif!$B$64:$E$68,2,FALSE)=0,\"\",VLOOKUP($B333,Récapitulatif!$B$64:$E$68,2,FALSE)),\"\")","v":""},0,-13.5,null,2022,"2022-11-27",{"$f":"IFERROR(IF(VLOOKUP($H333,Récapitulatif!$B$14:$E$24,2,FALSE)=0,\"\",VLOOKUP(H333,Récapitulatif!$B$14:$E$24,2,FALSE)),\"\")","v":""},0,13.5]
[2022,"2022-11-28",{"$f":"IFERROR(IF(VLOOKUP($B334,Récapitulatif!$B$64:$E$68,2,FALSE)=0,\"\",VLOOKUP($B334,Récapitulatif!$B$64:$E$68,2,FALSE)),\"\")","v":""},0,-13.5,null,2022,"2022-11-28",{"$f":"IFERROR(IF(VLOOKUP($H334,Récapitulatif!$B$14:$E$24,2,FALSE)=0,\"\",VLOOKUP(H334,Récapitulatif!$B$14:$E$24,2,FALSE)),\"\")","v":""},0,13.5]
[2022,"2022-11-29",{"$f":"IFERROR(IF(VLOOKUP($B335,Récapitulatif!$B$64:$E$68,2,FALSE)=0,\"\",VLOOKUP($B335,Récapitulatif!$B$64:$E$68,2,FALSE)),\"\")","v":""},0,-13.5,null,2022,"2022-11-29",{"$f":"IFERROR(IF(VLOOKUP($H335,Récapitulatif!$B$14:$E$24,2,FALSE)=0,\"\",VLOOKUP(H335,Récapitulatif!$B$14:$E$24,2,FALSE)),\"\")","v":""},0,13.5]
[2022,"2022-11-30",{"$f":"IFERROR(IF(VLOOKUP($B336,Récapitulatif!$B$64:$E$68,2,FALSE)=0,\"\",VLOOKUP($B336,Récapitulatif!$B$64:$E$68,2,FALSE)),\"\")","v":""},0,-13.5,null,2022,"2022-11-30",{"$f":"IFERROR(IF(VLOOKUP($H336,Récapitulatif!$B$14:$E$24,2,FALSE)=0,\"\",VLOOKUP(H336,Récapitulatif!$B$14:$E$24,2,FALSE)),\"\")","v":""},0,13.5]
[2022,"2022-12-01",{"$f":"IFERROR(IF(VLOOKUP($B337,Récapitulatif!$B$64:$E$68,2,FALSE)=0,\"\",VLOOKUP($B337,Récapitulatif!$B$64:$E$68,2,FALSE)),\"\")","v":""},0,-10.5,null,2022,"2022-12-01",{"$f":"IFERROR(IF(VLOOKUP($H337,Récapitulatif!$B$14:$E$24,2,FALSE)=0,\"\",VLOOKUP(H337,Récapitulatif!$B$14:$E$24,2,FALSE)),\"\")","v":""},0,10.5]
[2022,"2022-12-02",{"$f":"IFERROR(IF(VLOOKUP($B338,Récapitulatif!$B$64:$E$68,2,FALSE)=0,\"\",VLOOKUP($B338,Récapitulatif!$B$64:$E$68,2,FALSE)),\"\")","v":""},0,-10.5,null,2022,"2022-12-02",{"$f":"IFERROR(IF(VLOOKUP($H338,Récapitulatif!$B$14:$E$24,2,FALSE)=0,\"\",VLOOKUP(H338,Récapitulatif!$B$14:$E$24,2,FALSE)),\"\")","v":""},0,10.5]
[2022,"2022-12-03",{"$f":"IFERROR(IF(VLOOKUP($B339,Récapitulatif!$B$64:$E$68,2,FALSE)=0,\"\",VLOOKUP($B339,Récapitulatif!$B$64:$E$68,2,FALSE)),\"\")","v":""},0,-10.5,null,2022,"2022-12-03",{"$f":"IFERROR(IF(VLOOKUP($H339,Récapitulatif!$B$14:$E$24,2,FALSE)=0,\"\",VLOOKUP(H339,Récapitulatif!$B$14:$E$24,2,FALSE)),\"\")","v":""},0,10.5]
[2022,"2022-12-04",{"$f":"IFERROR(IF(VLOOKUP($B340,Récapitulatif!$B$64:$E$68,2,FALSE)=0,\"\",VLOOKUP($B340,Récapitulatif!$B$64:$E$68,2,FALSE)),\"\")","v":""},0,-10.5,null,2022,"2022-12-04",{"$f":"IFERROR(IF(VLOOKUP($H340,Récapitulatif!$B$14:$E$24,2,FALSE)=0,\"\",VLOOKUP(H340,Récapitulatif!$B$14:$E$24,2,FALSE)),\"\")","v":""},0,10.5]
[2022,"2022-12-05",{"$f":"IFERROR(IF(VLOOKUP($B341,Récapitulatif!$B$64:$E$68,2,FALSE)=0,\"\",VLOOKUP($B341,Récapitulatif!$B$64:$E$68,2,FALSE)),\"\")","v":""},0,-10.5,null,2022,"2022-12-05",{"$f":"IFERROR(IF(VLOOKUP($H341,Récapitulatif!$B$14:$E$24,2,FALSE)=0,\"\",VLOOKUP(H341,Récapitulatif!$B$14:$E$24,2,FALSE)),\"\")","v":""},0,10.5]
[2022,"2022-12-06",{"$f":"IFERROR(IF(VLOOKUP($B342,Récapitulatif!$B$64:$E$68,2,FALSE)=0,\"\",VLOOKUP($B342,Récapitulatif!$B$64:$E$68,2,FALSE)),\"\")","v":""},0,-10.5,null,2022,"2022-12-06",{"$f":"IFERROR(IF(VLOOKUP($H342,Récapitulatif!$B$14:$E$24,2,FALSE)=0,\"\",VLOOKUP(H342,Récapitulatif!$B$14:$E$24,2,FALSE)),\"\")","v":""},0,10.5]
[2022,"2022-12-07",{"$f":"IFERROR(IF(VLOOKUP($B343,Récapitulatif!$B$64:$E$68,2,FALSE)=0,\"\",VLOOKUP($B343,Récapitulatif!$B$64:$E$68,2,FALSE)),\"\")","v":""},0,-10.5,null,2022,"2022-12-07",{"$f":"IFERROR(IF(VLOOKUP($H343,Récapitulatif!$B$14:$E$24,2,FALSE)=0,\"\",VLOOKUP(H343,Récapitulatif!$B$14:$E$24,2,FALSE)),\"\")","v":""},0,10.5]
[2022,"2022-12-08",{"$f":"IFERROR(IF(VLOOKUP($B344,Récapitulatif!$B$64:$E$68,2,FALSE)=0,\"\",VLOOKUP($B344,Récapitulatif!$B$64:$E$68,2,FALSE)),\"\")","v":""},0,-10.5,null,2022,"2022-12-08",{"$f":"IFERROR(IF(VLOOKUP($H344,Récapitulatif!$B$14:$E$24,2,FALSE)=0,\"\",VLOOKUP(H344,Récapitulatif!$B$14:$E$24,2,FALSE)),\"\")","v":""},0,10.5]
[2022,"2022-12-09",{"$f":"IFERROR(IF(VLOOKUP($B345,Récapitulatif!$B$64:$E$68,2,FALSE)=0,\"\",VLOOKUP($B345,Récapitulatif!$B$64:$E$68,2,FALSE)),\"\")","v":""},0,-10.5,null,2022,"2022-12-09",{"$f":"IFERROR(IF(VLOOKUP($H345,Récapitulatif!$B$14:$E$24,2,FALSE)=0,\"\",VLOOKUP(H345,Récapitulatif!$B$14:$E$24,2,FALSE)),\"\")","v":""},0,10.5]
[2022,"2022-12-10",{"$f":"IFERROR(IF(VLOOKUP($B346,Récapitulatif!$B$64:$E$68,2,FALSE)=0,\"\",VLOOKUP($B346,Récapitulatif!$B$64:$E$68,2,FALSE)),\"\")","v":""},0,-10.5,null,2022,"2022-12-10",{"$f":"IFERROR(IF(VLOOKUP($H346,Récapitulatif!$B$14:$E$24,2,FALSE)=0,\"\",VLOOKUP(H346,Récapitulatif!$B$14:$E$24,2,FALSE)),\"\")","v":""},0,10.5]
[2022,"2022-12-11",{"$f":"IFERROR(IF(VLOOKUP($B347,Récapitulatif!$B$64:$E$68,2,FALSE)=0,\"\",VLOOKUP($B347,Récapitulatif!$B$64:$E$68,2,FALSE)),\"\")","v":""},0,-10.5,null,2022,"2022-12-11",{"$f":"IFERROR(IF(VLOOKUP($H347,Récapitulatif!$B$14:$E$24,2,FALSE)=0,\"\",VLOOKUP(H347,Récapitulatif!$B$14:$E$24,2,FALSE)),\"\")","v":""},0,10.5]
[2022,"2022-12-12",{"$f":"IFERROR(IF(VLOOKUP($B348,Récapitulatif!$B$64:$E$68,2,FALSE)=0,\"\",VLOOKUP($B348,Récapitulatif!$B$64:$E$68,2,FALSE)),\"\")","v":""},0,-10.5,null,2022,"2022-12-12",{"$f":"IFERROR(IF(VLOOKUP($H348,Récapitulatif!$B$14:$E$24,2,FALSE)=0,\"\",VLOOKUP(H348,Récapitulatif!$B$14:$E$24,2,FALSE)),\"\")","v":""},0,10.5]
[2022,"2022-12-13",{"$f":"IFERROR(IF(VLOOKUP($B349,Récapitulatif!$B$64:$E$68,2,FALSE)=0,\"\",VLOOKUP($B349,Récapitulatif!$B$64:$E$68,2,FALSE)),\"\")","v":""},0,-10.5,null,2022,"2022-12-13",{"$f":"IFERROR(IF(VLOOKUP($H349,Récapitulatif!$B$14:$E$24,2,FALSE)=0,\"\",VLOOKUP(H349,Récapitulatif!$B$14:$E$24,2,FALSE)),\"\")","v":""},0,10.5]
[2022,"2022-12-14",{"$f":"IFERROR(IF(VLOOKUP($B350,Récapitulatif!$B$64:$E$68,2,FALSE)=0,\"\",VLOOKUP($B350,Récapitulatif!$B$64:$E$68,2,FALSE)),\"\")","v":""},0,-10.5,null,2022,"2022-12-14",{"$f":"IFERROR(IF(VLOOKUP($H350,Récapitulatif!$B$14:$E$24,2,FALSE)=0,\"\",VLOOKUP(H350,Récapitulatif!$B$14:$E$24,2,FALSE)),\"\")","v":""},0,10.5]
[2022,"2022-12-15",{"$f":"IFERROR(IF(VLOOKUP($B351,Récapitulatif!$B$64:$E$68,2,FALSE)=0,\"\",VLOOKUP($B351,Récapitulatif!$B$64:$E$68,2,FALSE)),\"\")","v":""},0,-10.5,null,2022,"2022-12-15",{"$f":"IFERROR(IF(VLOOKUP($H351,Récapitulatif!$B$14:$E$24,2,FALSE)=0,\"\",VLOOKUP(H351,Récapitulatif!$B$14:$E$24,2,FALSE)),\"\")","v":""},0,10.5]
[2022,"2022-12-16",{"$f":"IFERROR(IF(VLOOKUP($B352,Récapitulatif!$B$64:$E$68,2,FALSE)=0,\"\",VLOOKUP($B352,Récapitulatif!$B$64:$E$68,2,FALSE)),\"\")","v":""},0,-10.5,null,2022,"2022-12-16",{"$f":"IFERROR(IF(VLOOKUP($H352,Récapitulatif!$B$14:$E$24,2,FALSE)=0,\"\",VLOOKUP(H352,Récapitulatif!$B$14:$E$24,2,FALSE)),\"\")","v":""},0,10.5]
[2022,"2022-12-17",{"$f":"IFERROR(IF(VLOOKUP($B353,Récapitulatif!$B$64:$E$68,2,FALSE)=0,\"\",VLOOKUP($B353,Récapitulatif!$B$64:$E$68,2,FALSE)),\"\")","v":""},0,-10.5,null,2022,"2022-12-17",{"$f":"IFERROR(IF(VLOOKUP($H353,Récapitulatif!$B$14:$E$24,2,FALSE)=0,\"\",VLOOKUP(H353,Récapitulatif!$B$14:$E$24,2,FALSE)),\"\")","v":""},0,10.5]
[2022,"2022-12-18",{"$f":"IFERROR(IF(VLOOKUP($B354,Récapitulatif!$B$64:$E$68,2,FALSE)=0,\"\",VLOOKUP($B354,Récapitulatif!$B$64:$E$68,2,FALSE)),\"\")","v":""},0,-10.5,null,2022,"2022-12-18",{"$f":"IFERROR(IF(VLOOKUP($H354,Récapitulatif!$B$14:$E$24,2,FALSE)=0,\"\",VLOOKUP(H354,Récapitulatif!$B$14:$E$24,2,FALSE)),\"\")","v":""},0,10.5]
[2022,"2022-12-19",{"$f":"IFERROR(IF(VLOOKUP($B355,Récapitulatif!$B$64:$E$68,2,FALSE)=0,\"\",VLOOKUP($B355,Récapitulatif!$B$64:$E$68,2,FALSE)),\"\")","v":""},0,-10.5,null,2022,"2022-12-19",{"$f":"IFERROR(IF(VLOOKUP($H355,Récapitulatif!$B$14:$E$24,2,FALSE)=0,\"\",VLOOKUP(H355,Récapitulatif!$B$14:$E$24,2,FALSE)),\"\")","v":""},0,10.5]
[2022,"2022-12-20",{"$f":"IFERROR(IF(VLOOKUP($B356,Récapitulatif!$B$64:$E$68,2,FALSE)=0,\"\",VLOOKUP($B356,Récapitulatif!$B$64:$E$68,2,FALSE)),\"\")","v":""},0,-10.5,null,2022,"2022-12-20",{"$f":"IFERROR(IF(VLOOKUP($H356,Récapitulatif!$B$14:$E$24,2,FALSE)=0,\"\",VLOOKUP(H356,Récapitulatif!$B$14:$E$24,2,FALSE)),\"\")","v":""},0,10.5]
[2022,"2022-12-21",{"$f":"IFERROR(IF(VLOOKUP($B357,Récapitulatif!$B$64:$E$68,2,FALSE)=0,\"\",VLOOKUP($B357,Récapitulatif!$B$64:$E$68,2,FALSE)),\"\")","v":""},0,-10.5,null,2022,"2022-12-21",{"$f":"IFERROR(IF(VLOOKUP($H357,Récapitulatif!$B$14:$E$24,2,FALSE)=0,\"\",VLOOKUP(H357,Récapitulatif!$B$14:$E$24,2,FALSE)),\"\")","v":""},0,10.5]
[2022,"2022-12-22",{"$f":"IFERROR(IF(VLOOKUP($B358,Récapitulatif!$B$64:$E$68,2,FALSE)=0,\"\",VLOOKUP($B358,Récapitulatif!$B$64:$E$68,2,FALSE)),\"\")","v":""},0,-10.5,null,2022,"2022-12-22",{"$f":"IFERROR(IF(VLOOKUP($H358,Récapitulatif!$B$14:$E$24,2,FALSE)=0,\"\",VLOOKUP(H358,Récapitulatif!$B$14:$E$24,2,FALSE)),\"\")","v":""},0,10.5]
[2022,"2022-12-23",{"$f":"IFERROR(IF(VLOOKUP($B359,Récapitulatif!$B$64:$E$68,2,FALSE)=0,\"\",VLOOKUP($B359,Récapitulatif!$B$64:$E$68,2,FALSE)),\"\")","v":""},0,-10.5,null,2022,"2022-12-23",{"$f":"IFERROR(IF(VLOOKUP($H359,Récapitulatif!$B$14:$E$24,2,FALSE)=0,\"\",VLOOKUP(H359,Récapitulatif!$B$14:$E$24,2,FALSE)),\"\")","v":""},0,10.5]
[2022,"2022-12-24",{"$f":"IFERROR(IF(VLOOKUP($B360,Récapitulatif!$B$64:$E$68,2,FALSE)=0,\"\",VLOOKUP($B360,Récapitulatif!$B$64:$E$68,2,FALSE)),\"\")","v":""},0,-10.5,null,2022,"2022-12-24",{"$f":"IFERROR(IF(VLOOKUP($H360,Récapitulatif!$B$14:$E$24,2,FALSE)=0,\"\",VLOOKUP(H360,Récapitulatif!$B$14:$E$24,2,FALSE)),\"\")","v":""},0,10.5]
[2022,"2022-12-25",{"$f":"IFERROR(IF(VLOOKUP($B361,Récapitulatif!$B$64:$E$68,2,FALSE)=0,\"\",VLOOKUP($B361,Récapitulatif!$B$64:$E$68,2,FALSE)),\"\")","v":""},0,-10.5,null,2022,"2022-12-25",{"$f":"IFERROR(IF(VLOOKUP($H361,Récapitulatif!$B$14:$E$24,2,FALSE)=0,\"\",VLOOKUP(H361,Récapitulatif!$B$14:$E$24,2,FALSE)),\"\")","v":""},0,10.5]
[2022,"2022-12-26",{"$f":"IFERROR(IF(VLOOKUP($B362,Récapitulatif!$B$64:$E$68,2,FALSE)=0,\"\",VLOOKUP($B362,Récapitulatif!$B$64:$E$68,2,FALSE)),\"\")","v":""},0,-10.5,null,2022,"2022-12-26",{"$f":"IFERROR(IF(VLOOKUP($H362,Récapitulatif!$B$14:$E$24,2,FALSE)=0,\"\",VLOOKUP(H362,Récapitulatif!$B$14:$E$24,2,FALSE)),\"\")","v":""},0,10.5]
[2022,"2022-12-27",{"$f":"IFERROR(IF(VLOOKUP($B363,Récapitulatif!$B$64:$E$68,2,FALSE)=0,\"\",VLOOKUP($B363,Récapitulatif!$B$64:$E$68,2,FALSE)),\"\")","v":""},0,-10.5,null,2022,"2022-12-27",{"$f":"IFERROR(IF(VLOOKUP($H363,Récapitulatif!$B$14:$E$24,2,FALSE)=0,\"\",VLOOKUP(H363,Récapitulatif!$B$14:$E$24,2,FALSE)),\"\")","v":""},0,10.5]
[2022,"2022-12-28",{"$f":"IFERROR(IF(VLOOKUP($B364,Récapitulatif!$B$64:$E$68,2,FALSE)=0,\"\",VLOOKUP($B364,Récapitulatif!$B$64:$E$68,2,FALSE)),\"\")","v":""},0,-10.5,null,2022,"2022-12-28",{"$f":"IFERROR(IF(VLOOKUP($H364,Récapitulatif!$B$14:$E$24,2,FALSE)=0,\"\",VLOOKUP(H364,Récapitulatif!$B$14:$E$24,2,FALSE)),\"\")","v":""},0,10.5]
[2022,"2022-12-29",{"$f":"IFERROR(IF(VLOOKUP($B365,Récapitulatif!$B$64:$E$68,2,FALSE)=0,\"\",VLOOKUP($B365,Récapitulatif!$B$64:$E$68,2,FALSE)),\"\")","v":""},0,-10.5,null,2022,"2022-12-29",{"$f":"IFERROR(IF(VLOOKUP($H365,Récapitulatif!$B$14:$E$24,2,FALSE)=0,\"\",VLOOKUP(H365,Récapitulatif!$B$14:$E$24,2,FALSE)),\"\")","v":""},0,10.5]
[2022,"2022-12-30",{"$f":"IFERROR(IF(VLOOKUP($B366,Récapitulatif!$B$64:$E$68,2,FALSE)=0,\"\",VLOOKUP($B366,Récapitulatif!$B$64:$E$68,2,FALSE)),\"\")","v":""},0,-10.5,null,2022,"2022-12-30",{"$f":"IFERROR(IF(VLOOKUP($H366,Récapitulatif!$B$14:$E$24,2,FALSE)=0,\"\",VLOOKUP(H366,Récapitulatif!$B$14:$E$24,2,FALSE)),\"\")","v":""},0,10.5]
[2022,"2022-12-31",{"$f":"IFERROR(IF(VLOOKUP($B367,Récapitulatif!$B$64:$E$68,2,FALSE)=0,\"\",VLOOKUP($B367,Récapitulatif!$B$64:$E$68,2,FALSE)),\"\")","v":""},0,-10.5,null,2022,"2022-12-31",{"$f":"IFERROR(IF(VLOOKUP($H367,Récapitulatif!$B$14:$E$24,2,FALSE)=0,\"\",VLOOKUP(H367,Récapitulatif!$B$14:$E$24,2,FALSE)),\"\")","v":""},0,10.5]
[2023,"2023-01-01",{"$f":"IFERROR(IF(VLOOKUP($B368,Récapitulatif!$F$64:$I$68,2,FALSE)=0,\"\",VLOOKUP($B368,Récapitulatif!$F$64:$I$68,2,FALSE)),\"\")","v":""},0,-3.5,null,2023,"2023-01-01",{"$f":"IFERROR(IF(VLOOKUP($H368,Récapitulatif!$F$14:$I$24,2,FALSE)=0,\"\",VLOOKUP(H368,Récapitulatif!$F$14:$I$24,2,FALSE)),\"\")","v":""},0,3.5]
[2023,"2023-01-02",{"$f":"IFERROR(IF(VLOOKUP($B369,Récapitulatif!$F$64:$I$68,2,FALSE)=0,\"\",VLOOKUP($B369,Récapitulatif!$F$64:$I$68,2,FALSE)),\"\")","v":""},0,-3.5,null,2023,"2023-01-02",{"$f":"IFERROR(IF(VLOOKUP($H369,Récapitulatif!$F$14:$I$24,2,FALSE)=0,\"\",VLOOKUP(H369,Récapitulatif!$F$14:$I$24,2,FALSE)),\"\")","v":""},0,3.5]
[2023,"2023-01-03",{"$f":"IFERROR(IF(VLOOKUP($B370,Récapitulatif!$F$64:$I$68,2,FALSE)=0,\"\",VLOOKUP($B370,Récapitulatif!$F$64:$I$68,2,FALSE)),\"\")","v":""},0,-3.5,null,2023,"2023-01-03",{"$f":"IFERROR(IF(VLOOKUP($H370,Récapitulatif!$F$14:$I$24,2,FALSE)=0,\"\",VLOOKUP(H370,Récapitulatif!$F$14:$I$24,2,FALSE)),\"\")","v":""},0,3.5]
[2023,"2023-01-04",{"$f":"IFERROR(IF(VLOOKUP($B371,Récapitulatif!$F$64:$I$68,2,FALSE)=0,\"\",VLOOKUP($B371,Récapitulatif!$F$64:$I$68,2,FALSE)),\"\")","v":""},0,-3.5,null,2023,"2023-01-04",{"$f":"IFERROR(IF(VLOOKUP($H371,Récapitulatif!$F$14:$I$24,2,FALSE)=0,\"\",VLOOKUP(H371,Récapitulatif!$F$14:$I$24,2,FALSE)),\"\")","v":""},0,3.5]
[2023,"2023-01-05",{"$f":"IFERROR(IF(VLOOKUP($B372,Récapitulatif!$F$64:$I$68,2,FALSE)=0,\"\",VLOOKUP($B372,Récapitulatif!$F$64:$I$68,2,FALSE)),\"\")","v":""},0,-3.5,null,2023,"2023-01-05",{"$f":"IFERROR(IF(VLOOKUP($H372,Récapitulatif!$F$14:$I$24,2,FALSE)=0,\"\",VLOOKUP(H372,Récapitulatif!$F$14:$I$24,2,FALSE)),\"\")","v":""},0,3.5]
[2023,"2023-01-06",{"$f":"IFERROR(IF(VLOOKUP($B373,Récapitulatif!$F$64:$I$68,2,FALSE)=0,\"\",VLOOKUP($B373,Récapitulatif!$F$64:$I$68,2,FALSE)),\"\")","v":""},0,-3.5,null,2023,"2023-01-06",{"$f":"IFERROR(IF(VLOOKUP($H373,Récapitulatif!$F$14:$I$24,2,FALSE)=0,\"\",VLOOKUP(H373,Récapitulatif!$F$14:$I$24,2,FALSE)),\"\")","v":""},0,3.5]
[2023,"2023-01-07",{"$f":"IFERROR(IF(VLOOKUP($B374,Récapitulatif!$F$64:$I$68,2,FALSE)=0,\"\",VLOOKUP($B374,Récapitulatif!$F$64:$I$68,2,FALSE)),\"\")","v":""},0,-3.5,null,2023,"2023-01-07",{"$f":"IFERROR(IF(VLOOKUP($H374,Récapitulatif!$F$14:$I$24,2,FALSE)=0,\"\",VLOOKUP(H374,Récapitulatif!$F$14:$I$24,2,FALSE)),\"\")","v":""},0,3.5]
[2023,"2023-01-08",{"$f":"IFERROR(IF(VLOOKUP($B375,Récapitulatif!$F$64:$I$68,2,FALSE)=0,\"\",VLOOKUP($B375,Récapitulatif!$F$64:$I$68,2,FALSE)),\"\")","v":""},0,-3.5,null,2023,"2023-01-08",{"$f":"IFERROR(IF(VLOOKUP($H375,Récapitulatif!$F$14:$I$24,2,FALSE)=0,\"\",VLOOKUP(H375,Récapitulatif!$F$14:$I$24,2,FALSE)),\"\")","v":""},0,3.5]
[2023,"2023-01-09",{"$f":"IFERROR(IF(VLOOKUP($B376,Récapitulatif!$F$64:$I$68,2,FALSE)=0,\"\",VLOOKUP($B376,Récapitulatif!$F$64:$I$68,2,FALSE)),\"\")","v":""},0,-3.5,null,2023,"2023-01-09",{"$f":"IFERROR(IF(VLOOKUP($H376,Récapitulatif!$F$14:$I$24,2,FALSE)=0,\"\",VLOOKUP(H376,Récapitulatif!$F$14:$I$24,2,FALSE)),\"\")","v":""},0,3.5]
[2023,"2023-01-10",{"$f":"IFERROR(IF(VLOOKUP($B377,Récapitulatif!$F$64:$I$68,2,FALSE)=0,\"\",VLOOKUP($B377,Récapitulatif!$F$64:$I$68,2,FALSE)),\"\")","v":""},0,-3.5,null,2023,"2023-01-10",{"$f":"IFERROR(IF(VLOOKUP($H377,Récapitulatif!$F$14:$I$24,2,FALSE)=0,\"\",VLOOKUP(H377,Récapitulatif!$F$14:$I$24,2,FALSE)),\"\")","v":""},0,3.5]
[2023,"2023-01-11",{"$f":"IFERROR(IF(VLOOKUP($B378,Récapitulatif!$F$64:$I$68,2,FALSE)=0,\"\",VLOOKUP($B378,Récapitulatif!$F$64:$I$68,2,FALSE)),\"\")","v":""},0,-3.5,null,2023,"2023-01-11",{"$f":"IFERROR(IF(VLOOKUP($H378,Récapitulatif!$F$14:$I$24,2,FALSE)=0,\"\",VLOOKUP(H378,Récapitulatif!$F$14:$I$24,2,FALSE)),\"\")","v":""},0,3.5]
[2023,"2023-01-12",{"$f":"IFERROR(IF(VLOOKUP($B379,Récapitulatif!$F$64:$I$68,2,FALSE)=0,\"\",VLOOKUP($B379,Récapitulatif!$F$64:$I$68,2,FALSE)),\"\")","v":""},0,-3.5,null,2023,"2023-01-12",{"$f":"IFERROR(IF(VLOOKUP($H379,Récapitulatif!$F$14:$I$24,2,FALSE)=0,\"\",VLOOKUP(H379,Récapitulatif!$F$14:$I$24,2,FALSE)),\"\")","v":""},0,3.5]
[2023,"2023-01-13",{"$f":"IFERROR(IF(VLOOKUP($B380,Récapitulatif!$F$64:$I$68,2,FALSE)=0,\"\",VLOOKUP($B380,Récapitulatif!$F$64:$I$68,2,FALSE)),\"\")","v":""},0,-3.5,null,2023,"2023-01-13",{"$f":"IFERROR(IF(VLOOKUP($H380,Récapitulatif!$F$14:$I$24,2,FALSE)=0,\"\",VLOOKUP(H380,Récapitulatif!$F$14:$I$24,2,FALSE)),\"\")","v":""},0,3.5]
[2023,"2023-01-14",{"$f":"IFERROR(IF(VLOOKUP($B381,Récapitulatif!$F$64:$I$68,2,FALSE)=0,\"\",VLOOKUP($B381,Récapitulatif!$F$64:$I$68,2,FALSE)),\"\")","v":""},0,-3.5,null,2023,"2023-01-14",{"$f":"IFERROR(IF(VLOOKUP($H381,Récapitulatif!$F$14:$I$24,2,FALSE)=0,\"\",VLOOKUP(H381,Récapitulatif!$F$14:$I$24,2,FALSE)),\"\")","v":""},0,3.5]
[2023,"2023-01-15",{"$f":"IFERROR(IF(VLOOKUP($B382,Récapitulatif!$F$64:$I$68,2,FALSE)=0,\"\",VLOOKUP($B382,Récapitulatif!$F$64:$I$68,2,FALSE)),\"\")","v":""},0,-3.5,null,2023,"2023-01-15",{"$f":"IFERROR(IF(VLOOKUP($H382,Récapitulatif!$F$14:$I$24,2,FALSE)=0,\"\",VLOOKUP(H382,Récapitulatif!$F$14:$I$24,2,FALSE)),\"\")","v":""},0,3.5]
[2023,"2023-01-16",{"$f":"IFERROR(IF(VLOOKUP($B383,Récapitulatif!$F$64:$I$68,2,FALSE)=0,\"\",VLOOKUP($B383,Récapitulatif!$F$64:$I$68,2,FALSE)),\"\")","v":""},0,-3.5,null,2023,"2023-01-16",{"$f":"IFERROR(IF(VLOOKUP($H383,Récapitulatif!$F$14:$I$24,2,FALSE)=0,\"\",VLOOKUP(H383,Récapitulatif!$F$14:$I$24,2,FALSE)),\"\")","v":""},0,3.5]
[2023,"2023-01-17",{"$f":"IFERROR(IF(VLOOKUP($B384,Récapitulatif!$F$64:$I$68,2,FALSE)=0,\"\",VLOOKUP($B384,Récapitulatif!$F$64:$I$68,2,FALSE)),\"\")","v":""},0,-3.5,null,2023,"2023-01-17",{"$f":"IFERROR(IF(VLOOKUP($H384,Récapitulatif!$F$14:$I$24,2,FALSE)=0,\"\",VLOOKUP(H384,Récapitulatif!$F$14:$I$24,2,FALSE)),\"\")","v":""},0,3.5]
[2023,"2023-01-18",{"$f":"IFERROR(IF(VLOOKUP($B385,Récapitulatif!$F$64:$I$68,2,FALSE)=0,\"\",VLOOKUP($B385,Récapitulatif!$F$64:$I$68,2,FALSE)),\"\")","v":""},0,-3.5,null,2023,"2023-01-18",{"$f":"IFERROR(IF(VLOOKUP($H385,Récapitulatif!$F$14:$I$24,2,FALSE)=0,\"\",VLOOKUP(H385,Récapitulatif!$F$14:$I$24,2,FALSE)),\"\")","v":""},0,3.5]
[2023,"2023-01-19",{"$f":"IFERROR(IF(VLOOKUP($B386,Récapitulatif!$F$64:$I$68,2,FALSE)=0,\"\",VLOOKUP($B386,Récapitulatif!$F$64:$I$68,2,FALSE)),\"\")","v":""},0,-3.5,null,2023,"2023-01-19",{"$f":"IFERROR(IF(VLOOKUP($H386,Récapitulatif!$F$14:$I$24,2,FALSE)=0,\"\",VLOOKUP(H386,Récapitulatif!$F$14:$I$24,2,FALSE)),\"\")","v":""},0,3.5]
[2023,"2023-01-20",{"$f":"IFERROR(IF(VLOOKUP($B387,Récapitulatif!$F$64:$I$68,2,FALSE)=0,\"\",VLOOKUP($B387,Récapitulatif!$F$64:$I$68,2,FALSE)),\"\")","v":""},0,-3.5,null,2023,"2023-01-20",{"$f":"IFERROR(IF(VLOOKUP($H387,Récapitulatif!$F$14:$I$24,2,FALSE)=0,\"\",VLOOKUP(H387,Récapitulatif!$F$14:$I$24,2,FALSE)),\"\")","v":""},0,3.5]
[2023,"2023-01-21",{"$f":"IFERROR(IF(VLOOKUP($B388,Récapitulatif!$F$64:$I$68,2,FALSE)=0,\"\",VLOOKUP($B388,Récapitulatif!$F$64:$I$68,2,FALSE)),\"\")","v":""},{"$f":"IF($C388=\"\",0,$E388)","v":0},-3.5,null,2023,"2023-01-21",{"$f":"IFERROR(IF(VLOOKUP($H388,Récapitulatif!$F$14:$I$24,2,FALSE)=0,\"\",VLOOKUP(H388,Récapitulatif!$F$14:$I$24,2,FALSE)),\"\")","v":""},{"$f":"IF($I388=\"\",0,$K388)","v":0},3.5]
[{"$f":"YEAR(B389)","v":2023},{"$f":"B388+1","v":"2023-01-22"},{"$f":"IFERROR(IF(VLOOKUP($B389,Récapitulatif!$F$64:$I$68,2,FALSE)=0,\"\",VLOOKUP($B389,Récapitulatif!$F$64:$I$68,2,FALSE)),\"\")","v":""},0,-3.5,null,{"$f":"YEAR(H389)","v":2023},{"$f":"H388+1","v":"2023-01-22"},{"$f":"IFERROR(IF(VLOOKUP($H389,Récapitulatif!$F$14:$I$24,2,FALSE)=0,\"\",VLOOKUP(H389,Récapitulatif!$F$14:$I$24,2,FALSE)),\"\")","v":""},0,3.5]
[2023,"2023-01-23",{"$f":"IFERROR(IF(VLOOKUP($B390,Récapitulatif!$F$64:$I$68,2,FALSE)=0,\"\",VLOOKUP($B390,Récapitulatif!$F$64:$I$68,2,FALSE)),\"\")","v":""},0,-3.5,null,2023,"2023-01-23",{"$f":"IFERROR(IF(VLOOKUP($H390,Récapitulatif!$F$14:$I$24,2,FALSE)=0,\"\",VLOOKUP(H390,Récapitulatif!$F$14:$I$24,2,FALSE)),\"\")","v":""},0,3.5]
[2023,"2023-01-24",{"$f":"IFERROR(IF(VLOOKUP($B391,Récapitulatif!$F$64:$I$68,2,FALSE)=0,\"\",VLOOKUP($B391,Récapitulatif!$F$64:$I$68,2,FALSE)),\"\")","v":""},0,-3.5,null,2023,"2023-01-24",{"$f":"IFERROR(IF(VLOOKUP($H391,Récapitulatif!$F$14:$I$24,2,FALSE)=0,\"\",VLOOKUP(H391,Récapitulatif!$F$14:$I$24,2,FALSE)),\"\")","v":""},0,3.5]
[2023,"2023-01-25",{"$f":"IFERROR(IF(VLOOKUP($B392,Récapitulatif!$F$64:$I$68,2,FALSE)=0,\"\",VLOOKUP($B392,Récapitulatif!$F$64:$I$68,2,FALSE)),\"\")","v":""},0,-3.5,null,2023,"2023-01-25",{"$f":"IFERROR(IF(VLOOKUP($H392,Récapitulatif!$F$14:$I$24,2,FALSE)=0,\"\",VLOOKUP(H392,Récapitulatif!$F$14:$I$24,2,FALSE)),\"\")","v":""},0,3.5]
[2023,"2023-01-26",{"$f":"IFERROR(IF(VLOOKUP($B393,Récapitulatif!$F$64:$I$68,2,FALSE)=0,\"\",VLOOKUP($B393,Récapitulatif!$F$64:$I$68,2,FALSE)),\"\")","v":""},0,-3.5,null,2023,"2023-01-26",{"$f":"IFERROR(IF(VLOOKUP($H393,Récapitulatif!$F$14:$I$24,2,FALSE)=0,\"\",VLOOKUP(H393,Récapitulatif!$F$14:$I$24,2,FALSE)),\"\")","v":""},0,3.5]
[2023,"2023-01-27",{"$f":"IFERROR(IF(VLOOKUP($B394,Récapitulatif!$F$64:$I$68,2,FALSE)=0,\"\",VLOOKUP($B394,Récapitulatif!$F$64:$I$68,2,FALSE)),\"\")","v":""},0,-3.5,null,2023,"2023-01-27",{"$f":"IFERROR(IF(VLOOKUP($H394,Récapitulatif!$F$14:$I$24,2,FALSE)=0,\"\",VLOOKUP(H394,Récapitulatif!$F$14:$I$24,2,FALSE)),\"\")","v":""},0,3.5]
[2023,"2023-01-28",{"$f":"IFERROR(IF(VLOOKUP($B395,Récapitulatif!$F$64:$I$68,2,FALSE)=0,\"\",VLOOKUP($B395,Récapitulatif!$F$64:$I$68,2,FALSE)),\"\")","v":""},0,-3.5,null,2023,"2023-01-28",{"$f":"IFERROR(IF(VLOOKUP($H395,Récapitulatif!$F$14:$I$24,2,FALSE)=0,\"\",VLOOKUP(H395,Récapitulatif!$F$14:$I$24,2,FALSE)),\"\")","v":""},0,3.5]
[2023,"2023-01-29",{"$f":"IFERROR(IF(VLOOKUP($B396,Récapitulatif!$F$64:$I$68,2,FALSE)=0,\"\",VLOOKUP($B396,Récapitulatif!$F$64:$I$68,2,FALSE)),\"\")","v":""},0,-3.5,null,2023,"2023-01-29",{"$f":"IFERROR(IF(VLOOKUP($H396,Récapitulatif!$F$14:$I$24,2,FALSE)=0,\"\",VLOOKUP(H396,Récapitulatif!$F$14:$I$24,2,FALSE)),\"\")","v":""},0,3.5]
[2023,"2023-01-30",{"$f":"IFERROR(IF(VLOOKUP($B397,Récapitulatif!$F$64:$I$68,2,FALSE)=0,\"\",VLOOKUP($B397,Récapitulatif!$F$64:$I$68,2,FALSE)),\"\")","v":""},0,-3.5,null,2023,"2023-01-30",{"$f":"IFERROR(IF(VLOOKUP($H397,Récapitulatif!$F$14:$I$24,2,FALSE)=0,\"\",VLOOKUP(H397,Récapitulatif!$F$14:$I$24,2,FALSE)),\"\")","v":""},0,3.5]
[2023,"2023-01-31",{"$f":"IFERROR(IF(VLOOKUP($B398,Récapitulatif!$F$64:$I$68,2,FALSE)=0,\"\",VLOOKUP($B398,Récapitulatif!$F$64:$I$68,2,FALSE)),\"\")","v":""},0,-3.5,null,2023,"2023-01-31",{"$f":"IFERROR(IF(VLOOKUP($H398,Récapitulatif!$F$14:$I$24,2,FALSE)=0,\"\",VLOOKUP(H398,Récapitulatif!$F$14:$I$24,2,FALSE)),\"\")","v":""},0,3.5]
[2023,"2023-02-01",{"$f":"IFERROR(IF(VLOOKUP($B399,Récapitulatif!$F$64:$I$68,2,FALSE)=0,\"\",VLOOKUP($B399,Récapitulatif!$F$64:$I$68,2,FALSE)),\"\")","v":""},0,-12.5,null,2023,"2023-02-01",{"$f":"IFERROR(IF(VLOOKUP($H399,Récapitulatif!$F$14:$I$24,2,FALSE)=0,\"\",VLOOKUP(H399,Récapitulatif!$F$14:$I$24,2,FALSE)),\"\")","v":""},0,12.5]
[2023,"2023-02-02",{"$f":"IFERROR(IF(VLOOKUP($B400,Récapitulatif!$F$64:$I$68,2,FALSE)=0,\"\",VLOOKUP($B400,Récapitulatif!$F$64:$I$68,2,FALSE)),\"\")","v":""},0,-12.5,null,2023,"2023-02-02",{"$f":"IFERROR(IF(VLOOKUP($H400,Récapitulatif!$F$14:$I$24,2,FALSE)=0,\"\",VLOOKUP(H400,Récapitulatif!$F$14:$I$24,2,FALSE)),\"\")","v":""},0,12.5]
[2023,"2023-02-03",{"$f":"IFERROR(IF(VLOOKUP($B401,Récapitulatif!$F$64:$I$68,2,FALSE)=0,\"\",VLOOKUP($B401,Récapitulatif!$F$64:$I$68,2,FALSE)),\"\")","v":""},0,-12.5,null,2023,"2023-02-03",{"$f":"IFERROR(IF(VLOOKUP($H401,Récapitulatif!$F$14:$I$24,2,FALSE)=0,\"\",VLOOKUP(H401,Récapitulatif!$F$14:$I$24,2,FALSE)),\"\")","v":""},0,12.5]
[2023,"2023-02-04",{"$f":"IFERROR(IF(VLOOKUP($B402,Récapitulatif!$F$64:$I$68,2,FALSE)=0,\"\",VLOOKUP($B402,Récapitulatif!$F$64:$I$68,2,FALSE)),\"\")","v":""},0,-12.5,null,2023,"2023-02-04",{"$f":"IFERROR(IF(VLOOKUP($H402,Récapitulatif!$F$14:$I$24,2,FALSE)=0,\"\",VLOOKUP(H402,Récapitulatif!$F$14:$I$24,2,FALSE)),\"\")","v":""},0,12.5]
[2023,"2023-02-05",{"$f":"IFERROR(IF(VLOOKUP($B403,Récapitulatif!$F$64:$I$68,2,FALSE)=0,\"\",VLOOKUP($B403,Récapitulatif!$F$64:$I$68,2,FALSE)),\"\")","v":""},0,-12.5,null,2023,"2023-02-05",{"$f":"IFERROR(IF(VLOOKUP($H403,Récapitulatif!$F$14:$I$24,2,FALSE)=0,\"\",VLOOKUP(H403,Récapitulatif!$F$14:$I$24,2,FALSE)),\"\")","v":""},0,12.5]
[2023,"2023-02-06",{"$f":"IFERROR(IF(VLOOKUP($B404,Récapitulatif!$F$64:$I$68,2,FALSE)=0,\"\",VLOOKUP($B404,Récapitulatif!$F$64:$I$68,2,FALSE)),\"\")","v":""},0,-12.5,null,2023,"2023-02-06",{"$f":"IFERROR(IF(VLOOKUP($H404,Récapitulatif!$F$14:$I$24,2,FALSE)=0,\"\",VLOOKUP(H404,Récapitulatif!$F$14:$I$24,2,FALSE)),\"\")","v":""},0,12.5]
[2023,"2023-02-07",{"$f":"IFERROR(IF(VLOOKUP($B405,Récapitulatif!$F$64:$I$68,2,FALSE)=0,\"\",VLOOKUP($B405,Récapitulatif!$F$64:$I$68,2,FALSE)),\"\")","v":""},0,-12.5,null,2023,"2023-02-07",{"$f":"IFERROR(IF(VLOOKUP($H405,Récapitulatif!$F$14:$I$24,2,FALSE)=0,\"\",VLOOKUP(H405,Récapitulatif!$F$14:$I$24,2,FALSE)),\"\")","v":""},0,12.5]
[2023,"2023-02-08",{"$f":"IFERROR(IF(VLOOKUP($B406,Récapitulatif!$F$64:$I$68,2,FALSE)=0,\"\",VLOOKUP($B406,Récapitulatif!$F$64:$I$68,2,FALSE)),\"\")","v":""},0,-12.5,null,2023,"2023-02-08",{"$f":"IFERROR(IF(VLOOKUP($H406,Récapitulatif!$F$14:$I$24,2,FALSE)=0,\"\",VLOOKUP(H406,Récapitulatif!$F$14:$I$24,2,FALSE)),\"\")","v":""},0,12.5]
[2023,"2023-02-09",{"$f":"IFERROR(IF(VLOOKUP($B407,Récapitulatif!$F$64:$I$68,2,FALSE)=0,\"\",VLOOKUP($B407,Récapitulatif!$F$64:$I$68,2,FALSE)),\"\")","v":""},0,-12.5,null,2023,"2023-02-09",{"$f":"IFERROR(IF(VLOOKUP($H407,Récapitulatif!$F$14:$I$24,2,FALSE)=0,\"\",VLOOKUP(H407,Récapitulatif!$F$14:$I$24,2,FALSE)),\"\")","v":""},0,12.5]
[2023,"2023-02-10",{"$f":"IFERROR(IF(VLOOKUP($B408,Récapitulatif!$F$64:$I$68,2,FALSE)=0,\"\",VLOOKUP($B408,Récapitulatif!$F$64:$I$68,2,FALSE)),\"\")","v":""},0,-12.5,null,2023,"2023-02-10",{"$f":"IFERROR(IF(VLOOKUP($H408,Récapitulatif!$F$14:$I$24,2,FALSE)=0,\"\",VLOOKUP(H408,Récapitulatif!$F$14:$I$24,2,FALSE)),\"\")","v":""},0,12.5]
[2023,"2023-02-11",{"$f":"IFERROR(IF(VLOOKUP($B409,Récapitulatif!$F$64:$I$68,2,FALSE)=0,\"\",VLOOKUP($B409,Récapitulatif!$F$64:$I$68,2,FALSE)),\"\")","v":""},0,-12.5,null,2023,"2023-02-11",{"$f":"IFERROR(IF(VLOOKUP($H409,Récapitulatif!$F$14:$I$24,2,FALSE)=0,\"\",VLOOKUP(H409,Récapitulatif!$F$14:$I$24,2,FALSE)),\"\")","v":""},0,12.5]
[2023,"2023-02-12",{"$f":"IFERROR(IF(VLOOKUP($B410,Récapitulatif!$F$64:$I$68,2,FALSE)=0,\"\",VLOOKUP($B410,Récapitulatif!$F$64:$I$68,2,FALSE)),\"\")","v":""},0,-12.5,null,2023,"2023-02-12",{"$f":"IFERROR(IF(VLOOKUP($H410,Récapitulatif!$F$14:$I$24,2,FALSE)=0,\"\",VLOOKUP(H410,Récapitulatif!$F$14:$I$24,2,FALSE)),\"\")","v":""},0,12.5]
[2023,"2023-02-13",{"$f":"IFERROR(IF(VLOOKUP($B411,Récapitulatif!$F$64:$I$68,2,FALSE)=0,\"\",VLOOKUP($B411,Récapitulatif!$F$64:$I$68,2,FALSE)),\"\")","v":""},0,-12.5,null,2023,"2023-02-13",{"$f":"IFERROR(IF(VLOOKUP($H411,Récapitulatif!$F$14:$I$24,2,FALSE)=0,\"\",VLOOKUP(H411,Récapitulatif!$F$14:$I$24,2,FALSE)),\"\")","v":""},0,12.5]
[2023,"2023-02-14",{"$f":"IFERROR(IF(VLOOKUP($B412,Récapitulatif!$F$64:$I$68,2,FALSE)=0,\"\",VLOOKUP($B412,Récapitulatif!$F$64:$I$68,2,FALSE)),\"\")","v":""},0,-12.5,null,2023,"2023-02-14",{"$f":"IFERROR(IF(VLOOKUP($H412,Récapitulatif!$F$14:$I$24,2,FALSE)=0,\"\",VLOOKUP(H412,Récapitulatif!$F$14:$I$24,2,FALSE)),\"\")","v":""},0,12.5]
[2023,"2023-02-15",{"$f":"IFERROR(IF(VLOOKUP($B413,Récapitulatif!$F$64:$I$68,2,FALSE)=0,\"\",VLOOKUP($B413,Récapitulatif!$F$64:$I$68,2,FALSE)),\"\")","v":""},0,-12.5,null,2023,"2023-02-15",{"$f":"IFERROR(IF(VLOOKUP($H413,Récapitulatif!$F$14:$I$24,2,FALSE)=0,\"\",VLOOKUP(H413,Récapitulatif!$F$14:$I$24,2,FALSE)),\"\")","v":""},0,12.5]
[2023,"2023-02-16",{"$f":"IFERROR(IF(VLOOKUP($B414,Récapitulatif!$F$64:$I$68,2,FALSE)=0,\"\",VLOOKUP($B414,Récapitulatif!$F$64:$I$68,2,FALSE)),\"\")","v":""},0,-12.5,null,2023,"2023-02-16",{"$f":"IFERROR(IF(VLOOKUP($H414,Récapitulatif!$F$14:$I$24,2,FALSE)=0,\"\",VLOOKUP(H414,Récapitulatif!$F$14:$I$24,2,FALSE)),\"\")","v":""},0,12.5]
[2023,"2023-02-17",{"$f":"IFERROR(IF(VLOOKUP($B415,Récapitulatif!$F$64:$I$68,2,FALSE)=0,\"\",VLOOKUP($B415,Récapitulatif!$F$64:$I$68,2,FALSE)),\"\")","v":""},0,-12.5,null,2023,"2023-02-17",{"$f":"IFERROR(IF(VLOOKUP($H415,Récapitulatif!$F$14:$I$24,2,FALSE)=0,\"\",VLOOKUP(H415,Récapitulatif!$F$14:$I$24,2,FALSE)),\"\")","v":""},0,12.5]
[2023,"2023-02-18",{"$f":"IFERROR(IF(VLOOKUP($B416,Récapitulatif!$F$64:$I$68,2,FALSE)=0,\"\",VLOOKUP($B416,Récapitulatif!$F$64:$I$68,2,FALSE)),\"\")","v":""},0,-12.5,null,2023,"2023-02-18",{"$f":"IFERROR(IF(VLOOKUP($H416,Récapitulatif!$F$14:$I$24,2,FALSE)=0,\"\",VLOOKUP(H416,Récapitulatif!$F$14:$I$24,2,FALSE)),\"\")","v":""},0,12.5]
[2023,"2023-02-19",{"$f":"IFERROR(IF(VLOOKUP($B417,Récapitulatif!$F$64:$I$68,2,FALSE)=0,\"\",VLOOKUP($B417,Récapitulatif!$F$64:$I$68,2,FALSE)),\"\")","v":""},0,-12.5,null,2023,"2023-02-19",{"$f":"IFERROR(IF(VLOOKUP($H417,Récapitulatif!$F$14:$I$24,2,FALSE)=0,\"\",VLOOKUP(H417,Récapitulatif!$F$14:$I$24,2,FALSE)),\"\")","v":""},0,12.5]
[2023,"2023-02-20",{"$f":"IFERROR(IF(VLOOKUP($B418,Récapitulatif!$F$64:$I$68,2,FALSE)=0,\"\",VLOOKUP($B418,Récapitulatif!$F$64:$I$68,2,FALSE)),\"\")","v":""},0,-12.5,null,2023,"2023-02-20",{"$f":"IFERROR(IF(VLOOKUP($H418,Récapitulatif!$F$14:$I$24,2,FALSE)=0,\"\",VLOOKUP(H418,Récapitulatif!$F$14:$I$24,2,FALSE)),\"\")","v":""},0,12.5]
[2023,"2023-02-21",{"$f":"IFERROR(IF(VLOOKUP($B419,Récapitulatif!$F$64:$I$68,2,FALSE)=0,\"\",VLOOKUP($B419,Récapitulatif!$F$64:$I$68,2,FALSE)),\"\")","v":""},0,-12.5,null,2023,"2023-02-21",{"$f":"IFERROR(IF(VLOOKUP($H419,Récapitulatif!$F$14:$I$24,2,FALSE)=0,\"\",VLOOKUP(H419,Récapitulatif!$F$14:$I$24,2,FALSE)),\"\")","v":""},0,12.5]
[2023,"2023-02-22",{"$f":"IFERROR(IF(VLOOKUP($B420,Récapitulatif!$F$64:$I$68,2,FALSE)=0,\"\",VLOOKUP($B420,Récapitulatif!$F$64:$I$68,2,FALSE)),\"\")","v":""},0,-12.5,null,2023,"2023-02-22",{"$f":"IFERROR(IF(VLOOKUP($H420,Récapitulatif!$F$14:$I$24,2,FALSE)=0,\"\",VLOOKUP(H420,Récapitulatif!$F$14:$I$24,2,FALSE)),\"\")","v":""},0,12.5]
[2023,"2023-02-23",{"$f":"IFERROR(IF(VLOOKUP($B421,Récapitulatif!$F$64:$I$68,2,FALSE)=0,\"\",VLOOKUP($B421,Récapitulatif!$F$64:$I$68,2,FALSE)),\"\")","v":""},0,-12.5,null,2023,"2023-02-23",{"$f":"IFERROR(IF(VLOOKUP($H421,Récapitulatif!$F$14:$I$24,2,FALSE)=0,\"\",VLOOKUP(H421,Récapitulatif!$F$14:$I$24,2,FALSE)),\"\")","v":""},0,12.5]
[2023,"2023-02-24",{"$f":"IFERROR(IF(VLOOKUP($B422,Récapitulatif!$F$64:$I$68,2,FALSE)=0,\"\",VLOOKUP($B422,Récapitulatif!$F$64:$I$68,2,FALSE)),\"\")","v":""},0,-12.5,null,2023,"2023-02-24",{"$f":"IFERROR(IF(VLOOKUP($H422,Récapitulatif!$F$14:$I$24,2,FALSE)=0,\"\",VLOOKUP(H422,Récapitulatif!$F$14:$I$24,2,FALSE)),\"\")","v":""},0,12.5]
[2023,"2023-02-25",{"$f":"IFERROR(IF(VLOOKUP($B423,Récapitulatif!$F$64:$I$68,2,FALSE)=0,\"\",VLOOKUP($B423,Récapitulatif!$F$64:$I$68,2,FALSE)),\"\")","v":""},0,-12.5,null,2023,"2023-02-25",{"$f":"IFERROR(IF(VLOOKUP($H423,Récapitulatif!$F$14:$I$24,2,FALSE)=0,\"\",VLOOKUP(H423,Récapitulatif!$F$14:$I$24,2,FALSE)),\"\")","v":""},0,12.5]
[2023,"2023-02-26",{"$f":"IFERROR(IF(VLOOKUP($B424,Récapitulatif!$F$64:$I$68,2,FALSE)=0,\"\",VLOOKUP($B424,Récapitulatif!$F$64:$I$68,2,FALSE)),\"\")","v":""},0,-12.5,null,2023,"2023-02-26",{"$f":"IFERROR(IF(VLOOKUP($H424,Récapitulatif!$F$14:$I$24,2,FALSE)=0,\"\",VLOOKUP(H424,Récapitulatif!$F$14:$I$24,2,FALSE)),\"\")","v":""},0,12.5]
[2023,"2023-02-27",{"$f":"IFERROR(IF(VLOOKUP($B425,Récapitulatif!$F$64:$I$68,2,FALSE)=0,\"\",VLOOKUP($B425,Récapitulatif!$F$64:$I$68,2,FALSE)),\"\")","v":""},0,-12.5,null,2023,"2023-02-27",{"$f":"IFERROR(IF(VLOOKUP($H425,Récapitulatif!$F$14:$I$24,2,FALSE)=0,\"\",VLOOKUP(H425,Récapitulatif!$F$14:$I$24,2,FALSE)),\"\")","v":""},0,12.5]
[2023,"2023-02-28",{"$f":"IFERROR(IF(VLOOKUP($B426,Récapitulatif!$F$64:$I$68,2,FALSE)=0,\"\",VLOOKUP($B426,Récapitulatif!$F$64:$I$68,2,FALSE)),\"\")","v":""},0,-12.5,null,2023,"2023-02-28",{"$f":"IFERROR(IF(VLOOKUP($H426,Récapitulatif!$F$14:$I$24,2,FALSE)=0,\"\",VLOOKUP(H426,Récapitulatif!$F$14:$I$24,2,FALSE)),\"\")","v":""},0,12.5]
[2023,"2023-03-01",{"$f":"IFERROR(IF(VLOOKUP($B427,Récapitulatif!$F$64:$I$68,2,FALSE)=0,\"\",VLOOKUP($B427,Récapitulatif!$F$64:$I$68,2,FALSE)),\"\")","v":""},0,-12.5,null,2023,"2023-03-01",{"$f":"IFERROR(IF(VLOOKUP($H427,Récapitulatif!$F$14:$I$24,2,FALSE)=0,\"\",VLOOKUP(H427,Récapitulatif!$F$14:$I$24,2,FALSE)),\"\")","v":""},0,13.5]
[2023,{"$f":"DATE(A427,3,1)","v":"2023-03-01"},{"$f":"IFERROR(IF(VLOOKUP($B428,Récapitulatif!$F$64:$I$68,2,FALSE)=0,\"\",VLOOKUP($B428,Récapitulatif!$F$64:$I$68,2,FALSE)),\"\")","v":""},0,-6.5,null,2023,{"$f":"DATE(G427,3,1)","v":"2023-03-01"},{"$f":"IFERROR(IF(VLOOKUP($H428,Récapitulatif!$F$14:$I$24,2,FALSE)=0,\"\",VLOOKUP(H428,Récapitulatif!$F$14:$I$24,2,FALSE)),\"\")","v":""},0,6.5]
[2023,"2023-03-02",{"$f":"IFERROR(IF(VLOOKUP($B429,Récapitulatif!$F$64:$I$68,2,FALSE)=0,\"\",VLOOKUP($B429,Récapitulatif!$F$64:$I$68,2,FALSE)),\"\")","v":""},0,-6.5,null,2023,"2023-03-02",{"$f":"IFERROR(IF(VLOOKUP($H429,Récapitulatif!$F$14:$I$24,2,FALSE)=0,\"\",VLOOKUP(H429,Récapitulatif!$F$14:$I$24,2,FALSE)),\"\")","v":""},0,6.5]
[2023,"2023-03-03",{"$f":"IFERROR(IF(VLOOKUP($B430,Récapitulatif!$F$64:$I$68,2,FALSE)=0,\"\",VLOOKUP($B430,Récapitulatif!$F$64:$I$68,2,FALSE)),\"\")","v":""},0,-6.5,null,2023,"2023-03-03",{"$f":"IFERROR(IF(VLOOKUP($H430,Récapitulatif!$F$14:$I$24,2,FALSE)=0,\"\",VLOOKUP(H430,Récapitulatif!$F$14:$I$24,2,FALSE)),\"\")","v":""},0,6.5]
[2023,"2023-03-04",{"$f":"IFERROR(IF(VLOOKUP($B431,Récapitulatif!$F$64:$I$68,2,FALSE)=0,\"\",VLOOKUP($B431,Récapitulatif!$F$64:$I$68,2,FALSE)),\"\")","v":""},0,-6.5,null,2023,"2023-03-04",{"$f":"IFERROR(IF(VLOOKUP($H431,Récapitulatif!$F$14:$I$24,2,FALSE)=0,\"\",VLOOKUP(H431,Récapitulatif!$F$14:$I$24,2,FALSE)),\"\")","v":""},0,6.5]
[2023,"2023-03-05",{"$f":"IFERROR(IF(VLOOKUP($B432,Récapitulatif!$F$64:$I$68,2,FALSE)=0,\"\",VLOOKUP($B432,Récapitulatif!$F$64:$I$68,2,FALSE)),\"\")","v":""},0,-6.5,null,2023,"2023-03-05",{"$f":"IFERROR(IF(VLOOKUP($H432,Récapitulatif!$F$14:$I$24,2,FALSE)=0,\"\",VLOOKUP(H432,Récapitulatif!$F$14:$I$24,2,FALSE)),\"\")","v":""},0,6.5]
[2023,"2023-03-06",{"$f":"IFERROR(IF(VLOOKUP($B433,Récapitulatif!$F$64:$I$68,2,FALSE)=0,\"\",VLOOKUP($B433,Récapitulatif!$F$64:$I$68,2,FALSE)),\"\")","v":""},0,-6.5,null,2023,"2023-03-06",{"$f":"IFERROR(IF(VLOOKUP($H433,Récapitulatif!$F$14:$I$24,2,FALSE)=0,\"\",VLOOKUP(H433,Récapitulatif!$F$14:$I$24,2,FALSE)),\"\")","v":""},0,6.5]
[2023,"2023-03-07",{"$f":"IFERROR(IF(VLOOKUP($B434,Récapitulatif!$F$64:$I$68,2,FALSE)=0,\"\",VLOOKUP($B434,Récapitulatif!$F$64:$I$68,2,FALSE)),\"\")","v":""},0,-6.5,null,2023,"2023-03-07",{"$f":"IFERROR(IF(VLOOKUP($H434,Récapitulatif!$F$14:$I$24,2,FALSE)=0,\"\",VLOOKUP(H434,Récapitulatif!$F$14:$I$24,2,FALSE)),\"\")","v":""},0,6.5]
[2023,"2023-03-08",{"$f":"IFERROR(IF(VLOOKUP($B435,Récapitulatif!$F$64:$I$68,2,FALSE)=0,\"\",VLOOKUP($B435,Récapitulatif!$F$64:$I$68,2,FALSE)),\"\")","v":""},0,-6.5,null,2023,"2023-03-08",{"$f":"IFERROR(IF(VLOOKUP($H435,Récapitulatif!$F$14:$I$24,2,FALSE)=0,\"\",VLOOKUP(H435,Récapitulatif!$F$14:$I$24,2,FALSE)),\"\")","v":""},0,6.5]
[2023,"2023-03-09",{"$f":"IFERROR(IF(VLOOKUP($B436,Récapitulatif!$F$64:$I$68,2,FALSE)=0,\"\",VLOOKUP($B436,Récapitulatif!$F$64:$I$68,2,FALSE)),\"\")","v":""},0,-6.5,null,2023,"2023-03-09",{"$f":"IFERROR(IF(VLOOKUP($H436,Récapitulatif!$F$14:$I$24,2,FALSE)=0,\"\",VLOOKUP(H436,Récapitulatif!$F$14:$I$24,2,FALSE)),\"\")","v":""},0,6.5]
[2023,"2023-03-10",{"$f":"IFERROR(IF(VLOOKUP($B437,Récapitulatif!$F$64:$I$68,2,FALSE)=0,\"\",VLOOKUP($B437,Récapitulatif!$F$64:$I$68,2,FALSE)),\"\")","v":""},0,-6.5,null,2023,"2023-03-10",{"$f":"IFERROR(IF(VLOOKUP($H437,Récapitulatif!$F$14:$I$24,2,FALSE)=0,\"\",VLOOKUP(H437,Récapitulatif!$F$14:$I$24,2,FALSE)),\"\")","v":""},0,6.5]
[2023,"2023-03-11",{"$f":"IFERROR(IF(VLOOKUP($B438,Récapitulatif!$F$64:$I$68,2,FALSE)=0,\"\",VLOOKUP($B438,Récapitulatif!$F$64:$I$68,2,FALSE)),\"\")","v":""},0,-6.5,null,2023,"2023-03-11",{"$f":"IFERROR(IF(VLOOKUP($H438,Récapitulatif!$F$14:$I$24,2,FALSE)=0,\"\",VLOOKUP(H438,Récapitulatif!$F$14:$I$24,2,FALSE)),\"\")","v":""},0,6.5]
[2023,"2023-03-12",{"$f":"IFERROR(IF(VLOOKUP($B439,Récapitulatif!$F$64:$I$68,2,FALSE)=0,\"\",VLOOKUP($B439,Récapitulatif!$F$64:$I$68,2,FALSE)),\"\")","v":""},0,-6.5,null,2023,"2023-03-12",{"$f":"IFERROR(IF(VLOOKUP($H439,Récapitulatif!$F$14:$I$24,2,FALSE)=0,\"\",VLOOKUP(H439,Récapitulatif!$F$14:$I$24,2,FALSE)),\"\")","v":""},0,6.5]
[2023,"2023-03-13",{"$f":"IFERROR(IF(VLOOKUP($B440,Récapitulatif!$F$64:$I$68,2,FALSE)=0,\"\",VLOOKUP($B440,Récapitulatif!$F$64:$I$68,2,FALSE)),\"\")","v":""},0,-6.5,null,2023,"2023-03-13",{"$f":"IFERROR(IF(VLOOKUP($H440,Récapitulatif!$F$14:$I$24,2,FALSE)=0,\"\",VLOOKUP(H440,Récapitulatif!$F$14:$I$24,2,FALSE)),\"\")","v":""},0,6.5]
[2023,"2023-03-14",{"$f":"IFERROR(IF(VLOOKUP($B441,Récapitulatif!$F$64:$I$68,2,FALSE)=0,\"\",VLOOKUP($B441,Récapitulatif!$F$64:$I$68,2,FALSE)),\"\")","v":""},0,-6.5,null,2023,"2023-03-14",{"$f":"IFERROR(IF(VLOOKUP($H441,Récapitulatif!$F$14:$I$24,2,FALSE)=0,\"\",VLOOKUP(H441,Récapitulatif!$F$14:$I$24,2,FALSE)),\"\")","v":""},0,6.5]
[2023,"2023-03-15",{"$f":"IFERROR(IF(VLOOKUP($B442,Récapitulatif!$F$64:$I$68,2,FALSE)=0,\"\",VLOOKUP($B442,Récapitulatif!$F$64:$I$68,2,FALSE)),\"\")","v":""},0,-6.5,null,2023,"2023-03-15",{"$f":"IFERROR(IF(VLOOKUP($H442,Récapitulatif!$F$14:$I$24,2,FALSE)=0,\"\",VLOOKUP(H442,Récapitulatif!$F$14:$I$24,2,FALSE)),\"\")","v":""},0,6.5]
[2023,"2023-03-16",{"$f":"IFERROR(IF(VLOOKUP($B443,Récapitulatif!$F$64:$I$68,2,FALSE)=0,\"\",VLOOKUP($B443,Récapitulatif!$F$64:$I$68,2,FALSE)),\"\")","v":""},0,-6.5,null,2023,"2023-03-16",{"$f":"IFERROR(IF(VLOOKUP($H443,Récapitulatif!$F$14:$I$24,2,FALSE)=0,\"\",VLOOKUP(H443,Récapitulatif!$F$14:$I$24,2,FALSE)),\"\")","v":""},0,6.5]
[2023,"2023-03-17",{"$f":"IFERROR(IF(VLOOKUP($B444,Récapitulatif!$F$64:$I$68,2,FALSE)=0,\"\",VLOOKUP($B444,Récapitulatif!$F$64:$I$68,2,FALSE)),\"\")","v":""},0,-6.5,null,2023,"2023-03-17",{"$f":"IFERROR(IF(VLOOKUP($H444,Récapitulatif!$F$14:$I$24,2,FALSE)=0,\"\",VLOOKUP(H444,Récapitulatif!$F$14:$I$24,2,FALSE)),\"\")","v":""},0,6.5]
[2023,"2023-03-18",{"$f":"IFERROR(IF(VLOOKUP($B445,Récapitulatif!$F$64:$I$68,2,FALSE)=0,\"\",VLOOKUP($B445,Récapitulatif!$F$64:$I$68,2,FALSE)),\"\")","v":""},0,-6.5,null,2023,"2023-03-18",{"$f":"IFERROR(IF(VLOOKUP($H445,Récapitulatif!$F$14:$I$24,2,FALSE)=0,\"\",VLOOKUP(H445,Récapitulatif!$F$14:$I$24,2,FALSE)),\"\")","v":""},0,6.5]
[2023,"2023-03-19",{"$f":"IFERROR(IF(VLOOKUP($B446,Récapitulatif!$F$64:$I$68,2,FALSE)=0,\"\",VLOOKUP($B446,Récapitulatif!$F$64:$I$68,2,FALSE)),\"\")","v":""},0,-6.5,null,2023,"2023-03-19",{"$f":"IFERROR(IF(VLOOKUP($H446,Récapitulatif!$F$14:$I$24,2,FALSE)=0,\"\",VLOOKUP(H446,Récapitulatif!$F$14:$I$24,2,FALSE)),\"\")","v":""},0,6.5]
[2023,"2023-03-20",{"$f":"IFERROR(IF(VLOOKUP($B447,Récapitulatif!$F$64:$I$68,2,FALSE)=0,\"\",VLOOKUP($B447,Récapitulatif!$F$64:$I$68,2,FALSE)),\"\")","v":""},0,-6.5,null,2023,"2023-03-20",{"$f":"IFERROR(IF(VLOOKUP($H447,Récapitulatif!$F$14:$I$24,2,FALSE)=0,\"\",VLOOKUP(H447,Récapitulatif!$F$14:$I$24,2,FALSE)),\"\")","v":""},0,6.5]
[2023,"2023-03-21",{"$f":"IFERROR(IF(VLOOKUP($B448,Récapitulatif!$F$64:$I$68,2,FALSE)=0,\"\",VLOOKUP($B448,Récapitulatif!$F$64:$I$68,2,FALSE)),\"\")","v":""},0,-6.5,null,2023,"2023-03-21",{"$f":"IFERROR(IF(VLOOKUP($H448,Récapitulatif!$F$14:$I$24,2,FALSE)=0,\"\",VLOOKUP(H448,Récapitulatif!$F$14:$I$24,2,FALSE)),\"\")","v":""},0,6.5]
[2023,"2023-03-22",{"$f":"IFERROR(IF(VLOOKUP($B449,Récapitulatif!$F$64:$I$68,2,FALSE)=0,\"\",VLOOKUP($B449,Récapitulatif!$F$64:$I$68,2,FALSE)),\"\")","v":""},0,-6.5,null,2023,"2023-03-22",{"$f":"IFERROR(IF(VLOOKUP($H449,Récapitulatif!$F$14:$I$24,2,FALSE)=0,\"\",VLOOKUP(H449,Récapitulatif!$F$14:$I$24,2,FALSE)),\"\")","v":""},0,6.5]
[2023,"2023-03-23",{"$f":"IFERROR(IF(VLOOKUP($B450,Récapitulatif!$F$64:$I$68,2,FALSE)=0,\"\",VLOOKUP($B450,Récapitulatif!$F$64:$I$68,2,FALSE)),\"\")","v":""},0,-6.5,null,2023,"2023-03-23",{"$f":"IFERROR(IF(VLOOKUP($H450,Récapitulatif!$F$14:$I$24,2,FALSE)=0,\"\",VLOOKUP(H450,Récapitulatif!$F$14:$I$24,2,FALSE)),\"\")","v":""},0,6.5]
[2023,"2023-03-24",{"$f":"IFERROR(IF(VLOOKUP($B451,Récapitulatif!$F$64:$I$68,2,FALSE)=0,\"\",VLOOKUP($B451,Récapitulatif!$F$64:$I$68,2,FALSE)),\"\")","v":""},0,-6.5,null,2023,"2023-03-24",{"$f":"IFERROR(IF(VLOOKUP($H451,Récapitulatif!$F$14:$I$24,2,FALSE)=0,\"\",VLOOKUP(H451,Récapitulatif!$F$14:$I$24,2,FALSE)),\"\")","v":""},0,6.5]
[2023,"2023-03-25",{"$f":"IFERROR(IF(VLOOKUP($B452,Récapitulatif!$F$64:$I$68,2,FALSE)=0,\"\",VLOOKUP($B452,Récapitulatif!$F$64:$I$68,2,FALSE)),\"\")","v":""},0,-6.5,null,2023,"2023-03-25",{"$f":"IFERROR(IF(VLOOKUP($H452,Récapitulatif!$F$14:$I$24,2,FALSE)=0,\"\",VLOOKUP(H452,Récapitulatif!$F$14:$I$24,2,FALSE)),\"\")","v":""},0,6.5]
[2023,"2023-03-26",{"$f":"IFERROR(IF(VLOOKUP($B453,Récapitulatif!$F$64:$I$68,2,FALSE)=0,\"\",VLOOKUP($B453,Récapitulatif!$F$64:$I$68,2,FALSE)),\"\")","v":""},{"$f":"IF($C453=\"\",0,$E453)","v":0},-6.5,null,2023,"2023-03-26",{"$f":"IFERROR(IF(VLOOKUP($H453,Récapitulatif!$F$14:$I$24,2,FALSE)=0,\"\",VLOOKUP(H453,Récapitulatif!$F$14:$I$24,2,FALSE)),\"\")","v":""},{"$f":"IF($I453=\"\",0,$K453)","v":0},6.5]
[{"$f":"YEAR(B454)","v":2023},{"$f":"B453+1","v":"2023-03-27"},{"$f":"IFERROR(IF(VLOOKUP($B454,Récapitulatif!$F$64:$I$68,2,FALSE)=0,\"\",VLOOKUP($B454,Récapitulatif!$F$64:$I$68,2,FALSE)),\"\")","v":""},0,-6.5,null,{"$f":"YEAR(H454)","v":2023},{"$f":"H453+1","v":"2023-03-27"},{"$f":"IFERROR(IF(VLOOKUP($H454,Récapitulatif!$F$14:$I$24,2,FALSE)=0,\"\",VLOOKUP(H454,Récapitulatif!$F$14:$I$24,2,FALSE)),\"\")","v":""},0,6.5]
[2023,"2023-03-28",{"$f":"IFERROR(IF(VLOOKUP($B455,Récapitulatif!$F$64:$I$68,2,FALSE)=0,\"\",VLOOKUP($B455,Récapitulatif!$F$64:$I$68,2,FALSE)),\"\")","v":""},0,-6.5,null,2023,"2023-03-28",{"$f":"IFERROR(IF(VLOOKUP($H455,Récapitulatif!$F$14:$I$24,2,FALSE)=0,\"\",VLOOKUP(H455,Récapitulatif!$F$14:$I$24,2,FALSE)),\"\")","v":""},0,6.5]
[2023,"2023-03-29",{"$f":"IFERROR(IF(VLOOKUP($B456,Récapitulatif!$F$64:$I$68,2,FALSE)=0,\"\",VLOOKUP($B456,Récapitulatif!$F$64:$I$68,2,FALSE)),\"\")","v":""},0,-6.5,null,2023,"2023-03-29",{"$f":"IFERROR(IF(VLOOKUP($H456,Récapitulatif!$F$14:$I$24,2,FALSE)=0,\"\",VLOOKUP(H456,Récapitulatif!$F$14:$I$24,2,FALSE)),\"\")","v":""},0,6.5]
[2023,"2023-03-30",{"$f":"IFERROR(IF(VLOOKUP($B457,Récapitulatif!$F$64:$I$68,2,FALSE)=0,\"\",VLOOKUP($B457,Récapitulatif!$F$64:$I$68,2,FALSE)),\"\")","v":""},0,-6.5,null,2023,"2023-03-30",{"$f":"IFERROR(IF(VLOOKUP($H457,Récapitulatif!$F$14:$I$24,2,FALSE)=0,\"\",VLOOKUP(H457,Récapitulatif!$F$14:$I$24,2,FALSE)),\"\")","v":""},0,6.5]
[2023,"2023-03-31",{"$f":"IFERROR(IF(VLOOKUP($B458,Récapitulatif!$F$64:$I$68,2,FALSE)=0,\"\",VLOOKUP($B458,Récapitulatif!$F$64:$I$68,2,FALSE)),\"\")","v":""},0,-6.5,null,2023,"2023-03-31",{"$f":"IFERROR(IF(VLOOKUP($H458,Récapitulatif!$F$14:$I$24,2,FALSE)=0,\"\",VLOOKUP(H458,Récapitulatif!$F$14:$I$24,2,FALSE)),\"\")","v":""},0,6.5]
[2023,"2023-04-01",{"$f":"IFERROR(IF(VLOOKUP($B459,Récapitulatif!$F$64:$I$68,2,FALSE)=0,\"\",VLOOKUP($B459,Récapitulatif!$F$64:$I$68,2,FALSE)),\"\")","v":""},0,-9.5,null,2023,"2023-04-01",{"$f":"IFERROR(IF(VLOOKUP($H459,Récapitulatif!$F$14:$I$24,2,FALSE)=0,\"\",VLOOKUP(H459,Récapitulatif!$F$14:$I$24,2,FALSE)),\"\")","v":""},0,9.5]
[2023,"2023-04-02",{"$f":"IFERROR(IF(VLOOKUP($B460,Récapitulatif!$F$64:$I$68,2,FALSE)=0,\"\",VLOOKUP($B460,Récapitulatif!$F$64:$I$68,2,FALSE)),\"\")","v":""},0,-9.5,null,2023,"2023-04-02",{"$f":"IFERROR(IF(VLOOKUP($H460,Récapitulatif!$F$14:$I$24,2,FALSE)=0,\"\",VLOOKUP(H460,Récapitulatif!$F$14:$I$24,2,FALSE)),\"\")","v":""},0,9.5]
[2023,"2023-04-03",{"$f":"IFERROR(IF(VLOOKUP($B461,Récapitulatif!$F$64:$I$68,2,FALSE)=0,\"\",VLOOKUP($B461,Récapitulatif!$F$64:$I$68,2,FALSE)),\"\")","v":""},0,-9.5,null,2023,"2023-04-03",{"$f":"IFERROR(IF(VLOOKUP($H461,Récapitulatif!$F$14:$I$24,2,FALSE)=0,\"\",VLOOKUP(H461,Récapitulatif!$F$14:$I$24,2,FALSE)),\"\")","v":""},0,9.5]
[2023,"2023-04-04",{"$f":"IFERROR(IF(VLOOKUP($B462,Récapitulatif!$F$64:$I$68,2,FALSE)=0,\"\",VLOOKUP($B462,Récapitulatif!$F$64:$I$68,2,FALSE)),\"\")","v":""},0,-9.5,null,2023,"2023-04-04",{"$f":"IFERROR(IF(VLOOKUP($H462,Récapitulatif!$F$14:$I$24,2,FALSE)=0,\"\",VLOOKUP(H462,Récapitulatif!$F$14:$I$24,2,FALSE)),\"\")","v":""},0,9.5]
[2023,"2023-04-05",{"$f":"IFERROR(IF(VLOOKUP($B463,Récapitulatif!$F$64:$I$68,2,FALSE)=0,\"\",VLOOKUP($B463,Récapitulatif!$F$64:$I$68,2,FALSE)),\"\")","v":""},0,-9.5,null,2023,"2023-04-05",{"$f":"IFERROR(IF(VLOOKUP($H463,Récapitulatif!$F$14:$I$24,2,FALSE)=0,\"\",VLOOKUP(H463,Récapitulatif!$F$14:$I$24,2,FALSE)),\"\")","v":""},0,9.5]
[2023,"2023-04-06",{"$f":"IFERROR(IF(VLOOKUP($B464,Récapitulatif!$F$64:$I$68,2,FALSE)=0,\"\",VLOOKUP($B464,Récapitulatif!$F$64:$I$68,2,FALSE)),\"\")","v":""},0,-9.5,null,2023,"2023-04-06",{"$f":"IFERROR(IF(VLOOKUP($H464,Récapitulatif!$F$14:$I$24,2,FALSE)=0,\"\",VLOOKUP(H464,Récapitulatif!$F$14:$I$24,2,FALSE)),\"\")","v":""},0,9.5]
[2023,"2023-04-07",{"$f":"IFERROR(IF(VLOOKUP($B465,Récapitulatif!$F$64:$I$68,2,FALSE)=0,\"\",VLOOKUP($B465,Récapitulatif!$F$64:$I$68,2,FALSE)),\"\")","v":""},0,-9.5,null,2023,"2023-04-07",{"$f":"IFERROR(IF(VLOOKUP($H465,Récapitulatif!$F$14:$I$24,2,FALSE)=0,\"\",VLOOKUP(H465,Récapitulatif!$F$14:$I$24,2,FALSE)),\"\")","v":""},0,9.5]
[2023,"2023-04-08",{"$f":"IFERROR(IF(VLOOKUP($B466,Récapitulatif!$F$64:$I$68,2,FALSE)=0,\"\",VLOOKUP($B466,Récapitulatif!$F$64:$I$68,2,FALSE)),\"\")","v":""},0,-9.5,null,2023,"2023-04-08",{"$f":"IFERROR(IF(VLOOKUP($H466,Récapitulatif!$F$14:$I$24,2,FALSE)=0,\"\",VLOOKUP(H466,Récapitulatif!$F$14:$I$24,2,FALSE)),\"\")","v":""},0,9.5]
[2023,"2023-04-09",{"$f":"IFERROR(IF(VLOOKUP($B467,Récapitulatif!$F$64:$I$68,2,FALSE)=0,\"\",VLOOKUP($B467,Récapitulatif!$F$64:$I$68,2,FALSE)),\"\")","v":""},0,-9.5,null,2023,"2023-04-09",{"$f":"IFERROR(IF(VLOOKUP($H467,Récapitulatif!$F$14:$I$24,2,FALSE)=0,\"\",VLOOKUP(H467,Récapitulatif!$F$14:$I$24,2,FALSE)),\"\")","v":""},0,9.5]
[2023,"2023-04-10",{"$f":"IFERROR(IF(VLOOKUP($B468,Récapitulatif!$F$64:$I$68,2,FALSE)=0,\"\",VLOOKUP($B468,Récapitulatif!$F$64:$I$68,2,FALSE)),\"\")","v":""},0,-9.5,null,2023,"2023-04-10",{"$f":"IFERROR(IF(VLOOKUP($H468,Récapitulatif!$F$14:$I$24,2,FALSE)=0,\"\",VLOOKUP(H468,Récapitulatif!$F$14:$I$24,2,FALSE)),\"\")","v":""},0,9.5]
[2023,"2023-04-11",{"$f":"IFERROR(IF(VLOOKUP($B469,Récapitulatif!$F$64:$I$68,2,FALSE)=0,\"\",VLOOKUP($B469,Récapitulatif!$F$64:$I$68,2,FALSE)),\"\")","v":""},0,-9.5,null,2023,"2023-04-11",{"$f":"IFERROR(IF(VLOOKUP($H469,Récapitulatif!$F$14:$I$24,2,FALSE)=0,\"\",VLOOKUP(H469,Récapitulatif!$F$14:$I$24,2,FALSE)),\"\")","v":""},0,9.5]
[2023,"2023-04-12",{"$f":"IFERROR(IF(VLOOKUP($B470,Récapitulatif!$F$64:$I$68,2,FALSE)=0,\"\",VLOOKUP($B470,Récapitulatif!$F$64:$I$68,2,FALSE)),\"\")","v":""},0,-9.5,null,2023,"2023-04-12",{"$f":"IFERROR(IF(VLOOKUP($H470,Récapitulatif!$F$14:$I$24,2,FALSE)=0,\"\",VLOOKUP(H470,Récapitulatif!$F$14:$I$24,2,FALSE)),\"\")","v":""},0,9.5]
[2023,"2023-04-13",{"$f":"IFERROR(IF(VLOOKUP($B471,Récapitulatif!$F$64:$I$68,2,FALSE)=0,\"\",VLOOKUP($B471,Récapitulatif!$F$64:$I$68,2,FALSE)),\"\")","v":""},0,-9.5,null,2023,"2023-04-13",{"$f":"IFERROR(IF(VLOOKUP($H471,Récapitulatif!$F$14:$I$24,2,FALSE)=0,\"\",VLOOKUP(H471,Récapitulatif!$F$14:$I$24,2,FALSE)),\"\")","v":""},0,9.5]
[2023,"2023-04-14",{"$f":"IFERROR(IF(VLOOKUP($B472,Récapitulatif!$F$64:$I$68,2,FALSE)=0,\"\",VLOOKUP($B472,Récapitulatif!$F$64:$I$68,2,FALSE)),\"\")","v":""},0,-9.5,null,2023,"2023-04-14",{"$f":"IFERROR(IF(VLOOKUP($H472,Récapitulatif!$F$14:$I$24,2,FALSE)=0,\"\",VLOOKUP(H472,Récapitulatif!$F$14:$I$24,2,FALSE)),\"\")","v":""},0,9.5]
[2023,"2023-04-15",{"$f":"IFERROR(IF(VLOOKUP($B473,Récapitulatif!$F$64:$I$68,2,FALSE)=0,\"\",VLOOKUP($B473,Récapitulatif!$F$64:$I$68,2,FALSE)),\"\")","v":""},0,-9.5,null,2023,"2023-04-15",{"$f":"IFERROR(IF(VLOOKUP($H473,Récapitulatif!$F$14:$I$24,2,FALSE)=0,\"\",VLOOKUP(H473,Récapitulatif!$F$14:$I$24,2,FALSE)),\"\")","v":""},0,9.5]
[2023,"2023-04-16",{"$f":"IFERROR(IF(VLOOKUP($B474,Récapitulatif!$F$64:$I$68,2,FALSE)=0,\"\",VLOOKUP($B474,Récapitulatif!$F$64:$I$68,2,FALSE)),\"\")","v":""},0,-9.5,null,2023,"2023-04-16",{"$f":"IFERROR(IF(VLOOKUP($H474,Récapitulatif!$F$14:$I$24,2,FALSE)=0,\"\",VLOOKUP(H474,Récapitulatif!$F$14:$I$24,2,FALSE)),\"\")","v":""},0,9.5]
[2023,"2023-04-17",{"$f":"IFERROR(IF(VLOOKUP($B475,Récapitulatif!$F$64:$I$68,2,FALSE)=0,\"\",VLOOKUP($B475,Récapitulatif!$F$64:$I$68,2,FALSE)),\"\")","v":""},0,-9.5,null,2023,"2023-04-17",{"$f":"IFERROR(IF(VLOOKUP($H475,Récapitulatif!$F$14:$I$24,2,FALSE)=0,\"\",VLOOKUP(H475,Récapitulatif!$F$14:$I$24,2,FALSE)),\"\")","v":""},0,9.5]
[2023,"2023-04-18",{"$f":"IFERROR(IF(VLOOKUP($B476,Récapitulatif!$F$64:$I$68,2,FALSE)=0,\"\",VLOOKUP($B476,Récapitulatif!$F$64:$I$68,2,FALSE)),\"\")","v":""},0,-9.5,null,2023,"2023-04-18",{"$f":"IFERROR(IF(VLOOKUP($H476,Récapitulatif!$F$14:$I$24,2,FALSE)=0,\"\",VLOOKUP(H476,Récapitulatif!$F$14:$I$24,2,FALSE)),\"\")","v":""},0,9.5]
[2023,"2023-04-19",{"$f":"IFERROR(IF(VLOOKUP($B477,Récapitulatif!$F$64:$I$68,2,FALSE)=0,\"\",VLOOKUP($B477,Récapitulatif!$F$64:$I$68,2,FALSE)),\"\")","v":""},0,-9.5,null,2023,"2023-04-19",{"$f":"IFERROR(IF(VLOOKUP($H477,Récapitulatif!$F$14:$I$24,2,FALSE)=0,\"\",VLOOKUP(H477,Récapitulatif!$F$14:$I$24,2,FALSE)),\"\")","v":""},0,9.5]
[2023,"2023-04-20",{"$f":"IFERROR(IF(VLOOKUP($B478,Récapitulatif!$F$64:$I$68,2,FALSE)=0,\"\",VLOOKUP($B478,Récapitulatif!$F$64:$I$68,2,FALSE)),\"\")","v":""},0,-9.5,null,2023,"2023-04-20",{"$f":"IFERROR(IF(VLOOKUP($H478,Récapitulatif!$F$14:$I$24,2,FALSE)=0,\"\",VLOOKUP(H478,Récapitulatif!$F$14:$I$24,2,FALSE)),\"\")","v":""},0,9.5]
[2023,"2023-04-21",{"$f":"IFERROR(IF(VLOOKUP($B479,Récapitulatif!$F$64:$I$68,2,FALSE)=0,\"\",VLOOKUP($B479,Récapitulatif!$F$64:$I$68,2,FALSE)),\"\")","v":""},0,-9.5,null,2023,"2023-04-21",{"$f":"IFERROR(IF(VLOOKUP($H479,Récapitulatif!$F$14:$I$24,2,FALSE)=0,\"\",VLOOKUP(H479,Récapitulatif!$F$14:$I$24,2,FALSE)),\"\")","v":""},0,9.5]
[2023,"2023-04-22",{"$f":"IFERROR(IF(VLOOKUP($B480,Récapitulatif!$F$64:$I$68,2,FALSE)=0,\"\",VLOOKUP($B480,Récapitulatif!$F$64:$I$68,2,FALSE)),\"\")","v":""},0,-9.5,null,2023,"2023-04-22",{"$f":"IFERROR(IF(VLOOKUP($H480,Récapitulatif!$F$14:$I$24,2,FALSE)=0,\"\",VLOOKUP(H480,Récapitulatif!$F$14:$I$24,2,FALSE)),\"\")","v":""},0,9.5]
[2023,"2023-04-23",{"$f":"IFERROR(IF(VLOOKUP($B481,Récapitulatif!$F$64:$I$68,2,FALSE)=0,\"\",VLOOKUP($B481,Récapitulatif!$F$64:$I$68,2,FALSE)),\"\")","v":""},0,-9.5,null,2023,"2023-04-23",{"$f":"IFERROR(IF(VLOOKUP($H481,Récapitulatif!$F$14:$I$24,2,FALSE)=0,\"\",VLOOKUP(H481,Récapitulatif!$F$14:$I$24,2,FALSE)),\"\")","v":""},0,9.5]
[2023,"2023-04-24",{"$f":"IFERROR(IF(VLOOKUP($B482,Récapitulatif!$F$64:$I$68,2,FALSE)=0,\"\",VLOOKUP($B482,Récapitulatif!$F$64:$I$68,2,FALSE)),\"\")","v":""},0,-9.5,null,2023,"2023-04-24",{"$f":"IFERROR(IF(VLOOKUP($H482,Récapitulatif!$F$14:$I$24,2,FALSE)=0,\"\",VLOOKUP(H482,Récapitulatif!$F$14:$I$24,2,FALSE)),\"\")","v":""},0,9.5]
[2023,"2023-04-25",{"$f":"IFERROR(IF(VLOOKUP($B483,Récapitulatif!$F$64:$I$68,2,FALSE)=0,\"\",VLOOKUP($B483,Récapitulatif!$F$64:$I$68,2,FALSE)),\"\")","v":""},0,-9.5,null,2023,"2023-04-25",{"$f":"IFERROR(IF(VLOOKUP($H483,Récapitulatif!$F$14:$I$24,2,FALSE)=0,\"\",VLOOKUP(H483,Récapitulatif!$F$14:$I$24,2,FALSE)),\"\")","v":""},0,9.5]
[2023,"2023-04-26",{"$f":"IFERROR(IF(VLOOKUP($B484,Récapitulatif!$F$64:$I$68,2,FALSE)=0,\"\",VLOOKUP($B484,Récapitulatif!$F$64:$I$68,2,FALSE)),\"\")","v":""},0,-9.5,null,2023,"2023-04-26",{"$f":"IFERROR(IF(VLOOKUP($H484,Récapitulatif!$F$14:$I$24,2,FALSE)=0,\"\",VLOOKUP(H484,Récapitulatif!$F$14:$I$24,2,FALSE)),\"\")","v":""},0,9.5]
[2023,"2023-04-27",{"$f":"IFERROR(IF(VLOOKUP($B485,Récapitulatif!$F$64:$I$68,2,FALSE)=0,\"\",VLOOKUP($B485,Récapitulatif!$F$64:$I$68,2,FALSE)),\"\")","v":""},0,-9.5,null,2023,"2023-04-27",{"$f":"IFERROR(IF(VLOOKUP($H485,Récapitulatif!$F$14:$I$24,2,FALSE)=0,\"\",VLOOKUP(H485,Récapitulatif!$F$14:$I$24,2,FALSE)),\"\")","v":""},0,9.5]
[2023,"2023-04-28",{"$f":"IFERROR(IF(VLOOKUP($B486,Récapitulatif!$F$64:$I$68,2,FALSE)=0,\"\",VLOOKUP($B486,Récapitulatif!$F$64:$I$68,2,FALSE)),\"\")","v":""},0,-9.5,null,2023,"2023-04-28",{"$f":"IFERROR(IF(VLOOKUP($H486,Récapitulatif!$F$14:$I$24,2,FALSE)=0,\"\",VLOOKUP(H486,Récapitulatif!$F$14:$I$24,2,FALSE)),\"\")","v":""},0,9.5]
[2023,"2023-04-29",{"$f":"IFERROR(IF(VLOOKUP($B487,Récapitulatif!$F$64:$I$68,2,FALSE)=0,\"\",VLOOKUP($B487,Récapitulatif!$F$64:$I$68,2,FALSE)),\"\")","v":""},0,-9.5,null,2023,"2023-04-29",{"$f":"IFERROR(IF(VLOOKUP($H487,Récapitulatif!$F$14:$I$24,2,FALSE)=0,\"\",VLOOKUP(H487,Récapitulatif!$F$14:$I$24,2,FALSE)),\"\")","v":""},0,9.5]
[2023,"2023-04-30",{"$f":"IFERROR(IF(VLOOKUP($B488,Récapitulatif!$F$64:$I$68,2,FALSE)=0,\"\",VLOOKUP($B488,Récapitulatif!$F$64:$I$68,2,FALSE)),\"\")","v":""},0,-9.5,null,2023,"2023-04-30",{"$f":"IFERROR(IF(VLOOKUP($H488,Récapitulatif!$F$14:$I$24,2,FALSE)=0,\"\",VLOOKUP(H488,Récapitulatif!$F$14:$I$24,2,FALSE)),\"\")","v":""},0,9.5]
[2023,"2023-05-01",{"$f":"IFERROR(IF(VLOOKUP($B489,Récapitulatif!$F$64:$I$68,2,FALSE)=0,\"\",VLOOKUP($B489,Récapitulatif!$F$64:$I$68,2,FALSE)),\"\")","v":""},0,-11.5,null,2023,"2023-05-01",{"$f":"IFERROR(IF(VLOOKUP($H489,Récapitulatif!$F$14:$I$24,2,FALSE)=0,\"\",VLOOKUP(H489,Récapitulatif!$F$14:$I$24,2,FALSE)),\"\")","v":""},0,11.5]
[2023,"2023-05-02",{"$f":"IFERROR(IF(VLOOKUP($B490,Récapitulatif!$F$64:$I$68,2,FALSE)=0,\"\",VLOOKUP($B490,Récapitulatif!$F$64:$I$68,2,FALSE)),\"\")","v":""},0,-11.5,null,2023,"2023-05-02",{"$f":"IFERROR(IF(VLOOKUP($H490,Récapitulatif!$F$14:$I$24,2,FALSE)=0,\"\",VLOOKUP(H490,Récapitulatif!$F$14:$I$24,2,FALSE)),\"\")","v":""},0,11.5]
[2023,"2023-05-03",{"$f":"IFERROR(IF(VLOOKUP($B491,Récapitulatif!$F$64:$I$68,2,FALSE)=0,\"\",VLOOKUP($B491,Récapitulatif!$F$64:$I$68,2,FALSE)),\"\")","v":""},0,-11.5,null,2023,"2023-05-03",{"$f":"IFERROR(IF(VLOOKUP($H491,Récapitulatif!$F$14:$I$24,2,FALSE)=0,\"\",VLOOKUP(H491,Récapitulatif!$F$14:$I$24,2,FALSE)),\"\")","v":""},0,11.5]
[2023,"2023-05-04",{"$f":"IFERROR(IF(VLOOKUP($B492,Récapitulatif!$F$64:$I$68,2,FALSE)=0,\"\",VLOOKUP($B492,Récapitulatif!$F$64:$I$68,2,FALSE)),\"\")","v":""},0,-11.5,null,2023,"2023-05-04",{"$f":"IFERROR(IF(VLOOKUP($H492,Récapitulatif!$F$14:$I$24,2,FALSE)=0,\"\",VLOOKUP(H492,Récapitulatif!$F$14:$I$24,2,FALSE)),\"\")","v":""},0,11.5]
[2023,"2023-05-05",{"$f":"IFERROR(IF(VLOOKUP($B493,Récapitulatif!$F$64:$I$68,2,FALSE)=0,\"\",VLOOKUP($B493,Récapitulatif!$F$64:$I$68,2,FALSE)),\"\")","v":""},0,-11.5,null,2023,"2023-05-05",{"$f":"IFERROR(IF(VLOOKUP($H493,Récapitulatif!$F$14:$I$24,2,FALSE)=0,\"\",VLOOKUP(H493,Récapitulatif!$F$14:$I$24,2,FALSE)),\"\")","v":""},0,11.5]
[2023,"2023-05-06",{"$f":"IFERROR(IF(VLOOKUP($B494,Récapitulatif!$F$64:$I$68,2,FALSE)=0,\"\",VLOOKUP($B494,Récapitulatif!$F$64:$I$68,2,FALSE)),\"\")","v":""},0,-11.5,null,2023,"2023-05-06",{"$f":"IFERROR(IF(VLOOKUP($H494,Récapitulatif!$F$14:$I$24,2,FALSE)=0,\"\",VLOOKUP(H494,Récapitulatif!$F$14:$I$24,2,FALSE)),\"\")","v":""},0,11.5]
[2023,"2023-05-07",{"$f":"IFERROR(IF(VLOOKUP($B495,Récapitulatif!$F$64:$I$68,2,FALSE)=0,\"\",VLOOKUP($B495,Récapitulatif!$F$64:$I$68,2,FALSE)),\"\")","v":""},0,-11.5,null,2023,"2023-05-07",{"$f":"IFERROR(IF(VLOOKUP($H495,Récapitulatif!$F$14:$I$24,2,FALSE)=0,\"\",VLOOKUP(H495,Récapitulatif!$F$14:$I$24,2,FALSE)),\"\")","v":""},0,11.5]
[2023,"2023-05-08",{"$f":"IFERROR(IF(VLOOKUP($B496,Récapitulatif!$F$64:$I$68,2,FALSE)=0,\"\",VLOOKUP($B496,Récapitulatif!$F$64:$I$68,2,FALSE)),\"\")","v":""},0,-11.5,null,2023,"2023-05-08",{"$f":"IFERROR(IF(VLOOKUP($H496,Récapitulatif!$F$14:$I$24,2,FALSE)=0,\"\",VLOOKUP(H496,Récapitulatif!$F$14:$I$24,2,FALSE)),\"\")","v":""},0,11.5]
[2023,"2023-05-09",{"$f":"IFERROR(IF(VLOOKUP($B497,Récapitulatif!$F$64:$I$68,2,FALSE)=0,\"\",VLOOKUP($B497,Récapitulatif!$F$64:$I$68,2,FALSE)),\"\")","v":""},0,-11.5,null,2023,"2023-05-09",{"$f":"IFERROR(IF(VLOOKUP($H497,Récapitulatif!$F$14:$I$24,2,FALSE)=0,\"\",VLOOKUP(H497,Récapitulatif!$F$14:$I$24,2,FALSE)),\"\")","v":""},0,11.5]
[2023,"2023-05-10",{"$f":"IFERROR(IF(VLOOKUP($B498,Récapitulatif!$F$64:$I$68,2,FALSE)=0,\"\",VLOOKUP($B498,Récapitulatif!$F$64:$I$68,2,FALSE)),\"\")","v":""},0,-11.5,null,2023,"2023-05-10",{"$f":"IFERROR(IF(VLOOKUP($H498,Récapitulatif!$F$14:$I$24,2,FALSE)=0,\"\",VLOOKUP(H498,Récapitulatif!$F$14:$I$24,2,FALSE)),\"\")","v":""},0,11.5]
[2023,"2023-05-11",{"$f":"IFERROR(IF(VLOOKUP($B499,Récapitulatif!$F$64:$I$68,2,FALSE)=0,\"\",VLOOKUP($B499,Récapitulatif!$F$64:$I$68,2,FALSE)),\"\")","v":""},0,-11.5,null,2023,"2023-05-11",{"$f":"IFERROR(IF(VLOOKUP($H499,Récapitulatif!$F$14:$I$24,2,FALSE)=0,\"\",VLOOKUP(H499,Récapitulatif!$F$14:$I$24,2,FALSE)),\"\")","v":""},0,11.5]
[2023,"2023-05-12",{"$f":"IFERROR(IF(VLOOKUP($B500,Récapitulatif!$F$64:$I$68,2,FALSE)=0,\"\",VLOOKUP($B500,Récapitulatif!$F$64:$I$68,2,FALSE)),\"\")","v":""},0,-11.5,null,2023,"2023-05-12",{"$f":"IFERROR(IF(VLOOKUP($H500,Récapitulatif!$F$14:$I$24,2,FALSE)=0,\"\",VLOOKUP(H500,Récapitulatif!$F$14:$I$24,2,FALSE)),\"\")","v":""},0,11.5]
[2023,"2023-05-13",{"$f":"IFERROR(IF(VLOOKUP($B501,Récapitulatif!$F$64:$I$68,2,FALSE)=0,\"\",VLOOKUP($B501,Récapitulatif!$F$64:$I$68,2,FALSE)),\"\")","v":""},0,-11.5,null,2023,"2023-05-13",{"$f":"IFERROR(IF(VLOOKUP($H501,Récapitulatif!$F$14:$I$24,2,FALSE)=0,\"\",VLOOKUP(H501,Récapitulatif!$F$14:$I$24,2,FALSE)),\"\")","v":""},0,11.5]
[2023,"2023-05-14",{"$f":"IFERROR(IF(VLOOKUP($B502,Récapitulatif!$F$64:$I$68,2,FALSE)=0,\"\",VLOOKUP($B502,Récapitulatif!$F$64:$I$68,2,FALSE)),\"\")","v":""},0,-11.5,null,2023,"2023-05-14",{"$f":"IFERROR(IF(VLOOKUP($H502,Récapitulatif!$F$14:$I$24,2,FALSE)=0,\"\",VLOOKUP(H502,Récapitulatif!$F$14:$I$24,2,FALSE)),\"\")","v":""},0,11.5]
[2023,"2023-05-15",{"$f":"IFERROR(IF(VLOOKUP($B503,Récapitulatif!$F$64:$I$68,2,FALSE)=0,\"\",VLOOKUP($B503,Récapitulatif!$F$64:$I$68,2,FALSE)),\"\")","v":""},0,-11.5,null,2023,"2023-05-15",{"$f":"IFERROR(IF(VLOOKUP($H503,Récapitulatif!$F$14:$I$24,2,FALSE)=0,\"\",VLOOKUP(H503,Récapitulatif!$F$14:$I$24,2,FALSE)),\"\")","v":""},0,11.5]
[2023,"2023-05-16",{"$f":"IFERROR(IF(VLOOKUP($B504,Récapitulatif!$F$64:$I$68,2,FALSE)=0,\"\",VLOOKUP($B504,Récapitulatif!$F$64:$I$68,2,FALSE)),\"\")","v":""},0,-11.5,null,2023,"2023-05-16",{"$f":"IFERROR(IF(VLOOKUP($H504,Récapitulatif!$F$14:$I$24,2,FALSE)=0,\"\",VLOOKUP(H504,Récapitulatif!$F$14:$I$24,2,FALSE)),\"\")","v":""},0,11.5]
[2023,"2023-05-17",{"$f":"IFERROR(IF(VLOOKUP($B505,Récapitulatif!$F$64:$I$68,2,FALSE)=0,\"\",VLOOKUP($B505,Récapitulatif!$F$64:$I$68,2,FALSE)),\"\")","v":""},0,-11.5,null,2023,"2023-05-17",{"$f":"IFERROR(IF(VLOOKUP($H505,Récapitulatif!$F$14:$I$24,2,FALSE)=0,\"\",VLOOKUP(H505,Récapitulatif!$F$14:$I$24,2,FALSE)),\"\")","v":""},0,11.5]
[2023,"2023-05-18",{"$f":"IFERROR(IF(VLOOKUP($B506,Récapitulatif!$F$64:$I$68,2,FALSE)=0,\"\",VLOOKUP($B506,Récapitulatif!$F$64:$I$68,2,FALSE)),\"\")","v":""},0,-11.5,null,2023,"2023-05-18",{"$f":"IFERROR(IF(VLOOKUP($H506,Récapitulatif!$F$14:$I$24,2,FALSE)=0,\"\",VLOOKUP(H506,Récapitulatif!$F$14:$I$24,2,FALSE)),\"\")","v":""},0,11.5]
[2023,"2023-05-19",{"$f":"IFERROR(IF(VLOOKUP($B507,Récapitulatif!$F$64:$I$68,2,FALSE)=0,\"\",VLOOKUP($B507,Récapitulatif!$F$64:$I$68,2,FALSE)),\"\")","v":""},0,-11.5,null,2023,"2023-05-19",{"$f":"IFERROR(IF(VLOOKUP($H507,Récapitulatif!$F$14:$I$24,2,FALSE)=0,\"\",VLOOKUP(H507,Récapitulatif!$F$14:$I$24,2,FALSE)),\"\")","v":""},0,11.5]
[2023,"2023-05-20",{"$f":"IFERROR(IF(VLOOKUP($B508,Récapitulatif!$F$64:$I$68,2,FALSE)=0,\"\",VLOOKUP($B508,Récapitulatif!$F$64:$I$68,2,FALSE)),\"\")","v":""},0,-11.5,null,2023,"2023-05-20",{"$f":"IFERROR(IF(VLOOKUP($H508,Récapitulatif!$F$14:$I$24,2,FALSE)=0,\"\",VLOOKUP(H508,Récapitulatif!$F$14:$I$24,2,FALSE)),\"\")","v":""},0,11.5]
[2023,"2023-05-21",{"$f":"IFERROR(IF(VLOOKUP($B509,Récapitulatif!$F$64:$I$68,2,FALSE)=0,\"\",VLOOKUP($B509,Récapitulatif!$F$64:$I$68,2,FALSE)),\"\")","v":""},0,-11.5,null,2023,"2023-05-21",{"$f":"IFERROR(IF(VLOOKUP($H509,Récapitulatif!$F$14:$I$24,2,FALSE)=0,\"\",VLOOKUP(H509,Récapitulatif!$F$14:$I$24,2,FALSE)),\"\")","v":""},0,11.5]
[2023,"2023-05-22",{"$f":"IFERROR(IF(VLOOKUP($B510,Récapitulatif!$F$64:$I$68,2,FALSE)=0,\"\",VLOOKUP($B510,Récapitulatif!$F$64:$I$68,2,FALSE)),\"\")","v":""},0,-11.5,null,2023,"2023-05-22",{"$f":"IFERROR(IF(VLOOKUP($H510,Récapitulatif!$F$14:$I$24,2,FALSE)=0,\"\",VLOOKUP(H510,Récapitulatif!$F$14:$I$24,2,FALSE)),\"\")","v":""},0,11.5]
[2023,"2023-05-23",{"$f":"IFERROR(IF(VLOOKUP($B511,Récapitulatif!$F$64:$I$68,2,FALSE)=0,\"\",VLOOKUP($B511,Récapitulatif!$F$64:$I$68,2,FALSE)),\"\")","v":""},0,-11.5,null,2023,"2023-05-23",{"$f":"IFERROR(IF(VLOOKUP($H511,Récapitulatif!$F$14:$I$24,2,FALSE)=0,\"\",VLOOKUP(H511,Récapitulatif!$F$14:$I$24,2,FALSE)),\"\")","v":""},0,11.5]
[2023,"2023-05-24",{"$f":"IFERROR(IF(VLOOKUP($B512,Récapitulatif!$F$64:$I$68,2,FALSE)=0,\"\",VLOOKUP($B512,Récapitulatif!$F$64:$I$68,2,FALSE)),\"\")","v":""},0,-11.5,null,2023,"2023-05-24",{"$f":"IFERROR(IF(VLOOKUP($H512,Récapitulatif!$F$14:$I$24,2,FALSE)=0,\"\",VLOOKUP(H512,Récapitulatif!$F$14:$I$24,2,FALSE)),\"\")","v":""},0,11.5]
[2023,"2023-05-25",{"$f":"IFERROR(IF(VLOOKUP($B513,Récapitulatif!$F$64:$I$68,2,FALSE)=0,\"\",VLOOKUP($B513,Récapitulatif!$F$64:$I$68,2,FALSE)),\"\")","v":""},0,-11.5,null,2023,"2023-05-25",{"$f":"IFERROR(IF(VLOOKUP($H513,Récapitulatif!$F$14:$I$24,2,FALSE)=0,\"\",VLOOKUP(H513,Récapitulatif!$F$14:$I$24,2,FALSE)),\"\")","v":""},0,11.5]
[2023,"2023-05-26",{"$f":"IFERROR(IF(VLOOKUP($B514,Récapitulatif!$F$64:$I$68,2,FALSE)=0,\"\",VLOOKUP($B514,Récapitulatif!$F$64:$I$68,2,FALSE)),\"\")","v":""},0,-11.5,null,2023,"2023-05-26",{"$f":"IFERROR(IF(VLOOKUP($H514,Récapitulatif!$F$14:$I$24,2,FALSE)=0,\"\",VLOOKUP(H514,Récapitulatif!$F$14:$I$24,2,FALSE)),\"\")","v":""},0,11.5]
[2023,"2023-05-27",{"$f":"IFERROR(IF(VLOOKUP($B515,Récapitulatif!$F$64:$I$68,2,FALSE)=0,\"\",VLOOKUP($B515,Récapitulatif!$F$64:$I$68,2,FALSE)),\"\")","v":""},0,-11.5,null,2023,"2023-05-27",{"$f":"IFERROR(IF(VLOOKUP($H515,Récapitulatif!$F$14:$I$24,2,FALSE)=0,\"\",VLOOKUP(H515,Récapitulatif!$F$14:$I$24,2,FALSE)),\"\")","v":""},0,11.5]
[2023,"2023-05-28",{"$f":"IFERROR(IF(VLOOKUP($B516,Récapitulatif!$F$64:$I$68,2,FALSE)=0,\"\",VLOOKUP($B516,Récapitulatif!$F$64:$I$68,2,FALSE)),\"\")","v":""},0,-11.5,null,2023,"2023-05-28",{"$f":"IFERROR(IF(VLOOKUP($H516,Récapitulatif!$F$14:$I$24,2,FALSE)=0,\"\",VLOOKUP(H516,Récapitulatif!$F$14:$I$24,2,FALSE)),\"\")","v":""},0,11.5]
[2023,"2023-05-29",{"$f":"IFERROR(IF(VLOOKUP($B517,Récapitulatif!$F$64:$I$68,2,FALSE)=0,\"\",VLOOKUP($B517,Récapitulatif!$F$64:$I$68,2,FALSE)),\"\")","v":""},{"$f":"IF($C517=\"\",0,$E517)","v":0},-11.5,null,2023,"2023-05-29",{"$f":"IFERROR(IF(VLOOKUP($H517,Récapitulatif!$F$14:$I$24,2,FALSE)=0,\"\",VLOOKUP(H517,Récapitulatif!$F$14:$I$24,2,FALSE)),\"\")","v":""},{"$f":"IF($I517=\"\",0,$K517)","v":0},11.5]
[{"$f":"YEAR(B518)","v":2023},{"$f":"B517+1","v":"2023-05-30"},{"$f":"IFERROR(IF(VLOOKUP($B518,Récapitulatif!$F$64:$I$68,2,FALSE)=0,\"\",VLOOKUP($B518,Récapitulatif!$F$64:$I$68,2,FALSE)),\"\")","v":""},0,-11.5,null,{"$f":"YEAR(H518)","v":2023},{"$f":"H517+1","v":"2023-05-30"},{"$f":"IFERROR(IF(VLOOKUP($H518,Récapitulatif!$F$14:$I$24,2,FALSE)=0,\"\",VLOOKUP(H518,Récapitulatif!$F$14:$I$24,2,FALSE)),\"\")","v":""},0,11.5]
[2023,"2023-05-31",{"$f":"IFERROR(IF(VLOOKUP($B519,Récapitulatif!$F$64:$I$68,2,FALSE)=0,\"\",VLOOKUP($B519,Récapitulatif!$F$64:$I$68,2,FALSE)),\"\")","v":""},0,-11.5,null,2023,"2023-05-31",{"$f":"IFERROR(IF(VLOOKUP($H519,Récapitulatif!$F$14:$I$24,2,FALSE)=0,\"\",VLOOKUP(H519,Récapitulatif!$F$14:$I$24,2,FALSE)),\"\")","v":""},0,11.5]
[2023,"2023-06-01",{"$f":"IFERROR(IF(VLOOKUP($B520,Récapitulatif!$F$64:$I$68,2,FALSE)=0,\"\",VLOOKUP($B520,Récapitulatif!$F$64:$I$68,2,FALSE)),\"\")","v":""},0,-4.5,null,2023,"2023-06-01",{"$f":"IFERROR(IF(VLOOKUP($H520,Récapitulatif!$F$14:$I$24,2,FALSE)=0,\"\",VLOOKUP(H520,Récapitulatif!$F$14:$I$24,2,FALSE)),\"\")","v":""},0,4.5]
[2023,"2023-06-02",{"$f":"IFERROR(IF(VLOOKUP($B521,Récapitulatif!$F$64:$I$68,2,FALSE)=0,\"\",VLOOKUP($B521,Récapitulatif!$F$64:$I$68,2,FALSE)),\"\")","v":""},0,-4.5,null,2023,"2023-06-02",{"$f":"IFERROR(IF(VLOOKUP($H521,Récapitulatif!$F$14:$I$24,2,FALSE)=0,\"\",VLOOKUP(H521,Récapitulatif!$F$14:$I$24,2,FALSE)),\"\")","v":""},0,4.5]
[2023,"2023-06-03",{"$f":"IFERROR(IF(VLOOKUP($B522,Récapitulatif!$F$64:$I$68,2,FALSE)=0,\"\",VLOOKUP($B522,Récapitulatif!$F$64:$I$68,2,FALSE)),\"\")","v":""},0,-4.5,null,2023,"2023-06-03",{"$f":"IFERROR(IF(VLOOKUP($H522,Récapitulatif!$F$14:$I$24,2,FALSE)=0,\"\",VLOOKUP(H522,Récapitulatif!$F$14:$I$24,2,FALSE)),\"\")","v":""},0,4.5]
[2023,"2023-06-04",{"$f":"IFERROR(IF(VLOOKUP($B523,Récapitulatif!$F$64:$I$68,2,FALSE)=0,\"\",VLOOKUP($B523,Récapitulatif!$F$64:$I$68,2,FALSE)),\"\")","v":""},0,-4.5,null,2023,"2023-06-04",{"$f":"IFERROR(IF(VLOOKUP($H523,Récapitulatif!$F$14:$I$24,2,FALSE)=0,\"\",VLOOKUP(H523,Récapitulatif!$F$14:$I$24,2,FALSE)),\"\")","v":""},0,4.5]
[2023,"2023-06-05",{"$f":"IFERROR(IF(VLOOKUP($B524,Récapitulatif!$F$64:$I$68,2,FALSE)=0,\"\",VLOOKUP($B524,Récapitulatif!$F$64:$I$68,2,FALSE)),\"\")","v":""},0,-4.5,null,2023,"2023-06-05",{"$f":"IFERROR(IF(VLOOKUP($H524,Récapitulatif!$F$14:$I$24,2,FALSE)=0,\"\",VLOOKUP(H524,Récapitulatif!$F$14:$I$24,2,FALSE)),\"\")","v":""},0,4.5]
[2023,"2023-06-06",{"$f":"IFERROR(IF(VLOOKUP($B525,Récapitulatif!$F$64:$I$68,2,FALSE)=0,\"\",VLOOKUP($B525,Récapitulatif!$F$64:$I$68,2,FALSE)),\"\")","v":""},0,-4.5,null,2023,"2023-06-06",{"$f":"IFERROR(IF(VLOOKUP($H525,Récapitulatif!$F$14:$I$24,2,FALSE)=0,\"\",VLOOKUP(H525,Récapitulatif!$F$14:$I$24,2,FALSE)),\"\")","v":""},0,4.5]
[2023,"2023-06-07",{"$f":"IFERROR(IF(VLOOKUP($B526,Récapitulatif!$F$64:$I$68,2,FALSE)=0,\"\",VLOOKUP($B526,Récapitulatif!$F$64:$I$68,2,FALSE)),\"\")","v":""},0,-4.5,null,2023,"2023-06-07",{"$f":"IFERROR(IF(VLOOKUP($H526,Récapitulatif!$F$14:$I$24,2,FALSE)=0,\"\",VLOOKUP(H526,Récapitulatif!$F$14:$I$24,2,FALSE)),\"\")","v":""},0,4.5]
[2023,"2023-06-08",{"$f":"IFERROR(IF(VLOOKUP($B527,Récapitulatif!$F$64:$I$68,2,FALSE)=0,\"\",VLOOKUP($B527,Récapitulatif!$F$64:$I$68,2,FALSE)),\"\")","v":""},0,-4.5,null,2023,"2023-06-08",{"$f":"IFERROR(IF(VLOOKUP($H527,Récapitulatif!$F$14:$I$24,2,FALSE)=0,\"\",VLOOKUP(H527,Récapitulatif!$F$14:$I$24,2,FALSE)),\"\")","v":""},0,4.5]
[2023,"2023-06-09",{"$f":"IFERROR(IF(VLOOKUP($B528,Récapitulatif!$F$64:$I$68,2,FALSE)=0,\"\",VLOOKUP($B528,Récapitulatif!$F$64:$I$68,2,FALSE)),\"\")","v":""},0,-4.5,null,2023,"2023-06-09",{"$f":"IFERROR(IF(VLOOKUP($H528,Récapitulatif!$F$14:$I$24,2,FALSE)=0,\"\",VLOOKUP(H528,Récapitulatif!$F$14:$I$24,2,FALSE)),\"\")","v":""},0,4.5]
[2023,"2023-06-10",{"$f":"IFERROR(IF(VLOOKUP($B529,Récapitulatif!$F$64:$I$68,2,FALSE)=0,\"\",VLOOKUP($B529,Récapitulatif!$F$64:$I$68,2,FALSE)),\"\")","v":""},0,-4.5,null,2023,"2023-06-10",{"$f":"IFERROR(IF(VLOOKUP($H529,Récapitulatif!$F$14:$I$24,2,FALSE)=0,\"\",VLOOKUP(H529,Récapitulatif!$F$14:$I$24,2,FALSE)),\"\")","v":""},0,4.5]
[2023,"2023-06-11",{"$f":"IFERROR(IF(VLOOKUP($B530,Récapitulatif!$F$64:$I$68,2,FALSE)=0,\"\",VLOOKUP($B530,Récapitulatif!$F$64:$I$68,2,FALSE)),\"\")","v":""},0,-4.5,null,2023,"2023-06-11",{"$f":"IFERROR(IF(VLOOKUP($H530,Récapitulatif!$F$14:$I$24,2,FALSE)=0,\"\",VLOOKUP(H530,Récapitulatif!$F$14:$I$24,2,FALSE)),\"\")","v":""},0,4.5]
[2023,"2023-06-12",{"$f":"IFERROR(IF(VLOOKUP($B531,Récapitulatif!$F$64:$I$68,2,FALSE)=0,\"\",VLOOKUP($B531,Récapitulatif!$F$64:$I$68,2,FALSE)),\"\")","v":""},0,-4.5,null,2023,"2023-06-12",{"$f":"IFERROR(IF(VLOOKUP($H531,Récapitulatif!$F$14:$I$24,2,FALSE)=0,\"\",VLOOKUP(H531,Récapitulatif!$F$14:$I$24,2,FALSE)),\"\")","v":""},0,4.5]
[2023,"2023-06-13",{"$f":"IFERROR(IF(VLOOKUP($B532,Récapitulatif!$F$64:$I$68,2,FALSE)=0,\"\",VLOOKUP($B532,Récapitulatif!$F$64:$I$68,2,FALSE)),\"\")","v":""},0,-4.5,null,2023,"2023-06-13",{"$f":"IFERROR(IF(VLOOKUP($H532,Récapitulatif!$F$14:$I$24,2,FALSE)=0,\"\",VLOOKUP(H532,Récapitulatif!$F$14:$I$24,2,FALSE)),\"\")","v":""},0,4.5]
[2023,"2023-06-14",{"$f":"IFERROR(IF(VLOOKUP($B533,Récapitulatif!$F$64:$I$68,2,FALSE)=0,\"\",VLOOKUP($B533,Récapitulatif!$F$64:$I$68,2,FALSE)),\"\")","v":""},0,-4.5,null,2023,"2023-06-14",{"$f":"IFERROR(IF(VLOOKUP($H533,Récapitulatif!$F$14:$I$24,2,FALSE)=0,\"\",VLOOKUP(H533,Récapitulatif!$F$14:$I$24,2,FALSE)),\"\")","v":""},0,4.5]
[2023,"2023-06-15",{"$f":"IFERROR(IF(VLOOKUP($B534,Récapitulatif!$F$64:$I$68,2,FALSE)=0,\"\",VLOOKUP($B534,Récapitulatif!$F$64:$I$68,2,FALSE)),\"\")","v":""},0,-4.5,null,2023,"2023-06-15",{"$f":"IFERROR(IF(VLOOKUP($H534,Récapitulatif!$F$14:$I$24,2,FALSE)=0,\"\",VLOOKUP(H534,Récapitulatif!$F$14:$I$24,2,FALSE)),\"\")","v":""},0,4.5]
[2023,"2023-06-16",{"$f":"IFERROR(IF(VLOOKUP($B535,Récapitulatif!$F$64:$I$68,2,FALSE)=0,\"\",VLOOKUP($B535,Récapitulatif!$F$64:$I$68,2,FALSE)),\"\")","v":""},0,-4.5,null,2023,"2023-06-16",{"$f":"IFERROR(IF(VLOOKUP($H535,Récapitulatif!$F$14:$I$24,2,FALSE)=0,\"\",VLOOKUP(H535,Récapitulatif!$F$14:$I$24,2,FALSE)),\"\")","v":""},0,4.5]
[2023,"2023-06-17",{"$f":"IFERROR(IF(VLOOKUP($B536,Récapitulatif!$F$64:$I$68,2,FALSE)=0,\"\",VLOOKUP($B536,Récapitulatif!$F$64:$I$68,2,FALSE)),\"\")","v":""},0,-4.5,null,2023,"2023-06-17",{"$f":"IFERROR(IF(VLOOKUP($H536,Récapitulatif!$F$14:$I$24,2,FALSE)=0,\"\",VLOOKUP(H536,Récapitulatif!$F$14:$I$24,2,FALSE)),\"\")","v":""},0,4.5]
[2023,"2023-06-18",{"$f":"IFERROR(IF(VLOOKUP($B537,Récapitulatif!$F$64:$I$68,2,FALSE)=0,\"\",VLOOKUP($B537,Récapitulatif!$F$64:$I$68,2,FALSE)),\"\")","v":""},0,-4.5,null,2023,"2023-06-18",{"$f":"IFERROR(IF(VLOOKUP($H537,Récapitulatif!$F$14:$I$24,2,FALSE)=0,\"\",VLOOKUP(H537,Récapitulatif!$F$14:$I$24,2,FALSE)),\"\")","v":""},0,4.5]
[2023,"2023-06-19",{"$f":"IFERROR(IF(VLOOKUP($B538,Récapitulatif!$F$64:$I$68,2,FALSE)=0,\"\",VLOOKUP($B538,Récapitulatif!$F$64:$I$68,2,FALSE)),\"\")","v":""},0,-4.5,null,2023,"2023-06-19",{"$f":"IFERROR(IF(VLOOKUP($H538,Récapitulatif!$F$14:$I$24,2,FALSE)=0,\"\",VLOOKUP(H538,Récapitulatif!$F$14:$I$24,2,FALSE)),\"\")","v":""},0,4.5]
[2023,"2023-06-20",{"$f":"IFERROR(IF(VLOOKUP($B539,Récapitulatif!$F$64:$I$68,2,FALSE)=0,\"\",VLOOKUP($B539,Récapitulatif!$F$64:$I$68,2,FALSE)),\"\")","v":""},0,-4.5,null,2023,"2023-06-20",{"$f":"IFERROR(IF(VLOOKUP($H539,Récapitulatif!$F$14:$I$24,2,FALSE)=0,\"\",VLOOKUP(H539,Récapitulatif!$F$14:$I$24,2,FALSE)),\"\")","v":""},0,4.5]
[2023,"2023-06-21",{"$f":"IFERROR(IF(VLOOKUP($B540,Récapitulatif!$F$64:$I$68,2,FALSE)=0,\"\",VLOOKUP($B540,Récapitulatif!$F$64:$I$68,2,FALSE)),\"\")","v":""},0,-4.5,null,2023,"2023-06-21",{"$f":"IFERROR(IF(VLOOKUP($H540,Récapitulatif!$F$14:$I$24,2,FALSE)=0,\"\",VLOOKUP(H540,Récapitulatif!$F$14:$I$24,2,FALSE)),\"\")","v":""},0,4.5]
[2023,"2023-06-22",{"$f":"IFERROR(IF(VLOOKUP($B541,Récapitulatif!$F$64:$I$68,2,FALSE)=0,\"\",VLOOKUP($B541,Récapitulatif!$F$64:$I$68,2,FALSE)),\"\")","v":""},0,-4.5,null,2023,"2023-06-22",{"$f":"IFERROR(IF(VLOOKUP($H541,Récapitulatif!$F$14:$I$24,2,FALSE)=0,\"\",VLOOKUP(H541,Récapitulatif!$F$14:$I$24,2,FALSE)),\"\")","v":""},0,4.5]
[2023,"2023-06-23",{"$f":"IFERROR(IF(VLOOKUP($B542,Récapitulatif!$F$64:$I$68,2,FALSE)=0,\"\",VLOOKUP($B542,Récapitulatif!$F$64:$I$68,2,FALSE)),\"\")","v":""},0,-4.5,null,2023,"2023-06-23",{"$f":"IFERROR(IF(VLOOKUP($H542,Récapitulatif!$F$14:$I$24,2,FALSE)=0,\"\",VLOOKUP(H542,Récapitulatif!$F$14:$I$24,2,FALSE)),\"\")","v":""},0,4.5]
[2023,"2023-06-24",{"$f":"IFERROR(IF(VLOOKUP($B543,Récapitulatif!$F$64:$I$68,2,FALSE)=0,\"\",VLOOKUP($B543,Récapitulatif!$F$64:$I$68,2,FALSE)),\"\")","v":""},0,-4.5,null,2023,"2023-06-24",{"$f":"IFERROR(IF(VLOOKUP($H543,Récapitulatif!$F$14:$I$24,2,FALSE)=0,\"\",VLOOKUP(H543,Récapitulatif!$F$14:$I$24,2,FALSE)),\"\")","v":""},0,4.5]
[2023,"2023-06-25",{"$f":"IFERROR(IF(VLOOKUP($B544,Récapitulatif!$F$64:$I$68,2,FALSE)=0,\"\",VLOOKUP($B544,Récapitulatif!$F$64:$I$68,2,FALSE)),\"\")","v":""},0,-4.5,null,2023,"2023-06-25",{"$f":"IFERROR(IF(VLOOKUP($H544,Récapitulatif!$F$14:$I$24,2,FALSE)=0,\"\",VLOOKUP(H544,Récapitulatif!$F$14:$I$24,2,FALSE)),\"\")","v":""},0,4.5]
[2023,"2023-06-26",{"$f":"IFERROR(IF(VLOOKUP($B545,Récapitulatif!$F$64:$I$68,2,FALSE)=0,\"\",VLOOKUP($B545,Récapitulatif!$F$64:$I$68,2,FALSE)),\"\")","v":""},0,-4.5,null,2023,"2023-06-26",{"$f":"IFERROR(IF(VLOOKUP($H545,Récapitulatif!$F$14:$I$24,2,FALSE)=0,\"\",VLOOKUP(H545,Récapitulatif!$F$14:$I$24,2,FALSE)),\"\")","v":""},0,4.5]
[2023,"2023-06-27",{"$f":"IFERROR(IF(VLOOKUP($B546,Récapitulatif!$F$64:$I$68,2,FALSE)=0,\"\",VLOOKUP($B546,Récapitulatif!$F$64:$I$68,2,FALSE)),\"\")","v":""},0,-4.5,null,2023,"2023-06-27",{"$f":"IFERROR(IF(VLOOKUP($H546,Récapitulatif!$F$14:$I$24,2,FALSE)=0,\"\",VLOOKUP(H546,Récapitulatif!$F$14:$I$24,2,FALSE)),\"\")","v":""},0,4.5]
[2023,"2023-06-28",{"$f":"IFERROR(IF(VLOOKUP($B547,Récapitulatif!$F$64:$I$68,2,FALSE)=0,\"\",VLOOKUP($B547,Récapitulatif!$F$64:$I$68,2,FALSE)),\"\")","v":""},0,-4.5,null,2023,"2023-06-28",{"$f":"IFERROR(IF(VLOOKUP($H547,Récapitulatif!$F$14:$I$24,2,FALSE)=0,\"\",VLOOKUP(H547,Récapitulatif!$F$14:$I$24,2,FALSE)),\"\")","v":""},0,4.5]
[2023,"2023-06-29",{"$f":"IFERROR(IF(VLOOKUP($B548,Récapitulatif!$F$64:$I$68,2,FALSE)=0,\"\",VLOOKUP($B548,Récapitulatif!$F$64:$I$68,2,FALSE)),\"\")","v":""},0,-4.5,null,2023,"2023-06-29",{"$f":"IFERROR(IF(VLOOKUP($H548,Récapitulatif!$F$14:$I$24,2,FALSE)=0,\"\",VLOOKUP(H548,Récapitulatif!$F$14:$I$24,2,FALSE)),\"\")","v":""},0,4.5]
[2023,"2023-06-30",{"$f":"IFERROR(IF(VLOOKUP($B549,Récapitulatif!$F$64:$I$68,2,FALSE)=0,\"\",VLOOKUP($B549,Récapitulatif!$F$64:$I$68,2,FALSE)),\"\")","v":""},0,-4.5,null,2023,"2023-06-30",{"$f":"IFERROR(IF(VLOOKUP($H549,Récapitulatif!$F$14:$I$24,2,FALSE)=0,\"\",VLOOKUP(H549,Récapitulatif!$F$14:$I$24,2,FALSE)),\"\")","v":""},0,4.5]
[2023,"2023-07-01",{"$f":"IFERROR(IF(VLOOKUP($B550,Récapitulatif!$F$64:$I$68,2,FALSE)=0,\"\",VLOOKUP($B550,Récapitulatif!$F$64:$I$68,2,FALSE)),\"\")","v":""},0,-8.5,null,2023,"2023-07-01",{"$f":"IFERROR(IF(VLOOKUP($H550,Récapitulatif!$F$14:$I$24,2,FALSE)=0,\"\",VLOOKUP(H550,Récapitulatif!$F$14:$I$24,2,FALSE)),\"\")","v":""},0,8.5]
[2023,"2023-07-02",{"$f":"IFERROR(IF(VLOOKUP($B551,Récapitulatif!$F$64:$I$68,2,FALSE)=0,\"\",VLOOKUP($B551,Récapitulatif!$F$64:$I$68,2,FALSE)),\"\")","v":""},0,-8.5,null,2023,"2023-07-02",{"$f":"IFERROR(IF(VLOOKUP($H551,Récapitulatif!$F$14:$I$24,2,FALSE)=0,\"\",VLOOKUP(H551,Récapitulatif!$F$14:$I$24,2,FALSE)),\"\")","v":""},0,8.5]
[2023,"2023-07-03",{"$f":"IFERROR(IF(VLOOKUP($B552,Récapitulatif!$F$64:$I$68,2,FALSE)=0,\"\",VLOOKUP($B552,Récapitulatif!$F$64:$I$68,2,FALSE)),\"\")","v":""},0,-8.5,null,2023,"2023-07-03",{"$f":"IFERROR(IF(VLOOKUP($H552,Récapitulatif!$F$14:$I$24,2,FALSE)=0,\"\",VLOOKUP(H552,Récapitulatif!$F$14:$I$24,2,FALSE)),\"\")","v":""},0,8.5]
[2023,"2023-07-04",{"$f":"IFERROR(IF(VLOOKUP($B553,Récapitulatif!$F$64:$I$68,2,FALSE)=0,\"\",VLOOKUP($B553,Récapitulatif!$F$64:$I$68,2,FALSE)),\"\")","v":""},0,-8.5,null,2023,"2023-07-04",{"$f":"IFERROR(IF(VLOOKUP($H553,Récapitulatif!$F$14:$I$24,2,FALSE)=0,\"\",VLOOKUP(H553,Récapitulatif!$F$14:$I$24,2,FALSE)),\"\")","v":""},0,8.5]
[2023,"2023-07-05",{"$f":"IFERROR(IF(VLOOKUP($B554,Récapitulatif!$F$64:$I$68,2,FALSE)=0,\"\",VLOOKUP($B554,Récapitulatif!$F$64:$I$68,2,FALSE)),\"\")","v":""},0,-8.5,null,2023,"2023-07-05",{"$f":"IFERROR(IF(VLOOKUP($H554,Récapitulatif!$F$14:$I$24,2,FALSE)=0,\"\",VLOOKUP(H554,Récapitulatif!$F$14:$I$24,2,FALSE)),\"\")","v":""},0,8.5]
[2023,"2023-07-06",{"$f":"IFERROR(IF(VLOOKUP($B555,Récapitulatif!$F$64:$I$68,2,FALSE)=0,\"\",VLOOKUP($B555,Récapitulatif!$F$64:$I$68,2,FALSE)),\"\")","v":""},0,-8.5,null,2023,"2023-07-06",{"$f":"IFERROR(IF(VLOOKUP($H555,Récapitulatif!$F$14:$I$24,2,FALSE)=0,\"\",VLOOKUP(H555,Récapitulatif!$F$14:$I$24,2,FALSE)),\"\")","v":""},0,8.5]
[2023,"2023-07-07",{"$f":"IFERROR(IF(VLOOKUP($B556,Récapitulatif!$F$64:$I$68,2,FALSE)=0,\"\",VLOOKUP($B556,Récapitulatif!$F$64:$I$68,2,FALSE)),\"\")","v":""},0,-8.5,null,2023,"2023-07-07",{"$f":"IFERROR(IF(VLOOKUP($H556,Récapitulatif!$F$14:$I$24,2,FALSE)=0,\"\",VLOOKUP(H556,Récapitulatif!$F$14:$I$24,2,FALSE)),\"\")","v":""},0,8.5]
[2023,"2023-07-08",{"$f":"IFERROR(IF(VLOOKUP($B557,Récapitulatif!$F$64:$I$68,2,FALSE)=0,\"\",VLOOKUP($B557,Récapitulatif!$F$64:$I$68,2,FALSE)),\"\")","v":""},0,-8.5,null,2023,"2023-07-08",{"$f":"IFERROR(IF(VLOOKUP($H557,Récapitulatif!$F$14:$I$24,2,FALSE)=0,\"\",VLOOKUP(H557,Récapitulatif!$F$14:$I$24,2,FALSE)),\"\")","v":""},0,8.5]
[2023,"2023-07-09",{"$f":"IFERROR(IF(VLOOKUP($B558,Récapitulatif!$F$64:$I$68,2,FALSE)=0,\"\",VLOOKUP($B558,Récapitulatif!$F$64:$I$68,2,FALSE)),\"\")","v":""},0,-8.5,null,2023,"2023-07-09",{"$f":"IFERROR(IF(VLOOKUP($H558,Récapitulatif!$F$14:$I$24,2,FALSE)=0,\"\",VLOOKUP(H558,Récapitulatif!$F$14:$I$24,2,FALSE)),\"\")","v":""},0,8.5]
[2023,"2023-07-10",{"$f":"IFERROR(IF(VLOOKUP($B559,Récapitulatif!$F$64:$I$68,2,FALSE)=0,\"\",VLOOKUP($B559,Récapitulatif!$F$64:$I$68,2,FALSE)),\"\")","v":""},0,-8.5,null,2023,"2023-07-10",{"$f":"IFERROR(IF(VLOOKUP($H559,Récapitulatif!$F$14:$I$24,2,FALSE)=0,\"\",VLOOKUP(H559,Récapitulatif!$F$14:$I$24,2,FALSE)),\"\")","v":""},0,8.5]
[2023,"2023-07-11",{"$f":"IFERROR(IF(VLOOKUP($B560,Récapitulatif!$F$64:$I$68,2,FALSE)=0,\"\",VLOOKUP($B560,Récapitulatif!$F$64:$I$68,2,FALSE)),\"\")","v":""},0,-8.5,null,2023,"2023-07-11",{"$f":"IFERROR(IF(VLOOKUP($H560,Récapitulatif!$F$14:$I$24,2,FALSE)=0,\"\",VLOOKUP(H560,Récapitulatif!$F$14:$I$24,2,FALSE)),\"\")","v":""},0,8.5]
[2023,"2023-07-12",{"$f":"IFERROR(IF(VLOOKUP($B561,Récapitulatif!$F$64:$I$68,2,FALSE)=0,\"\",VLOOKUP($B561,Récapitulatif!$F$64:$I$68,2,FALSE)),\"\")","v":""},0,-8.5,null,2023,"2023-07-12",{"$f":"IFERROR(IF(VLOOKUP($H561,Récapitulatif!$F$14:$I$24,2,FALSE)=0,\"\",VLOOKUP(H561,Récapitulatif!$F$14:$I$24,2,FALSE)),\"\")","v":""},0,8.5]
[2023,"2023-07-13",{"$f":"IFERROR(IF(VLOOKUP($B562,Récapitulatif!$F$64:$I$68,2,FALSE)=0,\"\",VLOOKUP($B562,Récapitulatif!$F$64:$I$68,2,FALSE)),\"\")","v":""},0,-8.5,null,2023,"2023-07-13",{"$f":"IFERROR(IF(VLOOKUP($H562,Récapitulatif!$F$14:$I$24,2,FALSE)=0,\"\",VLOOKUP(H562,Récapitulatif!$F$14:$I$24,2,FALSE)),\"\")","v":""},0,8.5]
[2023,"2023-07-14",{"$f":"IFERROR(IF(VLOOKUP($B563,Récapitulatif!$F$64:$I$68,2,FALSE)=0,\"\",VLOOKUP($B563,Récapitulatif!$F$64:$I$68,2,FALSE)),\"\")","v":""},0,-8.5,null,2023,"2023-07-14",{"$f":"IFERROR(IF(VLOOKUP($H563,Récapitulatif!$F$14:$I$24,2,FALSE)=0,\"\",VLOOKUP(H563,Récapitulatif!$F$14:$I$24,2,FALSE)),\"\")","v":""},0,8.5]
[2023,"2023-07-15",{"$f":"IFERROR(IF(VLOOKUP($B564,Récapitulatif!$F$64:$I$68,2,FALSE)=0,\"\",VLOOKUP($B564,Récapitulatif!$F$64:$I$68,2,FALSE)),\"\")","v":""},0,-8.5,null,2023,"2023-07-15",{"$f":"IFERROR(IF(VLOOKUP($H564,Récapitulatif!$F$14:$I$24,2,FALSE)=0,\"\",VLOOKUP(H564,Récapitulatif!$F$14:$I$24,2,FALSE)),\"\")","v":""},0,8.5]
[2023,"2023-07-16",{"$f":"IFERROR(IF(VLOOKUP($B565,Récapitulatif!$F$64:$I$68,2,FALSE)=0,\"\",VLOOKUP($B565,Récapitulatif!$F$64:$I$68,2,FALSE)),\"\")","v":""},0,-8.5,null,2023,"2023-07-16",{"$f":"IFERROR(IF(VLOOKUP($H565,Récapitulatif!$F$14:$I$24,2,FALSE)=0,\"\",VLOOKUP(H565,Récapitulatif!$F$14:$I$24,2,FALSE)),\"\")","v":""},0,8.5]
[2023,"2023-07-17",{"$f":"IFERROR(IF(VLOOKUP($B566,Récapitulatif!$F$64:$I$68,2,FALSE)=0,\"\",VLOOKUP($B566,Récapitulatif!$F$64:$I$68,2,FALSE)),\"\")","v":""},0,-8.5,null,2023,"2023-07-17",{"$f":"IFERROR(IF(VLOOKUP($H566,Récapitulatif!$F$14:$I$24,2,FALSE)=0,\"\",VLOOKUP(H566,Récapitulatif!$F$14:$I$24,2,FALSE)),\"\")","v":""},0,8.5]
[2023,"2023-07-18",{"$f":"IFERROR(IF(VLOOKUP($B567,Récapitulatif!$F$64:$I$68,2,FALSE)=0,\"\",VLOOKUP($B567,Récapitulatif!$F$64:$I$68,2,FALSE)),\"\")","v":""},0,-8.5,null,2023,"2023-07-18",{"$f":"IFERROR(IF(VLOOKUP($H567,Récapitulatif!$F$14:$I$24,2,FALSE)=0,\"\",VLOOKUP(H567,Récapitulatif!$F$14:$I$24,2,FALSE)),\"\")","v":""},0,8.5]
[2023,"2023-07-19",{"$f":"IFERROR(IF(VLOOKUP($B568,Récapitulatif!$F$64:$I$68,2,FALSE)=0,\"\",VLOOKUP($B568,Récapitulatif!$F$64:$I$68,2,FALSE)),\"\")","v":""},0,-8.5,null,2023,"2023-07-19",{"$f":"IFERROR(IF(VLOOKUP($H568,Récapitulatif!$F$14:$I$24,2,FALSE)=0,\"\",VLOOKUP(H568,Récapitulatif!$F$14:$I$24,2,FALSE)),\"\")","v":""},0,8.5]
[2023,"2023-07-20",{"$f":"IFERROR(IF(VLOOKUP($B569,Récapitulatif!$F$64:$I$68,2,FALSE)=0,\"\",VLOOKUP($B569,Récapitulatif!$F$64:$I$68,2,FALSE)),\"\")","v":""},0,-8.5,null,2023,"2023-07-20",{"$f":"IFERROR(IF(VLOOKUP($H569,Récapitulatif!$F$14:$I$24,2,FALSE)=0,\"\",VLOOKUP(H569,Récapitulatif!$F$14:$I$24,2,FALSE)),\"\")","v":""},0,8.5]
[2023,"2023-07-21",{"$f":"IFERROR(IF(VLOOKUP($B570,Récapitulatif!$F$64:$I$68,2,FALSE)=0,\"\",VLOOKUP($B570,Récapitulatif!$F$64:$I$68,2,FALSE)),\"\")","v":""},0,-8.5,null,2023,"2023-07-21",{"$f":"IFERROR(IF(VLOOKUP($H570,Récapitulatif!$F$14:$I$24,2,FALSE)=0,\"\",VLOOKUP(H570,Récapitulatif!$F$14:$I$24,2,FALSE)),\"\")","v":""},0,8.5]
[2023,"2023-07-22",{"$f":"IFERROR(IF(VLOOKUP($B571,Récapitulatif!$F$64:$I$68,2,FALSE)=0,\"\",VLOOKUP($B571,Récapitulatif!$F$64:$I$68,2,FALSE)),\"\")","v":""},0,-8.5,null,2023,"2023-07-22",{"$f":"IFERROR(IF(VLOOKUP($H571,Récapitulatif!$F$14:$I$24,2,FALSE)=0,\"\",VLOOKUP(H571,Récapitulatif!$F$14:$I$24,2,FALSE)),\"\")","v":""},0,8.5]
[2023,"2023-07-23",{"$f":"IFERROR(IF(VLOOKUP($B572,Récapitulatif!$F$64:$I$68,2,FALSE)=0,\"\",VLOOKUP($B572,Récapitulatif!$F$64:$I$68,2,FALSE)),\"\")","v":""},0,-8.5,null,2023,"2023-07-23",{"$f":"IFERROR(IF(VLOOKUP($H572,Récapitulatif!$F$14:$I$24,2,FALSE)=0,\"\",VLOOKUP(H572,Récapitulatif!$F$14:$I$24,2,FALSE)),\"\")","v":""},0,8.5]
[2023,"2023-07-24",{"$f":"IFERROR(IF(VLOOKUP($B573,Récapitulatif!$F$64:$I$68,2,FALSE)=0,\"\",VLOOKUP($B573,Récapitulatif!$F$64:$I$68,2,FALSE)),\"\")","v":""},0,-8.5,null,2023,"2023-07-24",{"$f":"IFERROR(IF(VLOOKUP($H573,Récapitulatif!$F$14:$I$24,2,FALSE)=0,\"\",VLOOKUP(H573,Récapitulatif!$F$14:$I$24,2,FALSE)),\"\")","v":""},0,8.5]
[2023,"2023-07-25",{"$f":"IFERROR(IF(VLOOKUP($B574,Récapitulatif!$F$64:$I$68,2,FALSE)=0,\"\",VLOOKUP($B574,Récapitulatif!$F$64:$I$68,2,FALSE)),\"\")","v":""},0,-8.5,null,2023,"2023-07-25",{"$f":"IFERROR(IF(VLOOKUP($H574,Récapitulatif!$F$14:$I$24,2,FALSE)=0,\"\",VLOOKUP(H574,Récapitulatif!$F$14:$I$24,2,FALSE)),\"\")","v":""},0,8.5]
[2023,"2023-07-26",{"$f":"IFERROR(IF(VLOOKUP($B575,Récapitulatif!$F$64:$I$68,2,FALSE)=0,\"\",VLOOKUP($B575,Récapitulatif!$F$64:$I$68,2,FALSE)),\"\")","v":""},0,-8.5,null,2023,"2023-07-26",{"$f":"IFERROR(IF(VLOOKUP($H575,Récapitulatif!$F$14:$I$24,2,FALSE)=0,\"\",VLOOKUP(H575,Récapitulatif!$F$14:$I$24,2,FALSE)),\"\")","v":""},0,8.5]
[2023,"2023-07-27",{"$f":"IFERROR(IF(VLOOKUP($B576,Récapitulatif!$F$64:$I$68,2,FALSE)=0,\"\",VLOOKUP($B576,Récapitulatif!$F$64:$I$68,2,FALSE)),\"\")","v":""},0,-8.5,null,2023,"2023-07-27",{"$f":"IFERROR(IF(VLOOKUP($H576,Récapitulatif!$F$14:$I$24,2,FALSE)=0,\"\",VLOOKUP(H576,Récapitulatif!$F$14:$I$24,2,FALSE)),\"\")","v":""},0,8.5]
[2023,"2023-07-28",{"$f":"IFERROR(IF(VLOOKUP($B577,Récapitulatif!$F$64:$I$68,2,FALSE)=0,\"\",VLOOKUP($B577,Récapitulatif!$F$64:$I$68,2,FALSE)),\"\")","v":""},0,-8.5,null,2023,"2023-07-28",{"$f":"IFERROR(IF(VLOOKUP($H577,Récapitulatif!$F$14:$I$24,2,FALSE)=0,\"\",VLOOKUP(H577,Récapitulatif!$F$14:$I$24,2,FALSE)),\"\")","v":""},0,8.5]
[2023,"2023-07-29",{"$f":"IFERROR(IF(VLOOKUP($B578,Récapitulatif!$F$64:$I$68,2,FALSE)=0,\"\",VLOOKUP($B578,Récapitulatif!$F$64:$I$68,2,FALSE)),\"\")","v":""},0,-8.5,null,2023,"2023-07-29",{"$f":"IFERROR(IF(VLOOKUP($H578,Récapitulatif!$F$14:$I$24,2,FALSE)=0,\"\",VLOOKUP(H578,Récapitulatif!$F$14:$I$24,2,FALSE)),\"\")","v":""},0,8.5]
[2023,"2023-07-30",{"$f":"IFERROR(IF(VLOOKUP($B579,Récapitulatif!$F$64:$I$68,2,FALSE)=0,\"\",VLOOKUP($B579,Récapitulatif!$F$64:$I$68,2,FALSE)),\"\")","v":""},0,-8.5,null,2023,"2023-07-30",{"$f":"IFERROR(IF(VLOOKUP($H579,Récapitulatif!$F$14:$I$24,2,FALSE)=0,\"\",VLOOKUP(H579,Récapitulatif!$F$14:$I$24,2,FALSE)),\"\")","v":""},0,8.5]
[2023,"2023-07-31",{"$f":"IFERROR(IF(VLOOKUP($B580,Récapitulatif!$F$64:$I$68,2,FALSE)=0,\"\",VLOOKUP($B580,Récapitulatif!$F$64:$I$68,2,FALSE)),\"\")","v":""},0,-8.5,null,2023,"2023-07-31",{"$f":"IFERROR(IF(VLOOKUP($H580,Récapitulatif!$F$14:$I$24,2,FALSE)=0,\"\",VLOOKUP(H580,Récapitulatif!$F$14:$I$24,2,FALSE)),\"\")","v":""},0,8.5]
[2023,"2023-08-01",{"$f":"IFERROR(IF(VLOOKUP($B581,Récapitulatif!$F$64:$I$68,2,FALSE)=0,\"\",VLOOKUP($B581,Récapitulatif!$F$64:$I$68,2,FALSE)),\"\")","v":""},{"$f":"IF($C581=\"\",0,$E581)","v":0},-5.5,null,2023,"2023-08-01",{"$f":"IFERROR(IF(VLOOKUP($H581,Récapitulatif!$F$14:$I$24,2,FALSE)=0,\"\",VLOOKUP(H581,Récapitulatif!$F$14:$I$24,2,FALSE)),\"\")","v":""},{"$f":"IF($I581=\"\",0,$K581)","v":0},5.5]
[{"$f":"YEAR(B582)","v":2023},{"$f":"B581+1","v":"2023-08-02"},{"$f":"IFERROR(IF(VLOOKUP($B582,Récapitulatif!$F$64:$I$68,2,FALSE)=0,\"\",VLOOKUP($B582,Récapitulatif!$F$64:$I$68,2,FALSE)),\"\")","v":""},0,-5.5,null,{"$f":"YEAR(H582)","v":2023},{"$f":"H581+1","v":"2023-08-02"},{"$f":"IFERROR(IF(VLOOKUP($H582,Récapitulatif!$F$14:$I$24,2,FALSE)=0,\"\",VLOOKUP(H582,Récapitulatif!$F$14:$I$24,2,FALSE)),\"\")","v":""},0,5.5]
[2023,"2023-08-03",{"$f":"IFERROR(IF(VLOOKUP($B583,Récapitulatif!$F$64:$I$68,2,FALSE)=0,\"\",VLOOKUP($B583,Récapitulatif!$F$64:$I$68,2,FALSE)),\"\")","v":""},0,-5.5,null,2023,"2023-08-03",{"$f":"IFERROR(IF(VLOOKUP($H583,Récapitulatif!$F$14:$I$24,2,FALSE)=0,\"\",VLOOKUP(H583,Récapitulatif!$F$14:$I$24,2,FALSE)),\"\")","v":""},0,5.5]
[2023,"2023-08-04",{"$f":"IFERROR(IF(VLOOKUP($B584,Récapitulatif!$F$64:$I$68,2,FALSE)=0,\"\",VLOOKUP($B584,Récapitulatif!$F$64:$I$68,2,FALSE)),\"\")","v":""},0,-5.5,null,2023,"2023-08-04",{"$f":"IFERROR(IF(VLOOKUP($H584,Récapitulatif!$F$14:$I$24,2,FALSE)=0,\"\",VLOOKUP(H584,Récapitulatif!$F$14:$I$24,2,FALSE)),\"\")","v":""},0,5.5]
[2023,"2023-08-05",{"$f":"IFERROR(IF(VLOOKUP($B585,Récapitulatif!$F$64:$I$68,2,FALSE)=0,\"\",VLOOKUP($B585,Récapitulatif!$F$64:$I$68,2,FALSE)),\"\")","v":""},0,-5.5,null,2023,"2023-08-05",{"$f":"IFERROR(IF(VLOOKUP($H585,Récapitulatif!$F$14:$I$24,2,FALSE)=0,\"\",VLOOKUP(H585,Récapitulatif!$F$14:$I$24,2,FALSE)),\"\")","v":""},0,5.5]
[2023,"2023-08-06",{"$f":"IFERROR(IF(VLOOKUP($B586,Récapitulatif!$F$64:$I$68,2,FALSE)=0,\"\",VLOOKUP($B586,Récapitulatif!$F$64:$I$68,2,FALSE)),\"\")","v":""},0,-5.5,null,2023,"2023-08-06",{"$f":"IFERROR(IF(VLOOKUP($H586,Récapitulatif!$F$14:$I$24,2,FALSE)=0,\"\",VLOOKUP(H586,Récapitulatif!$F$14:$I$24,2,FALSE)),\"\")","v":""},0,5.5]
[2023,"2023-08-07",{"$f":"IFERROR(IF(VLOOKUP($B587,Récapitulatif!$F$64:$I$68,2,FALSE)=0,\"\",VLOOKUP($B587,Récapitulatif!$F$64:$I$68,2,FALSE)),\"\")","v":""},0,-5.5,null,2023,"2023-08-07",{"$f":"IFERROR(IF(VLOOKUP($H587,Récapitulatif!$F$14:$I$24,2,FALSE)=0,\"\",VLOOKUP(H587,Récapitulatif!$F$14:$I$24,2,FALSE)),\"\")","v":""},0,5.5]
[2023,"2023-08-08",{"$f":"IFERROR(IF(VLOOKUP($B588,Récapitulatif!$F$64:$I$68,2,FALSE)=0,\"\",VLOOKUP($B588,Récapitulatif!$F$64:$I$68,2,FALSE)),\"\")","v":""},0,-5.5,null,2023,"2023-08-08",{"$f":"IFERROR(IF(VLOOKUP($H588,Récapitulatif!$F$14:$I$24,2,FALSE)=0,\"\",VLOOKUP(H588,Récapitulatif!$F$14:$I$24,2,FALSE)),\"\")","v":""},0,5.5]
[2023,"2023-08-09",{"$f":"IFERROR(IF(VLOOKUP($B589,Récapitulatif!$F$64:$I$68,2,FALSE)=0,\"\",VLOOKUP($B589,Récapitulatif!$F$64:$I$68,2,FALSE)),\"\")","v":""},0,-5.5,null,2023,"2023-08-09",{"$f":"IFERROR(IF(VLOOKUP($H589,Récapitulatif!$F$14:$I$24,2,FALSE)=0,\"\",VLOOKUP(H589,Récapitulatif!$F$14:$I$24,2,FALSE)),\"\")","v":""},0,5.5]
[2023,"2023-08-10",{"$f":"IFERROR(IF(VLOOKUP($B590,Récapitulatif!$F$64:$I$68,2,FALSE)=0,\"\",VLOOKUP($B590,Récapitulatif!$F$64:$I$68,2,FALSE)),\"\")","v":""},0,-5.5,null,2023,"2023-08-10",{"$f":"IFERROR(IF(VLOOKUP($H590,Récapitulatif!$F$14:$I$24,2,FALSE)=0,\"\",VLOOKUP(H590,Récapitulatif!$F$14:$I$24,2,FALSE)),\"\")","v":""},0,5.5]
[2023,"2023-08-11",{"$f":"IFERROR(IF(VLOOKUP($B591,Récapitulatif!$F$64:$I$68,2,FALSE)=0,\"\",VLOOKUP($B591,Récapitulatif!$F$64:$I$68,2,FALSE)),\"\")","v":""},0,-5.5,null,2023,"2023-08-11",{"$f":"IFERROR(IF(VLOOKUP($H591,Récapitulatif!$F$14:$I$24,2,FALSE)=0,\"\",VLOOKUP(H591,Récapitulatif!$F$14:$I$24,2,FALSE)),\"\")","v":""},0,5.5]
[2023,"2023-08-12",{"$f":"IFERROR(IF(VLOOKUP($B592,Récapitulatif!$F$64:$I$68,2,FALSE)=0,\"\",VLOOKUP($B592,Récapitulatif!$F$64:$I$68,2,FALSE)),\"\")","v":""},0,-5.5,null,2023,"2023-08-12",{"$f":"IFERROR(IF(VLOOKUP($H592,Récapitulatif!$F$14:$I$24,2,FALSE)=0,\"\",VLOOKUP(H592,Récapitulatif!$F$14:$I$24,2,FALSE)),\"\")","v":""},0,5.5]
[2023,"2023-08-13",{"$f":"IFERROR(IF(VLOOKUP($B593,Récapitulatif!$F$64:$I$68,2,FALSE)=0,\"\",VLOOKUP($B593,Récapitulatif!$F$64:$I$68,2,FALSE)),\"\")","v":""},0,-5.5,null,2023,"2023-08-13",{"$f":"IFERROR(IF(VLOOKUP($H593,Récapitulatif!$F$14:$I$24,2,FALSE)=0,\"\",VLOOKUP(H593,Récapitulatif!$F$14:$I$24,2,FALSE)),\"\")","v":""},0,5.5]
[2023,"2023-08-14",{"$f":"IFERROR(IF(VLOOKUP($B594,Récapitulatif!$F$64:$I$68,2,FALSE)=0,\"\",VLOOKUP($B594,Récapitulatif!$F$64:$I$68,2,FALSE)),\"\")","v":""},0,-5.5,null,2023,"2023-08-14",{"$f":"IFERROR(IF(VLOOKUP($H594,Récapitulatif!$F$14:$I$24,2,FALSE)=0,\"\",VLOOKUP(H594,Récapitulatif!$F$14:$I$24,2,FALSE)),\"\")","v":""},0,5.5]
[2023,"2023-08-15",{"$f":"IFERROR(IF(VLOOKUP($B595,Récapitulatif!$F$64:$I$68,2,FALSE)=0,\"\",VLOOKUP($B595,Récapitulatif!$F$64:$I$68,2,FALSE)),\"\")","v":""},0,-5.5,null,2023,"2023-08-15",{"$f":"IFERROR(IF(VLOOKUP($H595,Récapitulatif!$F$14:$I$24,2,FALSE)=0,\"\",VLOOKUP(H595,Récapitulatif!$F$14:$I$24,2,FALSE)),\"\")","v":""},0,5.5]
[2023,"2023-08-16",{"$f":"IFERROR(IF(VLOOKUP($B596,Récapitulatif!$F$64:$I$68,2,FALSE)=0,\"\",VLOOKUP($B596,Récapitulatif!$F$64:$I$68,2,FALSE)),\"\")","v":""},0,-5.5,null,2023,"2023-08-16",{"$f":"IFERROR(IF(VLOOKUP($H596,Récapitulatif!$F$14:$I$24,2,FALSE)=0,\"\",VLOOKUP(H596,Récapitulatif!$F$14:$I$24,2,FALSE)),\"\")","v":""},0,5.5]
[2023,"2023-08-17",{"$f":"IFERROR(IF(VLOOKUP($B597,Récapitulatif!$F$64:$I$68,2,FALSE)=0,\"\",VLOOKUP($B597,Récapitulatif!$F$64:$I$68,2,FALSE)),\"\")","v":""},0,-5.5,null,2023,"2023-08-17",{"$f":"IFERROR(IF(VLOOKUP($H597,Récapitulatif!$F$14:$I$24,2,FALSE)=0,\"\",VLOOKUP(H597,Récapitulatif!$F$14:$I$24,2,FALSE)),\"\")","v":""},0,5.5]
[2023,"2023-08-18",{"$f":"IFERROR(IF(VLOOKUP($B598,Récapitulatif!$F$64:$I$68,2,FALSE)=0,\"\",VLOOKUP($B598,Récapitulatif!$F$64:$I$68,2,FALSE)),\"\")","v":""},0,-5.5,null,2023,"2023-08-18",{"$f":"IFERROR(IF(VLOOKUP($H598,Récapitulatif!$F$14:$I$24,2,FALSE)=0,\"\",VLOOKUP(H598,Récapitulatif!$F$14:$I$24,2,FALSE)),\"\")","v":""},0,5.5]
[2023,"2023-08-19",{"$f":"IFERROR(IF(VLOOKUP($B599,Récapitulatif!$F$64:$I$68,2,FALSE)=0,\"\",VLOOKUP($B599,Récapitulatif!$F$64:$I$68,2,FALSE)),\"\")","v":""},0,-5.5,null,2023,"2023-08-19",{"$f":"IFERROR(IF(VLOOKUP($H599,Récapitulatif!$F$14:$I$24,2,FALSE)=0,\"\",VLOOKUP(H599,Récapitulatif!$F$14:$I$24,2,FALSE)),\"\")","v":""},0,5.5]
[2023,"2023-08-20",{"$f":"IFERROR(IF(VLOOKUP($B600,Récapitulatif!$F$64:$I$68,2,FALSE)=0,\"\",VLOOKUP($B600,Récapitulatif!$F$64:$I$68,2,FALSE)),\"\")","v":""},0,-5.5,null,2023,"2023-08-20",{"$f":"IFERROR(IF(VLOOKUP($H600,Récapitulatif!$F$14:$I$24,2,FALSE)=0,\"\",VLOOKUP(H600,Récapitulatif!$F$14:$I$24,2,FALSE)),\"\")","v":""},0,5.5]
[2023,"2023-08-21",{"$f":"IFERROR(IF(VLOOKUP($B601,Récapitulatif!$F$64:$I$68,2,FALSE)=0,\"\",VLOOKUP($B601,Récapitulatif!$F$64:$I$68,2,FALSE)),\"\")","v":""},0,-5.5,null,2023,"2023-08-21",{"$f":"IFERROR(IF(VLOOKUP($H601,Récapitulatif!$F$14:$I$24,2,FALSE)=0,\"\",VLOOKUP(H601,Récapitulatif!$F$14:$I$24,2,FALSE)),\"\")","v":""},0,5.5]
[2023,"2023-08-22",{"$f":"IFERROR(IF(VLOOKUP($B602,Récapitulatif!$F$64:$I$68,2,FALSE)=0,\"\",VLOOKUP($B602,Récapitulatif!$F$64:$I$68,2,FALSE)),\"\")","v":""},0,-5.5,null,2023,"2023-08-22",{"$f":"IFERROR(IF(VLOOKUP($H602,Récapitulatif!$F$14:$I$24,2,FALSE)=0,\"\",VLOOKUP(H602,Récapitulatif!$F$14:$I$24,2,FALSE)),\"\")","v":""},0,5.5]
[2023,"2023-08-23",{"$f":"IFERROR(IF(VLOOKUP($B603,Récapitulatif!$F$64:$I$68,2,FALSE)=0,\"\",VLOOKUP($B603,Récapitulatif!$F$64:$I$68,2,FALSE)),\"\")","v":""},0,-5.5,null,2023,"2023-08-23",{"$f":"IFERROR(IF(VLOOKUP($H603,Récapitulatif!$F$14:$I$24,2,FALSE)=0,\"\",VLOOKUP(H603,Récapitulatif!$F$14:$I$24,2,FALSE)),\"\")","v":""},0,5.5]
[2023,"2023-08-24",{"$f":"IFERROR(IF(VLOOKUP($B604,Récapitulatif!$F$64:$I$68,2,FALSE)=0,\"\",VLOOKUP($B604,Récapitulatif!$F$64:$I$68,2,FALSE)),\"\")","v":""},0,-5.5,null,2023,"2023-08-24",{"$f":"IFERROR(IF(VLOOKUP($H604,Récapitulatif!$F$14:$I$24,2,FALSE)=0,\"\",VLOOKUP(H604,Récapitulatif!$F$14:$I$24,2,FALSE)),\"\")","v":""},0,5.5]
[2023,"2023-08-25",{"$f":"IFERROR(IF(VLOOKUP($B605,Récapitulatif!$F$64:$I$68,2,FALSE)=0,\"\",VLOOKUP($B605,Récapitulatif!$F$64:$I$68,2,FALSE)),\"\")","v":""},0,-5.5,null,2023,"2023-08-25",{"$f":"IFERROR(IF(VLOOKUP($H605,Récapitulatif!$F$14:$I$24,2,FALSE)=0,\"\",VLOOKUP(H605,Récapitulatif!$F$14:$I$24,2,FALSE)),\"\")","v":""},0,5.5]
[2023,"2023-08-26",{"$f":"IFERROR(IF(VLOOKUP($B606,Récapitulatif!$F$64:$I$68,2,FALSE)=0,\"\",VLOOKUP($B606,Récapitulatif!$F$64:$I$68,2,FALSE)),\"\")","v":""},0,-5.5,null,2023,"2023-08-26",{"$f":"IFERROR(IF(VLOOKUP($H606,Récapitulatif!$F$14:$I$24,2,FALSE)=0,\"\",VLOOKUP(H606,Récapitulatif!$F$14:$I$24,2,FALSE)),\"\")","v":""},0,5.5]
[2023,"2023-08-27",{"$f":"IFERROR(IF(VLOOKUP($B607,Récapitulatif!$F$64:$I$68,2,FALSE)=0,\"\",VLOOKUP($B607,Récapitulatif!$F$64:$I$68,2,FALSE)),\"\")","v":""},0,-5.5,null,2023,"2023-08-27",{"$f":"IFERROR(IF(VLOOKUP($H607,Récapitulatif!$F$14:$I$24,2,FALSE)=0,\"\",VLOOKUP(H607,Récapitulatif!$F$14:$I$24,2,FALSE)),\"\")","v":""},0,5.5]
[2023,"2023-08-28",{"$f":"IFERROR(IF(VLOOKUP($B608,Récapitulatif!$F$64:$I$68,2,FALSE)=0,\"\",VLOOKUP($B608,Récapitulatif!$F$64:$I$68,2,FALSE)),\"\")","v":""},0,-5.5,null,2023,"2023-08-28",{"$f":"IFERROR(IF(VLOOKUP($H608,Récapitulatif!$F$14:$I$24,2,FALSE)=0,\"\",VLOOKUP(H608,Récapitulatif!$F$14:$I$24,2,FALSE)),\"\")","v":""},0,5.5]
[2023,"2023-08-29",{"$f":"IFERROR(IF(VLOOKUP($B609,Récapitulatif!$F$64:$I$68,2,FALSE)=0,\"\",VLOOKUP($B609,Récapitulatif!$F$64:$I$68,2,FALSE)),\"\")","v":""},0,-5.5,null,2023,"2023-08-29",{"$f":"IFERROR(IF(VLOOKUP($H609,Récapitulatif!$F$14:$I$24,2,FALSE)=0,\"\",VLOOKUP(H609,Récapitulatif!$F$14:$I$24,2,FALSE)),\"\")","v":""},0,5.5]
[2023,"2023-08-30",{"$f":"IFERROR(IF(VLOOKUP($B610,Récapitulatif!$F$64:$I$68,2,FALSE)=0,\"\",VLOOKUP($B610,Récapitulatif!$F$64:$I$68,2,FALSE)),\"\")","v":""},0,-5.5,null,2023,"2023-08-30",{"$f":"IFERROR(IF(VLOOKUP($H610,Récapitulatif!$F$14:$I$24,2,FALSE)=0,\"\",VLOOKUP(H610,Récapitulatif!$F$14:$I$24,2,FALSE)),\"\")","v":""},0,5.5]
[2023,"2023-08-31",{"$f":"IFERROR(IF(VLOOKUP($B611,Récapitulatif!$F$64:$I$68,2,FALSE)=0,\"\",VLOOKUP($B611,Récapitulatif!$F$64:$I$68,2,FALSE)),\"\")","v":""},0,-5.5,null,2023,"2023-08-31",{"$f":"IFERROR(IF(VLOOKUP($H611,Récapitulatif!$F$14:$I$24,2,FALSE)=0,\"\",VLOOKUP(H611,Récapitulatif!$F$14:$I$24,2,FALSE)),\"\")","v":""},0,5.5]
[2023,"2023-09-01",{"$f":"IFERROR(IF(VLOOKUP($B612,Récapitulatif!$F$64:$I$68,2,FALSE)=0,\"\",VLOOKUP($B612,Récapitulatif!$F$64:$I$68,2,FALSE)),\"\")","v":""},0,-7.5,null,2023,"2023-09-01",{"$f":"IFERROR(IF(VLOOKUP($H612,Récapitulatif!$F$14:$I$24,2,FALSE)=0,\"\",VLOOKUP(H612,Récapitulatif!$F$14:$I$24,2,FALSE)),\"\")","v":""},0,7.5]
[2023,"2023-09-02",{"$f":"IFERROR(IF(VLOOKUP($B613,Récapitulatif!$F$64:$I$68,2,FALSE)=0,\"\",VLOOKUP($B613,Récapitulatif!$F$64:$I$68,2,FALSE)),\"\")","v":""},0,-7.5,null,2023,"2023-09-02",{"$f":"IFERROR(IF(VLOOKUP($H613,Récapitulatif!$F$14:$I$24,2,FALSE)=0,\"\",VLOOKUP(H613,Récapitulatif!$F$14:$I$24,2,FALSE)),\"\")","v":""},0,7.5]
[2023,"2023-09-03",{"$f":"IFERROR(IF(VLOOKUP($B614,Récapitulatif!$F$64:$I$68,2,FALSE)=0,\"\",VLOOKUP($B614,Récapitulatif!$F$64:$I$68,2,FALSE)),\"\")","v":""},0,-7.5,null,2023,"2023-09-03",{"$f":"IFERROR(IF(VLOOKUP($H614,Récapitulatif!$F$14:$I$24,2,FALSE)=0,\"\",VLOOKUP(H614,Récapitulatif!$F$14:$I$24,2,FALSE)),\"\")","v":""},0,7.5]
[2023,"2023-09-04",{"$f":"IFERROR(IF(VLOOKUP($B615,Récapitulatif!$F$64:$I$68,2,FALSE)=0,\"\",VLOOKUP($B615,Récapitulatif!$F$64:$I$68,2,FALSE)),\"\")","v":""},0,-7.5,null,2023,"2023-09-04",{"$f":"IFERROR(IF(VLOOKUP($H615,Récapitulatif!$F$14:$I$24,2,FALSE)=0,\"\",VLOOKUP(H615,Récapitulatif!$F$14:$I$24,2,FALSE)),\"\")","v":""},0,7.5]
[2023,"2023-09-05",{"$f":"IFERROR(IF(VLOOKUP($B616,Récapitulatif!$F$64:$I$68,2,FALSE)=0,\"\",VLOOKUP($B616,Récapitulatif!$F$64:$I$68,2,FALSE)),\"\")","v":""},0,-7.5,null,2023,"2023-09-05",{"$f":"IFERROR(IF(VLOOKUP($H616,Récapitulatif!$F$14:$I$24,2,FALSE)=0,\"\",VLOOKUP(H616,Récapitulatif!$F$14:$I$24,2,FALSE)),\"\")","v":""},0,7.5]
[2023,"2023-09-06",{"$f":"IFERROR(IF(VLOOKUP($B617,Récapitulatif!$F$64:$I$68,2,FALSE)=0,\"\",VLOOKUP($B617,Récapitulatif!$F$64:$I$68,2,FALSE)),\"\")","v":""},0,-7.5,null,2023,"2023-09-06",{"$f":"IFERROR(IF(VLOOKUP($H617,Récapitulatif!$F$14:$I$24,2,FALSE)=0,\"\",VLOOKUP(H617,Récapitulatif!$F$14:$I$24,2,FALSE)),\"\")","v":""},0,7.5]
[2023,"2023-09-07",{"$f":"IFERROR(IF(VLOOKUP($B618,Récapitulatif!$F$64:$I$68,2,FALSE)=0,\"\",VLOOKUP($B618,Récapitulatif!$F$64:$I$68,2,FALSE)),\"\")","v":""},0,-7.5,null,2023,"2023-09-07",{"$f":"IFERROR(IF(VLOOKUP($H618,Récapitulatif!$F$14:$I$24,2,FALSE)=0,\"\",VLOOKUP(H618,Récapitulatif!$F$14:$I$24,2,FALSE)),\"\")","v":""},0,7.5]
[2023,"2023-09-08",{"$f":"IFERROR(IF(VLOOKUP($B619,Récapitulatif!$F$64:$I$68,2,FALSE)=0,\"\",VLOOKUP($B619,Récapitulatif!$F$64:$I$68,2,FALSE)),\"\")","v":""},0,-7.5,null,2023,"2023-09-08",{"$f":"IFERROR(IF(VLOOKUP($H619,Récapitulatif!$F$14:$I$24,2,FALSE)=0,\"\",VLOOKUP(H619,Récapitulatif!$F$14:$I$24,2,FALSE)),\"\")","v":""},0,7.5]
[2023,"2023-09-09",{"$f":"IFERROR(IF(VLOOKUP($B620,Récapitulatif!$F$64:$I$68,2,FALSE)=0,\"\",VLOOKUP($B620,Récapitulatif!$F$64:$I$68,2,FALSE)),\"\")","v":""},0,-7.5,null,2023,"2023-09-09",{"$f":"IFERROR(IF(VLOOKUP($H620,Récapitulatif!$F$14:$I$24,2,FALSE)=0,\"\",VLOOKUP(H620,Récapitulatif!$F$14:$I$24,2,FALSE)),\"\")","v":""},0,7.5]
[2023,"2023-09-10",{"$f":"IFERROR(IF(VLOOKUP($B621,Récapitulatif!$F$64:$I$68,2,FALSE)=0,\"\",VLOOKUP($B621,Récapitulatif!$F$64:$I$68,2,FALSE)),\"\")","v":""},0,-7.5,null,2023,"2023-09-10",{"$f":"IFERROR(IF(VLOOKUP($H621,Récapitulatif!$F$14:$I$24,2,FALSE)=0,\"\",VLOOKUP(H621,Récapitulatif!$F$14:$I$24,2,FALSE)),\"\")","v":""},0,7.5]
[2023,"2023-09-11",{"$f":"IFERROR(IF(VLOOKUP($B622,Récapitulatif!$F$64:$I$68,2,FALSE)=0,\"\",VLOOKUP($B622,Récapitulatif!$F$64:$I$68,2,FALSE)),\"\")","v":""},0,-7.5,null,2023,"2023-09-11",{"$f":"IFERROR(IF(VLOOKUP($H622,Récapitulatif!$F$14:$I$24,2,FALSE)=0,\"\",VLOOKUP(H622,Récapitulatif!$F$14:$I$24,2,FALSE)),\"\")","v":""},0,7.5]
[2023,"2023-09-12",{"$f":"IFERROR(IF(VLOOKUP($B623,Récapitulatif!$F$64:$I$68,2,FALSE)=0,\"\",VLOOKUP($B623,Récapitulatif!$F$64:$I$68,2,FALSE)),\"\")","v":""},0,-7.5,null,2023,"2023-09-12",{"$f":"IFERROR(IF(VLOOKUP($H623,Récapitulatif!$F$14:$I$24,2,FALSE)=0,\"\",VLOOKUP(H623,Récapitulatif!$F$14:$I$24,2,FALSE)),\"\")","v":""},0,7.5]
[2023,"2023-09-13",{"$f":"IFERROR(IF(VLOOKUP($B624,Récapitulatif!$F$64:$I$68,2,FALSE)=0,\"\",VLOOKUP($B624,Récapitulatif!$F$64:$I$68,2,FALSE)),\"\")","v":""},0,-7.5,null,2023,"2023-09-13",{"$f":"IFERROR(IF(VLOOKUP($H624,Récapitulatif!$F$14:$I$24,2,FALSE)=0,\"\",VLOOKUP(H624,Récapitulatif!$F$14:$I$24,2,FALSE)),\"\")","v":""},0,7.5]
[2023,"2023-09-14",{"$f":"IFERROR(IF(VLOOKUP($B625,Récapitulatif!$F$64:$I$68,2,FALSE)=0,\"\",VLOOKUP($B625,Récapitulatif!$F$64:$I$68,2,FALSE)),\"\")","v":""},0,-7.5,null,2023,"2023-09-14",{"$f":"IFERROR(IF(VLOOKUP($H625,Récapitulatif!$F$14:$I$24,2,FALSE)=0,\"\",VLOOKUP(H625,Récapitulatif!$F$14:$I$24,2,FALSE)),\"\")","v":""},0,7.5]
[2023,"2023-09-15",{"$f":"IFERROR(IF(VLOOKUP($B626,Récapitulatif!$F$64:$I$68,2,FALSE)=0,\"\",VLOOKUP($B626,Récapitulatif!$F$64:$I$68,2,FALSE)),\"\")","v":""},0,-7.5,null,2023,"2023-09-15",{"$f":"IFERROR(IF(VLOOKUP($H626,Récapitulatif!$F$14:$I$24,2,FALSE)=0,\"\",VLOOKUP(H626,Récapitulatif!$F$14:$I$24,2,FALSE)),\"\")","v":""},0,7.5]
[2023,"2023-09-16",{"$f":"IFERROR(IF(VLOOKUP($B627,Récapitulatif!$F$64:$I$68,2,FALSE)=0,\"\",VLOOKUP($B627,Récapitulatif!$F$64:$I$68,2,FALSE)),\"\")","v":""},0,-7.5,null,2023,"2023-09-16",{"$f":"IFERROR(IF(VLOOKUP($H627,Récapitulatif!$F$14:$I$24,2,FALSE)=0,\"\",VLOOKUP(H627,Récapitulatif!$F$14:$I$24,2,FALSE)),\"\")","v":""},0,7.5]
[2023,"2023-09-17",{"$f":"IFERROR(IF(VLOOKUP($B628,Récapitulatif!$F$64:$I$68,2,FALSE)=0,\"\",VLOOKUP($B628,Récapitulatif!$F$64:$I$68,2,FALSE)),\"\")","v":""},0,-7.5,null,2023,"2023-09-17",{"$f":"IFERROR(IF(VLOOKUP($H628,Récapitulatif!$F$14:$I$24,2,FALSE)=0,\"\",VLOOKUP(H628,Récapitulatif!$F$14:$I$24,2,FALSE)),\"\")","v":""},0,7.5]
[2023,"2023-09-18",{"$f":"IFERROR(IF(VLOOKUP($B629,Récapitulatif!$F$64:$I$68,2,FALSE)=0,\"\",VLOOKUP($B629,Récapitulatif!$F$64:$I$68,2,FALSE)),\"\")","v":""},0,-7.5,null,2023,"2023-09-18",{"$f":"IFERROR(IF(VLOOKUP($H629,Récapitulatif!$F$14:$I$24,2,FALSE)=0,\"\",VLOOKUP(H629,Récapitulatif!$F$14:$I$24,2,FALSE)),\"\")","v":""},0,7.5]
[2023,"2023-09-19",{"$f":"IFERROR(IF(VLOOKUP($B630,Récapitulatif!$F$64:$I$68,2,FALSE)=0,\"\",VLOOKUP($B630,Récapitulatif!$F$64:$I$68,2,FALSE)),\"\")","v":""},0,-7.5,null,2023,"2023-09-19",{"$f":"IFERROR(IF(VLOOKUP($H630,Récapitulatif!$F$14:$I$24,2,FALSE)=0,\"\",VLOOKUP(H630,Récapitulatif!$F$14:$I$24,2,FALSE)),\"\")","v":""},0,7.5]
[2023,"2023-09-20",{"$f":"IFERROR(IF(VLOOKUP($B631,Récapitulatif!$F$64:$I$68,2,FALSE)=0,\"\",VLOOKUP($B631,Récapitulatif!$F$64:$I$68,2,FALSE)),\"\")","v":""},0,-7.5,null,2023,"2023-09-20",{"$f":"IFERROR(IF(VLOOKUP($H631,Récapitulatif!$F$14:$I$24,2,FALSE)=0,\"\",VLOOKUP(H631,Récapitulatif!$F$14:$I$24,2,FALSE)),\"\")","v":""},0,7.5]
[2023,"2023-09-21",{"$f":"IFERROR(IF(VLOOKUP($B632,Récapitulatif!$F$64:$I$68,2,FALSE)=0,\"\",VLOOKUP($B632,Récapitulatif!$F$64:$I$68,2,FALSE)),\"\")","v":""},0,-7.5,null,2023,"2023-09-21",{"$f":"IFERROR(IF(VLOOKUP($H632,Récapitulatif!$F$14:$I$24,2,FALSE)=0,\"\",VLOOKUP(H632,Récapitulatif!$F$14:$I$24,2,FALSE)),\"\")","v":""},0,7.5]
[2023,"2023-09-22",{"$f":"IFERROR(IF(VLOOKUP($B633,Récapitulatif!$F$64:$I$68,2,FALSE)=0,\"\",VLOOKUP($B633,Récapitulatif!$F$64:$I$68,2,FALSE)),\"\")","v":""},0,-7.5,null,2023,"2023-09-22",{"$f":"IFERROR(IF(VLOOKUP($H633,Récapitulatif!$F$14:$I$24,2,FALSE)=0,\"\",VLOOKUP(H633,Récapitulatif!$F$14:$I$24,2,FALSE)),\"\")","v":""},0,7.5]
[2023,"2023-09-23",{"$f":"IFERROR(IF(VLOOKUP($B634,Récapitulatif!$F$64:$I$68,2,FALSE)=0,\"\",VLOOKUP($B634,Récapitulatif!$F$64:$I$68,2,FALSE)),\"\")","v":""},0,-7.5,null,2023,"2023-09-23",{"$f":"IFERROR(IF(VLOOKUP($H634,Récapitulatif!$F$14:$I$24,2,FALSE)=0,\"\",VLOOKUP(H634,Récapitulatif!$F$14:$I$24,2,FALSE)),\"\")","v":""},0,7.5]
[2023,"2023-09-24",{"$f":"IFERROR(IF(VLOOKUP($B635,Récapitulatif!$F$64:$I$68,2,FALSE)=0,\"\",VLOOKUP($B635,Récapitulatif!$F$64:$I$68,2,FALSE)),\"\")","v":""},0,-7.5,null,2023,"2023-09-24",{"$f":"IFERROR(IF(VLOOKUP($H635,Récapitulatif!$F$14:$I$24,2,FALSE)=0,\"\",VLOOKUP(H635,Récapitulatif!$F$14:$I$24,2,FALSE)),\"\")","v":""},0,7.5]
[2023,"2023-09-25",{"$f":"IFERROR(IF(VLOOKUP($B636,Récapitulatif!$F$64:$I$68,2,FALSE)=0,\"\",VLOOKUP($B636,Récapitulatif!$F$64:$I$68,2,FALSE)),\"\")","v":""},0,-7.5,null,2023,"2023-09-25",{"$f":"IFERROR(IF(VLOOKUP($H636,Récapitulatif!$F$14:$I$24,2,FALSE)=0,\"\",VLOOKUP(H636,Récapitulatif!$F$14:$I$24,2,FALSE)),\"\")","v":""},0,7.5]
[2023,"2023-09-26",{"$f":"IFERROR(IF(VLOOKUP($B637,Récapitulatif!$F$64:$I$68,2,FALSE)=0,\"\",VLOOKUP($B637,Récapitulatif!$F$64:$I$68,2,FALSE)),\"\")","v":""},0,-7.5,null,2023,"2023-09-26",{"$f":"IFERROR(IF(VLOOKUP($H637,Récapitulatif!$F$14:$I$24,2,FALSE)=0,\"\",VLOOKUP(H637,Récapitulatif!$F$14:$I$24,2,FALSE)),\"\")","v":""},0,7.5]
[2023,"2023-09-27",{"$f":"IFERROR(IF(VLOOKUP($B638,Récapitulatif!$F$64:$I$68,2,FALSE)=0,\"\",VLOOKUP($B638,Récapitulatif!$F$64:$I$68,2,FALSE)),\"\")","v":""},0,-7.5,null,2023,"2023-09-27",{"$f":"IFERROR(IF(VLOOKUP($H638,Récapitulatif!$F$14:$I$24,2,FALSE)=0,\"\",VLOOKUP(H638,Récapitulatif!$F$14:$I$24,2,FALSE)),\"\")","v":""},0,7.5]
[2023,"2023-09-28",{"$f":"IFERROR(IF(VLOOKUP($B639,Récapitulatif!$F$64:$I$68,2,FALSE)=0,\"\",VLOOKUP($B639,Récapitulatif!$F$64:$I$68,2,FALSE)),\"\")","v":""},0,-7.5,null,2023,"2023-09-28",{"$f":"IFERROR(IF(VLOOKUP($H639,Récapitulatif!$F$14:$I$24,2,FALSE)=0,\"\",VLOOKUP(H639,Récapitulatif!$F$14:$I$24,2,FALSE)),\"\")","v":""},0,7.5]
[2023,"2023-09-29",{"$f":"IFERROR(IF(VLOOKUP($B640,Récapitulatif!$F$64:$I$68,2,FALSE)=0,\"\",VLOOKUP($B640,Récapitulatif!$F$64:$I$68,2,FALSE)),\"\")","v":""},0,-7.5,null,2023,"2023-09-29",{"$f":"IFERROR(IF(VLOOKUP($H640,Récapitulatif!$F$14:$I$24,2,FALSE)=0,\"\",VLOOKUP(H640,Récapitulatif!$F$14:$I$24,2,FALSE)),\"\")","v":""},0,7.5]
[2023,"2023-09-30",{"$f":"IFERROR(IF(VLOOKUP($B641,Récapitulatif!$F$64:$I$68,2,FALSE)=0,\"\",VLOOKUP($B641,Récapitulatif!$F$64:$I$68,2,FALSE)),\"\")","v":""},0,-7.5,null,2023,"2023-09-30",{"$f":"IFERROR(IF(VLOOKUP($H641,Récapitulatif!$F$14:$I$24,2,FALSE)=0,\"\",VLOOKUP(H641,Récapitulatif!$F$14:$I$24,2,FALSE)),\"\")","v":""},0,7.5]
[2023,"2023-10-01",{"$f":"IFERROR(IF(VLOOKUP($B642,Récapitulatif!$F$64:$I$68,2,FALSE)=0,\"\",VLOOKUP($B642,Récapitulatif!$F$64:$I$68,2,FALSE)),\"\")","v":""},0,-4.5,null,2023,"2023-10-01",{"$f":"IFERROR(IF(VLOOKUP($H642,Récapitulatif!$F$14:$I$24,2,FALSE)=0,\"\",VLOOKUP(H642,Récapitulatif!$F$14:$I$24,2,FALSE)),\"\")","v":""},0,4.5]
[2023,"2023-10-02",{"$f":"IFERROR(IF(VLOOKUP($B643,Récapitulatif!$F$64:$I$68,2,FALSE)=0,\"\",VLOOKUP($B643,Récapitulatif!$F$64:$I$68,2,FALSE)),\"\")","v":""},0,-4.5,null,2023,"2023-10-02",{"$f":"IFERROR(IF(VLOOKUP($H643,Récapitulatif!$F$14:$I$24,2,FALSE)=0,\"\",VLOOKUP(H643,Récapitulatif!$F$14:$I$24,2,FALSE)),\"\")","v":""},0,4.5]
[2023,"2023-10-03",{"$f":"IFERROR(IF(VLOOKUP($B644,Récapitulatif!$F$64:$I$68,2,FALSE)=0,\"\",VLOOKUP($B644,Récapitulatif!$F$64:$I$68,2,FALSE)),\"\")","v":""},0,-4.5,null,2023,"2023-10-03",{"$f":"IFERROR(IF(VLOOKUP($H644,Récapitulatif!$F$14:$I$24,2,FALSE)=0,\"\",VLOOKUP(H644,Récapitulatif!$F$14:$I$24,2,FALSE)),\"\")","v":""},0,4.5]
[2023,"2023-10-04",{"$f":"IFERROR(IF(VLOOKUP($B645,Récapitulatif!$F$64:$I$68,2,FALSE)=0,\"\",VLOOKUP($B645,Récapitulatif!$F$64:$I$68,2,FALSE)),\"\")","v":""},{"$f":"IF($C645=\"\",0,$E645)","v":0},-4.5,null,2023,"2023-10-04",{"$f":"IFERROR(IF(VLOOKUP($H645,Récapitulatif!$F$14:$I$24,2,FALSE)=0,\"\",VLOOKUP(H645,Récapitulatif!$F$14:$I$24,2,FALSE)),\"\")","v":""},{"$f":"IF($I645=\"\",0,$K645)","v":0},4.5]
[{"$f":"YEAR(B646)","v":2023},{"$f":"B645+1","v":"2023-10-05"},{"$f":"IFERROR(IF(VLOOKUP($B646,Récapitulatif!$F$64:$I$68,2,FALSE)=0,\"\",VLOOKUP($B646,Récapitulatif!$F$64:$I$68,2,FALSE)),\"\")","v":""},0,-4.5,null,{"$f":"YEAR(H646)","v":2023},{"$f":"H645+1","v":"2023-10-05"},{"$f":"IFERROR(IF(VLOOKUP($H646,Récapitulatif!$F$14:$I$24,2,FALSE)=0,\"\",VLOOKUP(H646,Récapitulatif!$F$14:$I$24,2,FALSE)),\"\")","v":""},0,4.5]
[2023,"2023-10-06",{"$f":"IFERROR(IF(VLOOKUP($B647,Récapitulatif!$F$64:$I$68,2,FALSE)=0,\"\",VLOOKUP($B647,Récapitulatif!$F$64:$I$68,2,FALSE)),\"\")","v":""},0,-4.5,null,2023,"2023-10-06",{"$f":"IFERROR(IF(VLOOKUP($H647,Récapitulatif!$F$14:$I$24,2,FALSE)=0,\"\",VLOOKUP(H647,Récapitulatif!$F$14:$I$24,2,FALSE)),\"\")","v":""},0,4.5]
[2023,"2023-10-07",{"$f":"IFERROR(IF(VLOOKUP($B648,Récapitulatif!$F$64:$I$68,2,FALSE)=0,\"\",VLOOKUP($B648,Récapitulatif!$F$64:$I$68,2,FALSE)),\"\")","v":""},0,-4.5,null,2023,"2023-10-07",{"$f":"IFERROR(IF(VLOOKUP($H648,Récapitulatif!$F$14:$I$24,2,FALSE)=0,\"\",VLOOKUP(H648,Récapitulatif!$F$14:$I$24,2,FALSE)),\"\")","v":""},0,4.5]
[2023,"2023-10-08",{"$f":"IFERROR(IF(VLOOKUP($B649,Récapitulatif!$F$64:$I$68,2,FALSE)=0,\"\",VLOOKUP($B649,Récapitulatif!$F$64:$I$68,2,FALSE)),\"\")","v":""},0,-4.5,null,2023,"2023-10-08",{"$f":"IFERROR(IF(VLOOKUP($H649,Récapitulatif!$F$14:$I$24,2,FALSE)=0,\"\",VLOOKUP(H649,Récapitulatif!$F$14:$I$24,2,FALSE)),\"\")","v":""},0,4.5]
[2023,"2023-10-09",{"$f":"IFERROR(IF(VLOOKUP($B650,Récapitulatif!$F$64:$I$68,2,FALSE)=0,\"\",VLOOKUP($B650,Récapitulatif!$F$64:$I$68,2,FALSE)),\"\")","v":""},0,-4.5,null,2023,"2023-10-09",{"$f":"IFERROR(IF(VLOOKUP($H650,Récapitulatif!$F$14:$I$24,2,FALSE)=0,\"\",VLOOKUP(H650,Récapitulatif!$F$14:$I$24,2,FALSE)),\"\")","v":""},0,4.5]
[2023,"2023-10-10",{"$f":"IFERROR(IF(VLOOKUP($B651,Récapitulatif!$F$64:$I$68,2,FALSE)=0,\"\",VLOOKUP($B651,Récapitulatif!$F$64:$I$68,2,FALSE)),\"\")","v":""},0,-4.5,null,2023,"2023-10-10",{"$f":"IFERROR(IF(VLOOKUP($H651,Récapitulatif!$F$14:$I$24,2,FALSE)=0,\"\",VLOOKUP(H651,Récapitulatif!$F$14:$I$24,2,FALSE)),\"\")","v":""},0,4.5]
[2023,"2023-10-11",{"$f":"IFERROR(IF(VLOOKUP($B652,Récapitulatif!$F$64:$I$68,2,FALSE)=0,\"\",VLOOKUP($B652,Récapitulatif!$F$64:$I$68,2,FALSE)),\"\")","v":""},0,-4.5,null,2023,"2023-10-11",{"$f":"IFERROR(IF(VLOOKUP($H652,Récapitulatif!$F$14:$I$24,2,FALSE)=0,\"\",VLOOKUP(H652,Récapitulatif!$F$14:$I$24,2,FALSE)),\"\")","v":""},0,4.5]
[2023,"2023-10-12",{"$f":"IFERROR(IF(VLOOKUP($B653,Récapitulatif!$F$64:$I$68,2,FALSE)=0,\"\",VLOOKUP($B653,Récapitulatif!$F$64:$I$68,2,FALSE)),\"\")","v":""},0,-4.5,null,2023,"2023-10-12",{"$f":"IFERROR(IF(VLOOKUP($H653,Récapitulatif!$F$14:$I$24,2,FALSE)=0,\"\",VLOOKUP(H653,Récapitulatif!$F$14:$I$24,2,FALSE)),\"\")","v":""},0,4.5]
[2023,"2023-10-13",{"$f":"IFERROR(IF(VLOOKUP($B654,Récapitulatif!$F$64:$I$68,2,FALSE)=0,\"\",VLOOKUP($B654,Récapitulatif!$F$64:$I$68,2,FALSE)),\"\")","v":""},0,-4.5,null,2023,"2023-10-13",{"$f":"IFERROR(IF(VLOOKUP($H654,Récapitulatif!$F$14:$I$24,2,FALSE)=0,\"\",VLOOKUP(H654,Récapitulatif!$F$14:$I$24,2,FALSE)),\"\")","v":""},0,4.5]
[2023,"2023-10-14",{"$f":"IFERROR(IF(VLOOKUP($B655,Récapitulatif!$F$64:$I$68,2,FALSE)=0,\"\",VLOOKUP($B655,Récapitulatif!$F$64:$I$68,2,FALSE)),\"\")","v":""},0,-4.5,null,2023,"2023-10-14",{"$f":"IFERROR(IF(VLOOKUP($H655,Récapitulatif!$F$14:$I$24,2,FALSE)=0,\"\",VLOOKUP(H655,Récapitulatif!$F$14:$I$24,2,FALSE)),\"\")","v":""},0,4.5]
[2023,"2023-10-15",{"$f":"IFERROR(IF(VLOOKUP($B656,Récapitulatif!$F$64:$I$68,2,FALSE)=0,\"\",VLOOKUP($B656,Récapitulatif!$F$64:$I$68,2,FALSE)),\"\")","v":""},0,-4.5,null,2023,"2023-10-15",{"$f":"IFERROR(IF(VLOOKUP($H656,Récapitulatif!$F$14:$I$24,2,FALSE)=0,\"\",VLOOKUP(H656,Récapitulatif!$F$14:$I$24,2,FALSE)),\"\")","v":""},0,4.5]
[2023,"2023-10-16",{"$f":"IFERROR(IF(VLOOKUP($B657,Récapitulatif!$F$64:$I$68,2,FALSE)=0,\"\",VLOOKUP($B657,Récapitulatif!$F$64:$I$68,2,FALSE)),\"\")","v":""},0,-4.5,null,2023,"2023-10-16",{"$f":"IFERROR(IF(VLOOKUP($H657,Récapitulatif!$F$14:$I$24,2,FALSE)=0,\"\",VLOOKUP(H657,Récapitulatif!$F$14:$I$24,2,FALSE)),\"\")","v":""},0,4.5]
[2023,"2023-10-17",{"$f":"IFERROR(IF(VLOOKUP($B658,Récapitulatif!$F$64:$I$68,2,FALSE)=0,\"\",VLOOKUP($B658,Récapitulatif!$F$64:$I$68,2,FALSE)),\"\")","v":""},0,-4.5,null,2023,"2023-10-17",{"$f":"IFERROR(IF(VLOOKUP($H658,Récapitulatif!$F$14:$I$24,2,FALSE)=0,\"\",VLOOKUP(H658,Récapitulatif!$F$14:$I$24,2,FALSE)),\"\")","v":""},0,4.5]
[2023,"2023-10-18",{"$f":"IFERROR(IF(VLOOKUP($B659,Récapitulatif!$F$64:$I$68,2,FALSE)=0,\"\",VLOOKUP($B659,Récapitulatif!$F$64:$I$68,2,FALSE)),\"\")","v":""},0,-4.5,null,2023,"2023-10-18",{"$f":"IFERROR(IF(VLOOKUP($H659,Récapitulatif!$F$14:$I$24,2,FALSE)=0,\"\",VLOOKUP(H659,Récapitulatif!$F$14:$I$24,2,FALSE)),\"\")","v":""},0,4.5]
[2023,"2023-10-19",{"$f":"IFERROR(IF(VLOOKUP($B660,Récapitulatif!$F$64:$I$68,2,FALSE)=0,\"\",VLOOKUP($B660,Récapitulatif!$F$64:$I$68,2,FALSE)),\"\")","v":""},0,-4.5,null,2023,"2023-10-19",{"$f":"IFERROR(IF(VLOOKUP($H660,Récapitulatif!$F$14:$I$24,2,FALSE)=0,\"\",VLOOKUP(H660,Récapitulatif!$F$14:$I$24,2,FALSE)),\"\")","v":""},0,4.5]
[2023,"2023-10-20",{"$f":"IFERROR(IF(VLOOKUP($B661,Récapitulatif!$F$64:$I$68,2,FALSE)=0,\"\",VLOOKUP($B661,Récapitulatif!$F$64:$I$68,2,FALSE)),\"\")","v":""},0,-4.5,null,2023,"2023-10-20",{"$f":"IFERROR(IF(VLOOKUP($H661,Récapitulatif!$F$14:$I$24,2,FALSE)=0,\"\",VLOOKUP(H661,Récapitulatif!$F$14:$I$24,2,FALSE)),\"\")","v":""},0,4.5]
[2023,"2023-10-21",{"$f":"IFERROR(IF(VLOOKUP($B662,Récapitulatif!$F$64:$I$68,2,FALSE)=0,\"\",VLOOKUP($B662,Récapitulatif!$F$64:$I$68,2,FALSE)),\"\")","v":""},0,-4.5,null,2023,"2023-10-21",{"$f":"IFERROR(IF(VLOOKUP($H662,Récapitulatif!$F$14:$I$24,2,FALSE)=0,\"\",VLOOKUP(H662,Récapitulatif!$F$14:$I$24,2,FALSE)),\"\")","v":""},0,4.5]
[2023,"2023-10-22",{"$f":"IFERROR(IF(VLOOKUP($B663,Récapitulatif!$F$64:$I$68,2,FALSE)=0,\"\",VLOOKUP($B663,Récapitulatif!$F$64:$I$68,2,FALSE)),\"\")","v":""},0,-4.5,null,2023,"2023-10-22",{"$f":"IFERROR(IF(VLOOKUP($H663,Récapitulatif!$F$14:$I$24,2,FALSE)=0,\"\",VLOOKUP(H663,Récapitulatif!$F$14:$I$24,2,FALSE)),\"\")","v":""},0,4.5]
[2023,"2023-10-23",{"$f":"IFERROR(IF(VLOOKUP($B664,Récapitulatif!$F$64:$I$68,2,FALSE)=0,\"\",VLOOKUP($B664,Récapitulatif!$F$64:$I$68,2,FALSE)),\"\")","v":""},0,-4.5,null,2023,"2023-10-23",{"$f":"IFERROR(IF(VLOOKUP($H664,Récapitulatif!$F$14:$I$24,2,FALSE)=0,\"\",VLOOKUP(H664,Récapitulatif!$F$14:$I$24,2,FALSE)),\"\")","v":""},0,4.5]
[2023,"2023-10-24",{"$f":"IFERROR(IF(VLOOKUP($B665,Récapitulatif!$F$64:$I$68,2,FALSE)=0,\"\",VLOOKUP($B665,Récapitulatif!$F$64:$I$68,2,FALSE)),\"\")","v":""},0,-4.5,null,2023,"2023-10-24",{"$f":"IFERROR(IF(VLOOKUP($H665,Récapitulatif!$F$14:$I$24,2,FALSE)=0,\"\",VLOOKUP(H665,Récapitulatif!$F$14:$I$24,2,FALSE)),\"\")","v":""},0,4.5]
[2023,"2023-10-25",{"$f":"IFERROR(IF(VLOOKUP($B666,Récapitulatif!$F$64:$I$68,2,FALSE)=0,\"\",VLOOKUP($B666,Récapitulatif!$F$64:$I$68,2,FALSE)),\"\")","v":""},0,-4.5,null,2023,"2023-10-25",{"$f":"IFERROR(IF(VLOOKUP($H666,Récapitulatif!$F$14:$I$24,2,FALSE)=0,\"\",VLOOKUP(H666,Récapitulatif!$F$14:$I$24,2,FALSE)),\"\")","v":""},0,4.5]
[2023,"2023-10-26",{"$f":"IFERROR(IF(VLOOKUP($B667,Récapitulatif!$F$64:$I$68,2,FALSE)=0,\"\",VLOOKUP($B667,Récapitulatif!$F$64:$I$68,2,FALSE)),\"\")","v":""},0,-4.5,null,2023,"2023-10-26",{"$f":"IFERROR(IF(VLOOKUP($H667,Récapitulatif!$F$14:$I$24,2,FALSE)=0,\"\",VLOOKUP(H667,Récapitulatif!$F$14:$I$24,2,FALSE)),\"\")","v":""},0,4.5]
[2023,"2023-10-27",{"$f":"IFERROR(IF(VLOOKUP($B668,Récapitulatif!$F$64:$I$68,2,FALSE)=0,\"\",VLOOKUP($B668,Récapitulatif!$F$64:$I$68,2,FALSE)),\"\")","v":""},0,-4.5,null,2023,"2023-10-27",{"$f":"IFERROR(IF(VLOOKUP($H668,Récapitulatif!$F$14:$I$24,2,FALSE)=0,\"\",VLOOKUP(H668,Récapitulatif!$F$14:$I$24,2,FALSE)),\"\")","v":""},0,4.5]
[2023,"2023-10-28",{"$f":"IFERROR(IF(VLOOKUP($B669,Récapitulatif!$F$64:$I$68,2,FALSE)=0,\"\",VLOOKUP($B669,Récapitulatif!$F$64:$I$68,2,FALSE)),\"\")","v":""},0,-4.5,null,2023,"2023-10-28",{"$f":"IFERROR(IF(VLOOKUP($H669,Récapitulatif!$F$14:$I$24,2,FALSE)=0,\"\",VLOOKUP(H669,Récapitulatif!$F$14:$I$24,2,FALSE)),\"\")","v":""},0,4.5]
[2023,"2023-10-29",{"$f":"IFERROR(IF(VLOOKUP($B670,Récapitulatif!$F$64:$I$68,2,FALSE)=0,\"\",VLOOKUP($B670,Récapitulatif!$F$64:$I$68,2,FALSE)),\"\")","v":""},0,-4.5,null,2023,"2023-10-29",{"$f":"IFERROR(IF(VLOOKUP($H670,Récapitulatif!$F$14:$I$24,2,FALSE)=0,\"\",VLOOKUP(H670,Récapitulatif!$F$14:$I$24,2,FALSE)),\"\")","v":""},0,4.5]
[2023,"2023-10-30",{"$f":"IFERROR(IF(VLOOKUP($B671,Récapitulatif!$F$64:$I$68,2,FALSE)=0,\"\",VLOOKUP($B671,Récapitulatif!$F$64:$I$68,2,FALSE)),\"\")","v":""},0,-4.5,null,2023,"2023-10-30",{"$f":"IFERROR(IF(VLOOKUP($H671,Récapitulatif!$F$14:$I$24,2,FALSE)=0,\"\",VLOOKUP(H671,Récapitulatif!$F$14:$I$24,2,FALSE)),\"\")","v":""},0,4.5]
[2023,"2023-10-31",{"$f":"IFERROR(IF(VLOOKUP($B672,Récapitulatif!$F$64:$I$68,2,FALSE)=0,\"\",VLOOKUP($B672,Récapitulatif!$F$64:$I$68,2,FALSE)),\"\")","v":""},0,-4.5,null,2023,"2023-10-31",{"$f":"IFERROR(IF(VLOOKUP($H672,Récapitulatif!$F$14:$I$24,2,FALSE)=0,\"\",VLOOKUP(H672,Récapitulatif!$F$14:$I$24,2,FALSE)),\"\")","v":""},0,4.5]
[2023,"2023-11-01",{"$f":"IFERROR(IF(VLOOKUP($B673,Récapitulatif!$F$64:$I$68,2,FALSE)=0,\"\",VLOOKUP($B673,Récapitulatif!$F$64:$I$68,2,FALSE)),\"\")","v":""},0,-13.5,null,2023,"2023-11-01",{"$f":"IFERROR(IF(VLOOKUP($H673,Récapitulatif!$F$14:$I$24,2,FALSE)=0,\"\",VLOOKUP(H673,Récapitulatif!$F$14:$I$24,2,FALSE)),\"\")","v":""},0,13.5]
[2023,"2023-11-02",{"$f":"IFERROR(IF(VLOOKUP($B674,Récapitulatif!$F$64:$I$68,2,FALSE)=0,\"\",VLOOKUP($B674,Récapitulatif!$F$64:$I$68,2,FALSE)),\"\")","v":""},0,-13.5,null,2023,"2023-11-02",{"$f":"IFERROR(IF(VLOOKUP($H674,Récapitulatif!$F$14:$I$24,2,FALSE)=0,\"\",VLOOKUP(H674,Récapitulatif!$F$14:$I$24,2,FALSE)),\"\")","v":""},0,13.5]
[2023,"2023-11-03",{"$f":"IFERROR(IF(VLOOKUP($B675,Récapitulatif!$F$64:$I$68,2,FALSE)=0,\"\",VLOOKUP($B675,Récapitulatif!$F$64:$I$68,2,FALSE)),\"\")","v":""},0,-13.5,null,2023,"2023-11-03",{"$f":"IFERROR(IF(VLOOKUP($H675,Récapitulatif!$F$14:$I$24,2,FALSE)=0,\"\",VLOOKUP(H675,Récapitulatif!$F$14:$I$24,2,FALSE)),\"\")","v":""},0,13.5]
[2023,"2023-11-04",{"$f":"IFERROR(IF(VLOOKUP($B676,Récapitulatif!$F$64:$I$68,2,FALSE)=0,\"\",VLOOKUP($B676,Récapitulatif!$F$64:$I$68,2,FALSE)),\"\")","v":""},0,-13.5,null,2023,"2023-11-04",{"$f":"IFERROR(IF(VLOOKUP($H676,Récapitulatif!$F$14:$I$24,2,FALSE)=0,\"\",VLOOKUP(H676,Récapitulatif!$F$14:$I$24,2,FALSE)),\"\")","v":""},0,13.5]
[2023,"2023-11-05",{"$f":"IFERROR(IF(VLOOKUP($B677,Récapitulatif!$F$64:$I$68,2,FALSE)=0,\"\",VLOOKUP($B677,Récapitulatif!$F$64:$I$68,2,FALSE)),\"\")","v":""},0,-13.5,null,2023,"2023-11-05",{"$f":"IFERROR(IF(VLOOKUP($H677,Récapitulatif!$F$14:$I$24,2,FALSE)=0,\"\",VLOOKUP(H677,Récapitulatif!$F$14:$I$24,2,FALSE)),\"\")","v":""},0,13.5]
[2023,"2023-11-06",{"$f":"IFERROR(IF(VLOOKUP($B678,Récapitulatif!$F$64:$I$68,2,FALSE)=0,\"\",VLOOKUP($B678,Récapitulatif!$F$64:$I$68,2,FALSE)),\"\")","v":""},0,-13.5,null,2023,"2023-11-06",{"$f":"IFERROR(IF(VLOOKUP($H678,Récapitulatif!$F$14:$I$24,2,FALSE)=0,\"\",VLOOKUP(H678,Récapitulatif!$F$14:$I$24,2,FALSE)),\"\")","v":""},0,13.5]
[2023,"2023-11-07",{"$f":"IFERROR(IF(VLOOKUP($B679,Récapitulatif!$F$64:$I$68,2,FALSE)=0,\"\",VLOOKUP($B679,Récapitulatif!$F$64:$I$68,2,FALSE)),\"\")","v":""},0,-13.5,null,2023,"2023-11-07",{"$f":"IFERROR(IF(VLOOKUP($H679,Récapitulatif!$F$14:$I$24,2,FALSE)=0,\"\",VLOOKUP(H679,Récapitulatif!$F$14:$I$24,2,FALSE)),\"\")","v":""},0,13.5]
[2023,"2023-11-08",{"$f":"IFERROR(IF(VLOOKUP($B680,Récapitulatif!$F$64:$I$68,2,FALSE)=0,\"\",VLOOKUP($B680,Récapitulatif!$F$64:$I$68,2,FALSE)),\"\")","v":""},0,-13.5,null,2023,"2023-11-08",{"$f":"IFERROR(IF(VLOOKUP($H680,Récapitulatif!$F$14:$I$24,2,FALSE)=0,\"\",VLOOKUP(H680,Récapitulatif!$F$14:$I$24,2,FALSE)),\"\")","v":""},0,13.5]
[2023,"2023-11-09",{"$f":"IFERROR(IF(VLOOKUP($B681,Récapitulatif!$F$64:$I$68,2,FALSE)=0,\"\",VLOOKUP($B681,Récapitulatif!$F$64:$I$68,2,FALSE)),\"\")","v":""},0,-13.5,null,2023,"2023-11-09",{"$f":"IFERROR(IF(VLOOKUP($H681,Récapitulatif!$F$14:$I$24,2,FALSE)=0,\"\",VLOOKUP(H681,Récapitulatif!$F$14:$I$24,2,FALSE)),\"\")","v":""},0,13.5]
[2023,"2023-11-10",{"$f":"IFERROR(IF(VLOOKUP($B682,Récapitulatif!$F$64:$I$68,2,FALSE)=0,\"\",VLOOKUP($B682,Récapitulatif!$F$64:$I$68,2,FALSE)),\"\")","v":""},0,-13.5,null,2023,"2023-11-10",{"$f":"IFERROR(IF(VLOOKUP($H682,Récapitulatif!$F$14:$I$24,2,FALSE)=0,\"\",VLOOKUP(H682,Récapitulatif!$F$14:$I$24,2,FALSE)),\"\")","v":""},0,13.5]
[2023,"2023-11-11",{"$f":"IFERROR(IF(VLOOKUP($B683,Récapitulatif!$F$64:$I$68,2,FALSE)=0,\"\",VLOOKUP($B683,Récapitulatif!$F$64:$I$68,2,FALSE)),\"\")","v":""},0,-13.5,null,2023,"2023-11-11",{"$f":"IFERROR(IF(VLOOKUP($H683,Récapitulatif!$F$14:$I$24,2,FALSE)=0,\"\",VLOOKUP(H683,Récapitulatif!$F$14:$I$24,2,FALSE)),\"\")","v":""},0,13.5]
[2023,"2023-11-12",{"$f":"IFERROR(IF(VLOOKUP($B684,Récapitulatif!$F$64:$I$68,2,FALSE)=0,\"\",VLOOKUP($B684,Récapitulatif!$F$64:$I$68,2,FALSE)),\"\")","v":""},0,-13.5,null,2023,"2023-11-12",{"$f":"IFERROR(IF(VLOOKUP($H684,Récapitulatif!$F$14:$I$24,2,FALSE)=0,\"\",VLOOKUP(H684,Récapitulatif!$F$14:$I$24,2,FALSE)),\"\")","v":""},0,13.5]
[2023,"2023-11-13",{"$f":"IFERROR(IF(VLOOKUP($B685,Récapitulatif!$F$64:$I$68,2,FALSE)=0,\"\",VLOOKUP($B685,Récapitulatif!$F$64:$I$68,2,FALSE)),\"\")","v":""},0,-13.5,null,2023,"2023-11-13",{"$f":"IFERROR(IF(VLOOKUP($H685,Récapitulatif!$F$14:$I$24,2,FALSE)=0,\"\",VLOOKUP(H685,Récapitulatif!$F$14:$I$24,2,FALSE)),\"\")","v":""},0,13.5]
[2023,"2023-11-14",{"$f":"IFERROR(IF(VLOOKUP($B686,Récapitulatif!$F$64:$I$68,2,FALSE)=0,\"\",VLOOKUP($B686,Récapitulatif!$F$64:$I$68,2,FALSE)),\"\")","v":""},0,-13.5,null,2023,"2023-11-14",{"$f":"IFERROR(IF(VLOOKUP($H686,Récapitulatif!$F$14:$I$24,2,FALSE)=0,\"\",VLOOKUP(H686,Récapitulatif!$F$14:$I$24,2,FALSE)),\"\")","v":""},0,13.5]
[2023,"2023-11-15",{"$f":"IFERROR(IF(VLOOKUP($B687,Récapitulatif!$F$64:$I$68,2,FALSE)=0,\"\",VLOOKUP($B687,Récapitulatif!$F$64:$I$68,2,FALSE)),\"\")","v":""},0,-13.5,null,2023,"2023-11-15",{"$f":"IFERROR(IF(VLOOKUP($H687,Récapitulatif!$F$14:$I$24,2,FALSE)=0,\"\",VLOOKUP(H687,Récapitulatif!$F$14:$I$24,2,FALSE)),\"\")","v":""},0,13.5]
[2023,"2023-11-16",{"$f":"IFERROR(IF(VLOOKUP($B688,Récapitulatif!$F$64:$I$68,2,FALSE)=0,\"\",VLOOKUP($B688,Récapitulatif!$F$64:$I$68,2,FALSE)),\"\")","v":""},0,-13.5,null,2023,"2023-11-16",{"$f":"IFERROR(IF(VLOOKUP($H688,Récapitulatif!$F$14:$I$24,2,FALSE)=0,\"\",VLOOKUP(H688,Récapitulatif!$F$14:$I$24,2,FALSE)),\"\")","v":""},0,13.5]
[2023,"2023-11-17",{"$f":"IFERROR(IF(VLOOKUP($B689,Récapitulatif!$F$64:$I$68,2,FALSE)=0,\"\",VLOOKUP($B689,Récapitulatif!$F$64:$I$68,2,FALSE)),\"\")","v":""},0,-13.5,null,2023,"2023-11-17",{"$f":"IFERROR(IF(VLOOKUP($H689,Récapitulatif!$F$14:$I$24,2,FALSE)=0,\"\",VLOOKUP(H689,Récapitulatif!$F$14:$I$24,2,FALSE)),\"\")","v":""},0,13.5]
[2023,"2023-11-18",{"$f":"IFERROR(IF(VLOOKUP($B690,Récapitulatif!$F$64:$I$68,2,FALSE)=0,\"\",VLOOKUP($B690,Récapitulatif!$F$64:$I$68,2,FALSE)),\"\")","v":""},0,-13.5,null,2023,"2023-11-18",{"$f":"IFERROR(IF(VLOOKUP($H690,Récapitulatif!$F$14:$I$24,2,FALSE)=0,\"\",VLOOKUP(H690,Récapitulatif!$F$14:$I$24,2,FALSE)),\"\")","v":""},0,13.5]
[2023,"2023-11-19",{"$f":"IFERROR(IF(VLOOKUP($B691,Récapitulatif!$F$64:$I$68,2,FALSE)=0,\"\",VLOOKUP($B691,Récapitulatif!$F$64:$I$68,2,FALSE)),\"\")","v":""},0,-13.5,null,2023,"2023-11-19",{"$f":"IFERROR(IF(VLOOKUP($H691,Récapitulatif!$F$14:$I$24,2,FALSE)=0,\"\",VLOOKUP(H691,Récapitulatif!$F$14:$I$24,2,FALSE)),\"\")","v":""},0,13.5]
[2023,"2023-11-20",{"$f":"IFERROR(IF(VLOOKUP($B692,Récapitulatif!$F$64:$I$68,2,FALSE)=0,\"\",VLOOKUP($B692,Récapitulatif!$F$64:$I$68,2,FALSE)),\"\")","v":""},0,-13.5,null,2023,"2023-11-20",{"$f":"IFERROR(IF(VLOOKUP($H692,Récapitulatif!$F$14:$I$24,2,FALSE)=0,\"\",VLOOKUP(H692,Récapitulatif!$F$14:$I$24,2,FALSE)),\"\")","v":""},0,13.5]
[2023,"2023-11-21",{"$f":"IFERROR(IF(VLOOKUP($B693,Récapitulatif!$F$64:$I$68,2,FALSE)=0,\"\",VLOOKUP($B693,Récapitulatif!$F$64:$I$68,2,FALSE)),\"\")","v":""},0,-13.5,null,2023,"2023-11-21",{"$f":"IFERROR(IF(VLOOKUP($H693,Récapitulatif!$F$14:$I$24,2,FALSE)=0,\"\",VLOOKUP(H693,Récapitulatif!$F$14:$I$24,2,FALSE)),\"\")","v":""},0,13.5]
[2023,"2023-11-22",{"$f":"IFERROR(IF(VLOOKUP($B694,Récapitulatif!$F$64:$I$68,2,FALSE)=0,\"\",VLOOKUP($B694,Récapitulatif!$F$64:$I$68,2,FALSE)),\"\")","v":""},0,-13.5,null,2023,"2023-11-22",{"$f":"IFERROR(IF(VLOOKUP($H694,Récapitulatif!$F$14:$I$24,2,FALSE)=0,\"\",VLOOKUP(H694,Récapitulatif!$F$14:$I$24,2,FALSE)),\"\")","v":""},0,13.5]
[2023,"2023-11-23",{"$f":"IFERROR(IF(VLOOKUP($B695,Récapitulatif!$F$64:$I$68,2,FALSE)=0,\"\",VLOOKUP($B695,Récapitulatif!$F$64:$I$68,2,FALSE)),\"\")","v":""},0,-13.5,null,2023,"2023-11-23",{"$f":"IFERROR(IF(VLOOKUP($H695,Récapitulatif!$F$14:$I$24,2,FALSE)=0,\"\",VLOOKUP(H695,Récapitulatif!$F$14:$I$24,2,FALSE)),\"\")","v":""},0,13.5]
[2023,"2023-11-24",{"$f":"IFERROR(IF(VLOOKUP($B696,Récapitulatif!$F$64:$I$68,2,FALSE)=0,\"\",VLOOKUP($B696,Récapitulatif!$F$64:$I$68,2,FALSE)),\"\")","v":""},0,-13.5,null,2023,"2023-11-24",{"$f":"IFERROR(IF(VLOOKUP($H696,Récapitulatif!$F$14:$I$24,2,FALSE)=0,\"\",VLOOKUP(H696,Récapitulatif!$F$14:$I$24,2,FALSE)),\"\")","v":""},0,13.5]
[2023,"2023-11-25",{"$f":"IFERROR(IF(VLOOKUP($B697,Récapitulatif!$F$64:$I$68,2,FALSE)=0,\"\",VLOOKUP($B697,Récapitulatif!$F$64:$I$68,2,FALSE)),\"\")","v":""},0,-13.5,null,2023,"2023-11-25",{"$f":"IFERROR(IF(VLOOKUP($H697,Récapitulatif!$F$14:$I$24,2,FALSE)=0,\"\",VLOOKUP(H697,Récapitulatif!$F$14:$I$24,2,FALSE)),\"\")","v":""},0,13.5]
[2023,"2023-11-26",{"$f":"IFERROR(IF(VLOOKUP($B698,Récapitulatif!$F$64:$I$68,2,FALSE)=0,\"\",VLOOKUP($B698,Récapitulatif!$F$64:$I$68,2,FALSE)),\"\")","v":""},0,-13.5,null,2023,"2023-11-26",{"$f":"IFERROR(IF(VLOOKUP($H698,Récapitulatif!$F$14:$I$24,2,FALSE)=0,\"\",VLOOKUP(H698,Récapitulatif!$F$14:$I$24,2,FALSE)),\"\")","v":""},0,13.5]
[2023,"2023-11-27",{"$f":"IFERROR(IF(VLOOKUP($B699,Récapitulatif!$F$64:$I$68,2,FALSE)=0,\"\",VLOOKUP($B699,Récapitulatif!$F$64:$I$68,2,FALSE)),\"\")","v":""},0,-13.5,null,2023,"2023-11-27",{"$f":"IFERROR(IF(VLOOKUP($H699,Récapitulatif!$F$14:$I$24,2,FALSE)=0,\"\",VLOOKUP(H699,Récapitulatif!$F$14:$I$24,2,FALSE)),\"\")","v":""},0,13.5]
[2023,"2023-11-28",{"$f":"IFERROR(IF(VLOOKUP($B700,Récapitulatif!$F$64:$I$68,2,FALSE)=0,\"\",VLOOKUP($B700,Récapitulatif!$F$64:$I$68,2,FALSE)),\"\")","v":""},0,-13.5,null,2023,"2023-11-28",{"$f":"IFERROR(IF(VLOOKUP($H700,Récapitulatif!$F$14:$I$24,2,FALSE)=0,\"\",VLOOKUP(H700,Récapitulatif!$F$14:$I$24,2,FALSE)),\"\")","v":""},0,13.5]
[2023,"2023-11-29",{"$f":"IFERROR(IF(VLOOKUP($B701,Récapitulatif!$F$64:$I$68,2,FALSE)=0,\"\",VLOOKUP($B701,Récapitulatif!$F$64:$I$68,2,FALSE)),\"\")","v":""},0,-13.5,null,2023,"2023-11-29",{"$f":"IFERROR(IF(VLOOKUP($H701,Récapitulatif!$F$14:$I$24,2,FALSE)=0,\"\",VLOOKUP(H701,Récapitulatif!$F$14:$I$24,2,FALSE)),\"\")","v":""},0,13.5]
[2023,"2023-11-30",{"$f":"IFERROR(IF(VLOOKUP($B702,Récapitulatif!$F$64:$I$68,2,FALSE)=0,\"\",VLOOKUP($B702,Récapitulatif!$F$64:$I$68,2,FALSE)),\"\")","v":""},0,-13.5,null,2023,"2023-11-30",{"$f":"IFERROR(IF(VLOOKUP($H702,Récapitulatif!$F$14:$I$24,2,FALSE)=0,\"\",VLOOKUP(H702,Récapitulatif!$F$14:$I$24,2,FALSE)),\"\")","v":""},0,13.5]
[2023,"2023-12-01",{"$f":"IFERROR(IF(VLOOKUP($B703,Récapitulatif!$F$64:$I$68,2,FALSE)=0,\"\",VLOOKUP($B703,Récapitulatif!$F$64:$I$68,2,FALSE)),\"\")","v":""},0,-10.5,null,2023,"2023-12-01",{"$f":"IFERROR(IF(VLOOKUP($H703,Récapitulatif!$F$14:$I$24,2,FALSE)=0,\"\",VLOOKUP(H703,Récapitulatif!$F$14:$I$24,2,FALSE)),\"\")","v":""},0,10.5]
[2023,"2023-12-02",{"$f":"IFERROR(IF(VLOOKUP($B704,Récapitulatif!$F$64:$I$68,2,FALSE)=0,\"\",VLOOKUP($B704,Récapitulatif!$F$64:$I$68,2,FALSE)),\"\")","v":""},0,-10.5,null,2023,"2023-12-02",{"$f":"IFERROR(IF(VLOOKUP($H704,Récapitulatif!$F$14:$I$24,2,FALSE)=0,\"\",VLOOKUP(H704,Récapitulatif!$F$14:$I$24,2,FALSE)),\"\")","v":""},0,10.5]
[2023,"2023-12-03",{"$f":"IFERROR(IF(VLOOKUP($B705,Récapitulatif!$F$64:$I$68,2,FALSE)=0,\"\",VLOOKUP($B705,Récapitulatif!$F$64:$I$68,2,FALSE)),\"\")","v":""},0,-10.5,null,2023,"2023-12-03",{"$f":"IFERROR(IF(VLOOKUP($H705,Récapitulatif!$F$14:$I$24,2,FALSE)=0,\"\",VLOOKUP(H705,Récapitulatif!$F$14:$I$24,2,FALSE)),\"\")","v":""},0,10.5]
[2023,"2023-12-04",{"$f":"IFERROR(IF(VLOOKUP($B706,Récapitulatif!$F$64:$I$68,2,FALSE)=0,\"\",VLOOKUP($B706,Récapitulatif!$F$64:$I$68,2,FALSE)),\"\")","v":""},0,-10.5,null,2023,"2023-12-04",{"$f":"IFERROR(IF(VLOOKUP($H706,Récapitulatif!$F$14:$I$24,2,FALSE)=0,\"\",VLOOKUP(H706,Récapitulatif!$F$14:$I$24,2,FALSE)),\"\")","v":""},0,10.5]
[2023,"2023-12-05",{"$f":"IFERROR(IF(VLOOKUP($B707,Récapitulatif!$F$64:$I$68,2,FALSE)=0,\"\",VLOOKUP($B707,Récapitulatif!$F$64:$I$68,2,FALSE)),\"\")","v":""},0,-10.5,null,2023,"2023-12-05",{"$f":"IFERROR(IF(VLOOKUP($H707,Récapitulatif!$F$14:$I$24,2,FALSE)=0,\"\",VLOOKUP(H707,Récapitulatif!$F$14:$I$24,2,FALSE)),\"\")","v":""},0,10.5]
[2023,"2023-12-06",{"$f":"IFERROR(IF(VLOOKUP($B708,Récapitulatif!$F$64:$I$68,2,FALSE)=0,\"\",VLOOKUP($B708,Récapitulatif!$F$64:$I$68,2,FALSE)),\"\")","v":""},0,-10.5,null,2023,"2023-12-06",{"$f":"IFERROR(IF(VLOOKUP($H708,Récapitulatif!$F$14:$I$24,2,FALSE)=0,\"\",VLOOKUP(H708,Récapitulatif!$F$14:$I$24,2,FALSE)),\"\")","v":""},0,10.5]
[2023,"2023-12-07",{"$f":"IFERROR(IF(VLOOKUP($B709,Récapitulatif!$F$64:$I$68,2,FALSE)=0,\"\",VLOOKUP($B709,Récapitulatif!$F$64:$I$68,2,FALSE)),\"\")","v":""},{"$f":"IF($C709=\"\",0,$E709)","v":0},-10.5,null,2023,"2023-12-07",{"$f":"IFERROR(IF(VLOOKUP($H709,Récapitulatif!$F$14:$I$24,2,FALSE)=0,\"\",VLOOKUP(H709,Récapitulatif!$F$14:$I$24,2,FALSE)),\"\")","v":""},{"$f":"IF($I709=\"\",0,$K709)","v":0},10.5]
[{"$f":"YEAR(B710)","v":2023},{"$f":"B709+1","v":"2023-12-08"},{"$f":"IFERROR(IF(VLOOKUP($B710,Récapitulatif!$F$64:$I$68,2,FALSE)=0,\"\",VLOOKUP($B710,Récapitulatif!$F$64:$I$68,2,FALSE)),\"\")","v":""},0,-10.5,null,{"$f":"YEAR(H710)","v":2023},{"$f":"H709+1","v":"2023-12-08"},{"$f":"IFERROR(IF(VLOOKUP($H710,Récapitulatif!$F$14:$I$24,2,FALSE)=0,\"\",VLOOKUP(H710,Récapitulatif!$F$14:$I$24,2,FALSE)),\"\")","v":""},0,10.5]
[2023,"2023-12-09",{"$f":"IFERROR(IF(VLOOKUP($B711,Récapitulatif!$F$64:$I$68,2,FALSE)=0,\"\",VLOOKUP($B711,Récapitulatif!$F$64:$I$68,2,FALSE)),\"\")","v":""},0,-10.5,null,2023,"2023-12-09",{"$f":"IFERROR(IF(VLOOKUP($H711,Récapitulatif!$F$14:$I$24,2,FALSE)=0,\"\",VLOOKUP(H711,Récapitulatif!$F$14:$I$24,2,FALSE)),\"\")","v":""},0,10.5]
[2023,"2023-12-10",{"$f":"IFERROR(IF(VLOOKUP($B712,Récapitulatif!$F$64:$I$68,2,FALSE)=0,\"\",VLOOKUP($B712,Récapitulatif!$F$64:$I$68,2,FALSE)),\"\")","v":""},0,-10.5,null,2023,"2023-12-10",{"$f":"IFERROR(IF(VLOOKUP($H712,Récapitulatif!$F$14:$I$24,2,FALSE)=0,\"\",VLOOKUP(H712,Récapitulatif!$F$14:$I$24,2,FALSE)),\"\")","v":""},0,10.5]
[2023,"2023-12-11",{"$f":"IFERROR(IF(VLOOKUP($B713,Récapitulatif!$F$64:$I$68,2,FALSE)=0,\"\",VLOOKUP($B713,Récapitulatif!$F$64:$I$68,2,FALSE)),\"\")","v":""},0,-10.5,null,2023,"2023-12-11",{"$f":"IFERROR(IF(VLOOKUP($H713,Récapitulatif!$F$14:$I$24,2,FALSE)=0,\"\",VLOOKUP(H713,Récapitulatif!$F$14:$I$24,2,FALSE)),\"\")","v":""},0,10.5]
[2023,"2023-12-12",{"$f":"IFERROR(IF(VLOOKUP($B714,Récapitulatif!$F$64:$I$68,2,FALSE)=0,\"\",VLOOKUP($B714,Récapitulatif!$F$64:$I$68,2,FALSE)),\"\")","v":""},0,-10.5,null,2023,"2023-12-12",{"$f":"IFERROR(IF(VLOOKUP($H714,Récapitulatif!$F$14:$I$24,2,FALSE)=0,\"\",VLOOKUP(H714,Récapitulatif!$F$14:$I$24,2,FALSE)),\"\")","v":""},0,10.5]
[2023,"2023-12-13",{"$f":"IFERROR(IF(VLOOKUP($B715,Récapitulatif!$F$64:$I$68,2,FALSE)=0,\"\",VLOOKUP($B715,Récapitulatif!$F$64:$I$68,2,FALSE)),\"\")","v":""},0,-10.5,null,2023,"2023-12-13",{"$f":"IFERROR(IF(VLOOKUP($H715,Récapitulatif!$F$14:$I$24,2,FALSE)=0,\"\",VLOOKUP(H715,Récapitulatif!$F$14:$I$24,2,FALSE)),\"\")","v":""},0,10.5]
[2023,"2023-12-14",{"$f":"IFERROR(IF(VLOOKUP($B716,Récapitulatif!$F$64:$I$68,2,FALSE)=0,\"\",VLOOKUP($B716,Récapitulatif!$F$64:$I$68,2,FALSE)),\"\")","v":""},0,-10.5,null,2023,"2023-12-14",{"$f":"IFERROR(IF(VLOOKUP($H716,Récapitulatif!$F$14:$I$24,2,FALSE)=0,\"\",VLOOKUP(H716,Récapitulatif!$F$14:$I$24,2,FALSE)),\"\")","v":""},0,10.5]
[2023,"2023-12-15",{"$f":"IFERROR(IF(VLOOKUP($B717,Récapitulatif!$F$64:$I$68,2,FALSE)=0,\"\",VLOOKUP($B717,Récapitulatif!$F$64:$I$68,2,FALSE)),\"\")","v":""},0,-10.5,null,2023,"2023-12-15",{"$f":"IFERROR(IF(VLOOKUP($H717,Récapitulatif!$F$14:$I$24,2,FALSE)=0,\"\",VLOOKUP(H717,Récapitulatif!$F$14:$I$24,2,FALSE)),\"\")","v":""},0,10.5]
[2023,"2023-12-16",{"$f":"IFERROR(IF(VLOOKUP($B718,Récapitulatif!$F$64:$I$68,2,FALSE)=0,\"\",VLOOKUP($B718,Récapitulatif!$F$64:$I$68,2,FALSE)),\"\")","v":""},0,-10.5,null,2023,"2023-12-16",{"$f":"IFERROR(IF(VLOOKUP($H718,Récapitulatif!$F$14:$I$24,2,FALSE)=0,\"\",VLOOKUP(H718,Récapitulatif!$F$14:$I$24,2,FALSE)),\"\")","v":""},0,10.5]
[2023,"2023-12-17",{"$f":"IFERROR(IF(VLOOKUP($B719,Récapitulatif!$F$64:$I$68,2,FALSE)=0,\"\",VLOOKUP($B719,Récapitulatif!$F$64:$I$68,2,FALSE)),\"\")","v":""},0,-10.5,null,2023,"2023-12-17",{"$f":"IFERROR(IF(VLOOKUP($H719,Récapitulatif!$F$14:$I$24,2,FALSE)=0,\"\",VLOOKUP(H719,Récapitulatif!$F$14:$I$24,2,FALSE)),\"\")","v":""},0,10.5]
[2023,"2023-12-18",{"$f":"IFERROR(IF(VLOOKUP($B720,Récapitulatif!$F$64:$I$68,2,FALSE)=0,\"\",VLOOKUP($B720,Récapitulatif!$F$64:$I$68,2,FALSE)),\"\")","v":""},0,-10.5,null,2023,"2023-12-18",{"$f":"IFERROR(IF(VLOOKUP($H720,Récapitulatif!$F$14:$I$24,2,FALSE)=0,\"\",VLOOKUP(H720,Récapitulatif!$F$14:$I$24,2,FALSE)),\"\")","v":""},0,10.5]
[2023,"2023-12-19",{"$f":"IFERROR(IF(VLOOKUP($B721,Récapitulatif!$F$64:$I$68,2,FALSE)=0,\"\",VLOOKUP($B721,Récapitulatif!$F$64:$I$68,2,FALSE)),\"\")","v":""},0,-10.5,null,2023,"2023-12-19",{"$f":"IFERROR(IF(VLOOKUP($H721,Récapitulatif!$F$14:$I$24,2,FALSE)=0,\"\",VLOOKUP(H721,Récapitulatif!$F$14:$I$24,2,FALSE)),\"\")","v":""},0,10.5]
[2023,"2023-12-20",{"$f":"IFERROR(IF(VLOOKUP($B722,Récapitulatif!$F$64:$I$68,2,FALSE)=0,\"\",VLOOKUP($B722,Récapitulatif!$F$64:$I$68,2,FALSE)),\"\")","v":""},0,-10.5,null,2023,"2023-12-20",{"$f":"IFERROR(IF(VLOOKUP($H722,Récapitulatif!$F$14:$I$24,2,FALSE)=0,\"\",VLOOKUP(H722,Récapitulatif!$F$14:$I$24,2,FALSE)),\"\")","v":""},0,10.5]
[2023,"2023-12-21",{"$f":"IFERROR(IF(VLOOKUP($B723,Récapitulatif!$F$64:$I$68,2,FALSE)=0,\"\",VLOOKUP($B723,Récapitulatif!$F$64:$I$68,2,FALSE)),\"\")","v":""},0,-10.5,null,2023,"2023-12-21",{"$f":"IFERROR(IF(VLOOKUP($H723,Récapitulatif!$F$14:$I$24,2,FALSE)=0,\"\",VLOOKUP(H723,Récapitulatif!$F$14:$I$24,2,FALSE)),\"\")","v":""},0,10.5]
[2023,"2023-12-22",{"$f":"IFERROR(IF(VLOOKUP($B724,Récapitulatif!$F$64:$I$68,2,FALSE)=0,\"\",VLOOKUP($B724,Récapitulatif!$F$64:$I$68,2,FALSE)),\"\")","v":""},0,-10.5,null,2023,"2023-12-22",{"$f":"IFERROR(IF(VLOOKUP($H724,Récapitulatif!$F$14:$I$24,2,FALSE)=0,\"\",VLOOKUP(H724,Récapitulatif!$F$14:$I$24,2,FALSE)),\"\")","v":""},0,10.5]
[2023,"2023-12-23",{"$f":"IFERROR(IF(VLOOKUP($B725,Récapitulatif!$F$64:$I$68,2,FALSE)=0,\"\",VLOOKUP($B725,Récapitulatif!$F$64:$I$68,2,FALSE)),\"\")","v":""},0,-10.5,null,2023,"2023-12-23",{"$f":"IFERROR(IF(VLOOKUP($H725,Récapitulatif!$F$14:$I$24,2,FALSE)=0,\"\",VLOOKUP(H725,Récapitulatif!$F$14:$I$24,2,FALSE)),\"\")","v":""},0,10.5]
[2023,"2023-12-24",{"$f":"IFERROR(IF(VLOOKUP($B726,Récapitulatif!$F$64:$I$68,2,FALSE)=0,\"\",VLOOKUP($B726,Récapitulatif!$F$64:$I$68,2,FALSE)),\"\")","v":""},0,-10.5,null,2023,"2023-12-24",{"$f":"IFERROR(IF(VLOOKUP($H726,Récapitulatif!$F$14:$I$24,2,FALSE)=0,\"\",VLOOKUP(H726,Récapitulatif!$F$14:$I$24,2,FALSE)),\"\")","v":""},0,10.5]
[2023,"2023-12-25",{"$f":"IFERROR(IF(VLOOKUP($B727,Récapitulatif!$F$64:$I$68,2,FALSE)=0,\"\",VLOOKUP($B727,Récapitulatif!$F$64:$I$68,2,FALSE)),\"\")","v":""},0,-10.5,null,2023,"2023-12-25",{"$f":"IFERROR(IF(VLOOKUP($H727,Récapitulatif!$F$14:$I$24,2,FALSE)=0,\"\",VLOOKUP(H727,Récapitulatif!$F$14:$I$24,2,FALSE)),\"\")","v":""},0,10.5]
[2023,"2023-12-26",{"$f":"IFERROR(IF(VLOOKUP($B728,Récapitulatif!$F$64:$I$68,2,FALSE)=0,\"\",VLOOKUP($B728,Récapitulatif!$F$64:$I$68,2,FALSE)),\"\")","v":""},0,-10.5,null,2023,"2023-12-26",{"$f":"IFERROR(IF(VLOOKUP($H728,Récapitulatif!$F$14:$I$24,2,FALSE)=0,\"\",VLOOKUP(H728,Récapitulatif!$F$14:$I$24,2,FALSE)),\"\")","v":""},0,10.5]
[2023,"2023-12-27",{"$f":"IFERROR(IF(VLOOKUP($B729,Récapitulatif!$F$64:$I$68,2,FALSE)=0,\"\",VLOOKUP($B729,Récapitulatif!$F$64:$I$68,2,FALSE)),\"\")","v":""},0,-10.5,null,2023,"2023-12-27",{"$f":"IFERROR(IF(VLOOKUP($H729,Récapitulatif!$F$14:$I$24,2,FALSE)=0,\"\",VLOOKUP(H729,Récapitulatif!$F$14:$I$24,2,FALSE)),\"\")","v":""},0,10.5]
[2023,"2023-12-28",{"$f":"IFERROR(IF(VLOOKUP($B730,Récapitulatif!$F$64:$I$68,2,FALSE)=0,\"\",VLOOKUP($B730,Récapitulatif!$F$64:$I$68,2,FALSE)),\"\")","v":""},0,-10.5,null,2023,"2023-12-28",{"$f":"IFERROR(IF(VLOOKUP($H730,Récapitulatif!$F$14:$I$24,2,FALSE)=0,\"\",VLOOKUP(H730,Récapitulatif!$F$14:$I$24,2,FALSE)),\"\")","v":""},0,10.5]
[2023,"2023-12-29",{"$f":"IFERROR(IF(VLOOKUP($B731,Récapitulatif!$F$64:$I$68,2,FALSE)=0,\"\",VLOOKUP($B731,Récapitulatif!$F$64:$I$68,2,FALSE)),\"\")","v":""},0,-10.5,null,2023,"2023-12-29",{"$f":"IFERROR(IF(VLOOKUP($H731,Récapitulatif!$F$14:$I$24,2,FALSE)=0,\"\",VLOOKUP(H731,Récapitulatif!$F$14:$I$24,2,FALSE)),\"\")","v":""},0,10.5]
[2023,"2023-12-30",{"$f":"IFERROR(IF(VLOOKUP($B732,Récapitulatif!$F$64:$I$68,2,FALSE)=0,\"\",VLOOKUP($B732,Récapitulatif!$F$64:$I$68,2,FALSE)),\"\")","v":""},0,-10.5,null,2023,"2023-12-30",{"$f":"IFERROR(IF(VLOOKUP($H732,Récapitulatif!$F$14:$I$24,2,FALSE)=0,\"\",VLOOKUP(H732,Récapitulatif!$F$14:$I$24,2,FALSE)),\"\")","v":""},0,10.5]
[2023,"2023-12-31",{"$f":"IFERROR(IF(VLOOKUP($B733,Récapitulatif!$F$64:$I$68,2,FALSE)=0,\"\",VLOOKUP($B733,Récapitulatif!$F$64:$I$68,2,FALSE)),\"\")","v":""},0,-10.5,null,2023,"2023-12-31",{"$f":"IFERROR(IF(VLOOKUP($H733,Récapitulatif!$F$14:$I$24,2,FALSE)=0,\"\",VLOOKUP(H733,Récapitulatif!$F$14:$I$24,2,FALSE)),\"\")","v":""},0,10.5]
[2024,"2024-01-01",{"$f":"IFERROR(IF(VLOOKUP($B734,Récapitulatif!$J$64:$M$68,2,FALSE)=0,\"\",VLOOKUP($B734,Récapitulatif!$J$64:$M$68,2,FALSE)),\"\")","v":""},0,-3.5,null,2024,"2024-01-01",{"$f":"IFERROR(IF(VLOOKUP($H734,Récapitulatif!$J$14:$M$24,2,FALSE)=0,\"\",VLOOKUP(H734,Récapitulatif!$J$14:$M$24,2,FALSE)),\"\")","v":""},0,3.5]
[2024,"2024-01-02",{"$f":"IFERROR(IF(VLOOKUP($B735,Récapitulatif!$J$64:$M$68,2,FALSE)=0,\"\",VLOOKUP($B735,Récapitulatif!$J$64:$M$68,2,FALSE)),\"\")","v":""},0,-3.5,null,2024,"2024-01-02",{"$f":"IFERROR(IF(VLOOKUP($H735,Récapitulatif!$J$14:$M$24,2,FALSE)=0,\"\",VLOOKUP(H735,Récapitulatif!$J$14:$M$24,2,FALSE)),\"\")","v":""},0,3.5]
[2024,"2024-01-03",{"$f":"IFERROR(IF(VLOOKUP($B736,Récapitulatif!$J$64:$M$68,2,FALSE)=0,\"\",VLOOKUP($B736,Récapitulatif!$J$64:$M$68,2,FALSE)),\"\")","v":""},0,-3.5,null,2024,"2024-01-03",{"$f":"IFERROR(IF(VLOOKUP($H736,Récapitulatif!$J$14:$M$24,2,FALSE)=0,\"\",VLOOKUP(H736,Récapitulatif!$J$14:$M$24,2,FALSE)),\"\")","v":""},0,3.5]
[2024,"2024-01-04",{"$f":"IFERROR(IF(VLOOKUP($B737,Récapitulatif!$J$64:$M$68,2,FALSE)=0,\"\",VLOOKUP($B737,Récapitulatif!$J$64:$M$68,2,FALSE)),\"\")","v":""},0,-3.5,null,2024,"2024-01-04",{"$f":"IFERROR(IF(VLOOKUP($H737,Récapitulatif!$J$14:$M$24,2,FALSE)=0,\"\",VLOOKUP(H737,Récapitulatif!$J$14:$M$24,2,FALSE)),\"\")","v":""},0,3.5]
[2024,"2024-01-05",{"$f":"IFERROR(IF(VLOOKUP($B738,Récapitulatif!$J$64:$M$68,2,FALSE)=0,\"\",VLOOKUP($B738,Récapitulatif!$J$64:$M$68,2,FALSE)),\"\")","v":""},0,-3.5,null,2024,"2024-01-05",{"$f":"IFERROR(IF(VLOOKUP($H738,Récapitulatif!$J$14:$M$24,2,FALSE)=0,\"\",VLOOKUP(H738,Récapitulatif!$J$14:$M$24,2,FALSE)),\"\")","v":""},0,3.5]
[2024,"2024-01-06",{"$f":"IFERROR(IF(VLOOKUP($B739,Récapitulatif!$J$64:$M$68,2,FALSE)=0,\"\",VLOOKUP($B739,Récapitulatif!$J$64:$M$68,2,FALSE)),\"\")","v":""},0,-3.5,null,2024,"2024-01-06",{"$f":"IFERROR(IF(VLOOKUP($H739,Récapitulatif!$J$14:$M$24,2,FALSE)=0,\"\",VLOOKUP(H739,Récapitulatif!$J$14:$M$24,2,FALSE)),\"\")","v":""},0,3.5]
[2024,"2024-01-07",{"$f":"IFERROR(IF(VLOOKUP($B740,Récapitulatif!$J$64:$M$68,2,FALSE)=0,\"\",VLOOKUP($B740,Récapitulatif!$J$64:$M$68,2,FALSE)),\"\")","v":""},0,-3.5,null,2024,"2024-01-07",{"$f":"IFERROR(IF(VLOOKUP($H740,Récapitulatif!$J$14:$M$24,2,FALSE)=0,\"\",VLOOKUP(H740,Récapitulatif!$J$14:$M$24,2,FALSE)),\"\")","v":""},0,3.5]
[2024,"2024-01-08",{"$f":"IFERROR(IF(VLOOKUP($B741,Récapitulatif!$J$64:$M$68,2,FALSE)=0,\"\",VLOOKUP($B741,Récapitulatif!$J$64:$M$68,2,FALSE)),\"\")","v":""},0,-3.5,null,2024,"2024-01-08",{"$f":"IFERROR(IF(VLOOKUP($H741,Récapitulatif!$J$14:$M$24,2,FALSE)=0,\"\",VLOOKUP(H741,Récapitulatif!$J$14:$M$24,2,FALSE)),\"\")","v":""},0,3.5]
[2024,"2024-01-09",{"$f":"IFERROR(IF(VLOOKUP($B742,Récapitulatif!$J$64:$M$68,2,FALSE)=0,\"\",VLOOKUP($B742,Récapitulatif!$J$64:$M$68,2,FALSE)),\"\")","v":""},0,-3.5,null,2024,"2024-01-09",{"$f":"IFERROR(IF(VLOOKUP($H742,Récapitulatif!$J$14:$M$24,2,FALSE)=0,\"\",VLOOKUP(H742,Récapitulatif!$J$14:$M$24,2,FALSE)),\"\")","v":""},0,3.5]
[2024,"2024-01-10",{"$f":"IFERROR(IF(VLOOKUP($B743,Récapitulatif!$J$64:$M$68,2,FALSE)=0,\"\",VLOOKUP($B743,Récapitulatif!$J$64:$M$68,2,FALSE)),\"\")","v":""},0,-3.5,null,2024,"2024-01-10",{"$f":"IFERROR(IF(VLOOKUP($H743,Récapitulatif!$J$14:$M$24,2,FALSE)=0,\"\",VLOOKUP(H743,Récapitulatif!$J$14:$M$24,2,FALSE)),\"\")","v":""},0,3.5]
[2024,"2024-01-11",{"$f":"IFERROR(IF(VLOOKUP($B744,Récapitulatif!$J$64:$M$68,2,FALSE)=0,\"\",VLOOKUP($B744,Récapitulatif!$J$64:$M$68,2,FALSE)),\"\")","v":""},0,-3.5,null,2024,"2024-01-11",{"$f":"IFERROR(IF(VLOOKUP($H744,Récapitulatif!$J$14:$M$24,2,FALSE)=0,\"\",VLOOKUP(H744,Récapitulatif!$J$14:$M$24,2,FALSE)),\"\")","v":""},0,3.5]
[2024,"2024-01-12",{"$f":"IFERROR(IF(VLOOKUP($B745,Récapitulatif!$J$64:$M$68,2,FALSE)=0,\"\",VLOOKUP($B745,Récapitulatif!$J$64:$M$68,2,FALSE)),\"\")","v":""},0,-3.5,null,2024,"2024-01-12",{"$f":"IFERROR(IF(VLOOKUP($H745,Récapitulatif!$J$14:$M$24,2,FALSE)=0,\"\",VLOOKUP(H745,Récapitulatif!$J$14:$M$24,2,FALSE)),\"\")","v":""},0,3.5]
[2024,"2024-01-13",{"$f":"IFERROR(IF(VLOOKUP($B746,Récapitulatif!$J$64:$M$68,2,FALSE)=0,\"\",VLOOKUP($B746,Récapitulatif!$J$64:$M$68,2,FALSE)),\"\")","v":""},0,-3.5,null,2024,"2024-01-13",{"$f":"IFERROR(IF(VLOOKUP($H746,Récapitulatif!$J$14:$M$24,2,FALSE)=0,\"\",VLOOKUP(H746,Récapitulatif!$J$14:$M$24,2,FALSE)),\"\")","v":""},0,3.5]
[2024,"2024-01-14",{"$f":"IFERROR(IF(VLOOKUP($B747,Récapitulatif!$J$64:$M$68,2,FALSE)=0,\"\",VLOOKUP($B747,Récapitulatif!$J$64:$M$68,2,FALSE)),\"\")","v":""},0,-3.5,null,2024,"2024-01-14",{"$f":"IFERROR(IF(VLOOKUP($H747,Récapitulatif!$J$14:$M$24,2,FALSE)=0,\"\",VLOOKUP(H747,Récapitulatif!$J$14:$M$24,2,FALSE)),\"\")","v":""},0,3.5]
[2024,"2024-01-15",{"$f":"IFERROR(IF(VLOOKUP($B748,Récapitulatif!$J$64:$M$68,2,FALSE)=0,\"\",VLOOKUP($B748,Récapitulatif!$J$64:$M$68,2,FALSE)),\"\")","v":""},0,-3.5,null,2024,"2024-01-15",{"$f":"IFERROR(IF(VLOOKUP($H748,Récapitulatif!$J$14:$M$24,2,FALSE)=0,\"\",VLOOKUP(H748,Récapitulatif!$J$14:$M$24,2,FALSE)),\"\")","v":""},0,3.5]
[2024,"2024-01-16",{"$f":"IFERROR(IF(VLOOKUP($B749,Récapitulatif!$J$64:$M$68,2,FALSE)=0,\"\",VLOOKUP($B749,Récapitulatif!$J$64:$M$68,2,FALSE)),\"\")","v":""},0,-3.5,null,2024,"2024-01-16",{"$f":"IFERROR(IF(VLOOKUP($H749,Récapitulatif!$J$14:$M$24,2,FALSE)=0,\"\",VLOOKUP(H749,Récapitulatif!$J$14:$M$24,2,FALSE)),\"\")","v":""},0,3.5]
[2024,"2024-01-17",{"$f":"IFERROR(IF(VLOOKUP($B750,Récapitulatif!$J$64:$M$68,2,FALSE)=0,\"\",VLOOKUP($B750,Récapitulatif!$J$64:$M$68,2,FALSE)),\"\")","v":""},0,-3.5,null,2024,"2024-01-17",{"$f":"IFERROR(IF(VLOOKUP($H750,Récapitulatif!$J$14:$M$24,2,FALSE)=0,\"\",VLOOKUP(H750,Récapitulatif!$J$14:$M$24,2,FALSE)),\"\")","v":""},0,3.5]
[2024,"2024-01-18",{"$f":"IFERROR(IF(VLOOKUP($B751,Récapitulatif!$J$64:$M$68,2,FALSE)=0,\"\",VLOOKUP($B751,Récapitulatif!$J$64:$M$68,2,FALSE)),\"\")","v":""},0,-3.5,null,2024,"2024-01-18",{"$f":"IFERROR(IF(VLOOKUP($H751,Récapitulatif!$J$14:$M$24,2,FALSE)=0,\"\",VLOOKUP(H751,Récapitulatif!$J$14:$M$24,2,FALSE)),\"\")","v":""},0,3.5]
[2024,"2024-01-19",{"$f":"IFERROR(IF(VLOOKUP($B752,Récapitulatif!$J$64:$M$68,2,FALSE)=0,\"\",VLOOKUP($B752,Récapitulatif!$J$64:$M$68,2,FALSE)),\"\")","v":""},0,-3.5,null,2024,"2024-01-19",{"$f":"IFERROR(IF(VLOOKUP($H752,Récapitulatif!$J$14:$M$24,2,FALSE)=0,\"\",VLOOKUP(H752,Récapitulatif!$J$14:$M$24,2,FALSE)),\"\")","v":""},0,3.5]
[2024,"2024-01-20",{"$f":"IFERROR(IF(VLOOKUP($B753,Récapitulatif!$J$64:$M$68,2,FALSE)=0,\"\",VLOOKUP($B753,Récapitulatif!$J$64:$M$68,2,FALSE)),\"\")","v":""},0,-3.5,null,2024,"2024-01-20",{"$f":"IFERROR(IF(VLOOKUP($H753,Récapitulatif!$J$14:$M$24,2,FALSE)=0,\"\",VLOOKUP(H753,Récapitulatif!$J$14:$M$24,2,FALSE)),\"\")","v":""},0,3.5]
[2024,"2024-01-21",{"$f":"IFERROR(IF(VLOOKUP($B754,Récapitulatif!$J$64:$M$68,2,FALSE)=0,\"\",VLOOKUP($B754,Récapitulatif!$J$64:$M$68,2,FALSE)),\"\")","v":""},0,-3.5,null,2024,"2024-01-21",{"$f":"IFERROR(IF(VLOOKUP($H754,Récapitulatif!$J$14:$M$24,2,FALSE)=0,\"\",VLOOKUP(H754,Récapitulatif!$J$14:$M$24,2,FALSE)),\"\")","v":""},0,3.5]
[2024,"2024-01-22",{"$f":"IFERROR(IF(VLOOKUP($B755,Récapitulatif!$J$64:$M$68,2,FALSE)=0,\"\",VLOOKUP($B755,Récapitulatif!$J$64:$M$68,2,FALSE)),\"\")","v":""},0,-3.5,null,2024,"2024-01-22",{"$f":"IFERROR(IF(VLOOKUP($H755,Récapitulatif!$J$14:$M$24,2,FALSE)=0,\"\",VLOOKUP(H755,Récapitulatif!$J$14:$M$24,2,FALSE)),\"\")","v":""},0,3.5]
[2024,"2024-01-23",{"$f":"IFERROR(IF(VLOOKUP($B756,Récapitulatif!$J$64:$M$68,2,FALSE)=0,\"\",VLOOKUP($B756,Récapitulatif!$J$64:$M$68,2,FALSE)),\"\")","v":""},0,-3.5,null,2024,"2024-01-23",{"$f":"IFERROR(IF(VLOOKUP($H756,Récapitulatif!$J$14:$M$24,2,FALSE)=0,\"\",VLOOKUP(H756,Récapitulatif!$J$14:$M$24,2,FALSE)),\"\")","v":""},0,3.5]
[2024,"2024-01-24",{"$f":"IFERROR(IF(VLOOKUP($B757,Récapitulatif!$J$64:$M$68,2,FALSE)=0,\"\",VLOOKUP($B757,Récapitulatif!$J$64:$M$68,2,FALSE)),\"\")","v":""},0,-3.5,null,2024,"2024-01-24",{"$f":"IFERROR(IF(VLOOKUP($H757,Récapitulatif!$J$14:$M$24,2,FALSE)=0,\"\",VLOOKUP(H757,Récapitulatif!$J$14:$M$24,2,FALSE)),\"\")","v":""},0,3.5]
[2024,"2024-01-25",{"$f":"IFERROR(IF(VLOOKUP($B758,Récapitulatif!$J$64:$M$68,2,FALSE)=0,\"\",VLOOKUP($B758,Récapitulatif!$J$64:$M$68,2,FALSE)),\"\")","v":""},0,-3.5,null,2024,"2024-01-25",{"$f":"IFERROR(IF(VLOOKUP($H758,Récapitulatif!$J$14:$M$24,2,FALSE)=0,\"\",VLOOKUP(H758,Récapitulatif!$J$14:$M$24,2,FALSE)),\"\")","v":""},0,3.5]
[2024,"2024-01-26",{"$f":"IFERROR(IF(VLOOKUP($B759,Récapitulatif!$J$64:$M$68,2,FALSE)=0,\"\",VLOOKUP($B759,Récapitulatif!$J$64:$M$68,2,FALSE)),\"\")","v":""},0,-3.5,null,2024,"2024-01-26",{"$f":"IFERROR(IF(VLOOKUP($H759,Récapitulatif!$J$14:$M$24,2,FALSE)=0,\"\",VLOOKUP(H759,Récapitulatif!$J$14:$M$24,2,FALSE)),\"\")","v":""},0,3.5]
[2024,"2024-01-27",{"$f":"IFERROR(IF(VLOOKUP($B760,Récapitulatif!$J$64:$M$68,2,FALSE)=0,\"\",VLOOKUP($B760,Récapitulatif!$J$64:$M$68,2,FALSE)),\"\")","v":""},0,-3.5,null,2024,"2024-01-27",{"$f":"IFERROR(IF(VLOOKUP($H760,Récapitulatif!$J$14:$M$24,2,FALSE)=0,\"\",VLOOKUP(H760,Récapitulatif!$J$14:$M$24,2,FALSE)),\"\")","v":""},0,3.5]
[2024,"2024-01-28",{"$f":"IFERROR(IF(VLOOKUP($B761,Récapitulatif!$J$64:$M$68,2,FALSE)=0,\"\",VLOOKUP($B761,Récapitulatif!$J$64:$M$68,2,FALSE)),\"\")","v":""},0,-3.5,null,2024,"2024-01-28",{"$f":"IFERROR(IF(VLOOKUP($H761,Récapitulatif!$J$14:$M$24,2,FALSE)=0,\"\",VLOOKUP(H761,Récapitulatif!$J$14:$M$24,2,FALSE)),\"\")","v":""},0,3.5]
[2024,"2024-01-29",{"$f":"IFERROR(IF(VLOOKUP($B762,Récapitulatif!$J$64:$M$68,2,FALSE)=0,\"\",VLOOKUP($B762,Récapitulatif!$J$64:$M$68,2,FALSE)),\"\")","v":""},0,-3.5,null,2024,"2024-01-29",{"$f":"IFERROR(IF(VLOOKUP($H762,Récapitulatif!$J$14:$M$24,2,FALSE)=0,\"\",VLOOKUP(H762,Récapitulatif!$J$14:$M$24,2,FALSE)),\"\")","v":""},0,3.5]
[2024,"2024-01-30",{"$f":"IFERROR(IF(VLOOKUP($B763,Récapitulatif!$J$64:$M$68,2,FALSE)=0,\"\",VLOOKUP($B763,Récapitulatif!$J$64:$M$68,2,FALSE)),\"\")","v":""},0,-3.5,null,2024,"2024-01-30",{"$f":"IFERROR(IF(VLOOKUP($H763,Récapitulatif!$J$14:$M$24,2,FALSE)=0,\"\",VLOOKUP(H763,Récapitulatif!$J$14:$M$24,2,FALSE)),\"\")","v":""},0,3.5]
[2024,"2024-01-31",{"$f":"IFERROR(IF(VLOOKUP($B764,Récapitulatif!$J$64:$M$68,2,FALSE)=0,\"\",VLOOKUP($B764,Récapitulatif!$J$64:$M$68,2,FALSE)),\"\")","v":""},0,-3.5,null,2024,"2024-01-31",{"$f":"IFERROR(IF(VLOOKUP($H764,Récapitulatif!$J$14:$M$24,2,FALSE)=0,\"\",VLOOKUP(H764,Récapitulatif!$J$14:$M$24,2,FALSE)),\"\")","v":""},0,3.5]
[2024,"2024-02-01",{"$f":"IFERROR(IF(VLOOKUP($B765,Récapitulatif!$J$64:$M$68,2,FALSE)=0,\"\",VLOOKUP($B765,Récapitulatif!$J$64:$M$68,2,FALSE)),\"\")","v":""},0,-12.5,null,2024,"2024-02-01",{"$f":"IFERROR(IF(VLOOKUP($H765,Récapitulatif!$J$14:$M$24,2,FALSE)=0,\"\",VLOOKUP(H765,Récapitulatif!$J$14:$M$24,2,FALSE)),\"\")","v":""},0,12.5]
[2024,"2024-02-02",{"$f":"IFERROR(IF(VLOOKUP($B766,Récapitulatif!$J$64:$M$68,2,FALSE)=0,\"\",VLOOKUP($B766,Récapitulatif!$J$64:$M$68,2,FALSE)),\"\")","v":""},0,-12.5,null,2024,"2024-02-02",{"$f":"IFERROR(IF(VLOOKUP($H766,Récapitulatif!$J$14:$M$24,2,FALSE)=0,\"\",VLOOKUP(H766,Récapitulatif!$J$14:$M$24,2,FALSE)),\"\")","v":""},0,12.5]
[2024,"2024-02-03",{"$f":"IFERROR(IF(VLOOKUP($B767,Récapitulatif!$J$64:$M$68,2,FALSE)=0,\"\",VLOOKUP($B767,Récapitulatif!$J$64:$M$68,2,FALSE)),\"\")","v":""},0,-12.5,null,2024,"2024-02-03",{"$f":"IFERROR(IF(VLOOKUP($H767,Récapitulatif!$J$14:$M$24,2,FALSE)=0,\"\",VLOOKUP(H767,Récapitulatif!$J$14:$M$24,2,FALSE)),\"\")","v":""},0,12.5]
[2024,"2024-02-04",{"$f":"IFERROR(IF(VLOOKUP($B768,Récapitulatif!$J$64:$M$68,2,FALSE)=0,\"\",VLOOKUP($B768,Récapitulatif!$J$64:$M$68,2,FALSE)),\"\")","v":""},0,-12.5,null,2024,"2024-02-04",{"$f":"IFERROR(IF(VLOOKUP($H768,Récapitulatif!$J$14:$M$24,2,FALSE)=0,\"\",VLOOKUP(H768,Récapitulatif!$J$14:$M$24,2,FALSE)),\"\")","v":""},0,12.5]
[2024,"2024-02-05",{"$f":"IFERROR(IF(VLOOKUP($B769,Récapitulatif!$J$64:$M$68,2,FALSE)=0,\"\",VLOOKUP($B769,Récapitulatif!$J$64:$M$68,2,FALSE)),\"\")","v":""},0,-12.5,null,2024,"2024-02-05",{"$f":"IFERROR(IF(VLOOKUP($H769,Récapitulatif!$J$14:$M$24,2,FALSE)=0,\"\",VLOOKUP(H769,Récapitulatif!$J$14:$M$24,2,FALSE)),\"\")","v":""},0,12.5]
[2024,"2024-02-06",{"$f":"IFERROR(IF(VLOOKUP($B770,Récapitulatif!$J$64:$M$68,2,FALSE)=0,\"\",VLOOKUP($B770,Récapitulatif!$J$64:$M$68,2,FALSE)),\"\")","v":""},0,-12.5,null,2024,"2024-02-06",{"$f":"IFERROR(IF(VLOOKUP($H770,Récapitulatif!$J$14:$M$24,2,FALSE)=0,\"\",VLOOKUP(H770,Récapitulatif!$J$14:$M$24,2,FALSE)),\"\")","v":""},0,12.5]
[2024,"2024-02-07",{"$f":"IFERROR(IF(VLOOKUP($B771,Récapitulatif!$J$64:$M$68,2,FALSE)=0,\"\",VLOOKUP($B771,Récapitulatif!$J$64:$M$68,2,FALSE)),\"\")","v":""},0,-12.5,null,2024,"2024-02-07",{"$f":"IFERROR(IF(VLOOKUP($H771,Récapitulatif!$J$14:$M$24,2,FALSE)=0,\"\",VLOOKUP(H771,Récapitulatif!$J$14:$M$24,2,FALSE)),\"\")","v":""},0,12.5]
[2024,"2024-02-08",{"$f":"IFERROR(IF(VLOOKUP($B772,Récapitulatif!$J$64:$M$68,2,FALSE)=0,\"\",VLOOKUP($B772,Récapitulatif!$J$64:$M$68,2,FALSE)),\"\")","v":""},0,-12.5,null,2024,"2024-02-08",{"$f":"IFERROR(IF(VLOOKUP($H772,Récapitulatif!$J$14:$M$24,2,FALSE)=0,\"\",VLOOKUP(H772,Récapitulatif!$J$14:$M$24,2,FALSE)),\"\")","v":""},0,12.5]
[2024,"2024-02-09",{"$f":"IFERROR(IF(VLOOKUP($B773,Récapitulatif!$J$64:$M$68,2,FALSE)=0,\"\",VLOOKUP($B773,Récapitulatif!$J$64:$M$68,2,FALSE)),\"\")","v":""},{"$f":"IF($C773=\"\",0,$E773)","v":0},-12.5,null,2024,"2024-02-09",{"$f":"IFERROR(IF(VLOOKUP($H773,Récapitulatif!$J$14:$M$24,2,FALSE)=0,\"\",VLOOKUP(H773,Récapitulatif!$J$14:$M$24,2,FALSE)),\"\")","v":""},{"$f":"IF($I773=\"\",0,$K773)","v":0},12.5]
[{"$f":"YEAR(B774)","v":2024},{"$f":"B773+1","v":"2024-02-10"},{"$f":"IFERROR(IF(VLOOKUP($B774,Récapitulatif!$J$64:$M$68,2,FALSE)=0,\"\",VLOOKUP($B774,Récapitulatif!$J$64:$M$68,2,FALSE)),\"\")","v":""},0,-12.5,null,{"$f":"YEAR(H774)","v":2024},{"$f":"H773+1","v":"2024-02-10"},{"$f":"IFERROR(IF(VLOOKUP($H774,Récapitulatif!$J$14:$M$24,2,FALSE)=0,\"\",VLOOKUP(H774,Récapitulatif!$J$14:$M$24,2,FALSE)),\"\")","v":""},0,12.5]
[2024,"2024-02-11",{"$f":"IFERROR(IF(VLOOKUP($B775,Récapitulatif!$J$64:$M$68,2,FALSE)=0,\"\",VLOOKUP($B775,Récapitulatif!$J$64:$M$68,2,FALSE)),\"\")","v":""},0,-12.5,null,2024,"2024-02-11",{"$f":"IFERROR(IF(VLOOKUP($H775,Récapitulatif!$J$14:$M$24,2,FALSE)=0,\"\",VLOOKUP(H775,Récapitulatif!$J$14:$M$24,2,FALSE)),\"\")","v":""},0,12.5]
[2024,"2024-02-12",{"$f":"IFERROR(IF(VLOOKUP($B776,Récapitulatif!$J$64:$M$68,2,FALSE)=0,\"\",VLOOKUP($B776,Récapitulatif!$J$64:$M$68,2,FALSE)),\"\")","v":""},0,-12.5,null,2024,"2024-02-12",{"$f":"IFERROR(IF(VLOOKUP($H776,Récapitulatif!$J$14:$M$24,2,FALSE)=0,\"\",VLOOKUP(H776,Récapitulatif!$J$14:$M$24,2,FALSE)),\"\")","v":""},0,12.5]
[2024,"2024-02-13",{"$f":"IFERROR(IF(VLOOKUP($B777,Récapitulatif!$J$64:$M$68,2,FALSE)=0,\"\",VLOOKUP($B777,Récapitulatif!$J$64:$M$68,2,FALSE)),\"\")","v":""},0,-12.5,null,2024,"2024-02-13",{"$f":"IFERROR(IF(VLOOKUP($H777,Récapitulatif!$J$14:$M$24,2,FALSE)=0,\"\",VLOOKUP(H777,Récapitulatif!$J$14:$M$24,2,FALSE)),\"\")","v":""},0,12.5]
[2024,"2024-02-14",{"$f":"IFERROR(IF(VLOOKUP($B778,Récapitulatif!$J$64:$M$68,2,FALSE)=0,\"\",VLOOKUP($B778,Récapitulatif!$J$64:$M$68,2,FALSE)),\"\")","v":""},0,-12.5,null,2024,"2024-02-14",{"$f":"IFERROR(IF(VLOOKUP($H778,Récapitulatif!$J$14:$M$24,2,FALSE)=0,\"\",VLOOKUP(H778,Récapitulatif!$J$14:$M$24,2,FALSE)),\"\")","v":""},0,12.5]
[2024,"2024-02-15",{"$f":"IFERROR(IF(VLOOKUP($B779,Récapitulatif!$J$64:$M$68,2,FALSE)=0,\"\",VLOOKUP($B779,Récapitulatif!$J$64:$M$68,2,FALSE)),\"\")","v":""},0,-12.5,null,2024,"2024-02-15",{"$f":"IFERROR(IF(VLOOKUP($H779,Récapitulatif!$J$14:$M$24,2,FALSE)=0,\"\",VLOOKUP(H779,Récapitulatif!$J$14:$M$24,2,FALSE)),\"\")","v":""},0,12.5]
[2024,"2024-02-16",{"$f":"IFERROR(IF(VLOOKUP($B780,Récapitulatif!$J$64:$M$68,2,FALSE)=0,\"\",VLOOKUP($B780,Récapitulatif!$J$64:$M$68,2,FALSE)),\"\")","v":""},0,-12.5,null,2024,"2024-02-16",{"$f":"IFERROR(IF(VLOOKUP($H780,Récapitulatif!$J$14:$M$24,2,FALSE)=0,\"\",VLOOKUP(H780,Récapitulatif!$J$14:$M$24,2,FALSE)),\"\")","v":""},0,12.5]
[2024,"2024-02-17",{"$f":"IFERROR(IF(VLOOKUP($B781,Récapitulatif!$J$64:$M$68,2,FALSE)=0,\"\",VLOOKUP($B781,Récapitulatif!$J$64:$M$68,2,FALSE)),\"\")","v":""},0,-12.5,null,2024,"2024-02-17",{"$f":"IFERROR(IF(VLOOKUP($H781,Récapitulatif!$J$14:$M$24,2,FALSE)=0,\"\",VLOOKUP(H781,Récapitulatif!$J$14:$M$24,2,FALSE)),\"\")","v":""},0,12.5]
[2024,"2024-02-18",{"$f":"IFERROR(IF(VLOOKUP($B782,Récapitulatif!$J$64:$M$68,2,FALSE)=0,\"\",VLOOKUP($B782,Récapitulatif!$J$64:$M$68,2,FALSE)),\"\")","v":""},0,-12.5,null,2024,"2024-02-18",{"$f":"IFERROR(IF(VLOOKUP($H782,Récapitulatif!$J$14:$M$24,2,FALSE)=0,\"\",VLOOKUP(H782,Récapitulatif!$J$14:$M$24,2,FALSE)),\"\")","v":""},0,12.5]
[2024,"2024-02-19",{"$f":"IFERROR(IF(VLOOKUP($B783,Récapitulatif!$J$64:$M$68,2,FALSE)=0,\"\",VLOOKUP($B783,Récapitulatif!$J$64:$M$68,2,FALSE)),\"\")","v":""},0,-12.5,null,2024,"2024-02-19",{"$f":"IFERROR(IF(VLOOKUP($H783,Récapitulatif!$J$14:$M$24,2,FALSE)=0,\"\",VLOOKUP(H783,Récapitulatif!$J$14:$M$24,2,FALSE)),\"\")","v":""},0,12.5]
[2024,"2024-02-20",{"$f":"IFERROR(IF(VLOOKUP($B784,Récapitulatif!$J$64:$M$68,2,FALSE)=0,\"\",VLOOKUP($B784,Récapitulatif!$J$64:$M$68,2,FALSE)),\"\")","v":""},0,-12.5,null,2024,"2024-02-20",{"$f":"IFERROR(IF(VLOOKUP($H784,Récapitulatif!$J$14:$M$24,2,FALSE)=0,\"\",VLOOKUP(H784,Récapitulatif!$J$14:$M$24,2,FALSE)),\"\")","v":""},0,12.5]
[2024,"2024-02-21",{"$f":"IFERROR(IF(VLOOKUP($B785,Récapitulatif!$J$64:$M$68,2,FALSE)=0,\"\",VLOOKUP($B785,Récapitulatif!$J$64:$M$68,2,FALSE)),\"\")","v":""},0,-12.5,null,2024,"2024-02-21",{"$f":"IFERROR(IF(VLOOKUP($H785,Récapitulatif!$J$14:$M$24,2,FALSE)=0,\"\",VLOOKUP(H785,Récapitulatif!$J$14:$M$24,2,FALSE)),\"\")","v":""},0,12.5]
[2024,"2024-02-22",{"$f":"IFERROR(IF(VLOOKUP($B786,Récapitulatif!$J$64:$M$68,2,FALSE)=0,\"\",VLOOKUP($B786,Récapitulatif!$J$64:$M$68,2,FALSE)),\"\")","v":""},0,-12.5,null,2024,"2024-02-22",{"$f":"IFERROR(IF(VLOOKUP($H786,Récapitulatif!$J$14:$M$24,2,FALSE)=0,\"\",VLOOKUP(H786,Récapitulatif!$J$14:$M$24,2,FALSE)),\"\")","v":""},0,12.5]
[2024,"2024-02-23",{"$f":"IFERROR(IF(VLOOKUP($B787,Récapitulatif!$J$64:$M$68,2,FALSE)=0,\"\",VLOOKUP($B787,Récapitulatif!$J$64:$M$68,2,FALSE)),\"\")","v":""},0,-12.5,null,2024,"2024-02-23",{"$f":"IFERROR(IF(VLOOKUP($H787,Récapitulatif!$J$14:$M$24,2,FALSE)=0,\"\",VLOOKUP(H787,Récapitulatif!$J$14:$M$24,2,FALSE)),\"\")","v":""},0,12.5]
[2024,"2024-02-24",{"$f":"IFERROR(IF(VLOOKUP($B788,Récapitulatif!$J$64:$M$68,2,FALSE)=0,\"\",VLOOKUP($B788,Récapitulatif!$J$64:$M$68,2,FALSE)),\"\")","v":""},0,-12.5,null,2024,"2024-02-24",{"$f":"IFERROR(IF(VLOOKUP($H788,Récapitulatif!$J$14:$M$24,2,FALSE)=0,\"\",VLOOKUP(H788,Récapitulatif!$J$14:$M$24,2,FALSE)),\"\")","v":""},0,12.5]
[2024,"2024-02-25",{"$f":"IFERROR(IF(VLOOKUP($B789,Récapitulatif!$J$64:$M$68,2,FALSE)=0,\"\",VLOOKUP($B789,Récapitulatif!$J$64:$M$68,2,FALSE)),\"\")","v":""},0,-12.5,null,2024,"2024-02-25",{"$f":"IFERROR(IF(VLOOKUP($H789,Récapitulatif!$J$14:$M$24,2,FALSE)=0,\"\",VLOOKUP(H789,Récapitulatif!$J$14:$M$24,2,FALSE)),\"\")","v":""},0,12.5]
[2024,"2024-02-26",{"$f":"IFERROR(IF(VLOOKUP($B790,Récapitulatif!$J$64:$M$68,2,FALSE)=0,\"\",VLOOKUP($B790,Récapitulatif!$J$64:$M$68,2,FALSE)),\"\")","v":""},0,-12.5,null,2024,"2024-02-26",{"$f":"IFERROR(IF(VLOOKUP($H790,Récapitulatif!$J$14:$M$24,2,FALSE)=0,\"\",VLOOKUP(H790,Récapitulatif!$J$14:$M$24,2,FALSE)),\"\")","v":""},0,12.5]
[2024,"2024-02-27",{"$f":"IFERROR(IF(VLOOKUP($B791,Récapitulatif!$J$64:$M$68,2,FALSE)=0,\"\",VLOOKUP($B791,Récapitulatif!$J$64:$M$68,2,FALSE)),\"\")","v":""},0,-12.5,null,2024,"2024-02-27",{"$f":"IFERROR(IF(VLOOKUP($H791,Récapitulatif!$J$14:$M$24,2,FALSE)=0,\"\",VLOOKUP(H791,Récapitulatif!$J$14:$M$24,2,FALSE)),\"\")","v":""},0,12.5]
[2024,"2024-02-28",{"$f":"IFERROR(IF(VLOOKUP($B792,Récapitulatif!$J$64:$M$68,2,FALSE)=0,\"\",VLOOKUP($B792,Récapitulatif!$J$64:$M$68,2,FALSE)),\"\")","v":""},0,-12.5,null,2024,"2024-02-28",{"$f":"IFERROR(IF(VLOOKUP($H792,Récapitulatif!$J$14:$M$24,2,FALSE)=0,\"\",VLOOKUP(H792,Récapitulatif!$J$14:$M$24,2,FALSE)),\"\")","v":""},0,12.5]
[2024,{"$f":"B792+1","v":"2024-02-29"},{"$f":"IFERROR(IF(VLOOKUP($B793,Récapitulatif!$J$64:$M$68,2,FALSE)=0,\"\",VLOOKUP($B793,Récapitulatif!$J$64:$M$68,2,FALSE)),\"\")","v":""},0,-11.5,null,2024,{"$f":"H792+1","v":"2024-02-29"},{"$f":"IFERROR(IF(VLOOKUP($H793,Récapitulatif!$J$14:$M$24,2,FALSE)=0,\"\",VLOOKUP(H793,Récapitulatif!$J$14:$M$24,2,FALSE)),\"\")","v":""},0,13.5]
[2024,{"$f":"DATE(A793,3,1)","v":"2024-03-01"},{"$f":"IFERROR(IF(VLOOKUP($B794,Récapitulatif!$J$64:$M$68,2,FALSE)=0,\"\",VLOOKUP($B794,Récapitulatif!$J$64:$M$68,2,FALSE)),\"\")","v":""},0,-6.5,null,2024,{"$f":"DATE(G793,3,1)","v":"2024-03-01"},{"$f":"IFERROR(IF(VLOOKUP($H794,Récapitulatif!$J$14:$M$24,2,FALSE)=0,\"\",VLOOKUP(H794,Récapitulatif!$J$14:$M$24,2,FALSE)),\"\")","v":""},0,6.5]
[2024,"2024-03-02",{"$f":"IFERROR(IF(VLOOKUP($B795,Récapitulatif!$J$64:$M$68,2,FALSE)=0,\"\",VLOOKUP($B795,Récapitulatif!$J$64:$M$68,2,FALSE)),\"\")","v":""},0,-6.5,null,2024,"2024-03-02",{"$f":"IFERROR(IF(VLOOKUP($H795,Récapitulatif!$J$14:$M$24,2,FALSE)=0,\"\",VLOOKUP(H795,Récapitulatif!$J$14:$M$24,2,FALSE)),\"\")","v":""},0,6.5]
[2024,"2024-03-03",{"$f":"IFERROR(IF(VLOOKUP($B796,Récapitulatif!$J$64:$M$68,2,FALSE)=0,\"\",VLOOKUP($B796,Récapitulatif!$J$64:$M$68,2,FALSE)),\"\")","v":""},0,-6.5,null,2024,"2024-03-03",{"$f":"IFERROR(IF(VLOOKUP($H796,Récapitulatif!$J$14:$M$24,2,FALSE)=0,\"\",VLOOKUP(H796,Récapitulatif!$J$14:$M$24,2,FALSE)),\"\")","v":""},0,6.5]
[2024,"2024-03-04",{"$f":"IFERROR(IF(VLOOKUP($B797,Récapitulatif!$J$64:$M$68,2,FALSE)=0,\"\",VLOOKUP($B797,Récapitulatif!$J$64:$M$68,2,FALSE)),\"\")","v":""},0,-6.5,null,2024,"2024-03-04",{"$f":"IFERROR(IF(VLOOKUP($H797,Récapitulatif!$J$14:$M$24,2,FALSE)=0,\"\",VLOOKUP(H797,Récapitulatif!$J$14:$M$24,2,FALSE)),\"\")","v":""},0,6.5]
[2024,"2024-03-05",{"$f":"IFERROR(IF(VLOOKUP($B798,Récapitulatif!$J$64:$M$68,2,FALSE)=0,\"\",VLOOKUP($B798,Récapitulatif!$J$64:$M$68,2,FALSE)),\"\")","v":""},0,-6.5,null,2024,"2024-03-05",{"$f":"IFERROR(IF(VLOOKUP($H798,Récapitulatif!$J$14:$M$24,2,FALSE)=0,\"\",VLOOKUP(H798,Récapitulatif!$J$14:$M$24,2,FALSE)),\"\")","v":""},0,6.5]
[2024,"2024-03-06",{"$f":"IFERROR(IF(VLOOKUP($B799,Récapitulatif!$J$64:$M$68,2,FALSE)=0,\"\",VLOOKUP($B799,Récapitulatif!$J$64:$M$68,2,FALSE)),\"\")","v":""},0,-6.5,null,2024,"2024-03-06",{"$f":"IFERROR(IF(VLOOKUP($H799,Récapitulatif!$J$14:$M$24,2,FALSE)=0,\"\",VLOOKUP(H799,Récapitulatif!$J$14:$M$24,2,FALSE)),\"\")","v":""},0,6.5]
[2024,"2024-03-07",{"$f":"IFERROR(IF(VLOOKUP($B800,Récapitulatif!$J$64:$M$68,2,FALSE)=0,\"\",VLOOKUP($B800,Récapitulatif!$J$64:$M$68,2,FALSE)),\"\")","v":""},0,-6.5,null,2024,"2024-03-07",{"$f":"IFERROR(IF(VLOOKUP($H800,Récapitulatif!$J$14:$M$24,2,FALSE)=0,\"\",VLOOKUP(H800,Récapitulatif!$J$14:$M$24,2,FALSE)),\"\")","v":""},0,6.5]
[2024,"2024-03-08",{"$f":"IFERROR(IF(VLOOKUP($B801,Récapitulatif!$J$64:$M$68,2,FALSE)=0,\"\",VLOOKUP($B801,Récapitulatif!$J$64:$M$68,2,FALSE)),\"\")","v":""},0,-6.5,null,2024,"2024-03-08",{"$f":"IFERROR(IF(VLOOKUP($H801,Récapitulatif!$J$14:$M$24,2,FALSE)=0,\"\",VLOOKUP(H801,Récapitulatif!$J$14:$M$24,2,FALSE)),\"\")","v":""},0,6.5]
[2024,"2024-03-09",{"$f":"IFERROR(IF(VLOOKUP($B802,Récapitulatif!$J$64:$M$68,2,FALSE)=0,\"\",VLOOKUP($B802,Récapitulatif!$J$64:$M$68,2,FALSE)),\"\")","v":""},0,-6.5,null,2024,"2024-03-09",{"$f":"IFERROR(IF(VLOOKUP($H802,Récapitulatif!$J$14:$M$24,2,FALSE)=0,\"\",VLOOKUP(H802,Récapitulatif!$J$14:$M$24,2,FALSE)),\"\")","v":""},0,6.5]
[2024,"2024-03-10",{"$f":"IFERROR(IF(VLOOKUP($B803,Récapitulatif!$J$64:$M$68,2,FALSE)=0,\"\",VLOOKUP($B803,Récapitulatif!$J$64:$M$68,2,FALSE)),\"\")","v":""},0,-6.5,null,2024,"2024-03-10",{"$f":"IFERROR(IF(VLOOKUP($H803,Récapitulatif!$J$14:$M$24,2,FALSE)=0,\"\",VLOOKUP(H803,Récapitulatif!$J$14:$M$24,2,FALSE)),\"\")","v":""},0,6.5]
[2024,"2024-03-11",{"$f":"IFERROR(IF(VLOOKUP($B804,Récapitulatif!$J$64:$M$68,2,FALSE)=0,\"\",VLOOKUP($B804,Récapitulatif!$J$64:$M$68,2,FALSE)),\"\")","v":""},0,-6.5,null,2024,"2024-03-11",{"$f":"IFERROR(IF(VLOOKUP($H804,Récapitulatif!$J$14:$M$24,2,FALSE)=0,\"\",VLOOKUP(H804,Récapitulatif!$J$14:$M$24,2,FALSE)),\"\")","v":""},0,6.5]
[2024,"2024-03-12",{"$f":"IFERROR(IF(VLOOKUP($B805,Récapitulatif!$J$64:$M$68,2,FALSE)=0,\"\",VLOOKUP($B805,Récapitulatif!$J$64:$M$68,2,FALSE)),\"\")","v":""},0,-6.5,null,2024,"2024-03-12",{"$f":"IFERROR(IF(VLOOKUP($H805,Récapitulatif!$J$14:$M$24,2,FALSE)=0,\"\",VLOOKUP(H805,Récapitulatif!$J$14:$M$24,2,FALSE)),\"\")","v":""},0,6.5]
[2024,"2024-03-13",{"$f":"IFERROR(IF(VLOOKUP($B806,Récapitulatif!$J$64:$M$68,2,FALSE)=0,\"\",VLOOKUP($B806,Récapitulatif!$J$64:$M$68,2,FALSE)),\"\")","v":""},0,-6.5,null,2024,"2024-03-13",{"$f":"IFERROR(IF(VLOOKUP($H806,Récapitulatif!$J$14:$M$24,2,FALSE)=0,\"\",VLOOKUP(H806,Récapitulatif!$J$14:$M$24,2,FALSE)),\"\")","v":""},0,6.5]
[2024,"2024-03-14",{"$f":"IFERROR(IF(VLOOKUP($B807,Récapitulatif!$J$64:$M$68,2,FALSE)=0,\"\",VLOOKUP($B807,Récapitulatif!$J$64:$M$68,2,FALSE)),\"\")","v":""},0,-6.5,null,2024,"2024-03-14",{"$f":"IFERROR(IF(VLOOKUP($H807,Récapitulatif!$J$14:$M$24,2,FALSE)=0,\"\",VLOOKUP(H807,Récapitulatif!$J$14:$M$24,2,FALSE)),\"\")","v":""},0,6.5]
[2024,"2024-03-15",{"$f":"IFERROR(IF(VLOOKUP($B808,Récapitulatif!$J$64:$M$68,2,FALSE)=0,\"\",VLOOKUP($B808,Récapitulatif!$J$64:$M$68,2,FALSE)),\"\")","v":""},0,-6.5,null,2024,"2024-03-15",{"$f":"IFERROR(IF(VLOOKUP($H808,Récapitulatif!$J$14:$M$24,2,FALSE)=0,\"\",VLOOKUP(H808,Récapitulatif!$J$14:$M$24,2,FALSE)),\"\")","v":""},0,6.5]
[2024,"2024-03-16",{"$f":"IFERROR(IF(VLOOKUP($B809,Récapitulatif!$J$64:$M$68,2,FALSE)=0,\"\",VLOOKUP($B809,Récapitulatif!$J$64:$M$68,2,FALSE)),\"\")","v":""},0,-6.5,null,2024,"2024-03-16",{"$f":"IFERROR(IF(VLOOKUP($H809,Récapitulatif!$J$14:$M$24,2,FALSE)=0,\"\",VLOOKUP(H809,Récapitulatif!$J$14:$M$24,2,FALSE)),\"\")","v":""},0,6.5]
[2024,"2024-03-17",{"$f":"IFERROR(IF(VLOOKUP($B810,Récapitulatif!$J$64:$M$68,2,FALSE)=0,\"\",VLOOKUP($B810,Récapitulatif!$J$64:$M$68,2,FALSE)),\"\")","v":""},0,-6.5,null,2024,"2024-03-17",{"$f":"IFERROR(IF(VLOOKUP($H810,Récapitulatif!$J$14:$M$24,2,FALSE)=0,\"\",VLOOKUP(H810,Récapitulatif!$J$14:$M$24,2,FALSE)),\"\")","v":""},0,6.5]
[2024,"2024-03-18",{"$f":"IFERROR(IF(VLOOKUP($B811,Récapitulatif!$J$64:$M$68,2,FALSE)=0,\"\",VLOOKUP($B811,Récapitulatif!$J$64:$M$68,2,FALSE)),\"\")","v":""},0,-6.5,null,2024,"2024-03-18",{"$f":"IFERROR(IF(VLOOKUP($H811,Récapitulatif!$J$14:$M$24,2,FALSE)=0,\"\",VLOOKUP(H811,Récapitulatif!$J$14:$M$24,2,FALSE)),\"\")","v":""},0,6.5]
[2024,"2024-03-19",{"$f":"IFERROR(IF(VLOOKUP($B812,Récapitulatif!$J$64:$M$68,2,FALSE)=0,\"\",VLOOKUP($B812,Récapitulatif!$J$64:$M$68,2,FALSE)),\"\")","v":""},0,-6.5,null,2024,"2024-03-19",{"$f":"IFERROR(IF(VLOOKUP($H812,Récapitulatif!$J$14:$M$24,2,FALSE)=0,\"\",VLOOKUP(H812,Récapitulatif!$J$14:$M$24,2,FALSE)),\"\")","v":""},0,6.5]
[2024,"2024-03-20",{"$f":"IFERROR(IF(VLOOKUP($B813,Récapitulatif!$J$64:$M$68,2,FALSE)=0,\"\",VLOOKUP($B813,Récapitulatif!$J$64:$M$68,2,FALSE)),\"\")","v":""},0,-6.5,null,2024,"2024-03-20",{"$f":"IFERROR(IF(VLOOKUP($H813,Récapitulatif!$J$14:$M$24,2,FALSE)=0,\"\",VLOOKUP(H813,Récapitulatif!$J$14:$M$24,2,FALSE)),\"\")","v":""},0,6.5]
[2024,"2024-03-21",{"$f":"IFERROR(IF(VLOOKUP($B814,Récapitulatif!$J$64:$M$68,2,FALSE)=0,\"\",VLOOKUP($B814,Récapitulatif!$J$64:$M$68,2,FALSE)),\"\")","v":""},0,-6.5,null,2024,"2024-03-21",{"$f":"IFERROR(IF(VLOOKUP($H814,Récapitulatif!$J$14:$M$24,2,FALSE)=0,\"\",VLOOKUP(H814,Récapitulatif!$J$14:$M$24,2,FALSE)),\"\")","v":""},0,6.5]
[2024,"2024-03-22",{"$f":"IFERROR(IF(VLOOKUP($B815,Récapitulatif!$J$64:$M$68,2,FALSE)=0,\"\",VLOOKUP($B815,Récapitulatif!$J$64:$M$68,2,FALSE)),\"\")","v":""},0,-6.5,null,2024,"2024-03-22",{"$f":"IFERROR(IF(VLOOKUP($H815,Récapitulatif!$J$14:$M$24,2,FALSE)=0,\"\",VLOOKUP(H815,Récapitulatif!$J$14:$M$24,2,FALSE)),\"\")","v":""},0,6.5]
[2024,"2024-03-23",{"$f":"IFERROR(IF(VLOOKUP($B816,Récapitulatif!$J$64:$M$68,2,FALSE)=0,\"\",VLOOKUP($B816,Récapitulatif!$J$64:$M$68,2,FALSE)),\"\")","v":""},0,-6.5,null,2024,"2024-03-23",{"$f":"IFERROR(IF(VLOOKUP($H816,Récapitulatif!$J$14:$M$24,2,FALSE)=0,\"\",VLOOKUP(H816,Récapitulatif!$J$14:$M$24,2,FALSE)),\"\")","v":""},0,6.5]
[2024,"2024-03-24",{"$f":"IFERROR(IF(VLOOKUP($B817,Récapitulatif!$J$64:$M$68,2,FALSE)=0,\"\",VLOOKUP($B817,Récapitulatif!$J$64:$M$68,2,FALSE)),\"\")","v":""},0,-6.5,null,2024,"2024-03-24",{"$f":"IFERROR(IF(VLOOKUP($H817,Récapitulatif!$J$14:$M$24,2,FALSE)=0,\"\",VLOOKUP(H817,Récapitulatif!$J$14:$M$24,2,FALSE)),\"\")","v":""},0,6.5]
[2024,"2024-03-25",{"$f":"IFERROR(IF(VLOOKUP($B818,Récapitulatif!$J$64:$M$68,2,FALSE)=0,\"\",VLOOKUP($B818,Récapitulatif!$J$64:$M$68,2,FALSE)),\"\")","v":""},0,-6.5,null,2024,"2024-03-25",{"$f":"IFERROR(IF(VLOOKUP($H818,Récapitulatif!$J$14:$M$24,2,FALSE)=0,\"\",VLOOKUP(H818,Récapitulatif!$J$14:$M$24,2,FALSE)),\"\")","v":""},0,6.5]
[2024,"2024-03-26",{"$f":"IFERROR(IF(VLOOKUP($B819,Récapitulatif!$J$64:$M$68,2,FALSE)=0,\"\",VLOOKUP($B819,Récapitulatif!$J$64:$M$68,2,FALSE)),\"\")","v":""},0,-6.5,null,2024,"2024-03-26",{"$f":"IFERROR(IF(VLOOKUP($H819,Récapitulatif!$J$14:$M$24,2,FALSE)=0,\"\",VLOOKUP(H819,Récapitulatif!$J$14:$M$24,2,FALSE)),\"\")","v":""},0,6.5]
[2024,"2024-03-27",{"$f":"IFERROR(IF(VLOOKUP($B820,Récapitulatif!$J$64:$M$68,2,FALSE)=0,\"\",VLOOKUP($B820,Récapitulatif!$J$64:$M$68,2,FALSE)),\"\")","v":""},0,-6.5,null,2024,"2024-03-27",{"$f":"IFERROR(IF(VLOOKUP($H820,Récapitulatif!$J$14:$M$24,2,FALSE)=0,\"\",VLOOKUP(H820,Récapitulatif!$J$14:$M$24,2,FALSE)),\"\")","v":""},0,6.5]
[2024,"2024-03-28",{"$f":"IFERROR(IF(VLOOKUP($B821,Récapitulatif!$J$64:$M$68,2,FALSE)=0,\"\",VLOOKUP($B821,Récapitulatif!$J$64:$M$68,2,FALSE)),\"\")","v":""},0,-6.5,null,2024,"2024-03-28",{"$f":"IFERROR(IF(VLOOKUP($H821,Récapitulatif!$J$14:$M$24,2,FALSE)=0,\"\",VLOOKUP(H821,Récapitulatif!$J$14:$M$24,2,FALSE)),\"\")","v":""},0,6.5]
[2024,"2024-03-29",{"$f":"IFERROR(IF(VLOOKUP($B822,Récapitulatif!$J$64:$M$68,2,FALSE)=0,\"\",VLOOKUP($B822,Récapitulatif!$J$64:$M$68,2,FALSE)),\"\")","v":""},0,-6.5,null,2024,"2024-03-29",{"$f":"IFERROR(IF(VLOOKUP($H822,Récapitulatif!$J$14:$M$24,2,FALSE)=0,\"\",VLOOKUP(H822,Récapitulatif!$J$14:$M$24,2,FALSE)),\"\")","v":""},0,6.5]
[2024,"2024-03-30",{"$f":"IFERROR(IF(VLOOKUP($B823,Récapitulatif!$J$64:$M$68,2,FALSE)=0,\"\",VLOOKUP($B823,Récapitulatif!$J$64:$M$68,2,FALSE)),\"\")","v":""},0,-6.5,null,2024,"2024-03-30",{"$f":"IFERROR(IF(VLOOKUP($H823,Récapitulatif!$J$14:$M$24,2,FALSE)=0,\"\",VLOOKUP(H823,Récapitulatif!$J$14:$M$24,2,FALSE)),\"\")","v":""},0,6.5]
[2024,"2024-03-31",{"$f":"IFERROR(IF(VLOOKUP($B824,Récapitulatif!$J$64:$M$68,2,FALSE)=0,\"\",VLOOKUP($B824,Récapitulatif!$J$64:$M$68,2,FALSE)),\"\")","v":""},0,-6.5,null,2024,"2024-03-31",{"$f":"IFERROR(IF(VLOOKUP($H824,Récapitulatif!$J$14:$M$24,2,FALSE)=0,\"\",VLOOKUP(H824,Récapitulatif!$J$14:$M$24,2,FALSE)),\"\")","v":""},0,6.5]
[2024,"2024-04-01",{"$f":"IFERROR(IF(VLOOKUP($B825,Récapitulatif!$J$64:$M$68,2,FALSE)=0,\"\",VLOOKUP($B825,Récapitulatif!$J$64:$M$68,2,FALSE)),\"\")","v":""},0,-9.5,null,2024,"2024-04-01",{"$f":"IFERROR(IF(VLOOKUP($H825,Récapitulatif!$J$14:$M$24,2,FALSE)=0,\"\",VLOOKUP(H825,Récapitulatif!$J$14:$M$24,2,FALSE)),\"\")","v":""},0,9.5]
[2024,"2024-04-02",{"$f":"IFERROR(IF(VLOOKUP($B826,Récapitulatif!$J$64:$M$68,2,FALSE)=0,\"\",VLOOKUP($B826,Récapitulatif!$J$64:$M$68,2,FALSE)),\"\")","v":""},0,-9.5,null,2024,"2024-04-02",{"$f":"IFERROR(IF(VLOOKUP($H826,Récapitulatif!$J$14:$M$24,2,FALSE)=0,\"\",VLOOKUP(H826,Récapitulatif!$J$14:$M$24,2,FALSE)),\"\")","v":""},0,9.5]
[2024,"2024-04-03",{"$f":"IFERROR(IF(VLOOKUP($B827,Récapitulatif!$J$64:$M$68,2,FALSE)=0,\"\",VLOOKUP($B827,Récapitulatif!$J$64:$M$68,2,FALSE)),\"\")","v":""},0,-9.5,null,2024,"2024-04-03",{"$f":"IFERROR(IF(VLOOKUP($H827,Récapitulatif!$J$14:$M$24,2,FALSE)=0,\"\",VLOOKUP(H827,Récapitulatif!$J$14:$M$24,2,FALSE)),\"\")","v":""},0,9.5]
[2024,"2024-04-04",{"$f":"IFERROR(IF(VLOOKUP($B828,Récapitulatif!$J$64:$M$68,2,FALSE)=0,\"\",VLOOKUP($B828,Récapitulatif!$J$64:$M$68,2,FALSE)),\"\")","v":""},0,-9.5,null,2024,"2024-04-04",{"$f":"IFERROR(IF(VLOOKUP($H828,Récapitulatif!$J$14:$M$24,2,FALSE)=0,\"\",VLOOKUP(H828,Récapitulatif!$J$14:$M$24,2,FALSE)),\"\")","v":""},0,9.5]
[2024,"2024-04-05",{"$f":"IFERROR(IF(VLOOKUP($B829,Récapitulatif!$J$64:$M$68,2,FALSE)=0,\"\",VLOOKUP($B829,Récapitulatif!$J$64:$M$68,2,FALSE)),\"\")","v":""},0,-9.5,null,2024,"2024-04-05",{"$f":"IFERROR(IF(VLOOKUP($H829,Récapitulatif!$J$14:$M$24,2,FALSE)=0,\"\",VLOOKUP(H829,Récapitulatif!$J$14:$M$24,2,FALSE)),\"\")","v":""},0,9.5]
[2024,"2024-04-06",{"$f":"IFERROR(IF(VLOOKUP($B830,Récapitulatif!$J$64:$M$68,2,FALSE)=0,\"\",VLOOKUP($B830,Récapitulatif!$J$64:$M$68,2,FALSE)),\"\")","v":""},0,-9.5,null,2024,"2024-04-06",{"$f":"IFERROR(IF(VLOOKUP($H830,Récapitulatif!$J$14:$M$24,2,FALSE)=0,\"\",VLOOKUP(H830,Récapitulatif!$J$14:$M$24,2,FALSE)),\"\")","v":""},0,9.5]
[2024,"2024-04-07",{"$f":"IFERROR(IF(VLOOKUP($B831,Récapitulatif!$J$64:$M$68,2,FALSE)=0,\"\",VLOOKUP($B831,Récapitulatif!$J$64:$M$68,2,FALSE)),\"\")","v":""},0,-9.5,null,2024,"2024-04-07",{"$f":"IFERROR(IF(VLOOKUP($H831,Récapitulatif!$J$14:$M$24,2,FALSE)=0,\"\",VLOOKUP(H831,Récapitulatif!$J$14:$M$24,2,FALSE)),\"\")","v":""},0,9.5]
[2024,"2024-04-08",{"$f":"IFERROR(IF(VLOOKUP($B832,Récapitulatif!$J$64:$M$68,2,FALSE)=0,\"\",VLOOKUP($B832,Récapitulatif!$J$64:$M$68,2,FALSE)),\"\")","v":""},0,-9.5,null,2024,"2024-04-08",{"$f":"IFERROR(IF(VLOOKUP($H832,Récapitulatif!$J$14:$M$24,2,FALSE)=0,\"\",VLOOKUP(H832,Récapitulatif!$J$14:$M$24,2,FALSE)),\"\")","v":""},0,9.5]
[2024,"2024-04-09",{"$f":"IFERROR(IF(VLOOKUP($B833,Récapitulatif!$J$64:$M$68,2,FALSE)=0,\"\",VLOOKUP($B833,Récapitulatif!$J$64:$M$68,2,FALSE)),\"\")","v":""},0,-9.5,null,2024,"2024-04-09",{"$f":"IFERROR(IF(VLOOKUP($H833,Récapitulatif!$J$14:$M$24,2,FALSE)=0,\"\",VLOOKUP(H833,Récapitulatif!$J$14:$M$24,2,FALSE)),\"\")","v":""},0,9.5]
[2024,"2024-04-10",{"$f":"IFERROR(IF(VLOOKUP($B834,Récapitulatif!$J$64:$M$68,2,FALSE)=0,\"\",VLOOKUP($B834,Récapitulatif!$J$64:$M$68,2,FALSE)),\"\")","v":""},0,-9.5,null,2024,"2024-04-10",{"$f":"IFERROR(IF(VLOOKUP($H834,Récapitulatif!$J$14:$M$24,2,FALSE)=0,\"\",VLOOKUP(H834,Récapitulatif!$J$14:$M$24,2,FALSE)),\"\")","v":""},0,9.5]
[2024,"2024-04-11",{"$f":"IFERROR(IF(VLOOKUP($B835,Récapitulatif!$J$64:$M$68,2,FALSE)=0,\"\",VLOOKUP($B835,Récapitulatif!$J$64:$M$68,2,FALSE)),\"\")","v":""},0,-9.5,null,2024,"2024-04-11",{"$f":"IFERROR(IF(VLOOKUP($H835,Récapitulatif!$J$14:$M$24,2,FALSE)=0,\"\",VLOOKUP(H835,Récapitulatif!$J$14:$M$24,2,FALSE)),\"\")","v":""},0,9.5]
[2024,"2024-04-12",{"$f":"IFERROR(IF(VLOOKUP($B836,Récapitulatif!$J$64:$M$68,2,FALSE)=0,\"\",VLOOKUP($B836,Récapitulatif!$J$64:$M$68,2,FALSE)),\"\")","v":""},0,-9.5,null,2024,"2024-04-12",{"$f":"IFERROR(IF(VLOOKUP($H836,Récapitulatif!$J$14:$M$24,2,FALSE)=0,\"\",VLOOKUP(H836,Récapitulatif!$J$14:$M$24,2,FALSE)),\"\")","v":""},0,9.5]
[2024,"2024-04-13",{"$f":"IFERROR(IF(VLOOKUP($B837,Récapitulatif!$J$64:$M$68,2,FALSE)=0,\"\",VLOOKUP($B837,Récapitulatif!$J$64:$M$68,2,FALSE)),\"\")","v":""},0,-9.5,null,2024,"2024-04-13",{"$f":"IFERROR(IF(VLOOKUP($H837,Récapitulatif!$J$14:$M$24,2,FALSE)=0,\"\",VLOOKUP(H837,Récapitulatif!$J$14:$M$24,2,FALSE)),\"\")","v":""},0,9.5]
[2024,"2024-04-14",{"$f":"IFERROR(IF(VLOOKUP($B838,Récapitulatif!$J$64:$M$68,2,FALSE)=0,\"\",VLOOKUP($B838,Récapitulatif!$J$64:$M$68,2,FALSE)),\"\")","v":""},{"$f":"IF($C838=\"\",0,$E838)","v":0},-9.5,null,2024,"2024-04-14",{"$f":"IFERROR(IF(VLOOKUP($H838,Récapitulatif!$J$14:$M$24,2,FALSE)=0,\"\",VLOOKUP(H838,Récapitulatif!$J$14:$M$24,2,FALSE)),\"\")","v":""},{"$f":"IF($I838=\"\",0,$K838)","v":0},9.5]
[{"$f":"YEAR(B839)","v":2024},{"$f":"B838+1","v":"2024-04-15"},{"$f":"IFERROR(IF(VLOOKUP($B839,Récapitulatif!$J$64:$M$68,2,FALSE)=0,\"\",VLOOKUP($B839,Récapitulatif!$J$64:$M$68,2,FALSE)),\"\")","v":""},0,-9.5,null,{"$f":"YEAR(H839)","v":2024},{"$f":"H838+1","v":"2024-04-15"},{"$f":"IFERROR(IF(VLOOKUP($H839,Récapitulatif!$J$14:$M$24,2,FALSE)=0,\"\",VLOOKUP(H839,Récapitulatif!$J$14:$M$24,2,FALSE)),\"\")","v":""},0,9.5]
[2024,"2024-04-16",{"$f":"IFERROR(IF(VLOOKUP($B840,Récapitulatif!$J$64:$M$68,2,FALSE)=0,\"\",VLOOKUP($B840,Récapitulatif!$J$64:$M$68,2,FALSE)),\"\")","v":""},0,-9.5,null,2024,"2024-04-16",{"$f":"IFERROR(IF(VLOOKUP($H840,Récapitulatif!$J$14:$M$24,2,FALSE)=0,\"\",VLOOKUP(H840,Récapitulatif!$J$14:$M$24,2,FALSE)),\"\")","v":""},0,9.5]
[2024,"2024-04-17",{"$f":"IFERROR(IF(VLOOKUP($B841,Récapitulatif!$J$64:$M$68,2,FALSE)=0,\"\",VLOOKUP($B841,Récapitulatif!$J$64:$M$68,2,FALSE)),\"\")","v":""},0,-9.5,null,2024,"2024-04-17",{"$f":"IFERROR(IF(VLOOKUP($H841,Récapitulatif!$J$14:$M$24,2,FALSE)=0,\"\",VLOOKUP(H841,Récapitulatif!$J$14:$M$24,2,FALSE)),\"\")","v":""},0,9.5]
[2024,"2024-04-18",{"$f":"IFERROR(IF(VLOOKUP($B842,Récapitulatif!$J$64:$M$68,2,FALSE)=0,\"\",VLOOKUP($B842,Récapitulatif!$J$64:$M$68,2,FALSE)),\"\")","v":""},0,-9.5,null,2024,"2024-04-18",{"$f":"IFERROR(IF(VLOOKUP($H842,Récapitulatif!$J$14:$M$24,2,FALSE)=0,\"\",VLOOKUP(H842,Récapitulatif!$J$14:$M$24,2,FALSE)),\"\")","v":""},0,9.5]
[2024,"2024-04-19",{"$f":"IFERROR(IF(VLOOKUP($B843,Récapitulatif!$J$64:$M$68,2,FALSE)=0,\"\",VLOOKUP($B843,Récapitulatif!$J$64:$M$68,2,FALSE)),\"\")","v":""},0,-9.5,null,2024,"2024-04-19",{"$f":"IFERROR(IF(VLOOKUP($H843,Récapitulatif!$J$14:$M$24,2,FALSE)=0,\"\",VLOOKUP(H843,Récapitulatif!$J$14:$M$24,2,FALSE)),\"\")","v":""},0,9.5]
[2024,"2024-04-20",{"$f":"IFERROR(IF(VLOOKUP($B844,Récapitulatif!$J$64:$M$68,2,FALSE)=0,\"\",VLOOKUP($B844,Récapitulatif!$J$64:$M$68,2,FALSE)),\"\")","v":""},0,-9.5,null,2024,"2024-04-20",{"$f":"IFERROR(IF(VLOOKUP($H844,Récapitulatif!$J$14:$M$24,2,FALSE)=0,\"\",VLOOKUP(H844,Récapitulatif!$J$14:$M$24,2,FALSE)),\"\")","v":""},0,9.5]
[2024,"2024-04-21",{"$f":"IFERROR(IF(VLOOKUP($B845,Récapitulatif!$J$64:$M$68,2,FALSE)=0,\"\",VLOOKUP($B845,Récapitulatif!$J$64:$M$68,2,FALSE)),\"\")","v":""},0,-9.5,null,2024,"2024-04-21",{"$f":"IFERROR(IF(VLOOKUP($H845,Récapitulatif!$J$14:$M$24,2,FALSE)=0,\"\",VLOOKUP(H845,Récapitulatif!$J$14:$M$24,2,FALSE)),\"\")","v":""},0,9.5]
[2024,"2024-04-22",{"$f":"IFERROR(IF(VLOOKUP($B846,Récapitulatif!$J$64:$M$68,2,FALSE)=0,\"\",VLOOKUP($B846,Récapitulatif!$J$64:$M$68,2,FALSE)),\"\")","v":""},0,-9.5,null,2024,"2024-04-22",{"$f":"IFERROR(IF(VLOOKUP($H846,Récapitulatif!$J$14:$M$24,2,FALSE)=0,\"\",VLOOKUP(H846,Récapitulatif!$J$14:$M$24,2,FALSE)),\"\")","v":""},0,9.5]
[2024,"2024-04-23",{"$f":"IFERROR(IF(VLOOKUP($B847,Récapitulatif!$J$64:$M$68,2,FALSE)=0,\"\",VLOOKUP($B847,Récapitulatif!$J$64:$M$68,2,FALSE)),\"\")","v":""},0,-9.5,null,2024,"2024-04-23",{"$f":"IFERROR(IF(VLOOKUP($H847,Récapitulatif!$J$14:$M$24,2,FALSE)=0,\"\",VLOOKUP(H847,Récapitulatif!$J$14:$M$24,2,FALSE)),\"\")","v":""},0,9.5]
[2024,"2024-04-24",{"$f":"IFERROR(IF(VLOOKUP($B848,Récapitulatif!$J$64:$M$68,2,FALSE)=0,\"\",VLOOKUP($B848,Récapitulatif!$J$64:$M$68,2,FALSE)),\"\")","v":""},0,-9.5,null,2024,"2024-04-24",{"$f":"IFERROR(IF(VLOOKUP($H848,Récapitulatif!$J$14:$M$24,2,FALSE)=0,\"\",VLOOKUP(H848,Récapitulatif!$J$14:$M$24,2,FALSE)),\"\")","v":""},0,9.5]
[2024,"2024-04-25",{"$f":"IFERROR(IF(VLOOKUP($B849,Récapitulatif!$J$64:$M$68,2,FALSE)=0,\"\",VLOOKUP($B849,Récapitulatif!$J$64:$M$68,2,FALSE)),\"\")","v":""},0,-9.5,null,2024,"2024-04-25",{"$f":"IFERROR(IF(VLOOKUP($H849,Récapitulatif!$J$14:$M$24,2,FALSE)=0,\"\",VLOOKUP(H849,Récapitulatif!$J$14:$M$24,2,FALSE)),\"\")","v":""},0,9.5]
[2024,"2024-04-26",{"$f":"IFERROR(IF(VLOOKUP($B850,Récapitulatif!$J$64:$M$68,2,FALSE)=0,\"\",VLOOKUP($B850,Récapitulatif!$J$64:$M$68,2,FALSE)),\"\")","v":""},0,-9.5,null,2024,"2024-04-26",{"$f":"IFERROR(IF(VLOOKUP($H850,Récapitulatif!$J$14:$M$24,2,FALSE)=0,\"\",VLOOKUP(H850,Récapitulatif!$J$14:$M$24,2,FALSE)),\"\")","v":""},0,9.5]
[2024,"2024-04-27",{"$f":"IFERROR(IF(VLOOKUP($B851,Récapitulatif!$J$64:$M$68,2,FALSE)=0,\"\",VLOOKUP($B851,Récapitulatif!$J$64:$M$68,2,FALSE)),\"\")","v":""},0,-9.5,null,2024,"2024-04-27",{"$f":"IFERROR(IF(VLOOKUP($H851,Récapitulatif!$J$14:$M$24,2,FALSE)=0,\"\",VLOOKUP(H851,Récapitulatif!$J$14:$M$24,2,FALSE)),\"\")","v":""},0,9.5]
[2024,"2024-04-28",{"$f":"IFERROR(IF(VLOOKUP($B852,Récapitulatif!$J$64:$M$68,2,FALSE)=0,\"\",VLOOKUP($B852,Récapitulatif!$J$64:$M$68,2,FALSE)),\"\")","v":""},0,-9.5,null,2024,"2024-04-28",{"$f":"IFERROR(IF(VLOOKUP($H852,Récapitulatif!$J$14:$M$24,2,FALSE)=0,\"\",VLOOKUP(H852,Récapitulatif!$J$14:$M$24,2,FALSE)),\"\")","v":""},0,9.5]
[2024,"2024-04-29",{"$f":"IFERROR(IF(VLOOKUP($B853,Récapitulatif!$J$64:$M$68,2,FALSE)=0,\"\",VLOOKUP($B853,Récapitulatif!$J$64:$M$68,2,FALSE)),\"\")","v":""},0,-9.5,null,2024,"2024-04-29",{"$f":"IFERROR(IF(VLOOKUP($H853,Récapitulatif!$J$14:$M$24,2,FALSE)=0,\"\",VLOOKUP(H853,Récapitulatif!$J$14:$M$24,2,FALSE)),\"\")","v":""},0,9.5]
[2024,"2024-04-30",{"$f":"IFERROR(IF(VLOOKUP($B854,Récapitulatif!$J$64:$M$68,2,FALSE)=0,\"\",VLOOKUP($B854,Récapitulatif!$J$64:$M$68,2,FALSE)),\"\")","v":""},0,-9.5,null,2024,"2024-04-30",{"$f":"IFERROR(IF(VLOOKUP($H854,Récapitulatif!$J$14:$M$24,2,FALSE)=0,\"\",VLOOKUP(H854,Récapitulatif!$J$14:$M$24,2,FALSE)),\"\")","v":""},0,9.5]
[2024,"2024-05-01",{"$f":"IFERROR(IF(VLOOKUP($B855,Récapitulatif!$J$64:$M$68,2,FALSE)=0,\"\",VLOOKUP($B855,Récapitulatif!$J$64:$M$68,2,FALSE)),\"\")","v":""},0,-11.5,null,2024,"2024-05-01",{"$f":"IFERROR(IF(VLOOKUP($H855,Récapitulatif!$J$14:$M$24,2,FALSE)=0,\"\",VLOOKUP(H855,Récapitulatif!$J$14:$M$24,2,FALSE)),\"\")","v":""},0,11.5]
[2024,"2024-05-02",{"$f":"IFERROR(IF(VLOOKUP($B856,Récapitulatif!$J$64:$M$68,2,FALSE)=0,\"\",VLOOKUP($B856,Récapitulatif!$J$64:$M$68,2,FALSE)),\"\")","v":""},0,-11.5,null,2024,"2024-05-02",{"$f":"IFERROR(IF(VLOOKUP($H856,Récapitulatif!$J$14:$M$24,2,FALSE)=0,\"\",VLOOKUP(H856,Récapitulatif!$J$14:$M$24,2,FALSE)),\"\")","v":""},0,11.5]
[2024,"2024-05-03",{"$f":"IFERROR(IF(VLOOKUP($B857,Récapitulatif!$J$64:$M$68,2,FALSE)=0,\"\",VLOOKUP($B857,Récapitulatif!$J$64:$M$68,2,FALSE)),\"\")","v":""},0,-11.5,null,2024,"2024-05-03",{"$f":"IFERROR(IF(VLOOKUP($H857,Récapitulatif!$J$14:$M$24,2,FALSE)=0,\"\",VLOOKUP(H857,Récapitulatif!$J$14:$M$24,2,FALSE)),\"\")","v":""},0,11.5]
[2024,"2024-05-04",{"$f":"IFERROR(IF(VLOOKUP($B858,Récapitulatif!$J$64:$M$68,2,FALSE)=0,\"\",VLOOKUP($B858,Récapitulatif!$J$64:$M$68,2,FALSE)),\"\")","v":""},0,-11.5,null,2024,"2024-05-04",{"$f":"IFERROR(IF(VLOOKUP($H858,Récapitulatif!$J$14:$M$24,2,FALSE)=0,\"\",VLOOKUP(H858,Récapitulatif!$J$14:$M$24,2,FALSE)),\"\")","v":""},0,11.5]
[2024,"2024-05-05",{"$f":"IFERROR(IF(VLOOKUP($B859,Récapitulatif!$J$64:$M$68,2,FALSE)=0,\"\",VLOOKUP($B859,Récapitulatif!$J$64:$M$68,2,FALSE)),\"\")","v":""},0,-11.5,null,2024,"2024-05-05",{"$f":"IFERROR(IF(VLOOKUP($H859,Récapitulatif!$J$14:$M$24,2,FALSE)=0,\"\",VLOOKUP(H859,Récapitulatif!$J$14:$M$24,2,FALSE)),\"\")","v":""},0,11.5]
[2024,"2024-05-06",{"$f":"IFERROR(IF(VLOOKUP($B860,Récapitulatif!$J$64:$M$68,2,FALSE)=0,\"\",VLOOKUP($B860,Récapitulatif!$J$64:$M$68,2,FALSE)),\"\")","v":""},0,-11.5,null,2024,"2024-05-06",{"$f":"IFERROR(IF(VLOOKUP($H860,Récapitulatif!$J$14:$M$24,2,FALSE)=0,\"\",VLOOKUP(H860,Récapitulatif!$J$14:$M$24,2,FALSE)),\"\")","v":""},0,11.5]
[2024,"2024-05-07",{"$f":"IFERROR(IF(VLOOKUP($B861,Récapitulatif!$J$64:$M$68,2,FALSE)=0,\"\",VLOOKUP($B861,Récapitulatif!$J$64:$M$68,2,FALSE)),\"\")","v":""},0,-11.5,null,2024,"2024-05-07",{"$f":"IFERROR(IF(VLOOKUP($H861,Récapitulatif!$J$14:$M$24,2,FALSE)=0,\"\",VLOOKUP(H861,Récapitulatif!$J$14:$M$24,2,FALSE)),\"\")","v":""},0,11.5]
[2024,"2024-05-08",{"$f":"IFERROR(IF(VLOOKUP($B862,Récapitulatif!$J$64:$M$68,2,FALSE)=0,\"\",VLOOKUP($B862,Récapitulatif!$J$64:$M$68,2,FALSE)),\"\")","v":""},0,-11.5,null,2024,"2024-05-08",{"$f":"IFERROR(IF(VLOOKUP($H862,Récapitulatif!$J$14:$M$24,2,FALSE)=0,\"\",VLOOKUP(H862,Récapitulatif!$J$14:$M$24,2,FALSE)),\"\")","v":""},0,11.5]
[2024,"2024-05-09",{"$f":"IFERROR(IF(VLOOKUP($B863,Récapitulatif!$J$64:$M$68,2,FALSE)=0,\"\",VLOOKUP($B863,Récapitulatif!$J$64:$M$68,2,FALSE)),\"\")","v":""},0,-11.5,null,2024,"2024-05-09",{"$f":"IFERROR(IF(VLOOKUP($H863,Récapitulatif!$J$14:$M$24,2,FALSE)=0,\"\",VLOOKUP(H863,Récapitulatif!$J$14:$M$24,2,FALSE)),\"\")","v":""},0,11.5]
[2024,"2024-05-10",{"$f":"IFERROR(IF(VLOOKUP($B864,Récapitulatif!$J$64:$M$68,2,FALSE)=0,\"\",VLOOKUP($B864,Récapitulatif!$J$64:$M$68,2,FALSE)),\"\")","v":""},0,-11.5,null,2024,"2024-05-10",{"$f":"IFERROR(IF(VLOOKUP($H864,Récapitulatif!$J$14:$M$24,2,FALSE)=0,\"\",VLOOKUP(H864,Récapitulatif!$J$14:$M$24,2,FALSE)),\"\")","v":""},0,11.5]
[2024,"2024-05-11",{"$f":"IFERROR(IF(VLOOKUP($B865,Récapitulatif!$J$64:$M$68,2,FALSE)=0,\"\",VLOOKUP($B865,Récapitulatif!$J$64:$M$68,2,FALSE)),\"\")","v":""},0,-11.5,null,2024,"2024-05-11",{"$f":"IFERROR(IF(VLOOKUP($H865,Récapitulatif!$J$14:$M$24,2,FALSE)=0,\"\",VLOOKUP(H865,Récapitulatif!$J$14:$M$24,2,FALSE)),\"\")","v":""},0,11.5]
[2024,"2024-05-12",{"$f":"IFERROR(IF(VLOOKUP($B866,Récapitulatif!$J$64:$M$68,2,FALSE)=0,\"\",VLOOKUP($B866,Récapitulatif!$J$64:$M$68,2,FALSE)),\"\")","v":""},0,-11.5,null,2024,"2024-05-12",{"$f":"IFERROR(IF(VLOOKUP($H866,Récapitulatif!$J$14:$M$24,2,FALSE)=0,\"\",VLOOKUP(H866,Récapitulatif!$J$14:$M$24,2,FALSE)),\"\")","v":""},0,11.5]
[2024,"2024-05-13",{"$f":"IFERROR(IF(VLOOKUP($B867,Récapitulatif!$J$64:$M$68,2,FALSE)=0,\"\",VLOOKUP($B867,Récapitulatif!$J$64:$M$68,2,FALSE)),\"\")","v":""},0,-11.5,null,2024,"2024-05-13",{"$f":"IFERROR(IF(VLOOKUP($H867,Récapitulatif!$J$14:$M$24,2,FALSE)=0,\"\",VLOOKUP(H867,Récapitulatif!$J$14:$M$24,2,FALSE)),\"\")","v":""},0,11.5]
[2024,"2024-05-14",{"$f":"IFERROR(IF(VLOOKUP($B868,Récapitulatif!$J$64:$M$68,2,FALSE)=0,\"\",VLOOKUP($B868,Récapitulatif!$J$64:$M$68,2,FALSE)),\"\")","v":""},0,-11.5,null,2024,"2024-05-14",{"$f":"IFERROR(IF(VLOOKUP($H868,Récapitulatif!$J$14:$M$24,2,FALSE)=0,\"\",VLOOKUP(H868,Récapitulatif!$J$14:$M$24,2,FALSE)),\"\")","v":""},0,11.5]
[2024,"2024-05-15",{"$f":"IFERROR(IF(VLOOKUP($B869,Récapitulatif!$J$64:$M$68,2,FALSE)=0,\"\",VLOOKUP($B869,Récapitulatif!$J$64:$M$68,2,FALSE)),\"\")","v":""},0,-11.5,null,2024,"2024-05-15",{"$f":"IFERROR(IF(VLOOKUP($H869,Récapitulatif!$J$14:$M$24,2,FALSE)=0,\"\",VLOOKUP(H869,Récapitulatif!$J$14:$M$24,2,FALSE)),\"\")","v":""},0,11.5]
[2024,"2024-05-16",{"$f":"IFERROR(IF(VLOOKUP($B870,Récapitulatif!$J$64:$M$68,2,FALSE)=0,\"\",VLOOKUP($B870,Récapitulatif!$J$64:$M$68,2,FALSE)),\"\")","v":""},0,-11.5,null,2024,"2024-05-16",{"$f":"IFERROR(IF(VLOOKUP($H870,Récapitulatif!$J$14:$M$24,2,FALSE)=0,\"\",VLOOKUP(H870,Récapitulatif!$J$14:$M$24,2,FALSE)),\"\")","v":""},0,11.5]
[2024,"2024-05-17",{"$f":"IFERROR(IF(VLOOKUP($B871,Récapitulatif!$J$64:$M$68,2,FALSE)=0,\"\",VLOOKUP($B871,Récapitulatif!$J$64:$M$68,2,FALSE)),\"\")","v":""},0,-11.5,null,2024,"2024-05-17",{"$f":"IFERROR(IF(VLOOKUP($H871,Récapitulatif!$J$14:$M$24,2,FALSE)=0,\"\",VLOOKUP(H871,Récapitulatif!$J$14:$M$24,2,FALSE)),\"\")","v":""},0,11.5]
[2024,"2024-05-18",{"$f":"IFERROR(IF(VLOOKUP($B872,Récapitulatif!$J$64:$M$68,2,FALSE)=0,\"\",VLOOKUP($B872,Récapitulatif!$J$64:$M$68,2,FALSE)),\"\")","v":""},0,-11.5,null,2024,"2024-05-18",{"$f":"IFERROR(IF(VLOOKUP($H872,Récapitulatif!$J$14:$M$24,2,FALSE)=0,\"\",VLOOKUP(H872,Récapitulatif!$J$14:$M$24,2,FALSE)),\"\")","v":""},0,11.5]
[2024,"2024-05-19",{"$f":"IFERROR(IF(VLOOKUP($B873,Récapitulatif!$J$64:$M$68,2,FALSE)=0,\"\",VLOOKUP($B873,Récapitulatif!$J$64:$M$68,2,FALSE)),\"\")","v":""},0,-11.5,null,2024,"2024-05-19",{"$f":"IFERROR(IF(VLOOKUP($H873,Récapitulatif!$J$14:$M$24,2,FALSE)=0,\"\",VLOOKUP(H873,Récapitulatif!$J$14:$M$24,2,FALSE)),\"\")","v":""},0,11.5]
[2024,"2024-05-20",{"$f":"IFERROR(IF(VLOOKUP($B874,Récapitulatif!$J$64:$M$68,2,FALSE)=0,\"\",VLOOKUP($B874,Récapitulatif!$J$64:$M$68,2,FALSE)),\"\")","v":""},0,-11.5,null,2024,"2024-05-20",{"$f":"IFERROR(IF(VLOOKUP($H874,Récapitulatif!$J$14:$M$24,2,FALSE)=0,\"\",VLOOKUP(H874,Récapitulatif!$J$14:$M$24,2,FALSE)),\"\")","v":""},0,11.5]
[2024,"2024-05-21",{"$f":"IFERROR(IF(VLOOKUP($B875,Récapitulatif!$J$64:$M$68,2,FALSE)=0,\"\",VLOOKUP($B875,Récapitulatif!$J$64:$M$68,2,FALSE)),\"\")","v":""},0,-11.5,null,2024,"2024-05-21",{"$f":"IFERROR(IF(VLOOKUP($H875,Récapitulatif!$J$14:$M$24,2,FALSE)=0,\"\",VLOOKUP(H875,Récapitulatif!$J$14:$M$24,2,FALSE)),\"\")","v":""},0,11.5]
[2024,"2024-05-22",{"$f":"IFERROR(IF(VLOOKUP($B876,Récapitulatif!$J$64:$M$68,2,FALSE)=0,\"\",VLOOKUP($B876,Récapitulatif!$J$64:$M$68,2,FALSE)),\"\")","v":""},0,-11.5,null,2024,"2024-05-22",{"$f":"IFERROR(IF(VLOOKUP($H876,Récapitulatif!$J$14:$M$24,2,FALSE)=0,\"\",VLOOKUP(H876,Récapitulatif!$J$14:$M$24,2,FALSE)),\"\")","v":""},0,11.5]
[2024,"2024-05-23",{"$f":"IFERROR(IF(VLOOKUP($B877,Récapitulatif!$J$64:$M$68,2,FALSE)=0,\"\",VLOOKUP($B877,Récapitulatif!$J$64:$M$68,2,FALSE)),\"\")","v":""},0,-11.5,null,2024,"2024-05-23",{"$f":"IFERROR(IF(VLOOKUP($H877,Récapitulatif!$J$14:$M$24,2,FALSE)=0,\"\",VLOOKUP(H877,Récapitulatif!$J$14:$M$24,2,FALSE)),\"\")","v":""},0,11.5]
[2024,"2024-05-24",{"$f":"IFERROR(IF(VLOOKUP($B878,Récapitulatif!$J$64:$M$68,2,FALSE)=0,\"\",VLOOKUP($B878,Récapitulatif!$J$64:$M$68,2,FALSE)),\"\")","v":""},0,-11.5,null,2024,"2024-05-24",{"$f":"IFERROR(IF(VLOOKUP($H878,Récapitulatif!$J$14:$M$24,2,FALSE)=0,\"\",VLOOKUP(H878,Récapitulatif!$J$14:$M$24,2,FALSE)),\"\")","v":""},0,11.5]
[2024,"2024-05-25",{"$f":"IFERROR(IF(VLOOKUP($B879,Récapitulatif!$J$64:$M$68,2,FALSE)=0,\"\",VLOOKUP($B879,Récapitulatif!$J$64:$M$68,2,FALSE)),\"\")","v":""},0,-11.5,null,2024,"2024-05-25",{"$f":"IFERROR(IF(VLOOKUP($H879,Récapitulatif!$J$14:$M$24,2,FALSE)=0,\"\",VLOOKUP(H879,Récapitulatif!$J$14:$M$24,2,FALSE)),\"\")","v":""},0,11.5]
[2024,"2024-05-26",{"$f":"IFERROR(IF(VLOOKUP($B880,Récapitulatif!$J$64:$M$68,2,FALSE)=0,\"\",VLOOKUP($B880,Récapitulatif!$J$64:$M$68,2,FALSE)),\"\")","v":""},0,-11.5,null,2024,"2024-05-26",{"$f":"IFERROR(IF(VLOOKUP($H880,Récapitulatif!$J$14:$M$24,2,FALSE)=0,\"\",VLOOKUP(H880,Récapitulatif!$J$14:$M$24,2,FALSE)),\"\")","v":""},0,11.5]
[2024,"2024-05-27",{"$f":"IFERROR(IF(VLOOKUP($B881,Récapitulatif!$J$64:$M$68,2,FALSE)=0,\"\",VLOOKUP($B881,Récapitulatif!$J$64:$M$68,2,FALSE)),\"\")","v":""},0,-11.5,null,2024,"2024-05-27",{"$f":"IFERROR(IF(VLOOKUP($H881,Récapitulatif!$J$14:$M$24,2,FALSE)=0,\"\",VLOOKUP(H881,Récapitulatif!$J$14:$M$24,2,FALSE)),\"\")","v":""},0,11.5]
[2024,"2024-05-28",{"$f":"IFERROR(IF(VLOOKUP($B882,Récapitulatif!$J$64:$M$68,2,FALSE)=0,\"\",VLOOKUP($B882,Récapitulatif!$J$64:$M$68,2,FALSE)),\"\")","v":""},0,-11.5,null,2024,"2024-05-28",{"$f":"IFERROR(IF(VLOOKUP($H882,Récapitulatif!$J$14:$M$24,2,FALSE)=0,\"\",VLOOKUP(H882,Récapitulatif!$J$14:$M$24,2,FALSE)),\"\")","v":""},0,11.5]
[2024,"2024-05-29",{"$f":"IFERROR(IF(VLOOKUP($B883,Récapitulatif!$J$64:$M$68,2,FALSE)=0,\"\",VLOOKUP($B883,Récapitulatif!$J$64:$M$68,2,FALSE)),\"\")","v":""},0,-11.5,null,2024,"2024-05-29",{"$f":"IFERROR(IF(VLOOKUP($H883,Récapitulatif!$J$14:$M$24,2,FALSE)=0,\"\",VLOOKUP(H883,Récapitulatif!$J$14:$M$24,2,FALSE)),\"\")","v":""},0,11.5]
[2024,"2024-05-30",{"$f":"IFERROR(IF(VLOOKUP($B884,Récapitulatif!$J$64:$M$68,2,FALSE)=0,\"\",VLOOKUP($B884,Récapitulatif!$J$64:$M$68,2,FALSE)),\"\")","v":""},0,-11.5,null,2024,"2024-05-30",{"$f":"IFERROR(IF(VLOOKUP($H884,Récapitulatif!$J$14:$M$24,2,FALSE)=0,\"\",VLOOKUP(H884,Récapitulatif!$J$14:$M$24,2,FALSE)),\"\")","v":""},0,11.5]
[2024,"2024-05-31",{"$f":"IFERROR(IF(VLOOKUP($B885,Récapitulatif!$J$64:$M$68,2,FALSE)=0,\"\",VLOOKUP($B885,Récapitulatif!$J$64:$M$68,2,FALSE)),\"\")","v":""},0,-11.5,null,2024,"2024-05-31",{"$f":"IFERROR(IF(VLOOKUP($H885,Récapitulatif!$J$14:$M$24,2,FALSE)=0,\"\",VLOOKUP(H885,Récapitulatif!$J$14:$M$24,2,FALSE)),\"\")","v":""},0,11.5]
[2024,"2024-06-01",{"$f":"IFERROR(IF(VLOOKUP($B886,Récapitulatif!$J$64:$M$68,2,FALSE)=0,\"\",VLOOKUP($B886,Récapitulatif!$J$64:$M$68,2,FALSE)),\"\")","v":""},0,-4.5,null,2024,"2024-06-01",{"$f":"IFERROR(IF(VLOOKUP($H886,Récapitulatif!$J$14:$M$24,2,FALSE)=0,\"\",VLOOKUP(H886,Récapitulatif!$J$14:$M$24,2,FALSE)),\"\")","v":""},0,4.5]
[2024,"2024-06-02",{"$f":"IFERROR(IF(VLOOKUP($B887,Récapitulatif!$J$64:$M$68,2,FALSE)=0,\"\",VLOOKUP($B887,Récapitulatif!$J$64:$M$68,2,FALSE)),\"\")","v":""},0,-4.5,null,2024,"2024-06-02",{"$f":"IFERROR(IF(VLOOKUP($H887,Récapitulatif!$J$14:$M$24,2,FALSE)=0,\"\",VLOOKUP(H887,Récapitulatif!$J$14:$M$24,2,FALSE)),\"\")","v":""},0,4.5]
[2024,"2024-06-03",{"$f":"IFERROR(IF(VLOOKUP($B888,Récapitulatif!$J$64:$M$68,2,FALSE)=0,\"\",VLOOKUP($B888,Récapitulatif!$J$64:$M$68,2,FALSE)),\"\")","v":""},0,-4.5,null,2024,"2024-06-03",{"$f":"IFERROR(IF(VLOOKUP($H888,Récapitulatif!$J$14:$M$24,2,FALSE)=0,\"\",VLOOKUP(H888,Récapitulatif!$J$14:$M$24,2,FALSE)),\"\")","v":""},0,4.5]
[2024,"2024-06-04",{"$f":"IFERROR(IF(VLOOKUP($B889,Récapitulatif!$J$64:$M$68,2,FALSE)=0,\"\",VLOOKUP($B889,Récapitulatif!$J$64:$M$68,2,FALSE)),\"\")","v":""},0,-4.5,null,2024,"2024-06-04",{"$f":"IFERROR(IF(VLOOKUP($H889,Récapitulatif!$J$14:$M$24,2,FALSE)=0,\"\",VLOOKUP(H889,Récapitulatif!$J$14:$M$24,2,FALSE)),\"\")","v":""},0,4.5]
[2024,"2024-06-05",{"$f":"IFERROR(IF(VLOOKUP($B890,Récapitulatif!$J$64:$M$68,2,FALSE)=0,\"\",VLOOKUP($B890,Récapitulatif!$J$64:$M$68,2,FALSE)),\"\")","v":""},0,-4.5,null,2024,"2024-06-05",{"$f":"IFERROR(IF(VLOOKUP($H890,Récapitulatif!$J$14:$M$24,2,FALSE)=0,\"\",VLOOKUP(H890,Récapitulatif!$J$14:$M$24,2,FALSE)),\"\")","v":""},0,4.5]
[2024,"2024-06-06",{"$f":"IFERROR(IF(VLOOKUP($B891,Récapitulatif!$J$64:$M$68,2,FALSE)=0,\"\",VLOOKUP($B891,Récapitulatif!$J$64:$M$68,2,FALSE)),\"\")","v":""},0,-4.5,null,2024,"2024-06-06",{"$f":"IFERROR(IF(VLOOKUP($H891,Récapitulatif!$J$14:$M$24,2,FALSE)=0,\"\",VLOOKUP(H891,Récapitulatif!$J$14:$M$24,2,FALSE)),\"\")","v":""},0,4.5]
[2024,"2024-06-07",{"$f":"IFERROR(IF(VLOOKUP($B892,Récapitulatif!$J$64:$M$68,2,FALSE)=0,\"\",VLOOKUP($B892,Récapitulatif!$J$64:$M$68,2,FALSE)),\"\")","v":""},0,-4.5,null,2024,"2024-06-07",{"$f":"IFERROR(IF(VLOOKUP($H892,Récapitulatif!$J$14:$M$24,2,FALSE)=0,\"\",VLOOKUP(H892,Récapitulatif!$J$14:$M$24,2,FALSE)),\"\")","v":""},0,4.5]
[2024,"2024-06-08",{"$f":"IFERROR(IF(VLOOKUP($B893,Récapitulatif!$J$64:$M$68,2,FALSE)=0,\"\",VLOOKUP($B893,Récapitulatif!$J$64:$M$68,2,FALSE)),\"\")","v":""},0,-4.5,null,2024,"2024-06-08",{"$f":"IFERROR(IF(VLOOKUP($H893,Récapitulatif!$J$14:$M$24,2,FALSE)=0,\"\",VLOOKUP(H893,Récapitulatif!$J$14:$M$24,2,FALSE)),\"\")","v":""},0,4.5]
[2024,"2024-06-09",{"$f":"IFERROR(IF(VLOOKUP($B894,Récapitulatif!$J$64:$M$68,2,FALSE)=0,\"\",VLOOKUP($B894,Récapitulatif!$J$64:$M$68,2,FALSE)),\"\")","v":""},0,-4.5,null,2024,"2024-06-09",{"$f":"IFERROR(IF(VLOOKUP($H894,Récapitulatif!$J$14:$M$24,2,FALSE)=0,\"\",VLOOKUP(H894,Récapitulatif!$J$14:$M$24,2,FALSE)),\"\")","v":""},0,4.5]
[2024,"2024-06-10",{"$f":"IFERROR(IF(VLOOKUP($B895,Récapitulatif!$J$64:$M$68,2,FALSE)=0,\"\",VLOOKUP($B895,Récapitulatif!$J$64:$M$68,2,FALSE)),\"\")","v":""},0,-4.5,null,2024,"2024-06-10",{"$f":"IFERROR(IF(VLOOKUP($H895,Récapitulatif!$J$14:$M$24,2,FALSE)=0,\"\",VLOOKUP(H895,Récapitulatif!$J$14:$M$24,2,FALSE)),\"\")","v":""},0,4.5]
[2024,"2024-06-11",{"$f":"IFERROR(IF(VLOOKUP($B896,Récapitulatif!$J$64:$M$68,2,FALSE)=0,\"\",VLOOKUP($B896,Récapitulatif!$J$64:$M$68,2,FALSE)),\"\")","v":""},0,-4.5,null,2024,"2024-06-11",{"$f":"IFERROR(IF(VLOOKUP($H896,Récapitulatif!$J$14:$M$24,2,FALSE)=0,\"\",VLOOKUP(H896,Récapitulatif!$J$14:$M$24,2,FALSE)),\"\")","v":""},0,4.5]
[2024,"2024-06-12",{"$f":"IFERROR(IF(VLOOKUP($B897,Récapitulatif!$J$64:$M$68,2,FALSE)=0,\"\",VLOOKUP($B897,Récapitulatif!$J$64:$M$68,2,FALSE)),\"\")","v":""},0,-4.5,null,2024,"2024-06-12",{"$f":"IFERROR(IF(VLOOKUP($H897,Récapitulatif!$J$14:$M$24,2,FALSE)=0,\"\",VLOOKUP(H897,Récapitulatif!$J$14:$M$24,2,FALSE)),\"\")","v":""},0,4.5]
[2024,"2024-06-13",{"$f":"IFERROR(IF(VLOOKUP($B898,Récapitulatif!$J$64:$M$68,2,FALSE)=0,\"\",VLOOKUP($B898,Récapitulatif!$J$64:$M$68,2,FALSE)),\"\")","v":""},0,-4.5,null,2024,"2024-06-13",{"$f":"IFERROR(IF(VLOOKUP($H898,Récapitulatif!$J$14:$M$24,2,FALSE)=0,\"\",VLOOKUP(H898,Récapitulatif!$J$14:$M$24,2,FALSE)),\"\")","v":""},0,4.5]
[2024,"2024-06-14",{"$f":"IFERROR(IF(VLOOKUP($B899,Récapitulatif!$J$64:$M$68,2,FALSE)=0,\"\",VLOOKUP($B899,Récapitulatif!$J$64:$M$68,2,FALSE)),\"\")","v":""},0,-4.5,null,2024,"2024-06-14",{"$f":"IFERROR(IF(VLOOKUP($H899,Récapitulatif!$J$14:$M$24,2,FALSE)=0,\"\",VLOOKUP(H899,Récapitulatif!$J$14:$M$24,2,FALSE)),\"\")","v":""},0,4.5]
[2024,"2024-06-15",{"$f":"IFERROR(IF(VLOOKUP($B900,Récapitulatif!$J$64:$M$68,2,FALSE)=0,\"\",VLOOKUP($B900,Récapitulatif!$J$64:$M$68,2,FALSE)),\"\")","v":""},0,-4.5,null,2024,"2024-06-15",{"$f":"IFERROR(IF(VLOOKUP($H900,Récapitulatif!$J$14:$M$24,2,FALSE)=0,\"\",VLOOKUP(H900,Récapitulatif!$J$14:$M$24,2,FALSE)),\"\")","v":""},0,4.5]
[2024,"2024-06-16",{"$f":"IFERROR(IF(VLOOKUP($B901,Récapitulatif!$J$64:$M$68,2,FALSE)=0,\"\",VLOOKUP($B901,Récapitulatif!$J$64:$M$68,2,FALSE)),\"\")","v":""},0,-4.5,null,2024,"2024-06-16",{"$f":"IFERROR(IF(VLOOKUP($H901,Récapitulatif!$J$14:$M$24,2,FALSE)=0,\"\",VLOOKUP(H901,Récapitulatif!$J$14:$M$24,2,FALSE)),\"\")","v":""},0,4.5]
[2024,"2024-06-17",{"$f":"IFERROR(IF(VLOOKUP($B902,Récapitulatif!$J$64:$M$68,2,FALSE)=0,\"\",VLOOKUP($B902,Récapitulatif!$J$64:$M$68,2,FALSE)),\"\")","v":""},{"$f":"IF($C902=\"\",0,$E902)","v":0},-4.5,null,2024,"2024-06-17",{"$f":"IFERROR(IF(VLOOKUP($H902,Récapitulatif!$J$14:$M$24,2,FALSE)=0,\"\",VLOOKUP(H902,Récapitulatif!$J$14:$M$24,2,FALSE)),\"\")","v":""},{"$f":"IF($I902=\"\",0,$K902)","v":0},4.5]
[{"$f":"YEAR(B903)","v":2024},{"$f":"B902+1","v":"2024-06-18"},{"$f":"IFERROR(IF(VLOOKUP($B903,Récapitulatif!$J$64:$M$68,2,FALSE)=0,\"\",VLOOKUP($B903,Récapitulatif!$J$64:$M$68,2,FALSE)),\"\")","v":""},0,-4.5,null,{"$f":"YEAR(H903)","v":2024},{"$f":"H902+1","v":"2024-06-18"},{"$f":"IFERROR(IF(VLOOKUP($H903,Récapitulatif!$J$14:$M$24,2,FALSE)=0,\"\",VLOOKUP(H903,Récapitulatif!$J$14:$M$24,2,FALSE)),\"\")","v":""},0,4.5]
[2024,"2024-06-19",{"$f":"IFERROR(IF(VLOOKUP($B904,Récapitulatif!$J$64:$M$68,2,FALSE)=0,\"\",VLOOKUP($B904,Récapitulatif!$J$64:$M$68,2,FALSE)),\"\")","v":""},0,-4.5,null,2024,"2024-06-19",{"$f":"IFERROR(IF(VLOOKUP($H904,Récapitulatif!$J$14:$M$24,2,FALSE)=0,\"\",VLOOKUP(H904,Récapitulatif!$J$14:$M$24,2,FALSE)),\"\")","v":""},0,4.5]
[2024,"2024-06-20",{"$f":"IFERROR(IF(VLOOKUP($B905,Récapitulatif!$J$64:$M$68,2,FALSE)=0,\"\",VLOOKUP($B905,Récapitulatif!$J$64:$M$68,2,FALSE)),\"\")","v":""},0,-4.5,null,2024,"2024-06-20",{"$f":"IFERROR(IF(VLOOKUP($H905,Récapitulatif!$J$14:$M$24,2,FALSE)=0,\"\",VLOOKUP(H905,Récapitulatif!$J$14:$M$24,2,FALSE)),\"\")","v":""},0,4.5]
[2024,"2024-06-21",{"$f":"IFERROR(IF(VLOOKUP($B906,Récapitulatif!$J$64:$M$68,2,FALSE)=0,\"\",VLOOKUP($B906,Récapitulatif!$J$64:$M$68,2,FALSE)),\"\")","v":""},0,-4.5,null,2024,"2024-06-21",{"$f":"IFERROR(IF(VLOOKUP($H906,Récapitulatif!$J$14:$M$24,2,FALSE)=0,\"\",VLOOKUP(H906,Récapitulatif!$J$14:$M$24,2,FALSE)),\"\")","v":""},0,4.5]
[2024,"2024-06-22",{"$f":"IFERROR(IF(VLOOKUP($B907,Récapitulatif!$J$64:$M$68,2,FALSE)=0,\"\",VLOOKUP($B907,Récapitulatif!$J$64:$M$68,2,FALSE)),\"\")","v":""},0,-4.5,null,2024,"2024-06-22",{"$f":"IFERROR(IF(VLOOKUP($H907,Récapitulatif!$J$14:$M$24,2,FALSE)=0,\"\",VLOOKUP(H907,Récapitulatif!$J$14:$M$24,2,FALSE)),\"\")","v":""},0,4.5]
[2024,"2024-06-23",{"$f":"IFERROR(IF(VLOOKUP($B908,Récapitulatif!$J$64:$M$68,2,FALSE)=0,\"\",VLOOKUP($B908,Récapitulatif!$J$64:$M$68,2,FALSE)),\"\")","v":""},0,-4.5,null,2024,"2024-06-23",{"$f":"IFERROR(IF(VLOOKUP($H908,Récapitulatif!$J$14:$M$24,2,FALSE)=0,\"\",VLOOKUP(H908,Récapitulatif!$J$14:$M$24,2,FALSE)),\"\")","v":""},0,4.5]
[2024,"2024-06-24",{"$f":"IFERROR(IF(VLOOKUP($B909,Récapitulatif!$J$64:$M$68,2,FALSE)=0,\"\",VLOOKUP($B909,Récapitulatif!$J$64:$M$68,2,FALSE)),\"\")","v":""},0,-4.5,null,2024,"2024-06-24",{"$f":"IFERROR(IF(VLOOKUP($H909,Récapitulatif!$J$14:$M$24,2,FALSE)=0,\"\",VLOOKUP(H909,Récapitulatif!$J$14:$M$24,2,FALSE)),\"\")","v":""},0,4.5]
[2024,"2024-06-25",{"$f":"IFERROR(IF(VLOOKUP($B910,Récapitulatif!$J$64:$M$68,2,FALSE)=0,\"\",VLOOKUP($B910,Récapitulatif!$J$64:$M$68,2,FALSE)),\"\")","v":""},0,-4.5,null,2024,"2024-06-25",{"$f":"IFERROR(IF(VLOOKUP($H910,Récapitulatif!$J$14:$M$24,2,FALSE)=0,\"\",VLOOKUP(H910,Récapitulatif!$J$14:$M$24,2,FALSE)),\"\")","v":""},0,4.5]
[2024,"2024-06-26",{"$f":"IFERROR(IF(VLOOKUP($B911,Récapitulatif!$J$64:$M$68,2,FALSE)=0,\"\",VLOOKUP($B911,Récapitulatif!$J$64:$M$68,2,FALSE)),\"\")","v":""},0,-4.5,null,2024,"2024-06-26",{"$f":"IFERROR(IF(VLOOKUP($H911,Récapitulatif!$J$14:$M$24,2,FALSE)=0,\"\",VLOOKUP(H911,Récapitulatif!$J$14:$M$24,2,FALSE)),\"\")","v":""},0,4.5]
[2024,"2024-06-27",{"$f":"IFERROR(IF(VLOOKUP($B912,Récapitulatif!$J$64:$M$68,2,FALSE)=0,\"\",VLOOKUP($B912,Récapitulatif!$J$64:$M$68,2,FALSE)),\"\")","v":""},0,-4.5,null,2024,"2024-06-27",{"$f":"IFERROR(IF(VLOOKUP($H912,Récapitulatif!$J$14:$M$24,2,FALSE)=0,\"\",VLOOKUP(H912,Récapitulatif!$J$14:$M$24,2,FALSE)),\"\")","v":""},0,4.5]
[2024,"2024-06-28",{"$f":"IFERROR(IF(VLOOKUP($B913,Récapitulatif!$J$64:$M$68,2,FALSE)=0,\"\",VLOOKUP($B913,Récapitulatif!$J$64:$M$68,2,FALSE)),\"\")","v":""},0,-4.5,null,2024,"2024-06-28",{"$f":"IFERROR(IF(VLOOKUP($H913,Récapitulatif!$J$14:$M$24,2,FALSE)=0,\"\",VLOOKUP(H913,Récapitulatif!$J$14:$M$24,2,FALSE)),\"\")","v":""},0,4.5]
[2024,"2024-06-29",{"$f":"IFERROR(IF(VLOOKUP($B914,Récapitulatif!$J$64:$M$68,2,FALSE)=0,\"\",VLOOKUP($B914,Récapitulatif!$J$64:$M$68,2,FALSE)),\"\")","v":""},0,-4.5,null,2024,"2024-06-29",{"$f":"IFERROR(IF(VLOOKUP($H914,Récapitulatif!$J$14:$M$24,2,FALSE)=0,\"\",VLOOKUP(H914,Récapitulatif!$J$14:$M$24,2,FALSE)),\"\")","v":""},0,4.5]
[2024,"2024-06-30",{"$f":"IFERROR(IF(VLOOKUP($B915,Récapitulatif!$J$64:$M$68,2,FALSE)=0,\"\",VLOOKUP($B915,Récapitulatif!$J$64:$M$68,2,FALSE)),\"\")","v":""},0,-4.5,null,2024,"2024-06-30",{"$f":"IFERROR(IF(VLOOKUP($H915,Récapitulatif!$J$14:$M$24,2,FALSE)=0,\"\",VLOOKUP(H915,Récapitulatif!$J$14:$M$24,2,FALSE)),\"\")","v":""},0,4.5]
[2024,"2024-07-01",{"$f":"IFERROR(IF(VLOOKUP($B916,Récapitulatif!$J$64:$M$68,2,FALSE)=0,\"\",VLOOKUP($B916,Récapitulatif!$J$64:$M$68,2,FALSE)),\"\")","v":""},0,-8.5,null,2024,"2024-07-01",{"$f":"IFERROR(IF(VLOOKUP($H916,Récapitulatif!$J$14:$M$24,2,FALSE)=0,\"\",VLOOKUP(H916,Récapitulatif!$J$14:$M$24,2,FALSE)),\"\")","v":""},0,8.5]
[2024,"2024-07-02",{"$f":"IFERROR(IF(VLOOKUP($B917,Récapitulatif!$J$64:$M$68,2,FALSE)=0,\"\",VLOOKUP($B917,Récapitulatif!$J$64:$M$68,2,FALSE)),\"\")","v":""},0,-8.5,null,2024,"2024-07-02",{"$f":"IFERROR(IF(VLOOKUP($H917,Récapitulatif!$J$14:$M$24,2,FALSE)=0,\"\",VLOOKUP(H917,Récapitulatif!$J$14:$M$24,2,FALSE)),\"\")","v":""},0,8.5]
[2024,"2024-07-03",{"$f":"IFERROR(IF(VLOOKUP($B918,Récapitulatif!$J$64:$M$68,2,FALSE)=0,\"\",VLOOKUP($B918,Récapitulatif!$J$64:$M$68,2,FALSE)),\"\")","v":""},0,-8.5,null,2024,"2024-07-03",{"$f":"IFERROR(IF(VLOOKUP($H918,Récapitulatif!$J$14:$M$24,2,FALSE)=0,\"\",VLOOKUP(H918,Récapitulatif!$J$14:$M$24,2,FALSE)),\"\")","v":""},0,8.5]
[2024,"2024-07-04",{"$f":"IFERROR(IF(VLOOKUP($B919,Récapitulatif!$J$64:$M$68,2,FALSE)=0,\"\",VLOOKUP($B919,Récapitulatif!$J$64:$M$68,2,FALSE)),\"\")","v":""},0,-8.5,null,2024,"2024-07-04",{"$f":"IFERROR(IF(VLOOKUP($H919,Récapitulatif!$J$14:$M$24,2,FALSE)=0,\"\",VLOOKUP(H919,Récapitulatif!$J$14:$M$24,2,FALSE)),\"\")","v":""},0,8.5]
[2024,"2024-07-05",{"$f":"IFERROR(IF(VLOOKUP($B920,Récapitulatif!$J$64:$M$68,2,FALSE)=0,\"\",VLOOKUP($B920,Récapitulatif!$J$64:$M$68,2,FALSE)),\"\")","v":""},0,-8.5,null,2024,"2024-07-05",{"$f":"IFERROR(IF(VLOOKUP($H920,Récapitulatif!$J$14:$M$24,2,FALSE)=0,\"\",VLOOKUP(H920,Récapitulatif!$J$14:$M$24,2,FALSE)),\"\")","v":""},0,8.5]
[2024,"2024-07-06",{"$f":"IFERROR(IF(VLOOKUP($B921,Récapitulatif!$J$64:$M$68,2,FALSE)=0,\"\",VLOOKUP($B921,Récapitulatif!$J$64:$M$68,2,FALSE)),\"\")","v":""},0,-8.5,null,2024,"2024-07-06",{"$f":"IFERROR(IF(VLOOKUP($H921,Récapitulatif!$J$14:$M$24,2,FALSE)=0,\"\",VLOOKUP(H921,Récapitulatif!$J$14:$M$24,2,FALSE)),\"\")","v":""},0,8.5]
[2024,"2024-07-07",{"$f":"IFERROR(IF(VLOOKUP($B922,Récapitulatif!$J$64:$M$68,2,FALSE)=0,\"\",VLOOKUP($B922,Récapitulatif!$J$64:$M$68,2,FALSE)),\"\")","v":""},0,-8.5,null,2024,"2024-07-07",{"$f":"IFERROR(IF(VLOOKUP($H922,Récapitulatif!$J$14:$M$24,2,FALSE)=0,\"\",VLOOKUP(H922,Récapitulatif!$J$14:$M$24,2,FALSE)),\"\")","v":""},0,8.5]
[2024,"2024-07-08",{"$f":"IFERROR(IF(VLOOKUP($B923,Récapitulatif!$J$64:$M$68,2,FALSE)=0,\"\",VLOOKUP($B923,Récapitulatif!$J$64:$M$68,2,FALSE)),\"\")","v":""},0,-8.5,null,2024,"2024-07-08",{"$f":"IFERROR(IF(VLOOKUP($H923,Récapitulatif!$J$14:$M$24,2,FALSE)=0,\"\",VLOOKUP(H923,Récapitulatif!$J$14:$M$24,2,FALSE)),\"\")","v":""},0,8.5]
[2024,"2024-07-09",{"$f":"IFERROR(IF(VLOOKUP($B924,Récapitulatif!$J$64:$M$68,2,FALSE)=0,\"\",VLOOKUP($B924,Récapitulatif!$J$64:$M$68,2,FALSE)),\"\")","v":""},0,-8.5,null,2024,"2024-07-09",{"$f":"IFERROR(IF(VLOOKUP($H924,Récapitulatif!$J$14:$M$24,2,FALSE)=0,\"\",VLOOKUP(H924,Récapitulatif!$J$14:$M$24,2,FALSE)),\"\")","v":""},0,8.5]
[2024,"2024-07-10",{"$f":"IFERROR(IF(VLOOKUP($B925,Récapitulatif!$J$64:$M$68,2,FALSE)=0,\"\",VLOOKUP($B925,Récapitulatif!$J$64:$M$68,2,FALSE)),\"\")","v":""},0,-8.5,null,2024,"2024-07-10",{"$f":"IFERROR(IF(VLOOKUP($H925,Récapitulatif!$J$14:$M$24,2,FALSE)=0,\"\",VLOOKUP(H925,Récapitulatif!$J$14:$M$24,2,FALSE)),\"\")","v":""},0,8.5]
[2024,"2024-07-11",{"$f":"IFERROR(IF(VLOOKUP($B926,Récapitulatif!$J$64:$M$68,2,FALSE)=0,\"\",VLOOKUP($B926,Récapitulatif!$J$64:$M$68,2,FALSE)),\"\")","v":""},0,-8.5,null,2024,"2024-07-11",{"$f":"IFERROR(IF(VLOOKUP($H926,Récapitulatif!$J$14:$M$24,2,FALSE)=0,\"\",VLOOKUP(H926,Récapitulatif!$J$14:$M$24,2,FALSE)),\"\")","v":""},0,8.5]
[2024,"2024-07-12",{"$f":"IFERROR(IF(VLOOKUP($B927,Récapitulatif!$J$64:$M$68,2,FALSE)=0,\"\",VLOOKUP($B927,Récapitulatif!$J$64:$M$68,2,FALSE)),\"\")","v":""},0,-8.5,null,2024,"2024-07-12",{"$f":"IFERROR(IF(VLOOKUP($H927,Récapitulatif!$J$14:$M$24,2,FALSE)=0,\"\",VLOOKUP(H927,Récapitulatif!$J$14:$M$24,2,FALSE)),\"\")","v":""},0,8.5]
[2024,"2024-07-13",{"$f":"IFERROR(IF(VLOOKUP($B928,Récapitulatif!$J$64:$M$68,2,FALSE)=0,\"\",VLOOKUP($B928,Récapitulatif!$J$64:$M$68,2,FALSE)),\"\")","v":""},0,-8.5,null,2024,"2024-07-13",{"$f":"IFERROR(IF(VLOOKUP($H928,Récapitulatif!$J$14:$M$24,2,FALSE)=0,\"\",VLOOKUP(H928,Récapitulatif!$J$14:$M$24,2,FALSE)),\"\")","v":""},0,8.5]
[2024,"2024-07-14",{"$f":"IFERROR(IF(VLOOKUP($B929,Récapitulatif!$J$64:$M$68,2,FALSE)=0,\"\",VLOOKUP($B929,Récapitulatif!$J$64:$M$68,2,FALSE)),\"\")","v":""},0,-8.5,null,2024,"2024-07-14",{"$f":"IFERROR(IF(VLOOKUP($H929,Récapitulatif!$J$14:$M$24,2,FALSE)=0,\"\",VLOOKUP(H929,Récapitulatif!$J$14:$M$24,2,FALSE)),\"\")","v":""},0,8.5]
[2024,"2024-07-15",{"$f":"IFERROR(IF(VLOOKUP($B930,Récapitulatif!$J$64:$M$68,2,FALSE)=0,\"\",VLOOKUP($B930,Récapitulatif!$J$64:$M$68,2,FALSE)),\"\")","v":""},0,-8.5,null,2024,"2024-07-15",{"$f":"IFERROR(IF(VLOOKUP($H930,Récapitulatif!$J$14:$M$24,2,FALSE)=0,\"\",VLOOKUP(H930,Récapitulatif!$J$14:$M$24,2,FALSE)),\"\")","v":""},0,8.5]
[2024,"2024-07-16",{"$f":"IFERROR(IF(VLOOKUP($B931,Récapitulatif!$J$64:$M$68,2,FALSE)=0,\"\",VLOOKUP($B931,Récapitulatif!$J$64:$M$68,2,FALSE)),\"\")","v":""},0,-8.5,null,2024,"2024-07-16",{"$f":"IFERROR(IF(VLOOKUP($H931,Récapitulatif!$J$14:$M$24,2,FALSE)=0,\"\",VLOOKUP(H931,Récapitulatif!$J$14:$M$24,2,FALSE)),\"\")","v":""},0,8.5]
[2024,"2024-07-17",{"$f":"IFERROR(IF(VLOOKUP($B932,Récapitulatif!$J$64:$M$68,2,FALSE)=0,\"\",VLOOKUP($B932,Récapitulatif!$J$64:$M$68,2,FALSE)),\"\")","v":""},0,-8.5,null,2024,"2024-07-17",{"$f":"IFERROR(IF(VLOOKUP($H932,Récapitulatif!$J$14:$M$24,2,FALSE)=0,\"\",VLOOKUP(H932,Récapitulatif!$J$14:$M$24,2,FALSE)),\"\")","v":""},0,8.5]
[2024,"2024-07-18",{"$f":"IFERROR(IF(VLOOKUP($B933,Récapitulatif!$J$64:$M$68,2,FALSE)=0,\"\",VLOOKUP($B933,Récapitulatif!$J$64:$M$68,2,FALSE)),\"\")","v":""},0,-8.5,null,2024,"2024-07-18",{"$f":"IFERROR(IF(VLOOKUP($H933,Récapitulatif!$J$14:$M$24,2,FALSE)=0,\"\",VLOOKUP(H933,Récapitulatif!$J$14:$M$24,2,FALSE)),\"\")","v":""},0,8.5]
[2024,"2024-07-19",{"$f":"IFERROR(IF(VLOOKUP($B934,Récapitulatif!$J$64:$M$68,2,FALSE)=0,\"\",VLOOKUP($B934,Récapitulatif!$J$64:$M$68,2,FALSE)),\"\")","v":""},0,-8.5,null,2024,"2024-07-19",{"$f":"IFERROR(IF(VLOOKUP($H934,Récapitulatif!$J$14:$M$24,2,FALSE)=0,\"\",VLOOKUP(H934,Récapitulatif!$J$14:$M$24,2,FALSE)),\"\")","v":""},0,8.5]
[2024,"2024-07-20",{"$f":"IFERROR(IF(VLOOKUP($B935,Récapitulatif!$J$64:$M$68,2,FALSE)=0,\"\",VLOOKUP($B935,Récapitulatif!$J$64:$M$68,2,FALSE)),\"\")","v":""},0,-8.5,null,2024,"2024-07-20",{"$f":"IFERROR(IF(VLOOKUP($H935,Récapitulatif!$J$14:$M$24,2,FALSE)=0,\"\",VLOOKUP(H935,Récapitulatif!$J$14:$M$24,2,FALSE)),\"\")","v":""},0,8.5]
[2024,"2024-07-21",{"$f":"IFERROR(IF(VLOOKUP($B936,Récapitulatif!$J$64:$M$68,2,FALSE)=0,\"\",VLOOKUP($B936,Récapitulatif!$J$64:$M$68,2,FALSE)),\"\")","v":""},0,-8.5,null,2024,"2024-07-21",{"$f":"IFERROR(IF(VLOOKUP($H936,Récapitulatif!$J$14:$M$24,2,FALSE)=0,\"\",VLOOKUP(H936,Récapitulatif!$J$14:$M$24,2,FALSE)),\"\")","v":""},0,8.5]
[2024,"2024-07-22",{"$f":"IFERROR(IF(VLOOKUP($B937,Récapitulatif!$J$64:$M$68,2,FALSE)=0,\"\",VLOOKUP($B937,Récapitulatif!$J$64:$M$68,2,FALSE)),\"\")","v":""},0,-8.5,null,2024,"2024-07-22",{"$f":"IFERROR(IF(VLOOKUP($H937,Récapitulatif!$J$14:$M$24,2,FALSE)=0,\"\",VLOOKUP(H937,Récapitulatif!$J$14:$M$24,2,FALSE)),\"\")","v":""},0,8.5]
[2024,"2024-07-23",{"$f":"IFERROR(IF(VLOOKUP($B938,Récapitulatif!$J$64:$M$68,2,FALSE)=0,\"\",VLOOKUP($B938,Récapitulatif!$J$64:$M$68,2,FALSE)),\"\")","v":""},0,-8.5,null,2024,"2024-07-23",{"$f":"IFERROR(IF(VLOOKUP($H938,Récapitulatif!$J$14:$M$24,2,FALSE)=0,\"\",VLOOKUP(H938,Récapitulatif!$J$14:$M$24,2,FALSE)),\"\")","v":""},0,8.5]
[2024,"2024-07-24",{"$f":"IFERROR(IF(VLOOKUP($B939,Récapitulatif!$J$64:$M$68,2,FALSE)=0,\"\",VLOOKUP($B939,Récapitulatif!$J$64:$M$68,2,FALSE)),\"\")","v":""},0,-8.5,null,2024,"2024-07-24",{"$f":"IFERROR(IF(VLOOKUP($H939,Récapitulatif!$J$14:$M$24,2,FALSE)=0,\"\",VLOOKUP(H939,Récapitulatif!$J$14:$M$24,2,FALSE)),\"\")","v":""},0,8.5]
[2024,"2024-07-25",{"$f":"IFERROR(IF(VLOOKUP($B940,Récapitulatif!$J$64:$M$68,2,FALSE)=0,\"\",VLOOKUP($B940,Récapitulatif!$J$64:$M$68,2,FALSE)),\"\")","v":""},0,-8.5,null,2024,"2024-07-25",{"$f":"IFERROR(IF(VLOOKUP($H940,Récapitulatif!$J$14:$M$24,2,FALSE)=0,\"\",VLOOKUP(H940,Récapitulatif!$J$14:$M$24,2,FALSE)),\"\")","v":""},0,8.5]
[2024,"2024-07-26",{"$f":"IFERROR(IF(VLOOKUP($B941,Récapitulatif!$J$64:$M$68,2,FALSE)=0,\"\",VLOOKUP($B941,Récapitulatif!$J$64:$M$68,2,FALSE)),\"\")","v":""},0,-8.5,null,2024,"2024-07-26",{"$f":"IFERROR(IF(VLOOKUP($H941,Récapitulatif!$J$14:$M$24,2,FALSE)=0,\"\",VLOOKUP(H941,Récapitulatif!$J$14:$M$24,2,FALSE)),\"\")","v":""},0,8.5]
[2024,"2024-07-27",{"$f":"IFERROR(IF(VLOOKUP($B942,Récapitulatif!$J$64:$M$68,2,FALSE)=0,\"\",VLOOKUP($B942,Récapitulatif!$J$64:$M$68,2,FALSE)),\"\")","v":""},0,-8.5,null,2024,"2024-07-27",{"$f":"IFERROR(IF(VLOOKUP($H942,Récapitulatif!$J$14:$M$24,2,FALSE)=0,\"\",VLOOKUP(H942,Récapitulatif!$J$14:$M$24,2,FALSE)),\"\")","v":""},0,8.5]
[2024,"2024-07-28",{"$f":"IFERROR(IF(VLOOKUP($B943,Récapitulatif!$J$64:$M$68,2,FALSE)=0,\"\",VLOOKUP($B943,Récapitulatif!$J$64:$M$68,2,FALSE)),\"\")","v":""},0,-8.5,null,2024,"2024-07-28",{"$f":"IFERROR(IF(VLOOKUP($H943,Récapitulatif!$J$14:$M$24,2,FALSE)=0,\"\",VLOOKUP(H943,Récapitulatif!$J$14:$M$24,2,FALSE)),\"\")","v":""},0,8.5]
[2024,"2024-07-29",{"$f":"IFERROR(IF(VLOOKUP($B944,Récapitulatif!$J$64:$M$68,2,FALSE)=0,\"\",VLOOKUP($B944,Récapitulatif!$J$64:$M$68,2,FALSE)),\"\")","v":""},0,-8.5,null,2024,"2024-07-29",{"$f":"IFERROR(IF(VLOOKUP($H944,Récapitulatif!$J$14:$M$24,2,FALSE)=0,\"\",VLOOKUP(H944,Récapitulatif!$J$14:$M$24,2,FALSE)),\"\")","v":""},0,8.5]
[2024,"2024-07-30",{"$f":"IFERROR(IF(VLOOKUP($B945,Récapitulatif!$J$64:$M$68,2,FALSE)=0,\"\",VLOOKUP($B945,Récapitulatif!$J$64:$M$68,2,FALSE)),\"\")","v":""},0,-8.5,null,2024,"2024-07-30",{"$f":"IFERROR(IF(VLOOKUP($H945,Récapitulatif!$J$14:$M$24,2,FALSE)=0,\"\",VLOOKUP(H945,Récapitulatif!$J$14:$M$24,2,FALSE)),\"\")","v":""},0,8.5]
[2024,"2024-07-31",{"$f":"IFERROR(IF(VLOOKUP($B946,Récapitulatif!$J$64:$M$68,2,FALSE)=0,\"\",VLOOKUP($B946,Récapitulatif!$J$64:$M$68,2,FALSE)),\"\")","v":""},0,-8.5,null,2024,"2024-07-31",{"$f":"IFERROR(IF(VLOOKUP($H946,Récapitulatif!$J$14:$M$24,2,FALSE)=0,\"\",VLOOKUP(H946,Récapitulatif!$J$14:$M$24,2,FALSE)),\"\")","v":""},0,8.5]
[2024,"2024-08-01",{"$f":"IFERROR(IF(VLOOKUP($B947,Récapitulatif!$J$64:$M$68,2,FALSE)=0,\"\",VLOOKUP($B947,Récapitulatif!$J$64:$M$68,2,FALSE)),\"\")","v":""},0,-5.5,null,2024,"2024-08-01",{"$f":"IFERROR(IF(VLOOKUP($H947,Récapitulatif!$J$14:$M$24,2,FALSE)=0,\"\",VLOOKUP(H947,Récapitulatif!$J$14:$M$24,2,FALSE)),\"\")","v":""},0,5.5]
[2024,"2024-08-02",{"$f":"IFERROR(IF(VLOOKUP($B948,Récapitulatif!$J$64:$M$68,2,FALSE)=0,\"\",VLOOKUP($B948,Récapitulatif!$J$64:$M$68,2,FALSE)),\"\")","v":""},0,-5.5,null,2024,"2024-08-02",{"$f":"IFERROR(IF(VLOOKUP($H948,Récapitulatif!$J$14:$M$24,2,FALSE)=0,\"\",VLOOKUP(H948,Récapitulatif!$J$14:$M$24,2,FALSE)),\"\")","v":""},0,5.5]
[2024,"2024-08-03",{"$f":"IFERROR(IF(VLOOKUP($B949,Récapitulatif!$J$64:$M$68,2,FALSE)=0,\"\",VLOOKUP($B949,Récapitulatif!$J$64:$M$68,2,FALSE)),\"\")","v":""},0,-5.5,null,2024,"2024-08-03",{"$f":"IFERROR(IF(VLOOKUP($H949,Récapitulatif!$J$14:$M$24,2,FALSE)=0,\"\",VLOOKUP(H949,Récapitulatif!$J$14:$M$24,2,FALSE)),\"\")","v":""},0,5.5]
[2024,"2024-08-04",{"$f":"IFERROR(IF(VLOOKUP($B950,Récapitulatif!$J$64:$M$68,2,FALSE)=0,\"\",VLOOKUP($B950,Récapitulatif!$J$64:$M$68,2,FALSE)),\"\")","v":""},0,-5.5,null,2024,"2024-08-04",{"$f":"IFERROR(IF(VLOOKUP($H950,Récapitulatif!$J$14:$M$24,2,FALSE)=0,\"\",VLOOKUP(H950,Récapitulatif!$J$14:$M$24,2,FALSE)),\"\")","v":""},0,5.5]
[2024,"2024-08-05",{"$f":"IFERROR(IF(VLOOKUP($B951,Récapitulatif!$J$64:$M$68,2,FALSE)=0,\"\",VLOOKUP($B951,Récapitulatif!$J$64:$M$68,2,FALSE)),\"\")","v":""},0,-5.5,null,2024,"2024-08-05",{"$f":"IFERROR(IF(VLOOKUP($H951,Récapitulatif!$J$14:$M$24,2,FALSE)=0,\"\",VLOOKUP(H951,Récapitulatif!$J$14:$M$24,2,FALSE)),\"\")","v":""},0,5.5]
[2024,"2024-08-06",{"$f":"IFERROR(IF(VLOOKUP($B952,Récapitulatif!$J$64:$M$68,2,FALSE)=0,\"\",VLOOKUP($B952,Récapitulatif!$J$64:$M$68,2,FALSE)),\"\")","v":""},0,-5.5,null,2024,"2024-08-06",{"$f":"IFERROR(IF(VLOOKUP($H952,Récapitulatif!$J$14:$M$24,2,FALSE)=0,\"\",VLOOKUP(H952,Récapitulatif!$J$14:$M$24,2,FALSE)),\"\")","v":""},0,5.5]
[2024,"2024-08-07",{"$f":"IFERROR(IF(VLOOKUP($B953,Récapitulatif!$J$64:$M$68,2,FALSE)=0,\"\",VLOOKUP($B953,Récapitulatif!$J$64:$M$68,2,FALSE)),\"\")","v":""},0,-5.5,null,2024,"2024-08-07",{"$f":"IFERROR(IF(VLOOKUP($H953,Récapitulatif!$J$14:$M$24,2,FALSE)=0,\"\",VLOOKUP(H953,Récapitulatif!$J$14:$M$24,2,FALSE)),\"\")","v":""},0,5.5]
[2024,"2024-08-08",{"$f":"IFERROR(IF(VLOOKUP($B954,Récapitulatif!$J$64:$M$68,2,FALSE)=0,\"\",VLOOKUP($B954,Récapitulatif!$J$64:$M$68,2,FALSE)),\"\")","v":""},0,-5.5,null,2024,"2024-08-08",{"$f":"IFERROR(IF(VLOOKUP($H954,Récapitulatif!$J$14:$M$24,2,FALSE)=0,\"\",VLOOKUP(H954,Récapitulatif!$J$14:$M$24,2,FALSE)),\"\")","v":""},0,5.5]
[2024,"2024-08-09",{"$f":"IFERROR(IF(VLOOKUP($B955,Récapitulatif!$J$64:$M$68,2,FALSE)=0,\"\",VLOOKUP($B955,Récapitulatif!$J$64:$M$68,2,FALSE)),\"\")","v":""},0,-5.5,null,2024,"2024-08-09",{"$f":"IFERROR(IF(VLOOKUP($H955,Récapitulatif!$J$14:$M$24,2,FALSE)=0,\"\",VLOOKUP(H955,Récapitulatif!$J$14:$M$24,2,FALSE)),\"\")","v":""},0,5.5]
[2024,"2024-08-10",{"$f":"IFERROR(IF(VLOOKUP($B956,Récapitulatif!$J$64:$M$68,2,FALSE)=0,\"\",VLOOKUP($B956,Récapitulatif!$J$64:$M$68,2,FALSE)),\"\")","v":""},0,-5.5,null,2024,"2024-08-10",{"$f":"IFERROR(IF(VLOOKUP($H956,Récapitulatif!$J$14:$M$24,2,FALSE)=0,\"\",VLOOKUP(H956,Récapitulatif!$J$14:$M$24,2,FALSE)),\"\")","v":""},0,5.5]
[2024,"2024-08-11",{"$f":"IFERROR(IF(VLOOKUP($B957,Récapitulatif!$J$64:$M$68,2,FALSE)=0,\"\",VLOOKUP($B957,Récapitulatif!$J$64:$M$68,2,FALSE)),\"\")","v":""},0,-5.5,null,2024,"2024-08-11",{"$f":"IFERROR(IF(VLOOKUP($H957,Récapitulatif!$J$14:$M$24,2,FALSE)=0,\"\",VLOOKUP(H957,Récapitulatif!$J$14:$M$24,2,FALSE)),\"\")","v":""},0,5.5]
[2024,"2024-08-12",{"$f":"IFERROR(IF(VLOOKUP($B958,Récapitulatif!$J$64:$M$68,2,FALSE)=0,\"\",VLOOKUP($B958,Récapitulatif!$J$64:$M$68,2,FALSE)),\"\")","v":""},0,-5.5,null,2024,"2024-08-12",{"$f":"IFERROR(IF(VLOOKUP($H958,Récapitulatif!$J$14:$M$24,2,FALSE)=0,\"\",VLOOKUP(H958,Récapitulatif!$J$14:$M$24,2,FALSE)),\"\")","v":""},0,5.5]
[2024,"2024-08-13",{"$f":"IFERROR(IF(VLOOKUP($B959,Récapitulatif!$J$64:$M$68,2,FALSE)=0,\"\",VLOOKUP($B959,Récapitulatif!$J$64:$M$68,2,FALSE)),\"\")","v":""},0,-5.5,null,2024,"2024-08-13",{"$f":"IFERROR(IF(VLOOKUP($H959,Récapitulatif!$J$14:$M$24,2,FALSE)=0,\"\",VLOOKUP(H959,Récapitulatif!$J$14:$M$24,2,FALSE)),\"\")","v":""},0,5.5]
[2024,"2024-08-14",{"$f":"IFERROR(IF(VLOOKUP($B960,Récapitulatif!$J$64:$M$68,2,FALSE)=0,\"\",VLOOKUP($B960,Récapitulatif!$J$64:$M$68,2,FALSE)),\"\")","v":""},0,-5.5,null,2024,"2024-08-14",{"$f":"IFERROR(IF(VLOOKUP($H960,Récapitulatif!$J$14:$M$24,2,FALSE)=0,\"\",VLOOKUP(H960,Récapitulatif!$J$14:$M$24,2,FALSE)),\"\")","v":""},0,5.5]
[2024,"2024-08-15",{"$f":"IFERROR(IF(VLOOKUP($B961,Récapitulatif!$J$64:$M$68,2,FALSE)=0,\"\",VLOOKUP($B961,Récapitulatif!$J$64:$M$68,2,FALSE)),\"\")","v":""},0,-5.5,null,2024,"2024-08-15",{"$f":"IFERROR(IF(VLOOKUP($H961,Récapitulatif!$J$14:$M$24,2,FALSE)=0,\"\",VLOOKUP(H961,Récapitulatif!$J$14:$M$24,2,FALSE)),\"\")","v":""},0,5.5]
[2024,"2024-08-16",{"$f":"IFERROR(IF(VLOOKUP($B962,Récapitulatif!$J$64:$M$68,2,FALSE)=0,\"\",VLOOKUP($B962,Récapitulatif!$J$64:$M$68,2,FALSE)),\"\")","v":""},0,-5.5,null,2024,"2024-08-16",{"$f":"IFERROR(IF(VLOOKUP($H962,Récapitulatif!$J$14:$M$24,2,FALSE)=0,\"\",VLOOKUP(H962,Récapitulatif!$J$14:$M$24,2,FALSE)),\"\")","v":""},0,5.5]
[2024,"2024-08-17",{"$f":"IFERROR(IF(VLOOKUP($B963,Récapitulatif!$J$64:$M$68,2,FALSE)=0,\"\",VLOOKUP($B963,Récapitulatif!$J$64:$M$68,2,FALSE)),\"\")","v":""},0,-5.5,null,2024,"2024-08-17",{"$f":"IFERROR(IF(VLOOKUP($H963,Récapitulatif!$J$14:$M$24,2,FALSE)=0,\"\",VLOOKUP(H963,Récapitulatif!$J$14:$M$24,2,FALSE)),\"\")","v":""},0,5.5]
[2024,"2024-08-18",{"$f":"IFERROR(IF(VLOOKUP($B964,Récapitulatif!$J$64:$M$68,2,FALSE)=0,\"\",VLOOKUP($B964,Récapitulatif!$J$64:$M$68,2,FALSE)),\"\")","v":""},0,-5.5,null,2024,"2024-08-18",{"$f":"IFERROR(IF(VLOOKUP($H964,Récapitulatif!$J$14:$M$24,2,FALSE)=0,\"\",VLOOKUP(H964,Récapitulatif!$J$14:$M$24,2,FALSE)),\"\")","v":""},0,5.5]
[2024,"2024-08-19",{"$f":"IFERROR(IF(VLOOKUP($B965,Récapitulatif!$J$64:$M$68,2,FALSE)=0,\"\",VLOOKUP($B965,Récapitulatif!$J$64:$M$68,2,FALSE)),\"\")","v":""},0,-5.5,null,2024,"2024-08-19",{"$f":"IFERROR(IF(VLOOKUP($H965,Récapitulatif!$J$14:$M$24,2,FALSE)=0,\"\",VLOOKUP(H965,Récapitulatif!$J$14:$M$24,2,FALSE)),\"\")","v":""},0,5.5]
[2024,"2024-08-20",{"$f":"IFERROR(IF(VLOOKUP($B966,Récapitulatif!$J$64:$M$68,2,FALSE)=0,\"\",VLOOKUP($B966,Récapitulatif!$J$64:$M$68,2,FALSE)),\"\")","v":""},{"$f":"IF($C966=\"\",0,$E966)","v":0},-5.5,null,2024,"2024-08-20",{"$f":"IFERROR(IF(VLOOKUP($H966,Récapitulatif!$J$14:$M$24,2,FALSE)=0,\"\",VLOOKUP(H966,Récapitulatif!$J$14:$M$24,2,FALSE)),\"\")","v":""},{"$f":"IF($I966=\"\",0,$K966)","v":0},5.5]
[{"$f":"YEAR(B967)","v":2024},{"$f":"B966+1","v":"2024-08-21"},{"$f":"IFERROR(IF(VLOOKUP($B967,Récapitulatif!$J$64:$M$68,2,FALSE)=0,\"\",VLOOKUP($B967,Récapitulatif!$J$64:$M$68,2,FALSE)),\"\")","v":""},0,-5.5,null,{"$f":"YEAR(H967)","v":2024},{"$f":"H966+1","v":"2024-08-21"},{"$f":"IFERROR(IF(VLOOKUP($H967,Récapitulatif!$J$14:$M$24,2,FALSE)=0,\"\",VLOOKUP(H967,Récapitulatif!$J$14:$M$24,2,FALSE)),\"\")","v":""},0,5.5]
[2024,"2024-08-22",{"$f":"IFERROR(IF(VLOOKUP($B968,Récapitulatif!$J$64:$M$68,2,FALSE)=0,\"\",VLOOKUP($B968,Récapitulatif!$J$64:$M$68,2,FALSE)),\"\")","v":""},0,-5.5,null,2024,"2024-08-22",{"$f":"IFERROR(IF(VLOOKUP($H968,Récapitulatif!$J$14:$M$24,2,FALSE)=0,\"\",VLOOKUP(H968,Récapitulatif!$J$14:$M$24,2,FALSE)),\"\")","v":""},0,5.5]
[2024,"2024-08-23",{"$f":"IFERROR(IF(VLOOKUP($B969,Récapitulatif!$J$64:$M$68,2,FALSE)=0,\"\",VLOOKUP($B969,Récapitulatif!$J$64:$M$68,2,FALSE)),\"\")","v":""},0,-5.5,null,2024,"2024-08-23",{"$f":"IFERROR(IF(VLOOKUP($H969,Récapitulatif!$J$14:$M$24,2,FALSE)=0,\"\",VLOOKUP(H969,Récapitulatif!$J$14:$M$24,2,FALSE)),\"\")","v":""},0,5.5]
[2024,"2024-08-24",{"$f":"IFERROR(IF(VLOOKUP($B970,Récapitulatif!$J$64:$M$68,2,FALSE)=0,\"\",VLOOKUP($B970,Récapitulatif!$J$64:$M$68,2,FALSE)),\"\")","v":""},0,-5.5,null,2024,"2024-08-24",{"$f":"IFERROR(IF(VLOOKUP($H970,Récapitulatif!$J$14:$M$24,2,FALSE)=0,\"\",VLOOKUP(H970,Récapitulatif!$J$14:$M$24,2,FALSE)),\"\")","v":""},0,5.5]
[2024,"2024-08-25",{"$f":"IFERROR(IF(VLOOKUP($B971,Récapitulatif!$J$64:$M$68,2,FALSE)=0,\"\",VLOOKUP($B971,Récapitulatif!$J$64:$M$68,2,FALSE)),\"\")","v":""},0,-5.5,null,2024,"2024-08-25",{"$f":"IFERROR(IF(VLOOKUP($H971,Récapitulatif!$J$14:$M$24,2,FALSE)=0,\"\",VLOOKUP(H971,Récapitulatif!$J$14:$M$24,2,FALSE)),\"\")","v":""},0,5.5]
[2024,"2024-08-26",{"$f":"IFERROR(IF(VLOOKUP($B972,Récapitulatif!$J$64:$M$68,2,FALSE)=0,\"\",VLOOKUP($B972,Récapitulatif!$J$64:$M$68,2,FALSE)),\"\")","v":""},0,-5.5,null,2024,"2024-08-26",{"$f":"IFERROR(IF(VLOOKUP($H972,Récapitulatif!$J$14:$M$24,2,FALSE)=0,\"\",VLOOKUP(H972,Récapitulatif!$J$14:$M$24,2,FALSE)),\"\")","v":""},0,5.5]
[2024,"2024-08-27",{"$f":"IFERROR(IF(VLOOKUP($B973,Récapitulatif!$J$64:$M$68,2,FALSE)=0,\"\",VLOOKUP($B973,Récapitulatif!$J$64:$M$68,2,FALSE)),\"\")","v":""},0,-5.5,null,2024,"2024-08-27",{"$f":"IFERROR(IF(VLOOKUP($H973,Récapitulatif!$J$14:$M$24,2,FALSE)=0,\"\",VLOOKUP(H973,Récapitulatif!$J$14:$M$24,2,FALSE)),\"\")","v":""},0,5.5]
[2024,"2024-08-28",{"$f":"IFERROR(IF(VLOOKUP($B974,Récapitulatif!$J$64:$M$68,2,FALSE)=0,\"\",VLOOKUP($B974,Récapitulatif!$J$64:$M$68,2,FALSE)),\"\")","v":""},0,-5.5,null,2024,"2024-08-28",{"$f":"IFERROR(IF(VLOOKUP($H974,Récapitulatif!$J$14:$M$24,2,FALSE)=0,\"\",VLOOKUP(H974,Récapitulatif!$J$14:$M$24,2,FALSE)),\"\")","v":""},0,5.5]
[2024,"2024-08-29",{"$f":"IFERROR(IF(VLOOKUP($B975,Récapitulatif!$J$64:$M$68,2,FALSE)=0,\"\",VLOOKUP($B975,Récapitulatif!$J$64:$M$68,2,FALSE)),\"\")","v":""},0,-5.5,null,2024,"2024-08-29",{"$f":"IFERROR(IF(VLOOKUP($H975,Récapitulatif!$J$14:$M$24,2,FALSE)=0,\"\",VLOOKUP(H975,Récapitulatif!$J$14:$M$24,2,FALSE)),\"\")","v":""},0,5.5]
[2024,"2024-08-30",{"$f":"IFERROR(IF(VLOOKUP($B976,Récapitulatif!$J$64:$M$68,2,FALSE)=0,\"\",VLOOKUP($B976,Récapitulatif!$J$64:$M$68,2,FALSE)),\"\")","v":""},0,-5.5,null,2024,"2024-08-30",{"$f":"IFERROR(IF(VLOOKUP($H976,Récapitulatif!$J$14:$M$24,2,FALSE)=0,\"\",VLOOKUP(H976,Récapitulatif!$J$14:$M$24,2,FALSE)),\"\")","v":""},0,5.5]
[2024,"2024-08-31",{"$f":"IFERROR(IF(VLOOKUP($B977,Récapitulatif!$J$64:$M$68,2,FALSE)=0,\"\",VLOOKUP($B977,Récapitulatif!$J$64:$M$68,2,FALSE)),\"\")","v":""},0,-5.5,null,2024,"2024-08-31",{"$f":"IFERROR(IF(VLOOKUP($H977,Récapitulatif!$J$14:$M$24,2,FALSE)=0,\"\",VLOOKUP(H977,Récapitulatif!$J$14:$M$24,2,FALSE)),\"\")","v":""},0,5.5]
[2024,"2024-09-01",{"$f":"IFERROR(IF(VLOOKUP($B978,Récapitulatif!$J$64:$M$68,2,FALSE)=0,\"\",VLOOKUP($B978,Récapitulatif!$J$64:$M$68,2,FALSE)),\"\")","v":""},0,-7.5,null,2024,"2024-09-01",{"$f":"IFERROR(IF(VLOOKUP($H978,Récapitulatif!$J$14:$M$24,2,FALSE)=0,\"\",VLOOKUP(H978,Récapitulatif!$J$14:$M$24,2,FALSE)),\"\")","v":""},0,7.5]
[2024,"2024-09-02",{"$f":"IFERROR(IF(VLOOKUP($B979,Récapitulatif!$J$64:$M$68,2,FALSE)=0,\"\",VLOOKUP($B979,Récapitulatif!$J$64:$M$68,2,FALSE)),\"\")","v":""},0,-7.5,null,2024,"2024-09-02",{"$f":"IFERROR(IF(VLOOKUP($H979,Récapitulatif!$J$14:$M$24,2,FALSE)=0,\"\",VLOOKUP(H979,Récapitulatif!$J$14:$M$24,2,FALSE)),\"\")","v":""},0,7.5]
[2024,"2024-09-03",{"$f":"IFERROR(IF(VLOOKUP($B980,Récapitulatif!$J$64:$M$68,2,FALSE)=0,\"\",VLOOKUP($B980,Récapitulatif!$J$64:$M$68,2,FALSE)),\"\")","v":""},0,-7.5,null,2024,"2024-09-03",{"$f":"IFERROR(IF(VLOOKUP($H980,Récapitulatif!$J$14:$M$24,2,FALSE)=0,\"\",VLOOKUP(H980,Récapitulatif!$J$14:$M$24,2,FALSE)),\"\")","v":""},0,7.5]
[2024,"2024-09-04",{"$f":"IFERROR(IF(VLOOKUP($B981,Récapitulatif!$J$64:$M$68,2,FALSE)=0,\"\",VLOOKUP($B981,Récapitulatif!$J$64:$M$68,2,FALSE)),\"\")","v":""},0,-7.5,null,2024,"2024-09-04",{"$f":"IFERROR(IF(VLOOKUP($H981,Récapitulatif!$J$14:$M$24,2,FALSE)=0,\"\",VLOOKUP(H981,Récapitulatif!$J$14:$M$24,2,FALSE)),\"\")","v":""},0,7.5]
[2024,"2024-09-05",{"$f":"IFERROR(IF(VLOOKUP($B982,Récapitulatif!$J$64:$M$68,2,FALSE)=0,\"\",VLOOKUP($B982,Récapitulatif!$J$64:$M$68,2,FALSE)),\"\")","v":""},0,-7.5,null,2024,"2024-09-05",{"$f":"IFERROR(IF(VLOOKUP($H982,Récapitulatif!$J$14:$M$24,2,FALSE)=0,\"\",VLOOKUP(H982,Récapitulatif!$J$14:$M$24,2,FALSE)),\"\")","v":""},0,7.5]
[2024,"2024-09-06",{"$f":"IFERROR(IF(VLOOKUP($B983,Récapitulatif!$J$64:$M$68,2,FALSE)=0,\"\",VLOOKUP($B983,Récapitulatif!$J$64:$M$68,2,FALSE)),\"\")","v":""},0,-7.5,null,2024,"2024-09-06",{"$f":"IFERROR(IF(VLOOKUP($H983,Récapitulatif!$J$14:$M$24,2,FALSE)=0,\"\",VLOOKUP(H983,Récapitulatif!$J$14:$M$24,2,FALSE)),\"\")","v":""},0,7.5]
[2024,"2024-09-07",{"$f":"IFERROR(IF(VLOOKUP($B984,Récapitulatif!$J$64:$M$68,2,FALSE)=0,\"\",VLOOKUP($B984,Récapitulatif!$J$64:$M$68,2,FALSE)),\"\")","v":""},0,-7.5,null,2024,"2024-09-07",{"$f":"IFERROR(IF(VLOOKUP($H984,Récapitulatif!$J$14:$M$24,2,FALSE)=0,\"\",VLOOKUP(H984,Récapitulatif!$J$14:$M$24,2,FALSE)),\"\")","v":""},0,7.5]
[2024,"2024-09-08",{"$f":"IFERROR(IF(VLOOKUP($B985,Récapitulatif!$J$64:$M$68,2,FALSE)=0,\"\",VLOOKUP($B985,Récapitulatif!$J$64:$M$68,2,FALSE)),\"\")","v":""},0,-7.5,null,2024,"2024-09-08",{"$f":"IFERROR(IF(VLOOKUP($H985,Récapitulatif!$J$14:$M$24,2,FALSE)=0,\"\",VLOOKUP(H985,Récapitulatif!$J$14:$M$24,2,FALSE)),\"\")","v":""},0,7.5]
[2024,"2024-09-09",{"$f":"IFERROR(IF(VLOOKUP($B986,Récapitulatif!$J$64:$M$68,2,FALSE)=0,\"\",VLOOKUP($B986,Récapitulatif!$J$64:$M$68,2,FALSE)),\"\")","v":""},0,-7.5,null,2024,"2024-09-09",{"$f":"IFERROR(IF(VLOOKUP($H986,Récapitulatif!$J$14:$M$24,2,FALSE)=0,\"\",VLOOKUP(H986,Récapitulatif!$J$14:$M$24,2,FALSE)),\"\")","v":""},0,7.5]
[2024,"2024-09-10",{"$f":"IFERROR(IF(VLOOKUP($B987,Récapitulatif!$J$64:$M$68,2,FALSE)=0,\"\",VLOOKUP($B987,Récapitulatif!$J$64:$M$68,2,FALSE)),\"\")","v":""},0,-7.5,null,2024,"2024-09-10",{"$f":"IFERROR(IF(VLOOKUP($H987,Récapitulatif!$J$14:$M$24,2,FALSE)=0,\"\",VLOOKUP(H987,Récapitulatif!$J$14:$M$24,2,FALSE)),\"\")","v":""},0,7.5]
[2024,"2024-09-11",{"$f":"IFERROR(IF(VLOOKUP($B988,Récapitulatif!$J$64:$M$68,2,FALSE)=0,\"\",VLOOKUP($B988,Récapitulatif!$J$64:$M$68,2,FALSE)),\"\")","v":""},0,-7.5,null,2024,"2024-09-11",{"$f":"IFERROR(IF(VLOOKUP($H988,Récapitulatif!$J$14:$M$24,2,FALSE)=0,\"\",VLOOKUP(H988,Récapitulatif!$J$14:$M$24,2,FALSE)),\"\")","v":""},0,7.5]
[2024,"2024-09-12",{"$f":"IFERROR(IF(VLOOKUP($B989,Récapitulatif!$J$64:$M$68,2,FALSE)=0,\"\",VLOOKUP($B989,Récapitulatif!$J$64:$M$68,2,FALSE)),\"\")","v":""},0,-7.5,null,2024,"2024-09-12",{"$f":"IFERROR(IF(VLOOKUP($H989,Récapitulatif!$J$14:$M$24,2,FALSE)=0,\"\",VLOOKUP(H989,Récapitulatif!$J$14:$M$24,2,FALSE)),\"\")","v":""},0,7.5]
[2024,"2024-09-13",{"$f":"IFERROR(IF(VLOOKUP($B990,Récapitulatif!$J$64:$M$68,2,FALSE)=0,\"\",VLOOKUP($B990,Récapitulatif!$J$64:$M$68,2,FALSE)),\"\")","v":""},0,-7.5,null,2024,"2024-09-13",{"$f":"IFERROR(IF(VLOOKUP($H990,Récapitulatif!$J$14:$M$24,2,FALSE)=0,\"\",VLOOKUP(H990,Récapitulatif!$J$14:$M$24,2,FALSE)),\"\")","v":""},0,7.5]
[2024,"2024-09-14",{"$f":"IFERROR(IF(VLOOKUP($B991,Récapitulatif!$J$64:$M$68,2,FALSE)=0,\"\",VLOOKUP($B991,Récapitulatif!$J$64:$M$68,2,FALSE)),\"\")","v":""},0,-7.5,null,2024,"2024-09-14",{"$f":"IFERROR(IF(VLOOKUP($H991,Récapitulatif!$J$14:$M$24,2,FALSE)=0,\"\",VLOOKUP(H991,Récapitulatif!$J$14:$M$24,2,FALSE)),\"\")","v":""},0,7.5]
[2024,"2024-09-15",{"$f":"IFERROR(IF(VLOOKUP($B992,Récapitulatif!$J$64:$M$68,2,FALSE)=0,\"\",VLOOKUP($B992,Récapitulatif!$J$64:$M$68,2,FALSE)),\"\")","v":""},0,-7.5,null,2024,"2024-09-15",{"$f":"IFERROR(IF(VLOOKUP($H992,Récapitulatif!$J$14:$M$24,2,FALSE)=0,\"\",VLOOKUP(H992,Récapitulatif!$J$14:$M$24,2,FALSE)),\"\")","v":""},0,7.5]
[2024,"2024-09-16",{"$f":"IFERROR(IF(VLOOKUP($B993,Récapitulatif!$J$64:$M$68,2,FALSE)=0,\"\",VLOOKUP($B993,Récapitulatif!$J$64:$M$68,2,FALSE)),\"\")","v":""},0,-7.5,null,2024,"2024-09-16",{"$f":"IFERROR(IF(VLOOKUP($H993,Récapitulatif!$J$14:$M$24,2,FALSE)=0,\"\",VLOOKUP(H993,Récapitulatif!$J$14:$M$24,2,FALSE)),\"\")","v":""},0,7.5]
[2024,"2024-09-17",{"$f":"IFERROR(IF(VLOOKUP($B994,Récapitulatif!$J$64:$M$68,2,FALSE)=0,\"\",VLOOKUP($B994,Récapitulatif!$J$64:$M$68,2,FALSE)),\"\")","v":""},0,-7.5,null,2024,"2024-09-17",{"$f":"IFERROR(IF(VLOOKUP($H994,Récapitulatif!$J$14:$M$24,2,FALSE)=0,\"\",VLOOKUP(H994,Récapitulatif!$J$14:$M$24,2,FALSE)),\"\")","v":""},0,7.5]
[2024,"2024-09-18",{"$f":"IFERROR(IF(VLOOKUP($B995,Récapitulatif!$J$64:$M$68,2,FALSE)=0,\"\",VLOOKUP($B995,Récapitulatif!$J$64:$M$68,2,FALSE)),\"\")","v":""},0,-7.5,null,2024,"2024-09-18",{"$f":"IFERROR(IF(VLOOKUP($H995,Récapitulatif!$J$14:$M$24,2,FALSE)=0,\"\",VLOOKUP(H995,Récapitulatif!$J$14:$M$24,2,FALSE)),\"\")","v":""},0,7.5]
[2024,"2024-09-19",{"$f":"IFERROR(IF(VLOOKUP($B996,Récapitulatif!$J$64:$M$68,2,FALSE)=0,\"\",VLOOKUP($B996,Récapitulatif!$J$64:$M$68,2,FALSE)),\"\")","v":""},0,-7.5,null,2024,"2024-09-19",{"$f":"IFERROR(IF(VLOOKUP($H996,Récapitulatif!$J$14:$M$24,2,FALSE)=0,\"\",VLOOKUP(H996,Récapitulatif!$J$14:$M$24,2,FALSE)),\"\")","v":""},0,7.5]
[2024,"2024-09-20",{"$f":"IFERROR(IF(VLOOKUP($B997,Récapitulatif!$J$64:$M$68,2,FALSE)=0,\"\",VLOOKUP($B997,Récapitulatif!$J$64:$M$68,2,FALSE)),\"\")","v":""},0,-7.5,null,2024,"2024-09-20",{"$f":"IFERROR(IF(VLOOKUP($H997,Récapitulatif!$J$14:$M$24,2,FALSE)=0,\"\",VLOOKUP(H997,Récapitulatif!$J$14:$M$24,2,FALSE)),\"\")","v":""},0,7.5]
[2024,"2024-09-21",{"$f":"IFERROR(IF(VLOOKUP($B998,Récapitulatif!$J$64:$M$68,2,FALSE)=0,\"\",VLOOKUP($B998,Récapitulatif!$J$64:$M$68,2,FALSE)),\"\")","v":""},0,-7.5,null,2024,"2024-09-21",{"$f":"IFERROR(IF(VLOOKUP($H998,Récapitulatif!$J$14:$M$24,2,FALSE)=0,\"\",VLOOKUP(H998,Récapitulatif!$J$14:$M$24,2,FALSE)),\"\")","v":""},0,7.5]
[2024,"2024-09-22",{"$f":"IFERROR(IF(VLOOKUP($B999,Récapitulatif!$J$64:$M$68,2,FALSE)=0,\"\",VLOOKUP($B999,Récapitulatif!$J$64:$M$68,2,FALSE)),\"\")","v":""},0,-7.5,null,2024,"2024-09-22",{"$f":"IFERROR(IF(VLOOKUP($H999,Récapitulatif!$J$14:$M$24,2,FALSE)=0,\"\",VLOOKUP(H999,Récapitulatif!$J$14:$M$24,2,FALSE)),\"\")","v":""},0,7.5]
[2024,"2024-09-23",{"$f":"IFERROR(IF(VLOOKUP($B1000,Récapitulatif!$J$64:$M$68,2,FALSE)=0,\"\",VLOOKUP($B1000,Récapitulatif!$J$64:$M$68,2,FALSE)),\"\")","v":""},0,-7.5,null,2024,"2024-09-23",{"$f":"IFERROR(IF(VLOOKUP($H1000,Récapitulatif!$J$14:$M$24,2,FALSE)=0,\"\",VLOOKUP(H1000,Récapitulatif!$J$14:$M$24,2,FALSE)),\"\")","v":""},0,7.5]
[2024,"2024-09-24",{"$f":"IFERROR(IF(VLOOKUP($B1001,Récapitulatif!$J$64:$M$68,2,FALSE)=0,\"\",VLOOKUP($B1001,Récapitulatif!$J$64:$M$68,2,FALSE)),\"\")","v":""},0,-7.5,null,2024,"2024-09-24",{"$f":"IFERROR(IF(VLOOKUP($H1001,Récapitulatif!$J$14:$M$24,2,FALSE)=0,\"\",VLOOKUP(H1001,Récapitulatif!$J$14:$M$24,2,FALSE)),\"\")","v":""},0,7.5]
[2024,"2024-09-25",{"$f":"IFERROR(IF(VLOOKUP($B1002,Récapitulatif!$J$64:$M$68,2,FALSE)=0,\"\",VLOOKUP($B1002,Récapitulatif!$J$64:$M$68,2,FALSE)),\"\")","v":""},0,-7.5,null,2024,"2024-09-25",{"$f":"IFERROR(IF(VLOOKUP($H1002,Récapitulatif!$J$14:$M$24,2,FALSE)=0,\"\",VLOOKUP(H1002,Récapitulatif!$J$14:$M$24,2,FALSE)),\"\")","v":""},0,7.5]
[2024,"2024-09-26",{"$f":"IFERROR(IF(VLOOKUP($B1003,Récapitulatif!$J$64:$M$68,2,FALSE)=0,\"\",VLOOKUP($B1003,Récapitulatif!$J$64:$M$68,2,FALSE)),\"\")","v":""},0,-7.5,null,2024,"2024-09-26",{"$f":"IFERROR(IF(VLOOKUP($H1003,Récapitulatif!$J$14:$M$24,2,FALSE)=0,\"\",VLOOKUP(H1003,Récapitulatif!$J$14:$M$24,2,FALSE)),\"\")","v":""},0,7.5]
[2024,"2024-09-27",{"$f":"IFERROR(IF(VLOOKUP($B1004,Récapitulatif!$J$64:$M$68,2,FALSE)=0,\"\",VLOOKUP($B1004,Récapitulatif!$J$64:$M$68,2,FALSE)),\"\")","v":""},0,-7.5,null,2024,"2024-09-27",{"$f":"IFERROR(IF(VLOOKUP($H1004,Récapitulatif!$J$14:$M$24,2,FALSE)=0,\"\",VLOOKUP(H1004,Récapitulatif!$J$14:$M$24,2,FALSE)),\"\")","v":""},0,7.5]
[2024,"2024-09-28",{"$f":"IFERROR(IF(VLOOKUP($B1005,Récapitulatif!$J$64:$M$68,2,FALSE)=0,\"\",VLOOKUP($B1005,Récapitulatif!$J$64:$M$68,2,FALSE)),\"\")","v":""},0,-7.5,null,2024,"2024-09-28",{"$f":"IFERROR(IF(VLOOKUP($H1005,Récapitulatif!$J$14:$M$24,2,FALSE)=0,\"\",VLOOKUP(H1005,Récapitulatif!$J$14:$M$24,2,FALSE)),\"\")","v":""},0,7.5]
[2024,"2024-09-29",{"$f":"IFERROR(IF(VLOOKUP($B1006,Récapitulatif!$J$64:$M$68,2,FALSE)=0,\"\",VLOOKUP($B1006,Récapitulatif!$J$64:$M$68,2,FALSE)),\"\")","v":""},0,-7.5,null,2024,"2024-09-29",{"$f":"IFERROR(IF(VLOOKUP($H1006,Récapitulatif!$J$14:$M$24,2,FALSE)=0,\"\",VLOOKUP(H1006,Récapitulatif!$J$14:$M$24,2,FALSE)),\"\")","v":""},0,7.5]
[2024,"2024-09-30",{"$f":"IFERROR(IF(VLOOKUP($B1007,Récapitulatif!$J$64:$M$68,2,FALSE)=0,\"\",VLOOKUP($B1007,Récapitulatif!$J$64:$M$68,2,FALSE)),\"\")","v":""},0,-7.5,null,2024,"2024-09-30",{"$f":"IFERROR(IF(VLOOKUP($H1007,Récapitulatif!$J$14:$M$24,2,FALSE)=0,\"\",VLOOKUP(H1007,Récapitulatif!$J$14:$M$24,2,FALSE)),\"\")","v":""},0,7.5]
[2024,"2024-10-01",{"$f":"IFERROR(IF(VLOOKUP($B1008,Récapitulatif!$J$64:$M$68,2,FALSE)=0,\"\",VLOOKUP($B1008,Récapitulatif!$J$64:$M$68,2,FALSE)),\"\")","v":""},0,-4.5,null,2024,"2024-10-01",{"$f":"IFERROR(IF(VLOOKUP($H1008,Récapitulatif!$J$14:$M$24,2,FALSE)=0,\"\",VLOOKUP(H1008,Récapitulatif!$J$14:$M$24,2,FALSE)),\"\")","v":""},0,4.5]
[2024,"2024-10-02",{"$f":"IFERROR(IF(VLOOKUP($B1009,Récapitulatif!$J$64:$M$68,2,FALSE)=0,\"\",VLOOKUP($B1009,Récapitulatif!$J$64:$M$68,2,FALSE)),\"\")","v":""},0,-4.5,null,2024,"2024-10-02",{"$f":"IFERROR(IF(VLOOKUP($H1009,Récapitulatif!$J$14:$M$24,2,FALSE)=0,\"\",VLOOKUP(H1009,Récapitulatif!$J$14:$M$24,2,FALSE)),\"\")","v":""},0,4.5]
[2024,"2024-10-03",{"$f":"IFERROR(IF(VLOOKUP($B1010,Récapitulatif!$J$64:$M$68,2,FALSE)=0,\"\",VLOOKUP($B1010,Récapitulatif!$J$64:$M$68,2,FALSE)),\"\")","v":""},0,-4.5,null,2024,"2024-10-03",{"$f":"IFERROR(IF(VLOOKUP($H1010,Récapitulatif!$J$14:$M$24,2,FALSE)=0,\"\",VLOOKUP(H1010,Récapitulatif!$J$14:$M$24,2,FALSE)),\"\")","v":""},0,4.5]
[2024,"2024-10-04",{"$f":"IFERROR(IF(VLOOKUP($B1011,Récapitulatif!$J$64:$M$68,2,FALSE)=0,\"\",VLOOKUP($B1011,Récapitulatif!$J$64:$M$68,2,FALSE)),\"\")","v":""},0,-4.5,null,2024,"2024-10-04",{"$f":"IFERROR(IF(VLOOKUP($H1011,Récapitulatif!$J$14:$M$24,2,FALSE)=0,\"\",VLOOKUP(H1011,Récapitulatif!$J$14:$M$24,2,FALSE)),\"\")","v":""},0,4.5]
[2024,"2024-10-05",{"$f":"IFERROR(IF(VLOOKUP($B1012,Récapitulatif!$J$64:$M$68,2,FALSE)=0,\"\",VLOOKUP($B1012,Récapitulatif!$J$64:$M$68,2,FALSE)),\"\")","v":""},0,-4.5,null,2024,"2024-10-05",{"$f":"IFERROR(IF(VLOOKUP($H1012,Récapitulatif!$J$14:$M$24,2,FALSE)=0,\"\",VLOOKUP(H1012,Récapitulatif!$J$14:$M$24,2,FALSE)),\"\")","v":""},0,4.5]
[2024,"2024-10-06",{"$f":"IFERROR(IF(VLOOKUP($B1013,Récapitulatif!$J$64:$M$68,2,FALSE)=0,\"\",VLOOKUP($B1013,Récapitulatif!$J$64:$M$68,2,FALSE)),\"\")","v":""},0,-4.5,null,2024,"2024-10-06",{"$f":"IFERROR(IF(VLOOKUP($H1013,Récapitulatif!$J$14:$M$24,2,FALSE)=0,\"\",VLOOKUP(H1013,Récapitulatif!$J$14:$M$24,2,FALSE)),\"\")","v":""},0,4.5]
[2024,"2024-10-07",{"$f":"IFERROR(IF(VLOOKUP($B1014,Récapitulatif!$J$64:$M$68,2,FALSE)=0,\"\",VLOOKUP($B1014,Récapitulatif!$J$64:$M$68,2,FALSE)),\"\")","v":""},0,-4.5,null,2024,"2024-10-07",{"$f":"IFERROR(IF(VLOOKUP($H1014,Récapitulatif!$J$14:$M$24,2,FALSE)=0,\"\",VLOOKUP(H1014,Récapitulatif!$J$14:$M$24,2,FALSE)),\"\")","v":""},0,4.5]
[2024,"2024-10-08",{"$f":"IFERROR(IF(VLOOKUP($B1015,Récapitulatif!$J$64:$M$68,2,FALSE)=0,\"\",VLOOKUP($B1015,Récapitulatif!$J$64:$M$68,2,FALSE)),\"\")","v":""},0,-4.5,null,2024,"2024-10-08",{"$f":"IFERROR(IF(VLOOKUP($H1015,Récapitulatif!$J$14:$M$24,2,FALSE)=0,\"\",VLOOKUP(H1015,Récapitulatif!$J$14:$M$24,2,FALSE)),\"\")","v":""},0,4.5]
[2024,"2024-10-09",{"$f":"IFERROR(IF(VLOOKUP($B1016,Récapitulatif!$J$64:$M$68,2,FALSE)=0,\"\",VLOOKUP($B1016,Récapitulatif!$J$64:$M$68,2,FALSE)),\"\")","v":""},0,-4.5,null,2024,"2024-10-09",{"$f":"IFERROR(IF(VLOOKUP($H1016,Récapitulatif!$J$14:$M$24,2,FALSE)=0,\"\",VLOOKUP(H1016,Récapitulatif!$J$14:$M$24,2,FALSE)),\"\")","v":""},0,4.5]
[2024,"2024-10-10",{"$f":"IFERROR(IF(VLOOKUP($B1017,Récapitulatif!$J$64:$M$68,2,FALSE)=0,\"\",VLOOKUP($B1017,Récapitulatif!$J$64:$M$68,2,FALSE)),\"\")","v":""},0,-4.5,null,2024,"2024-10-10",{"$f":"IFERROR(IF(VLOOKUP($H1017,Récapitulatif!$J$14:$M$24,2,FALSE)=0,\"\",VLOOKUP(H1017,Récapitulatif!$J$14:$M$24,2,FALSE)),\"\")","v":""},0,4.5]
[2024,"2024-10-11",{"$f":"IFERROR(IF(VLOOKUP($B1018,Récapitulatif!$J$64:$M$68,2,FALSE)=0,\"\",VLOOKUP($B1018,Récapitulatif!$J$64:$M$68,2,FALSE)),\"\")","v":""},0,-4.5,null,2024,"2024-10-11",{"$f":"IFERROR(IF(VLOOKUP($H1018,Récapitulatif!$J$14:$M$24,2,FALSE)=0,\"\",VLOOKUP(H1018,Récapitulatif!$J$14:$M$24,2,FALSE)),\"\")","v":""},0,4.5]
[2024,"2024-10-12",{"$f":"IFERROR(IF(VLOOKUP($B1019,Récapitulatif!$J$64:$M$68,2,FALSE)=0,\"\",VLOOKUP($B1019,Récapitulatif!$J$64:$M$68,2,FALSE)),\"\")","v":""},0,-4.5,null,2024,"2024-10-12",{"$f":"IFERROR(IF(VLOOKUP($H1019,Récapitulatif!$J$14:$M$24,2,FALSE)=0,\"\",VLOOKUP(H1019,Récapitulatif!$J$14:$M$24,2,FALSE)),\"\")","v":""},0,4.5]
[2024,"2024-10-13",{"$f":"IFERROR(IF(VLOOKUP($B1020,Récapitulatif!$J$64:$M$68,2,FALSE)=0,\"\",VLOOKUP($B1020,Récapitulatif!$J$64:$M$68,2,FALSE)),\"\")","v":""},0,-4.5,null,2024,"2024-10-13",{"$f":"IFERROR(IF(VLOOKUP($H1020,Récapitulatif!$J$14:$M$24,2,FALSE)=0,\"\",VLOOKUP(H1020,Récapitulatif!$J$14:$M$24,2,FALSE)),\"\")","v":""},0,4.5]
[2024,"2024-10-14",{"$f":"IFERROR(IF(VLOOKUP($B1021,Récapitulatif!$J$64:$M$68,2,FALSE)=0,\"\",VLOOKUP($B1021,Récapitulatif!$J$64:$M$68,2,FALSE)),\"\")","v":""},0,-4.5,null,2024,"2024-10-14",{"$f":"IFERROR(IF(VLOOKUP($H1021,Récapitulatif!$J$14:$M$24,2,FALSE)=0,\"\",VLOOKUP(H1021,Récapitulatif!$J$14:$M$24,2,FALSE)),\"\")","v":""},0,4.5]
[2024,"2024-10-15",{"$f":"IFERROR(IF(VLOOKUP($B1022,Récapitulatif!$J$64:$M$68,2,FALSE)=0,\"\",VLOOKUP($B1022,Récapitulatif!$J$64:$M$68,2,FALSE)),\"\")","v":""},0,-4.5,null,2024,"2024-10-15",{"$f":"IFERROR(IF(VLOOKUP($H1022,Récapitulatif!$J$14:$M$24,2,FALSE)=0,\"\",VLOOKUP(H1022,Récapitulatif!$J$14:$M$24,2,FALSE)),\"\")","v":""},0,4.5]
[2024,"2024-10-16",{"$f":"IFERROR(IF(VLOOKUP($B1023,Récapitulatif!$J$64:$M$68,2,FALSE)=0,\"\",VLOOKUP($B1023,Récapitulatif!$J$64:$M$68,2,FALSE)),\"\")","v":""},0,-4.5,null,2024,"2024-10-16",{"$f":"IFERROR(IF(VLOOKUP($H1023,Récapitulatif!$J$14:$M$24,2,FALSE)=0,\"\",VLOOKUP(H1023,Récapitulatif!$J$14:$M$24,2,FALSE)),\"\")","v":""},0,4.5]
[2024,"2024-10-17",{"$f":"IFERROR(IF(VLOOKUP($B1024,Récapitulatif!$J$64:$M$68,2,FALSE)=0,\"\",VLOOKUP($B1024,Récapitulatif!$J$64:$M$68,2,FALSE)),\"\")","v":""},0,-4.5,null,2024,"2024-10-17",{"$f":"IFERROR(IF(VLOOKUP($H1024,Récapitulatif!$J$14:$M$24,2,FALSE)=0,\"\",VLOOKUP(H1024,Récapitulatif!$J$14:$M$24,2,FALSE)),\"\")","v":""},0,4.5]
[2024,"2024-10-18",{"$f":"IFERROR(IF(VLOOKUP($B1025,Récapitulatif!$J$64:$M$68,2,FALSE)=0,\"\",VLOOKUP($B1025,Récapitulatif!$J$64:$M$68,2,FALSE)),\"\")","v":""},0,-4.5,null,2024,"2024-10-18",{"$f":"IFERROR(IF(VLOOKUP($H1025,Récapitulatif!$J$14:$M$24,2,FALSE)=0,\"\",VLOOKUP(H1025,Récapitulatif!$J$14:$M$24,2,FALSE)),\"\")","v":""},0,4.5]
[2024,"2024-10-19",{"$f":"IFERROR(IF(VLOOKUP($B1026,Récapitulatif!$J$64:$M$68,2,FALSE)=0,\"\",VLOOKUP($B1026,Récapitulatif!$J$64:$M$68,2,FALSE)),\"\")","v":""},0,-4.5,null,2024,"2024-10-19",{"$f":"IFERROR(IF(VLOOKUP($H1026,Récapitulatif!$J$14:$M$24,2,FALSE)=0,\"\",VLOOKUP(H1026,Récapitulatif!$J$14:$M$24,2,FALSE)),\"\")","v":""},0,4.5]
[2024,"2024-10-20",{"$f":"IFERROR(IF(VLOOKUP($B1027,Récapitulatif!$J$64:$M$68,2,FALSE)=0,\"\",VLOOKUP($B1027,Récapitulatif!$J$64:$M$68,2,FALSE)),\"\")","v":""},0,-4.5,null,2024,"2024-10-20",{"$f":"IFERROR(IF(VLOOKUP($H1027,Récapitulatif!$J$14:$M$24,2,FALSE)=0,\"\",VLOOKUP(H1027,Récapitulatif!$J$14:$M$24,2,FALSE)),\"\")","v":""},0,4.5]
[2024,"2024-10-21",{"$f":"IFERROR(IF(VLOOKUP($B1028,Récapitulatif!$J$64:$M$68,2,FALSE)=0,\"\",VLOOKUP($B1028,Récapitulatif!$J$64:$M$68,2,FALSE)),\"\")","v":""},0,-4.5,null,2024,"2024-10-21",{"$f":"IFERROR(IF(VLOOKUP($H1028,Récapitulatif!$J$14:$M$24,2,FALSE)=0,\"\",VLOOKUP(H1028,Récapitulatif!$J$14:$M$24,2,FALSE)),\"\")","v":""},0,4.5]
[2024,"2024-10-22",{"$f":"IFERROR(IF(VLOOKUP($B1029,Récapitulatif!$J$64:$M$68,2,FALSE)=0,\"\",VLOOKUP($B1029,Récapitulatif!$J$64:$M$68,2,FALSE)),\"\")","v":""},0,-4.5,null,2024,"2024-10-22",{"$f":"IFERROR(IF(VLOOKUP($H1029,Récapitulatif!$J$14:$M$24,2,FALSE)=0,\"\",VLOOKUP(H1029,Récapitulatif!$J$14:$M$24,2,FALSE)),\"\")","v":""},0,4.5]
[2024,"2024-10-23",{"$f":"IFERROR(IF(VLOOKUP($B1030,Récapitulatif!$J$64:$M$68,2,FALSE)=0,\"\",VLOOKUP($B1030,Récapitulatif!$J$64:$M$68,2,FALSE)),\"\")","v":""},{"$f":"IF($C1030=\"\",0,$E1030)","v":0},-4.5,null,2024,"2024-10-23",{"$f":"IFERROR(IF(VLOOKUP($H1030,Récapitulatif!$J$14:$M$24,2,FALSE)=0,\"\",VLOOKUP(H1030,Récapitulatif!$J$14:$M$24,2,FALSE)),\"\")","v":""},{"$f":"IF($I1030=\"\",0,$K1030)","v":0},4.5]
[{"$f":"YEAR(B1031)","v":2024},{"$f":"B1030+1","v":"2024-10-24"},{"$f":"IFERROR(IF(VLOOKUP($B1031,Récapitulatif!$J$64:$M$68,2,FALSE)=0,\"\",VLOOKUP($B1031,Récapitulatif!$J$64:$M$68,2,FALSE)),\"\")","v":""},0,-4.5,null,{"$f":"YEAR(H1031)","v":2024},{"$f":"H1030+1","v":"2024-10-24"},{"$f":"IFERROR(IF(VLOOKUP($H1031,Récapitulatif!$J$14:$M$24,2,FALSE)=0,\"\",VLOOKUP(H1031,Récapitulatif!$J$14:$M$24,2,FALSE)),\"\")","v":""},0,4.5]
[2024,"2024-10-25",{"$f":"IFERROR(IF(VLOOKUP($B1032,Récapitulatif!$J$64:$M$68,2,FALSE)=0,\"\",VLOOKUP($B1032,Récapitulatif!$J$64:$M$68,2,FALSE)),\"\")","v":""},0,-4.5,null,2024,"2024-10-25",{"$f":"IFERROR(IF(VLOOKUP($H1032,Récapitulatif!$J$14:$M$24,2,FALSE)=0,\"\",VLOOKUP(H1032,Récapitulatif!$J$14:$M$24,2,FALSE)),\"\")","v":""},0,4.5]
[2024,"2024-10-26",{"$f":"IFERROR(IF(VLOOKUP($B1033,Récapitulatif!$J$64:$M$68,2,FALSE)=0,\"\",VLOOKUP($B1033,Récapitulatif!$J$64:$M$68,2,FALSE)),\"\")","v":""},0,-4.5,null,2024,"2024-10-26",{"$f":"IFERROR(IF(VLOOKUP($H1033,Récapitulatif!$J$14:$M$24,2,FALSE)=0,\"\",VLOOKUP(H1033,Récapitulatif!$J$14:$M$24,2,FALSE)),\"\")","v":""},0,4.5]
[2024,"2024-10-27",{"$f":"IFERROR(IF(VLOOKUP($B1034,Récapitulatif!$J$64:$M$68,2,FALSE)=0,\"\",VLOOKUP($B1034,Récapitulatif!$J$64:$M$68,2,FALSE)),\"\")","v":""},0,-4.5,null,2024,"2024-10-27",{"$f":"IFERROR(IF(VLOOKUP($H1034,Récapitulatif!$J$14:$M$24,2,FALSE)=0,\"\",VLOOKUP(H1034,Récapitulatif!$J$14:$M$24,2,FALSE)),\"\")","v":""},0,4.5]
[2024,"2024-10-28",{"$f":"IFERROR(IF(VLOOKUP($B1035,Récapitulatif!$J$64:$M$68,2,FALSE)=0,\"\",VLOOKUP($B1035,Récapitulatif!$J$64:$M$68,2,FALSE)),\"\")","v":""},0,-4.5,null,2024,"2024-10-28",{"$f":"IFERROR(IF(VLOOKUP($H1035,Récapitulatif!$J$14:$M$24,2,FALSE)=0,\"\",VLOOKUP(H1035,Récapitulatif!$J$14:$M$24,2,FALSE)),\"\")","v":""},0,4.5]
[2024,"2024-10-29",{"$f":"IFERROR(IF(VLOOKUP($B1036,Récapitulatif!$J$64:$M$68,2,FALSE)=0,\"\",VLOOKUP($B1036,Récapitulatif!$J$64:$M$68,2,FALSE)),\"\")","v":""},0,-4.5,null,2024,"2024-10-29",{"$f":"IFERROR(IF(VLOOKUP($H1036,Récapitulatif!$J$14:$M$24,2,FALSE)=0,\"\",VLOOKUP(H1036,Récapitulatif!$J$14:$M$24,2,FALSE)),\"\")","v":""},0,4.5]
[2024,"2024-10-30",{"$f":"IFERROR(IF(VLOOKUP($B1037,Récapitulatif!$J$64:$M$68,2,FALSE)=0,\"\",VLOOKUP($B1037,Récapitulatif!$J$64:$M$68,2,FALSE)),\"\")","v":""},0,-4.5,null,2024,"2024-10-30",{"$f":"IFERROR(IF(VLOOKUP($H1037,Récapitulatif!$J$14:$M$24,2,FALSE)=0,\"\",VLOOKUP(H1037,Récapitulatif!$J$14:$M$24,2,FALSE)),\"\")","v":""},0,4.5]
[2024,"2024-10-31",{"$f":"IFERROR(IF(VLOOKUP($B1038,Récapitulatif!$J$64:$M$68,2,FALSE)=0,\"\",VLOOKUP($B1038,Récapitulatif!$J$64:$M$68,2,FALSE)),\"\")","v":""},0,-4.5,null,2024,"2024-10-31",{"$f":"IFERROR(IF(VLOOKUP($H1038,Récapitulatif!$J$14:$M$24,2,FALSE)=0,\"\",VLOOKUP(H1038,Récapitulatif!$J$14:$M$24,2,FALSE)),\"\")","v":""},0,4.5]
[2024,"2024-11-01",{"$f":"IFERROR(IF(VLOOKUP($B1039,Récapitulatif!$J$64:$M$68,2,FALSE)=0,\"\",VLOOKUP($B1039,Récapitulatif!$J$64:$M$68,2,FALSE)),\"\")","v":""},0,-13.5,null,2024,"2024-11-01",{"$f":"IFERROR(IF(VLOOKUP($H1039,Récapitulatif!$J$14:$M$24,2,FALSE)=0,\"\",VLOOKUP(H1039,Récapitulatif!$J$14:$M$24,2,FALSE)),\"\")","v":""},0,13.5]
[2024,"2024-11-02",{"$f":"IFERROR(IF(VLOOKUP($B1040,Récapitulatif!$J$64:$M$68,2,FALSE)=0,\"\",VLOOKUP($B1040,Récapitulatif!$J$64:$M$68,2,FALSE)),\"\")","v":""},0,-13.5,null,2024,"2024-11-02",{"$f":"IFERROR(IF(VLOOKUP($H1040,Récapitulatif!$J$14:$M$24,2,FALSE)=0,\"\",VLOOKUP(H1040,Récapitulatif!$J$14:$M$24,2,FALSE)),\"\")","v":""},0,13.5]
[2024,"2024-11-03",{"$f":"IFERROR(IF(VLOOKUP($B1041,Récapitulatif!$J$64:$M$68,2,FALSE)=0,\"\",VLOOKUP($B1041,Récapitulatif!$J$64:$M$68,2,FALSE)),\"\")","v":""},0,-13.5,null,2024,"2024-11-03",{"$f":"IFERROR(IF(VLOOKUP($H1041,Récapitulatif!$J$14:$M$24,2,FALSE)=0,\"\",VLOOKUP(H1041,Récapitulatif!$J$14:$M$24,2,FALSE)),\"\")","v":""},0,13.5]
[2024,"2024-11-04",{"$f":"IFERROR(IF(VLOOKUP($B1042,Récapitulatif!$J$64:$M$68,2,FALSE)=0,\"\",VLOOKUP($B1042,Récapitulatif!$J$64:$M$68,2,FALSE)),\"\")","v":""},0,-13.5,null,2024,"2024-11-04",{"$f":"IFERROR(IF(VLOOKUP($H1042,Récapitulatif!$J$14:$M$24,2,FALSE)=0,\"\",VLOOKUP(H1042,Récapitulatif!$J$14:$M$24,2,FALSE)),\"\")","v":""},0,13.5]
[2024,"2024-11-05",{"$f":"IFERROR(IF(VLOOKUP($B1043,Récapitulatif!$J$64:$M$68,2,FALSE)=0,\"\",VLOOKUP($B1043,Récapitulatif!$J$64:$M$68,2,FALSE)),\"\")","v":""},0,-13.5,null,2024,"2024-11-05",{"$f":"IFERROR(IF(VLOOKUP($H1043,Récapitulatif!$J$14:$M$24,2,FALSE)=0,\"\",VLOOKUP(H1043,Récapitulatif!$J$14:$M$24,2,FALSE)),\"\")","v":""},0,13.5]
[2024,"2024-11-06",{"$f":"IFERROR(IF(VLOOKUP($B1044,Récapitulatif!$J$64:$M$68,2,FALSE)=0,\"\",VLOOKUP($B1044,Récapitulatif!$J$64:$M$68,2,FALSE)),\"\")","v":""},0,-13.5,null,2024,"2024-11-06",{"$f":"IFERROR(IF(VLOOKUP($H1044,Récapitulatif!$J$14:$M$24,2,FALSE)=0,\"\",VLOOKUP(H1044,Récapitulatif!$J$14:$M$24,2,FALSE)),\"\")","v":""},0,13.5]
[2024,"2024-11-07",{"$f":"IFERROR(IF(VLOOKUP($B1045,Récapitulatif!$J$64:$M$68,2,FALSE)=0,\"\",VLOOKUP($B1045,Récapitulatif!$J$64:$M$68,2,FALSE)),\"\")","v":""},0,-13.5,null,2024,"2024-11-07",{"$f":"IFERROR(IF(VLOOKUP($H1045,Récapitulatif!$J$14:$M$24,2,FALSE)=0,\"\",VLOOKUP(H1045,Récapitulatif!$J$14:$M$24,2,FALSE)),\"\")","v":""},0,13.5]
[2024,"2024-11-08",{"$f":"IFERROR(IF(VLOOKUP($B1046,Récapitulatif!$J$64:$M$68,2,FALSE)=0,\"\",VLOOKUP($B1046,Récapitulatif!$J$64:$M$68,2,FALSE)),\"\")","v":""},0,-13.5,null,2024,"2024-11-08",{"$f":"IFERROR(IF(VLOOKUP($H1046,Récapitulatif!$J$14:$M$24,2,FALSE)=0,\"\",VLOOKUP(H1046,Récapitulatif!$J$14:$M$24,2,FALSE)),\"\")","v":""},0,13.5]
[2024,"2024-11-09",{"$f":"IFERROR(IF(VLOOKUP($B1047,Récapitulatif!$J$64:$M$68,2,FALSE)=0,\"\",VLOOKUP($B1047,Récapitulatif!$J$64:$M$68,2,FALSE)),\"\")","v":""},0,-13.5,null,2024,"2024-11-09",{"$f":"IFERROR(IF(VLOOKUP($H1047,Récapitulatif!$J$14:$M$24,2,FALSE)=0,\"\",VLOOKUP(H1047,Récapitulatif!$J$14:$M$24,2,FALSE)),\"\")","v":""},0,13.5]
[2024,"2024-11-10",{"$f":"IFERROR(IF(VLOOKUP($B1048,Récapitulatif!$J$64:$M$68,2,FALSE)=0,\"\",VLOOKUP($B1048,Récapitulatif!$J$64:$M$68,2,FALSE)),\"\")","v":""},0,-13.5,null,2024,"2024-11-10",{"$f":"IFERROR(IF(VLOOKUP($H1048,Récapitulatif!$J$14:$M$24,2,FALSE)=0,\"\",VLOOKUP(H1048,Récapitulatif!$J$14:$M$24,2,FALSE)),\"\")","v":""},0,13.5]
[2024,"2024-11-11",{"$f":"IFERROR(IF(VLOOKUP($B1049,Récapitulatif!$J$64:$M$68,2,FALSE)=0,\"\",VLOOKUP($B1049,Récapitulatif!$J$64:$M$68,2,FALSE)),\"\")","v":""},0,-13.5,null,2024,"2024-11-11",{"$f":"IFERROR(IF(VLOOKUP($H1049,Récapitulatif!$J$14:$M$24,2,FALSE)=0,\"\",VLOOKUP(H1049,Récapitulatif!$J$14:$M$24,2,FALSE)),\"\")","v":""},0,13.5]
[2024,"2024-11-12",{"$f":"IFERROR(IF(VLOOKUP($B1050,Récapitulatif!$J$64:$M$68,2,FALSE)=0,\"\",VLOOKUP($B1050,Récapitulatif!$J$64:$M$68,2,FALSE)),\"\")","v":""},0,-13.5,null,2024,"2024-11-12",{"$f":"IFERROR(IF(VLOOKUP($H1050,Récapitulatif!$J$14:$M$24,2,FALSE)=0,\"\",VLOOKUP(H1050,Récapitulatif!$J$14:$M$24,2,FALSE)),\"\")","v":""},0,13.5]
[2024,"2024-11-13",{"$f":"IFERROR(IF(VLOOKUP($B1051,Récapitulatif!$J$64:$M$68,2,FALSE)=0,\"\",VLOOKUP($B1051,Récapitulatif!$J$64:$M$68,2,FALSE)),\"\")","v":""},0,-13.5,null,2024,"2024-11-13",{"$f":"IFERROR(IF(VLOOKUP($H1051,Récapitulatif!$J$14:$M$24,2,FALSE)=0,\"\",VLOOKUP(H1051,Récapitulatif!$J$14:$M$24,2,FALSE)),\"\")","v":""},0,13.5]
[2024,"2024-11-14",{"$f":"IFERROR(IF(VLOOKUP($B1052,Récapitulatif!$J$64:$M$68,2,FALSE)=0,\"\",VLOOKUP($B1052,Récapitulatif!$J$64:$M$68,2,FALSE)),\"\")","v":""},0,-13.5,null,2024,"2024-11-14",{"$f":"IFERROR(IF(VLOOKUP($H1052,Récapitulatif!$J$14:$M$24,2,FALSE)=0,\"\",VLOOKUP(H1052,Récapitulatif!$J$14:$M$24,2,FALSE)),\"\")","v":""},0,13.5]
[2024,"2024-11-15",{"$f":"IFERROR(IF(VLOOKUP($B1053,Récapitulatif!$J$64:$M$68,2,FALSE)=0,\"\",VLOOKUP($B1053,Récapitulatif!$J$64:$M$68,2,FALSE)),\"\")","v":""},0,-13.5,null,2024,"2024-11-15",{"$f":"IFERROR(IF(VLOOKUP($H1053,Récapitulatif!$J$14:$M$24,2,FALSE)=0,\"\",VLOOKUP(H1053,Récapitulatif!$J$14:$M$24,2,FALSE)),\"\")","v":""},0,13.5]
[2024,"2024-11-16",{"$f":"IFERROR(IF(VLOOKUP($B1054,Récapitulatif!$J$64:$M$68,2,FALSE)=0,\"\",VLOOKUP($B1054,Récapitulatif!$J$64:$M$68,2,FALSE)),\"\")","v":""},0,-13.5,null,2024,"2024-11-16",{"$f":"IFERROR(IF(VLOOKUP($H1054,Récapitulatif!$J$14:$M$24,2,FALSE)=0,\"\",VLOOKUP(H1054,Récapitulatif!$J$14:$M$24,2,FALSE)),\"\")","v":""},0,13.5]
[2024,"2024-11-17",{"$f":"IFERROR(IF(VLOOKUP($B1055,Récapitulatif!$J$64:$M$68,2,FALSE)=0,\"\",VLOOKUP($B1055,Récapitulatif!$J$64:$M$68,2,FALSE)),\"\")","v":""},0,-13.5,null,2024,"2024-11-17",{"$f":"IFERROR(IF(VLOOKUP($H1055,Récapitulatif!$J$14:$M$24,2,FALSE)=0,\"\",VLOOKUP(H1055,Récapitulatif!$J$14:$M$24,2,FALSE)),\"\")","v":""},0,13.5]
[2024,"2024-11-18",{"$f":"IFERROR(IF(VLOOKUP($B1056,Récapitulatif!$J$64:$M$68,2,FALSE)=0,\"\",VLOOKUP($B1056,Récapitulatif!$J$64:$M$68,2,FALSE)),\"\")","v":""},0,-13.5,null,2024,"2024-11-18",{"$f":"IFERROR(IF(VLOOKUP($H1056,Récapitulatif!$J$14:$M$24,2,FALSE)=0,\"\",VLOOKUP(H1056,Récapitulatif!$J$14:$M$24,2,FALSE)),\"\")","v":""},0,13.5]
[2024,"2024-11-19",{"$f":"IFERROR(IF(VLOOKUP($B1057,Récapitulatif!$J$64:$M$68,2,FALSE)=0,\"\",VLOOKUP($B1057,Récapitulatif!$J$64:$M$68,2,FALSE)),\"\")","v":""},0,-13.5,null,2024,"2024-11-19",{"$f":"IFERROR(IF(VLOOKUP($H1057,Récapitulatif!$J$14:$M$24,2,FALSE)=0,\"\",VLOOKUP(H1057,Récapitulatif!$J$14:$M$24,2,FALSE)),\"\")","v":""},0,13.5]
[2024,"2024-11-20",{"$f":"IFERROR(IF(VLOOKUP($B1058,Récapitulatif!$J$64:$M$68,2,FALSE)=0,\"\",VLOOKUP($B1058,Récapitulatif!$J$64:$M$68,2,FALSE)),\"\")","v":""},0,-13.5,null,2024,"2024-11-20",{"$f":"IFERROR(IF(VLOOKUP($H1058,Récapitulatif!$J$14:$M$24,2,FALSE)=0,\"\",VLOOKUP(H1058,Récapitulatif!$J$14:$M$24,2,FALSE)),\"\")","v":""},0,13.5]
[2024,"2024-11-21",{"$f":"IFERROR(IF(VLOOKUP($B1059,Récapitulatif!$J$64:$M$68,2,FALSE)=0,\"\",VLOOKUP($B1059,Récapitulatif!$J$64:$M$68,2,FALSE)),\"\")","v":""},0,-13.5,null,2024,"2024-11-21",{"$f":"IFERROR(IF(VLOOKUP($H1059,Récapitulatif!$J$14:$M$24,2,FALSE)=0,\"\",VLOOKUP(H1059,Récapitulatif!$J$14:$M$24,2,FALSE)),\"\")","v":""},0,13.5]
[2024,"2024-11-22",{"$f":"IFERROR(IF(VLOOKUP($B1060,Récapitulatif!$J$64:$M$68,2,FALSE)=0,\"\",VLOOKUP($B1060,Récapitulatif!$J$64:$M$68,2,FALSE)),\"\")","v":""},0,-13.5,null,2024,"2024-11-22",{"$f":"IFERROR(IF(VLOOKUP($H1060,Récapitulatif!$J$14:$M$24,2,FALSE)=0,\"\",VLOOKUP(H1060,Récapitulatif!$J$14:$M$24,2,FALSE)),\"\")","v":""},0,13.5]
[2024,"2024-11-23",{"$f":"IFERROR(IF(VLOOKUP($B1061,Récapitulatif!$J$64:$M$68,2,FALSE)=0,\"\",VLOOKUP($B1061,Récapitulatif!$J$64:$M$68,2,FALSE)),\"\")","v":""},0,-13.5,null,2024,"2024-11-23",{"$f":"IFERROR(IF(VLOOKUP($H1061,Récapitulatif!$J$14:$M$24,2,FALSE)=0,\"\",VLOOKUP(H1061,Récapitulatif!$J$14:$M$24,2,FALSE)),\"\")","v":""},0,13.5]
[2024,"2024-11-24",{"$f":"IFERROR(IF(VLOOKUP($B1062,Récapitulatif!$J$64:$M$68,2,FALSE)=0,\"\",VLOOKUP($B1062,Récapitulatif!$J$64:$M$68,2,FALSE)),\"\")","v":""},0,-13.5,null,2024,"2024-11-24",{"$f":"IFERROR(IF(VLOOKUP($H1062,Récapitulatif!$J$14:$M$24,2,FALSE)=0,\"\",VLOOKUP(H1062,Récapitulatif!$J$14:$M$24,2,FALSE)),\"\")","v":""},0,13.5]
[2024,"2024-11-25",{"$f":"IFERROR(IF(VLOOKUP($B1063,Récapitulatif!$J$64:$M$68,2,FALSE)=0,\"\",VLOOKUP($B1063,Récapitulatif!$J$64:$M$68,2,FALSE)),\"\")","v":""},0,-13.5,null,2024,"2024-11-25",{"$f":"IFERROR(IF(VLOOKUP($H1063,Récapitulatif!$J$14:$M$24,2,FALSE)=0,\"\",VLOOKUP(H1063,Récapitulatif!$J$14:$M$24,2,FALSE)),\"\")","v":""},0,13.5]
[2024,"2024-11-26",{"$f":"IFERROR(IF(VLOOKUP($B1064,Récapitulatif!$J$64:$M$68,2,FALSE)=0,\"\",VLOOKUP($B1064,Récapitulatif!$J$64:$M$68,2,FALSE)),\"\")","v":""},0,-13.5,null,2024,"2024-11-26",{"$f":"IFERROR(IF(VLOOKUP($H1064,Récapitulatif!$J$14:$M$24,2,FALSE)=0,\"\",VLOOKUP(H1064,Récapitulatif!$J$14:$M$24,2,FALSE)),\"\")","v":""},0,13.5]
[2024,"2024-11-27",{"$f":"IFERROR(IF(VLOOKUP($B1065,Récapitulatif!$J$64:$M$68,2,FALSE)=0,\"\",VLOOKUP($B1065,Récapitulatif!$J$64:$M$68,2,FALSE)),\"\")","v":""},0,-13.5,null,2024,"2024-11-27",{"$f":"IFERROR(IF(VLOOKUP($H1065,Récapitulatif!$J$14:$M$24,2,FALSE)=0,\"\",VLOOKUP(H1065,Récapitulatif!$J$14:$M$24,2,FALSE)),\"\")","v":""},0,13.5]
[2024,"2024-11-28",{"$f":"IFERROR(IF(VLOOKUP($B1066,Récapitulatif!$J$64:$M$68,2,FALSE)=0,\"\",VLOOKUP($B1066,Récapitulatif!$J$64:$M$68,2,FALSE)),\"\")","v":""},0,-13.5,null,2024,"2024-11-28",{"$f":"IFERROR(IF(VLOOKUP($H1066,Récapitulatif!$J$14:$M$24,2,FALSE)=0,\"\",VLOOKUP(H1066,Récapitulatif!$J$14:$M$24,2,FALSE)),\"\")","v":""},0,13.5]
[2024,"2024-11-29",{"$f":"IFERROR(IF(VLOOKUP($B1067,Récapitulatif!$J$64:$M$68,2,FALSE)=0,\"\",VLOOKUP($B1067,Récapitulatif!$J$64:$M$68,2,FALSE)),\"\")","v":""},0,-13.5,null,2024,"2024-11-29",{"$f":"IFERROR(IF(VLOOKUP($H1067,Récapitulatif!$J$14:$M$24,2,FALSE)=0,\"\",VLOOKUP(H1067,Récapitulatif!$J$14:$M$24,2,FALSE)),\"\")","v":""},0,13.5]
[2024,"2024-11-30",{"$f":"IFERROR(IF(VLOOKUP($B1068,Récapitulatif!$J$64:$M$68,2,FALSE)=0,\"\",VLOOKUP($B1068,Récapitulatif!$J$64:$M$68,2,FALSE)),\"\")","v":""},0,-13.5,null,2024,"2024-11-30",{"$f":"IFERROR(IF(VLOOKUP($H1068,Récapitulatif!$J$14:$M$24,2,FALSE)=0,\"\",VLOOKUP(H1068,Récapitulatif!$J$14:$M$24,2,FALSE)),\"\")","v":""},0,13.5]
[2024,"2024-12-01",{"$f":"IFERROR(IF(VLOOKUP($B1069,Récapitulatif!$J$64:$M$68,2,FALSE)=0,\"\",VLOOKUP($B1069,Récapitulatif!$J$64:$M$68,2,FALSE)),\"\")","v":""},0,-10.5,null,2024,"2024-12-01",{"$f":"IFERROR(IF(VLOOKUP($H1069,Récapitulatif!$J$14:$M$24,2,FALSE)=0,\"\",VLOOKUP(H1069,Récapitulatif!$J$14:$M$24,2,FALSE)),\"\")","v":""},0,10.5]
[2024,"2024-12-02",{"$f":"IFERROR(IF(VLOOKUP($B1070,Récapitulatif!$J$64:$M$68,2,FALSE)=0,\"\",VLOOKUP($B1070,Récapitulatif!$J$64:$M$68,2,FALSE)),\"\")","v":""},0,-10.5,null,2024,"2024-12-02",{"$f":"IFERROR(IF(VLOOKUP($H1070,Récapitulatif!$J$14:$M$24,2,FALSE)=0,\"\",VLOOKUP(H1070,Récapitulatif!$J$14:$M$24,2,FALSE)),\"\")","v":""},0,10.5]
[2024,"2024-12-03",{"$f":"IFERROR(IF(VLOOKUP($B1071,Récapitulatif!$J$64:$M$68,2,FALSE)=0,\"\",VLOOKUP($B1071,Récapitulatif!$J$64:$M$68,2,FALSE)),\"\")","v":""},0,-10.5,null,2024,"2024-12-03",{"$f":"IFERROR(IF(VLOOKUP($H1071,Récapitulatif!$J$14:$M$24,2,FALSE)=0,\"\",VLOOKUP(H1071,Récapitulatif!$J$14:$M$24,2,FALSE)),\"\")","v":""},0,10.5]
[2024,"2024-12-04",{"$f":"IFERROR(IF(VLOOKUP($B1072,Récapitulatif!$J$64:$M$68,2,FALSE)=0,\"\",VLOOKUP($B1072,Récapitulatif!$J$64:$M$68,2,FALSE)),\"\")","v":""},0,-10.5,null,2024,"2024-12-04",{"$f":"IFERROR(IF(VLOOKUP($H1072,Récapitulatif!$J$14:$M$24,2,FALSE)=0,\"\",VLOOKUP(H1072,Récapitulatif!$J$14:$M$24,2,FALSE)),\"\")","v":""},0,10.5]
[2024,"2024-12-05",{"$f":"IFERROR(IF(VLOOKUP($B1073,Récapitulatif!$J$64:$M$68,2,FALSE)=0,\"\",VLOOKUP($B1073,Récapitulatif!$J$64:$M$68,2,FALSE)),\"\")","v":""},0,-10.5,null,2024,"2024-12-05",{"$f":"IFERROR(IF(VLOOKUP($H1073,Récapitulatif!$J$14:$M$24,2,FALSE)=0,\"\",VLOOKUP(H1073,Récapitulatif!$J$14:$M$24,2,FALSE)),\"\")","v":""},0,10.5]
[2024,"2024-12-06",{"$f":"IFERROR(IF(VLOOKUP($B1074,Récapitulatif!$J$64:$M$68,2,FALSE)=0,\"\",VLOOKUP($B1074,Récapitulatif!$J$64:$M$68,2,FALSE)),\"\")","v":""},0,-10.5,null,2024,"2024-12-06",{"$f":"IFERROR(IF(VLOOKUP($H1074,Récapitulatif!$J$14:$M$24,2,FALSE)=0,\"\",VLOOKUP(H1074,Récapitulatif!$J$14:$M$24,2,FALSE)),\"\")","v":""},0,10.5]
[2024,"2024-12-07",{"$f":"IFERROR(IF(VLOOKUP($B1075,Récapitulatif!$J$64:$M$68,2,FALSE)=0,\"\",VLOOKUP($B1075,Récapitulatif!$J$64:$M$68,2,FALSE)),\"\")","v":""},0,-10.5,null,2024,"2024-12-07",{"$f":"IFERROR(IF(VLOOKUP($H1075,Récapitulatif!$J$14:$M$24,2,FALSE)=0,\"\",VLOOKUP(H1075,Récapitulatif!$J$14:$M$24,2,FALSE)),\"\")","v":""},0,10.5]
[2024,"2024-12-08",{"$f":"IFERROR(IF(VLOOKUP($B1076,Récapitulatif!$J$64:$M$68,2,FALSE)=0,\"\",VLOOKUP($B1076,Récapitulatif!$J$64:$M$68,2,FALSE)),\"\")","v":""},0,-10.5,null,2024,"2024-12-08",{"$f":"IFERROR(IF(VLOOKUP($H1076,Récapitulatif!$J$14:$M$24,2,FALSE)=0,\"\",VLOOKUP(H1076,Récapitulatif!$J$14:$M$24,2,FALSE)),\"\")","v":""},0,10.5]
[2024,"2024-12-09",{"$f":"IFERROR(IF(VLOOKUP($B1077,Récapitulatif!$J$64:$M$68,2,FALSE)=0,\"\",VLOOKUP($B1077,Récapitulatif!$J$64:$M$68,2,FALSE)),\"\")","v":""},0,-10.5,null,2024,"2024-12-09",{"$f":"IFERROR(IF(VLOOKUP($H1077,Récapitulatif!$J$14:$M$24,2,FALSE)=0,\"\",VLOOKUP(H1077,Récapitulatif!$J$14:$M$24,2,FALSE)),\"\")","v":""},0,10.5]
[2024,"2024-12-10",{"$f":"IFERROR(IF(VLOOKUP($B1078,Récapitulatif!$J$64:$M$68,2,FALSE)=0,\"\",VLOOKUP($B1078,Récapitulatif!$J$64:$M$68,2,FALSE)),\"\")","v":""},0,-10.5,null,2024,"2024-12-10",{"$f":"IFERROR(IF(VLOOKUP($H1078,Récapitulatif!$J$14:$M$24,2,FALSE)=0,\"\",VLOOKUP(H1078,Récapitulatif!$J$14:$M$24,2,FALSE)),\"\")","v":""},0,10.5]
[2024,"2024-12-11",{"$f":"IFERROR(IF(VLOOKUP($B1079,Récapitulatif!$J$64:$M$68,2,FALSE)=0,\"\",VLOOKUP($B1079,Récapitulatif!$J$64:$M$68,2,FALSE)),\"\")","v":""},0,-10.5,null,2024,"2024-12-11",{"$f":"IFERROR(IF(VLOOKUP($H1079,Récapitulatif!$J$14:$M$24,2,FALSE)=0,\"\",VLOOKUP(H1079,Récapitulatif!$J$14:$M$24,2,FALSE)),\"\")","v":""},0,10.5]
[2024,"2024-12-12",{"$f":"IFERROR(IF(VLOOKUP($B1080,Récapitulatif!$J$64:$M$68,2,FALSE)=0,\"\",VLOOKUP($B1080,Récapitulatif!$J$64:$M$68,2,FALSE)),\"\")","v":""},0,-10.5,null,2024,"2024-12-12",{"$f":"IFERROR(IF(VLOOKUP($H1080,Récapitulatif!$J$14:$M$24,2,FALSE)=0,\"\",VLOOKUP(H1080,Récapitulatif!$J$14:$M$24,2,FALSE)),\"\")","v":""},0,10.5]
[2024,"2024-12-13",{"$f":"IFERROR(IF(VLOOKUP($B1081,Récapitulatif!$J$64:$M$68,2,FALSE)=0,\"\",VLOOKUP($B1081,Récapitulatif!$J$64:$M$68,2,FALSE)),\"\")","v":""},0,-10.5,null,2024,"2024-12-13",{"$f":"IFERROR(IF(VLOOKUP($H1081,Récapitulatif!$J$14:$M$24,2,FALSE)=0,\"\",VLOOKUP(H1081,Récapitulatif!$J$14:$M$24,2,FALSE)),\"\")","v":""},0,10.5]
[2024,"2024-12-14",{"$f":"IFERROR(IF(VLOOKUP($B1082,Récapitulatif!$J$64:$M$68,2,FALSE)=0,\"\",VLOOKUP($B1082,Récapitulatif!$J$64:$M$68,2,FALSE)),\"\")","v":""},0,-10.5,null,2024,"2024-12-14",{"$f":"IFERROR(IF(VLOOKUP($H1082,Récapitulatif!$J$14:$M$24,2,FALSE)=0,\"\",VLOOKUP(H1082,Récapitulatif!$J$14:$M$24,2,FALSE)),\"\")","v":""},0,10.5]
[2024,"2024-12-15",{"$f":"IFERROR(IF(VLOOKUP($B1083,Récapitulatif!$J$64:$M$68,2,FALSE)=0,\"\",VLOOKUP($B1083,Récapitulatif!$J$64:$M$68,2,FALSE)),\"\")","v":""},0,-10.5,null,2024,"2024-12-15",{"$f":"IFERROR(IF(VLOOKUP($H1083,Récapitulatif!$J$14:$M$24,2,FALSE)=0,\"\",VLOOKUP(H1083,Récapitulatif!$J$14:$M$24,2,FALSE)),\"\")","v":""},0,10.5]
[2024,"2024-12-16",{"$f":"IFERROR(IF(VLOOKUP($B1084,Récapitulatif!$J$64:$M$68,2,FALSE)=0,\"\",VLOOKUP($B1084,Récapitulatif!$J$64:$M$68,2,FALSE)),\"\")","v":""},0,-10.5,null,2024,"2024-12-16",{"$f":"IFERROR(IF(VLOOKUP($H1084,Récapitulatif!$J$14:$M$24,2,FALSE)=0,\"\",VLOOKUP(H1084,Récapitulatif!$J$14:$M$24,2,FALSE)),\"\")","v":""},0,10.5]
[2024,"2024-12-17",{"$f":"IFERROR(IF(VLOOKUP($B1085,Récapitulatif!$J$64:$M$68,2,FALSE)=0,\"\",VLOOKUP($B1085,Récapitulatif!$J$64:$M$68,2,FALSE)),\"\")","v":""},0,-10.5,null,2024,"2024-12-17",{"$f":"IFERROR(IF(VLOOKUP($H1085,Récapitulatif!$J$14:$M$24,2,FALSE)=0,\"\",VLOOKUP(H1085,Récapitulatif!$J$14:$M$24,2,FALSE)),\"\")","v":""},0,10.5]
[2024,"2024-12-18",{"$f":"IFERROR(IF(VLOOKUP($B1086,Récapitulatif!$J$64:$M$68,2,FALSE)=0,\"\",VLOOKUP($B1086,Récapitulatif!$J$64:$M$68,2,FALSE)),\"\")","v":""},0,-10.5,null,2024,"2024-12-18",{"$f":"IFERROR(IF(VLOOKUP($H1086,Récapitulatif!$J$14:$M$24,2,FALSE)=0,\"\",VLOOKUP(H1086,Récapitulatif!$J$14:$M$24,2,FALSE)),\"\")","v":""},0,10.5]
[2024,"2024-12-19",{"$f":"IFERROR(IF(VLOOKUP($B1087,Récapitulatif!$J$64:$M$68,2,FALSE)=0,\"\",VLOOKUP($B1087,Récapitulatif!$J$64:$M$68,2,FALSE)),\"\")","v":""},0,-10.5,null,2024,"2024-12-19",{"$f":"IFERROR(IF(VLOOKUP($H1087,Récapitulatif!$J$14:$M$24,2,FALSE)=0,\"\",VLOOKUP(H1087,Récapitulatif!$J$14:$M$24,2,FALSE)),\"\")","v":""},0,10.5]
[2024,"2024-12-20",{"$f":"IFERROR(IF(VLOOKUP($B1088,Récapitulatif!$J$64:$M$68,2,FALSE)=0,\"\",VLOOKUP($B1088,Récapitulatif!$J$64:$M$68,2,FALSE)),\"\")","v":""},0,-10.5,null,2024,"2024-12-20",{"$f":"IFERROR(IF(VLOOKUP($H1088,Récapitulatif!$J$14:$M$24,2,FALSE)=0,\"\",VLOOKUP(H1088,Récapitulatif!$J$14:$M$24,2,FALSE)),\"\")","v":""},0,10.5]
[2024,"2024-12-21",{"$f":"IFERROR(IF(VLOOKUP($B1089,Récapitulatif!$J$64:$M$68,2,FALSE)=0,\"\",VLOOKUP($B1089,Récapitulatif!$J$64:$M$68,2,FALSE)),\"\")","v":""},0,-10.5,null,2024,"2024-12-21",{"$f":"IFERROR(IF(VLOOKUP($H1089,Récapitulatif!$J$14:$M$24,2,FALSE)=0,\"\",VLOOKUP(H1089,Récapitulatif!$J$14:$M$24,2,FALSE)),\"\")","v":""},0,10.5]
[2024,"2024-12-22",{"$f":"IFERROR(IF(VLOOKUP($B1090,Récapitulatif!$J$64:$M$68,2,FALSE)=0,\"\",VLOOKUP($B1090,Récapitulatif!$J$64:$M$68,2,FALSE)),\"\")","v":""},0,-10.5,null,2024,"2024-12-22",{"$f":"IFERROR(IF(VLOOKUP($H1090,Récapitulatif!$J$14:$M$24,2,FALSE)=0,\"\",VLOOKUP(H1090,Récapitulatif!$J$14:$M$24,2,FALSE)),\"\")","v":""},0,10.5]
[2024,"2024-12-23",{"$f":"IFERROR(IF(VLOOKUP($B1091,Récapitulatif!$J$64:$M$68,2,FALSE)=0,\"\",VLOOKUP($B1091,Récapitulatif!$J$64:$M$68,2,FALSE)),\"\")","v":""},0,-10.5,null,2024,"2024-12-23",{"$f":"IFERROR(IF(VLOOKUP($H1091,Récapitulatif!$J$14:$M$24,2,FALSE)=0,\"\",VLOOKUP(H1091,Récapitulatif!$J$14:$M$24,2,FALSE)),\"\")","v":""},0,10.5]
[2024,"2024-12-24",{"$f":"IFERROR(IF(VLOOKUP($B1092,Récapitulatif!$J$64:$M$68,2,FALSE)=0,\"\",VLOOKUP($B1092,Récapitulatif!$J$64:$M$68,2,FALSE)),\"\")","v":""},0,-10.5,null,2024,"2024-12-24",{"$f":"IFERROR(IF(VLOOKUP($H1092,Récapitulatif!$J$14:$M$24,2,FALSE)=0,\"\",VLOOKUP(H1092,Récapitulatif!$J$14:$M$24,2,FALSE)),\"\")","v":""},0,10.5]
[2024,"2024-12-25",{"$f":"IFERROR(IF(VLOOKUP($B1093,Récapitulatif!$J$64:$M$68,2,FALSE)=0,\"\",VLOOKUP($B1093,Récapitulatif!$J$64:$M$68,2,FALSE)),\"\")","v":""},0,-10.5,null,2024,"2024-12-25",{"$f":"IFERROR(IF(VLOOKUP($H1093,Récapitulatif!$J$14:$M$24,2,FALSE)=0,\"\",VLOOKUP(H1093,Récapitulatif!$J$14:$M$24,2,FALSE)),\"\")","v":""},0,10.5]
[2024,"2024-12-26",{"$f":"IFERROR(IF(VLOOKUP($B1094,Récapitulatif!$J$64:$M$68,2,FALSE)=0,\"\",VLOOKUP($B1094,Récapitulatif!$J$64:$M$68,2,FALSE)),\"\")","v":""},{"$f":"IF($C1094=\"\",0,$E1094)","v":0},-10.5,null,2024,"2024-12-26",{"$f":"IFERROR(IF(VLOOKUP($H1094,Récapitulatif!$J$14:$M$24,2,FALSE)=0,\"\",VLOOKUP(H1094,Récapitulatif!$J$14:$M$24,2,FALSE)),\"\")","v":""},{"$f":"IF($I1094=\"\",0,$K1094)","v":0},10.5]
[{"$f":"YEAR(B1095)","v":2024},{"$f":"B1094+1","v":"2024-12-27"},{"$f":"IFERROR(IF(VLOOKUP($B1095,Récapitulatif!$J$64:$M$68,2,FALSE)=0,\"\",VLOOKUP($B1095,Récapitulatif!$J$64:$M$68,2,FALSE)),\"\")","v":""},0,-10.5,null,{"$f":"YEAR(H1095)","v":2024},{"$f":"H1094+1","v":"2024-12-27"},{"$f":"IFERROR(IF(VLOOKUP($H1095,Récapitulatif!$J$14:$M$24,2,FALSE)=0,\"\",VLOOKUP(H1095,Récapitulatif!$J$14:$M$24,2,FALSE)),\"\")","v":""},0,10.5]
[2024,"2024-12-28",{"$f":"IFERROR(IF(VLOOKUP($B1096,Récapitulatif!$J$64:$M$68,2,FALSE)=0,\"\",VLOOKUP($B1096,Récapitulatif!$J$64:$M$68,2,FALSE)),\"\")","v":""},0,-10.5,null,2024,"2024-12-28",{"$f":"IFERROR(IF(VLOOKUP($H1096,Récapitulatif!$J$14:$M$24,2,FALSE)=0,\"\",VLOOKUP(H1096,Récapitulatif!$J$14:$M$24,2,FALSE)),\"\")","v":""},0,10.5]
[2024,"2024-12-29",{"$f":"IFERROR(IF(VLOOKUP($B1097,Récapitulatif!$J$64:$M$68,2,FALSE)=0,\"\",VLOOKUP($B1097,Récapitulatif!$J$64:$M$68,2,FALSE)),\"\")","v":""},0,-10.5,null,2024,"2024-12-29",{"$f":"IFERROR(IF(VLOOKUP($H1097,Récapitulatif!$J$14:$M$24,2,FALSE)=0,\"\",VLOOKUP(H1097,Récapitulatif!$J$14:$M$24,2,FALSE)),\"\")","v":""},0,10.5]
[2024,"2024-12-30",{"$f":"IFERROR(IF(VLOOKUP($B1098,Récapitulatif!$J$64:$M$68,2,FALSE)=0,\"\",VLOOKUP($B1098,Récapitulatif!$J$64:$M$68,2,FALSE)),\"\")","v":""},0,-10.5,null,2024,"2024-12-30",{"$f":"IFERROR(IF(VLOOKUP($H1098,Récapitulatif!$J$14:$M$24,2,FALSE)=0,\"\",VLOOKUP(H1098,Récapitulatif!$J$14:$M$24,2,FALSE)),\"\")","v":""},0,10.5]
[2024,"2024-12-31",{"$f":"IFERROR(IF(VLOOKUP($B1099,Récapitulatif!$J$64:$M$68,2,FALSE)=0,\"\",VLOOKUP($B1099,Récapitulatif!$J$64:$M$68,2,FALSE)),\"\")","v":""},0,-10.5,null,2024,"2024-12-31",{"$f":"IFERROR(IF(VLOOKUP($H1099,Récapitulatif!$J$14:$M$24,2,FALSE)=0,\"\",VLOOKUP(H1099,Récapitulatif!$J$14:$M$24,2,FALSE)),\"\")","v":""},0,10.5]
[2025,"2025-01-01",{"$f":"IFERROR(IF(VLOOKUP($B1100,Récapitulatif!$N$64:$Q$68,2,FALSE)=0,\"\",VLOOKUP($B1100,Récapitulatif!$N$64:$Q$68,2,FALSE)),\"\")","v":""},0,-3.5,null,2025,"2025-01-01",{"$f":"IFERROR(IF(VLOOKUP($H1100,Récapitulatif!$N$14:$Q$24,2,FALSE)=0,\"\",VLOOKUP(H1100,Récapitulatif!$N$14:$Q$24,2,FALSE)),\"\")","v":""},0,3.5]
[2025,"2025-01-02",{"$f":"IFERROR(IF(VLOOKUP($B1101,Récapitulatif!$N$64:$Q$68,2,FALSE)=0,\"\",VLOOKUP($B1101,Récapitulatif!$N$64:$Q$68,2,FALSE)),\"\")","v":""},0,-3.5,null,2025,"2025-01-02",{"$f":"IFERROR(IF(VLOOKUP($H1101,Récapitulatif!$N$14:$Q$24,2,FALSE)=0,\"\",VLOOKUP(H1101,Récapitulatif!$N$14:$Q$24,2,FALSE)),\"\")","v":""},0,3.5]
[2025,"2025-01-03",{"$f":"IFERROR(IF(VLOOKUP($B1102,Récapitulatif!$N$64:$Q$68,2,FALSE)=0,\"\",VLOOKUP($B1102,Récapitulatif!$N$64:$Q$68,2,FALSE)),\"\")","v":""},0,-3.5,null,2025,"2025-01-03",{"$f":"IFERROR(IF(VLOOKUP($H1102,Récapitulatif!$N$14:$Q$24,2,FALSE)=0,\"\",VLOOKUP(H1102,Récapitulatif!$N$14:$Q$24,2,FALSE)),\"\")","v":""},0,3.5]
[2025,"2025-01-04",{"$f":"IFERROR(IF(VLOOKUP($B1103,Récapitulatif!$N$64:$Q$68,2,FALSE)=0,\"\",VLOOKUP($B1103,Récapitulatif!$N$64:$Q$68,2,FALSE)),\"\")","v":""},0,-3.5,null,2025,"2025-01-04",{"$f":"IFERROR(IF(VLOOKUP($H1103,Récapitulatif!$N$14:$Q$24,2,FALSE)=0,\"\",VLOOKUP(H1103,Récapitulatif!$N$14:$Q$24,2,FALSE)),\"\")","v":""},0,3.5]
[2025,"2025-01-05",{"$f":"IFERROR(IF(VLOOKUP($B1104,Récapitulatif!$N$64:$Q$68,2,FALSE)=0,\"\",VLOOKUP($B1104,Récapitulatif!$N$64:$Q$68,2,FALSE)),\"\")","v":""},0,-3.5,null,2025,"2025-01-05",{"$f":"IFERROR(IF(VLOOKUP($H1104,Récapitulatif!$N$14:$Q$24,2,FALSE)=0,\"\",VLOOKUP(H1104,Récapitulatif!$N$14:$Q$24,2,FALSE)),\"\")","v":""},0,3.5]
[2025,"2025-01-06",{"$f":"IFERROR(IF(VLOOKUP($B1105,Récapitulatif!$N$64:$Q$68,2,FALSE)=0,\"\",VLOOKUP($B1105,Récapitulatif!$N$64:$Q$68,2,FALSE)),\"\")","v":""},0,-3.5,null,2025,"2025-01-06",{"$f":"IFERROR(IF(VLOOKUP($H1105,Récapitulatif!$N$14:$Q$24,2,FALSE)=0,\"\",VLOOKUP(H1105,Récapitulatif!$N$14:$Q$24,2,FALSE)),\"\")","v":""},0,3.5]
[2025,"2025-01-07",{"$f":"IFERROR(IF(VLOOKUP($B1106,Récapitulatif!$N$64:$Q$68,2,FALSE)=0,\"\",VLOOKUP($B1106,Récapitulatif!$N$64:$Q$68,2,FALSE)),\"\")","v":""},0,-3.5,null,2025,"2025-01-07",{"$f":"IFERROR(IF(VLOOKUP($H1106,Récapitulatif!$N$14:$Q$24,2,FALSE)=0,\"\",VLOOKUP(H1106,Récapitulatif!$N$14:$Q$24,2,FALSE)),\"\")","v":""},0,3.5]
[2025,"2025-01-08",{"$f":"IFERROR(IF(VLOOKUP($B1107,Récapitulatif!$N$64:$Q$68,2,FALSE)=0,\"\",VLOOKUP($B1107,Récapitulatif!$N$64:$Q$68,2,FALSE)),\"\")","v":""},0,-3.5,null,2025,"2025-01-08",{"$f":"IFERROR(IF(VLOOKUP($H1107,Récapitulatif!$N$14:$Q$24,2,FALSE)=0,\"\",VLOOKUP(H1107,Récapitulatif!$N$14:$Q$24,2,FALSE)),\"\")","v":""},0,3.5]
[2025,"2025-01-09",{"$f":"IFERROR(IF(VLOOKUP($B1108,Récapitulatif!$N$64:$Q$68,2,FALSE)=0,\"\",VLOOKUP($B1108,Récapitulatif!$N$64:$Q$68,2,FALSE)),\"\")","v":""},0,-3.5,null,2025,"2025-01-09",{"$f":"IFERROR(IF(VLOOKUP($H1108,Récapitulatif!$N$14:$Q$24,2,FALSE)=0,\"\",VLOOKUP(H1108,Récapitulatif!$N$14:$Q$24,2,FALSE)),\"\")","v":""},0,3.5]
[2025,"2025-01-10",{"$f":"IFERROR(IF(VLOOKUP($B1109,Récapitulatif!$N$64:$Q$68,2,FALSE)=0,\"\",VLOOKUP($B1109,Récapitulatif!$N$64:$Q$68,2,FALSE)),\"\")","v":""},0,-3.5,null,2025,"2025-01-10",{"$f":"IFERROR(IF(VLOOKUP($H1109,Récapitulatif!$N$14:$Q$24,2,FALSE)=0,\"\",VLOOKUP(H1109,Récapitulatif!$N$14:$Q$24,2,FALSE)),\"\")","v":""},0,3.5]
[2025,"2025-01-11",{"$f":"IFERROR(IF(VLOOKUP($B1110,Récapitulatif!$N$64:$Q$68,2,FALSE)=0,\"\",VLOOKUP($B1110,Récapitulatif!$N$64:$Q$68,2,FALSE)),\"\")","v":""},0,-3.5,null,2025,"2025-01-11",{"$f":"IFERROR(IF(VLOOKUP($H1110,Récapitulatif!$N$14:$Q$24,2,FALSE)=0,\"\",VLOOKUP(H1110,Récapitulatif!$N$14:$Q$24,2,FALSE)),\"\")","v":""},0,3.5]
[2025,"2025-01-12",{"$f":"IFERROR(IF(VLOOKUP($B1111,Récapitulatif!$N$64:$Q$68,2,FALSE)=0,\"\",VLOOKUP($B1111,Récapitulatif!$N$64:$Q$68,2,FALSE)),\"\")","v":""},0,-3.5,null,2025,"2025-01-12",{"$f":"IFERROR(IF(VLOOKUP($H1111,Récapitulatif!$N$14:$Q$24,2,FALSE)=0,\"\",VLOOKUP(H1111,Récapitulatif!$N$14:$Q$24,2,FALSE)),\"\")","v":""},0,3.5]
[2025,"2025-01-13",{"$f":"IFERROR(IF(VLOOKUP($B1112,Récapitulatif!$N$64:$Q$68,2,FALSE)=0,\"\",VLOOKUP($B1112,Récapitulatif!$N$64:$Q$68,2,FALSE)),\"\")","v":""},0,-3.5,null,2025,"2025-01-13",{"$f":"IFERROR(IF(VLOOKUP($H1112,Récapitulatif!$N$14:$Q$24,2,FALSE)=0,\"\",VLOOKUP(H1112,Récapitulatif!$N$14:$Q$24,2,FALSE)),\"\")","v":""},0,3.5]
[2025,"2025-01-14",{"$f":"IFERROR(IF(VLOOKUP($B1113,Récapitulatif!$N$64:$Q$68,2,FALSE)=0,\"\",VLOOKUP($B1113,Récapitulatif!$N$64:$Q$68,2,FALSE)),\"\")","v":""},0,-3.5,null,2025,"2025-01-14",{"$f":"IFERROR(IF(VLOOKUP($H1113,Récapitulatif!$N$14:$Q$24,2,FALSE)=0,\"\",VLOOKUP(H1113,Récapitulatif!$N$14:$Q$24,2,FALSE)),\"\")","v":""},0,3.5]
[2025,"2025-01-15",{"$f":"IFERROR(IF(VLOOKUP($B1114,Récapitulatif!$N$64:$Q$68,2,FALSE)=0,\"\",VLOOKUP($B1114,Récapitulatif!$N$64:$Q$68,2,FALSE)),\"\")","v":""},0,-3.5,null,2025,"2025-01-15",{"$f":"IFERROR(IF(VLOOKUP($H1114,Récapitulatif!$N$14:$Q$24,2,FALSE)=0,\"\",VLOOKUP(H1114,Récapitulatif!$N$14:$Q$24,2,FALSE)),\"\")","v":""},0,3.5]
[2025,"2025-01-16",{"$f":"IFERROR(IF(VLOOKUP($B1115,Récapitulatif!$N$64:$Q$68,2,FALSE)=0,\"\",VLOOKUP($B1115,Récapitulatif!$N$64:$Q$68,2,FALSE)),\"\")","v":""},0,-3.5,null,2025,"2025-01-16",{"$f":"IFERROR(IF(VLOOKUP($H1115,Récapitulatif!$N$14:$Q$24,2,FALSE)=0,\"\",VLOOKUP(H1115,Récapitulatif!$N$14:$Q$24,2,FALSE)),\"\")","v":""},0,3.5]
[2025,"2025-01-17",{"$f":"IFERROR(IF(VLOOKUP($B1116,Récapitulatif!$N$64:$Q$68,2,FALSE)=0,\"\",VLOOKUP($B1116,Récapitulatif!$N$64:$Q$68,2,FALSE)),\"\")","v":""},0,-3.5,null,2025,"2025-01-17",{"$f":"IFERROR(IF(VLOOKUP($H1116,Récapitulatif!$N$14:$Q$24,2,FALSE)=0,\"\",VLOOKUP(H1116,Récapitulatif!$N$14:$Q$24,2,FALSE)),\"\")","v":""},0,3.5]
[2025,"2025-01-18",{"$f":"IFERROR(IF(VLOOKUP($B1117,Récapitulatif!$N$64:$Q$68,2,FALSE)=0,\"\",VLOOKUP($B1117,Récapitulatif!$N$64:$Q$68,2,FALSE)),\"\")","v":""},0,-3.5,null,2025,"2025-01-18",{"$f":"IFERROR(IF(VLOOKUP($H1117,Récapitulatif!$N$14:$Q$24,2,FALSE)=0,\"\",VLOOKUP(H1117,Récapitulatif!$N$14:$Q$24,2,FALSE)),\"\")","v":""},0,3.5]
[2025,"2025-01-19",{"$f":"IFERROR(IF(VLOOKUP($B1118,Récapitulatif!$N$64:$Q$68,2,FALSE)=0,\"\",VLOOKUP($B1118,Récapitulatif!$N$64:$Q$68,2,FALSE)),\"\")","v":""},0,-3.5,null,2025,"2025-01-19",{"$f":"IFERROR(IF(VLOOKUP($H1118,Récapitulatif!$N$14:$Q$24,2,FALSE)=0,\"\",VLOOKUP(H1118,Récapitulatif!$N$14:$Q$24,2,FALSE)),\"\")","v":""},0,3.5]
[2025,"2025-01-20",{"$f":"IFERROR(IF(VLOOKUP($B1119,Récapitulatif!$N$64:$Q$68,2,FALSE)=0,\"\",VLOOKUP($B1119,Récapitulatif!$N$64:$Q$68,2,FALSE)),\"\")","v":""},0,-3.5,null,2025,"2025-01-20",{"$f":"IFERROR(IF(VLOOKUP($H1119,Récapitulatif!$N$14:$Q$24,2,FALSE)=0,\"\",VLOOKUP(H1119,Récapitulatif!$N$14:$Q$24,2,FALSE)),\"\")","v":""},0,3.5]
[2025,"2025-01-21",{"$f":"IFERROR(IF(VLOOKUP($B1120,Récapitulatif!$N$64:$Q$68,2,FALSE)=0,\"\",VLOOKUP($B1120,Récapitulatif!$N$64:$Q$68,2,FALSE)),\"\")","v":""},0,-3.5,null,2025,"2025-01-21",{"$f":"IFERROR(IF(VLOOKUP($H1120,Récapitulatif!$N$14:$Q$24,2,FALSE)=0,\"\",VLOOKUP(H1120,Récapitulatif!$N$14:$Q$24,2,FALSE)),\"\")","v":""},0,3.5]
[2025,"2025-01-22",{"$f":"IFERROR(IF(VLOOKUP($B1121,Récapitulatif!$N$64:$Q$68,2,FALSE)=0,\"\",VLOOKUP($B1121,Récapitulatif!$N$64:$Q$68,2,FALSE)),\"\")","v":""},0,-3.5,null,2025,"2025-01-22",{"$f":"IFERROR(IF(VLOOKUP($H1121,Récapitulatif!$N$14:$Q$24,2,FALSE)=0,\"\",VLOOKUP(H1121,Récapitulatif!$N$14:$Q$24,2,FALSE)),\"\")","v":""},0,3.5]
[2025,"2025-01-23",{"$f":"IFERROR(IF(VLOOKUP($B1122,Récapitulatif!$N$64:$Q$68,2,FALSE)=0,\"\",VLOOKUP($B1122,Récapitulatif!$N$64:$Q$68,2,FALSE)),\"\")","v":""},0,-3.5,null,2025,"2025-01-23",{"$f":"IFERROR(IF(VLOOKUP($H1122,Récapitulatif!$N$14:$Q$24,2,FALSE)=0,\"\",VLOOKUP(H1122,Récapitulatif!$N$14:$Q$24,2,FALSE)),\"\")","v":""},0,3.5]
[2025,"2025-01-24",{"$f":"IFERROR(IF(VLOOKUP($B1123,Récapitulatif!$N$64:$Q$68,2,FALSE)=0,\"\",VLOOKUP($B1123,Récapitulatif!$N$64:$Q$68,2,FALSE)),\"\")","v":""},0,-3.5,null,2025,"2025-01-24",{"$f":"IFERROR(IF(VLOOKUP($H1123,Récapitulatif!$N$14:$Q$24,2,FALSE)=0,\"\",VLOOKUP(H1123,Récapitulatif!$N$14:$Q$24,2,FALSE)),\"\")","v":""},0,3.5]
[2025,"2025-01-25",{"$f":"IFERROR(IF(VLOOKUP($B1124,Récapitulatif!$N$64:$Q$68,2,FALSE)=0,\"\",VLOOKUP($B1124,Récapitulatif!$N$64:$Q$68,2,FALSE)),\"\")","v":""},0,-3.5,null,2025,"2025-01-25",{"$f":"IFERROR(IF(VLOOKUP($H1124,Récapitulatif!$N$14:$Q$24,2,FALSE)=0,\"\",VLOOKUP(H1124,Récapitulatif!$N$14:$Q$24,2,FALSE)),\"\")","v":""},0,3.5]
[2025,"2025-01-26",{"$f":"IFERROR(IF(VLOOKUP($B1125,Récapitulatif!$N$64:$Q$68,2,FALSE)=0,\"\",VLOOKUP($B1125,Récapitulatif!$N$64:$Q$68,2,FALSE)),\"\")","v":""},0,-3.5,null,2025,"2025-01-26",{"$f":"IFERROR(IF(VLOOKUP($H1125,Récapitulatif!$N$14:$Q$24,2,FALSE)=0,\"\",VLOOKUP(H1125,Récapitulatif!$N$14:$Q$24,2,FALSE)),\"\")","v":""},0,3.5]
[2025,"2025-01-27",{"$f":"IFERROR(IF(VLOOKUP($B1126,Récapitulatif!$N$64:$Q$68,2,FALSE)=0,\"\",VLOOKUP($B1126,Récapitulatif!$N$64:$Q$68,2,FALSE)),\"\")","v":""},0,-3.5,null,2025,"2025-01-27",{"$f":"IFERROR(IF(VLOOKUP($H1126,Récapitulatif!$N$14:$Q$24,2,FALSE)=0,\"\",VLOOKUP(H1126,Récapitulatif!$N$14:$Q$24,2,FALSE)),\"\")","v":""},0,3.5]
[2025,"2025-01-28",{"$f":"IFERROR(IF(VLOOKUP($B1127,Récapitulatif!$N$64:$Q$68,2,FALSE)=0,\"\",VLOOKUP($B1127,Récapitulatif!$N$64:$Q$68,2,FALSE)),\"\")","v":""},0,-3.5,null,2025,"2025-01-28",{"$f":"IFERROR(IF(VLOOKUP($H1127,Récapitulatif!$N$14:$Q$24,2,FALSE)=0,\"\",VLOOKUP(H1127,Récapitulatif!$N$14:$Q$24,2,FALSE)),\"\")","v":""},0,3.5]
[2025,"2025-01-29",{"$f":"IFERROR(IF(VLOOKUP($B1128,Récapitulatif!$N$64:$Q$68,2,FALSE)=0,\"\",VLOOKUP($B1128,Récapitulatif!$N$64:$Q$68,2,FALSE)),\"\")","v":""},0,-3.5,null,2025,"2025-01-29",{"$f":"IFERROR(IF(VLOOKUP($H1128,Récapitulatif!$N$14:$Q$24,2,FALSE)=0,\"\",VLOOKUP(H1128,Récapitulatif!$N$14:$Q$24,2,FALSE)),\"\")","v":""},0,3.5]
[2025,"2025-01-30",{"$f":"IFERROR(IF(VLOOKUP($B1129,Récapitulatif!$N$64:$Q$68,2,FALSE)=0,\"\",VLOOKUP($B1129,Récapitulatif!$N$64:$Q$68,2,FALSE)),\"\")","v":""},0,-3.5,null,2025,"2025-01-30",{"$f":"IFERROR(IF(VLOOKUP($H1129,Récapitulatif!$N$14:$Q$24,2,FALSE)=0,\"\",VLOOKUP(H1129,Récapitulatif!$N$14:$Q$24,2,FALSE)),\"\")","v":""},0,3.5]
[2025,"2025-01-31",{"$f":"IFERROR(IF(VLOOKUP($B1130,Récapitulatif!$N$64:$Q$68,2,FALSE)=0,\"\",VLOOKUP($B1130,Récapitulatif!$N$64:$Q$68,2,FALSE)),\"\")","v":""},0,-3.5,null,2025,"2025-01-31",{"$f":"IFERROR(IF(VLOOKUP($H1130,Récapitulatif!$N$14:$Q$24,2,FALSE)=0,\"\",VLOOKUP(H1130,Récapitulatif!$N$14:$Q$24,2,FALSE)),\"\")","v":""},0,3.5]
[2025,"2025-02-01",{"$f":"IFERROR(IF(VLOOKUP($B1131,Récapitulatif!$N$64:$Q$68,2,FALSE)=0,\"\",VLOOKUP($B1131,Récapitulatif!$N$64:$Q$68,2,FALSE)),\"\")","v":""},0,-12.5,null,2025,"2025-02-01",{"$f":"IFERROR(IF(VLOOKUP($H1131,Récapitulatif!$N$14:$Q$24,2,FALSE)=0,\"\",VLOOKUP(H1131,Récapitulatif!$N$14:$Q$24,2,FALSE)),\"\")","v":""},0,12.5]
[2025,"2025-02-02",{"$f":"IFERROR(IF(VLOOKUP($B1132,Récapitulatif!$N$64:$Q$68,2,FALSE)=0,\"\",VLOOKUP($B1132,Récapitulatif!$N$64:$Q$68,2,FALSE)),\"\")","v":""},0,-12.5,null,2025,"2025-02-02",{"$f":"IFERROR(IF(VLOOKUP($H1132,Récapitulatif!$N$14:$Q$24,2,FALSE)=0,\"\",VLOOKUP(H1132,Récapitulatif!$N$14:$Q$24,2,FALSE)),\"\")","v":""},0,12.5]
[2025,"2025-02-03",{"$f":"IFERROR(IF(VLOOKUP($B1133,Récapitulatif!$N$64:$Q$68,2,FALSE)=0,\"\",VLOOKUP($B1133,Récapitulatif!$N$64:$Q$68,2,FALSE)),\"\")","v":""},0,-12.5,null,2025,"2025-02-03",{"$f":"IFERROR(IF(VLOOKUP($H1133,Récapitulatif!$N$14:$Q$24,2,FALSE)=0,\"\",VLOOKUP(H1133,Récapitulatif!$N$14:$Q$24,2,FALSE)),\"\")","v":""},0,12.5]
[2025,"2025-02-04",{"$f":"IFERROR(IF(VLOOKUP($B1134,Récapitulatif!$N$64:$Q$68,2,FALSE)=0,\"\",VLOOKUP($B1134,Récapitulatif!$N$64:$Q$68,2,FALSE)),\"\")","v":""},0,-12.5,null,2025,"2025-02-04",{"$f":"IFERROR(IF(VLOOKUP($H1134,Récapitulatif!$N$14:$Q$24,2,FALSE)=0,\"\",VLOOKUP(H1134,Récapitulatif!$N$14:$Q$24,2,FALSE)),\"\")","v":""},0,12.5]
[2025,"2025-02-05",{"$f":"IFERROR(IF(VLOOKUP($B1135,Récapitulatif!$N$64:$Q$68,2,FALSE)=0,\"\",VLOOKUP($B1135,Récapitulatif!$N$64:$Q$68,2,FALSE)),\"\")","v":""},0,-12.5,null,2025,"2025-02-05",{"$f":"IFERROR(IF(VLOOKUP($H1135,Récapitulatif!$N$14:$Q$24,2,FALSE)=0,\"\",VLOOKUP(H1135,Récapitulatif!$N$14:$Q$24,2,FALSE)),\"\")","v":""},0,12.5]
[2025,"2025-02-06",{"$f":"IFERROR(IF(VLOOKUP($B1136,Récapitulatif!$N$64:$Q$68,2,FALSE)=0,\"\",VLOOKUP($B1136,Récapitulatif!$N$64:$Q$68,2,FALSE)),\"\")","v":""},0,-12.5,null,2025,"2025-02-06",{"$f":"IFERROR(IF(VLOOKUP($H1136,Récapitulatif!$N$14:$Q$24,2,FALSE)=0,\"\",VLOOKUP(H1136,Récapitulatif!$N$14:$Q$24,2,FALSE)),\"\")","v":""},0,12.5]
[2025,"2025-02-07",{"$f":"IFERROR(IF(VLOOKUP($B1137,Récapitulatif!$N$64:$Q$68,2,FALSE)=0,\"\",VLOOKUP($B1137,Récapitulatif!$N$64:$Q$68,2,FALSE)),\"\")","v":""},0,-12.5,null,2025,"2025-02-07",{"$f":"IFERROR(IF(VLOOKUP($H1137,Récapitulatif!$N$14:$Q$24,2,FALSE)=0,\"\",VLOOKUP(H1137,Récapitulatif!$N$14:$Q$24,2,FALSE)),\"\")","v":""},0,12.5]
[2025,"2025-02-08",{"$f":"IFERROR(IF(VLOOKUP($B1138,Récapitulatif!$N$64:$Q$68,2,FALSE)=0,\"\",VLOOKUP($B1138,Récapitulatif!$N$64:$Q$68,2,FALSE)),\"\")","v":""},0,-12.5,null,2025,"2025-02-08",{"$f":"IFERROR(IF(VLOOKUP($H1138,Récapitulatif!$N$14:$Q$24,2,FALSE)=0,\"\",VLOOKUP(H1138,Récapitulatif!$N$14:$Q$24,2,FALSE)),\"\")","v":""},0,12.5]
[2025,"2025-02-09",{"$f":"IFERROR(IF(VLOOKUP($B1139,Récapitulatif!$N$64:$Q$68,2,FALSE)=0,\"\",VLOOKUP($B1139,Récapitulatif!$N$64:$Q$68,2,FALSE)),\"\")","v":""},0,-12.5,null,2025,"2025-02-09",{"$f":"IFERROR(IF(VLOOKUP($H1139,Récapitulatif!$N$14:$Q$24,2,FALSE)=0,\"\",VLOOKUP(H1139,Récapitulatif!$N$14:$Q$24,2,FALSE)),\"\")","v":""},0,12.5]
[2025,"2025-02-10",{"$f":"IFERROR(IF(VLOOKUP($B1140,Récapitulatif!$N$64:$Q$68,2,FALSE)=0,\"\",VLOOKUP($B1140,Récapitulatif!$N$64:$Q$68,2,FALSE)),\"\")","v":""},0,-12.5,null,2025,"2025-02-10",{"$f":"IFERROR(IF(VLOOKUP($H1140,Récapitulatif!$N$14:$Q$24,2,FALSE)=0,\"\",VLOOKUP(H1140,Récapitulatif!$N$14:$Q$24,2,FALSE)),\"\")","v":""},0,12.5]
[2025,"2025-02-11",{"$f":"IFERROR(IF(VLOOKUP($B1141,Récapitulatif!$N$64:$Q$68,2,FALSE)=0,\"\",VLOOKUP($B1141,Récapitulatif!$N$64:$Q$68,2,FALSE)),\"\")","v":""},0,-12.5,null,2025,"2025-02-11",{"$f":"IFERROR(IF(VLOOKUP($H1141,Récapitulatif!$N$14:$Q$24,2,FALSE)=0,\"\",VLOOKUP(H1141,Récapitulatif!$N$14:$Q$24,2,FALSE)),\"\")","v":""},0,12.5]
[2025,"2025-02-12",{"$f":"IFERROR(IF(VLOOKUP($B1142,Récapitulatif!$N$64:$Q$68,2,FALSE)=0,\"\",VLOOKUP($B1142,Récapitulatif!$N$64:$Q$68,2,FALSE)),\"\")","v":""},0,-12.5,null,2025,"2025-02-12",{"$f":"IFERROR(IF(VLOOKUP($H1142,Récapitulatif!$N$14:$Q$24,2,FALSE)=0,\"\",VLOOKUP(H1142,Récapitulatif!$N$14:$Q$24,2,FALSE)),\"\")","v":""},0,12.5]
[2025,"2025-02-13",{"$f":"IFERROR(IF(VLOOKUP($B1143,Récapitulatif!$N$64:$Q$68,2,FALSE)=0,\"\",VLOOKUP($B1143,Récapitulatif!$N$64:$Q$68,2,FALSE)),\"\")","v":""},0,-12.5,null,2025,"2025-02-13",{"$f":"IFERROR(IF(VLOOKUP($H1143,Récapitulatif!$N$14:$Q$24,2,FALSE)=0,\"\",VLOOKUP(H1143,Récapitulatif!$N$14:$Q$24,2,FALSE)),\"\")","v":""},0,12.5]
[2025,"2025-02-14",{"$f":"IFERROR(IF(VLOOKUP($B1144,Récapitulatif!$N$64:$Q$68,2,FALSE)=0,\"\",VLOOKUP($B1144,Récapitulatif!$N$64:$Q$68,2,FALSE)),\"\")","v":""},0,-12.5,null,2025,"2025-02-14",{"$f":"IFERROR(IF(VLOOKUP($H1144,Récapitulatif!$N$14:$Q$24,2,FALSE)=0,\"\",VLOOKUP(H1144,Récapitulatif!$N$14:$Q$24,2,FALSE)),\"\")","v":""},0,12.5]
[2025,"2025-02-15",{"$f":"IFERROR(IF(VLOOKUP($B1145,Récapitulatif!$N$64:$Q$68,2,FALSE)=0,\"\",VLOOKUP($B1145,Récapitulatif!$N$64:$Q$68,2,FALSE)),\"\")","v":""},0,-12.5,null,2025,"2025-02-15",{"$f":"IFERROR(IF(VLOOKUP($H1145,Récapitulatif!$N$14:$Q$24,2,FALSE)=0,\"\",VLOOKUP(H1145,Récapitulatif!$N$14:$Q$24,2,FALSE)),\"\")","v":""},0,12.5]
[2025,"2025-02-16",{"$f":"IFERROR(IF(VLOOKUP($B1146,Récapitulatif!$N$64:$Q$68,2,FALSE)=0,\"\",VLOOKUP($B1146,Récapitulatif!$N$64:$Q$68,2,FALSE)),\"\")","v":""},0,-12.5,null,2025,"2025-02-16",{"$f":"IFERROR(IF(VLOOKUP($H1146,Récapitulatif!$N$14:$Q$24,2,FALSE)=0,\"\",VLOOKUP(H1146,Récapitulatif!$N$14:$Q$24,2,FALSE)),\"\")","v":""},0,12.5]
[2025,"2025-02-17",{"$f":"IFERROR(IF(VLOOKUP($B1147,Récapitulatif!$N$64:$Q$68,2,FALSE)=0,\"\",VLOOKUP($B1147,Récapitulatif!$N$64:$Q$68,2,FALSE)),\"\")","v":""},0,-12.5,null,2025,"2025-02-17",{"$f":"IFERROR(IF(VLOOKUP($H1147,Récapitulatif!$N$14:$Q$24,2,FALSE)=0,\"\",VLOOKUP(H1147,Récapitulatif!$N$14:$Q$24,2,FALSE)),\"\")","v":""},0,12.5]
[2025,"2025-02-18",{"$f":"IFERROR(IF(VLOOKUP($B1148,Récapitulatif!$N$64:$Q$68,2,FALSE)=0,\"\",VLOOKUP($B1148,Récapitulatif!$N$64:$Q$68,2,FALSE)),\"\")","v":""},0,-12.5,null,2025,"2025-02-18",{"$f":"IFERROR(IF(VLOOKUP($H1148,Récapitulatif!$N$14:$Q$24,2,FALSE)=0,\"\",VLOOKUP(H1148,Récapitulatif!$N$14:$Q$24,2,FALSE)),\"\")","v":""},0,12.5]
[2025,"2025-02-19",{"$f":"IFERROR(IF(VLOOKUP($B1149,Récapitulatif!$N$64:$Q$68,2,FALSE)=0,\"\",VLOOKUP($B1149,Récapitulatif!$N$64:$Q$68,2,FALSE)),\"\")","v":""},0,-12.5,null,2025,"2025-02-19",{"$f":"IFERROR(IF(VLOOKUP($H1149,Récapitulatif!$N$14:$Q$24,2,FALSE)=0,\"\",VLOOKUP(H1149,Récapitulatif!$N$14:$Q$24,2,FALSE)),\"\")","v":""},0,12.5]
[2025,"2025-02-20",{"$f":"IFERROR(IF(VLOOKUP($B1150,Récapitulatif!$N$64:$Q$68,2,FALSE)=0,\"\",VLOOKUP($B1150,Récapitulatif!$N$64:$Q$68,2,FALSE)),\"\")","v":""},0,-12.5,null,2025,"2025-02-20",{"$f":"IFERROR(IF(VLOOKUP($H1150,Récapitulatif!$N$14:$Q$24,2,FALSE)=0,\"\",VLOOKUP(H1150,Récapitulatif!$N$14:$Q$24,2,FALSE)),\"\")","v":""},0,12.5]
[2025,"2025-02-21",{"$f":"IFERROR(IF(VLOOKUP($B1151,Récapitulatif!$N$64:$Q$68,2,FALSE)=0,\"\",VLOOKUP($B1151,Récapitulatif!$N$64:$Q$68,2,FALSE)),\"\")","v":""},0,-12.5,null,2025,"2025-02-21",{"$f":"IFERROR(IF(VLOOKUP($H1151,Récapitulatif!$N$14:$Q$24,2,FALSE)=0,\"\",VLOOKUP(H1151,Récapitulatif!$N$14:$Q$24,2,FALSE)),\"\")","v":""},0,12.5]
[2025,"2025-02-22",{"$f":"IFERROR(IF(VLOOKUP($B1152,Récapitulatif!$N$64:$Q$68,2,FALSE)=0,\"\",VLOOKUP($B1152,Récapitulatif!$N$64:$Q$68,2,FALSE)),\"\")","v":""},0,-12.5,null,2025,"2025-02-22",{"$f":"IFERROR(IF(VLOOKUP($H1152,Récapitulatif!$N$14:$Q$24,2,FALSE)=0,\"\",VLOOKUP(H1152,Récapitulatif!$N$14:$Q$24,2,FALSE)),\"\")","v":""},0,12.5]
[2025,"2025-02-23",{"$f":"IFERROR(IF(VLOOKUP($B1153,Récapitulatif!$N$64:$Q$68,2,FALSE)=0,\"\",VLOOKUP($B1153,Récapitulatif!$N$64:$Q$68,2,FALSE)),\"\")","v":""},0,-12.5,null,2025,"2025-02-23",{"$f":"IFERROR(IF(VLOOKUP($H1153,Récapitulatif!$N$14:$Q$24,2,FALSE)=0,\"\",VLOOKUP(H1153,Récapitulatif!$N$14:$Q$24,2,FALSE)),\"\")","v":""},0,12.5]
[2025,"2025-02-24",{"$f":"IFERROR(IF(VLOOKUP($B1154,Récapitulatif!$N$64:$Q$68,2,FALSE)=0,\"\",VLOOKUP($B1154,Récapitulatif!$N$64:$Q$68,2,FALSE)),\"\")","v":""},0,-12.5,null,2025,"2025-02-24",{"$f":"IFERROR(IF(VLOOKUP($H1154,Récapitulatif!$N$14:$Q$24,2,FALSE)=0,\"\",VLOOKUP(H1154,Récapitulatif!$N$14:$Q$24,2,FALSE)),\"\")","v":""},0,12.5]
[2025,"2025-02-25",{"$f":"IFERROR(IF(VLOOKUP($B1155,Récapitulatif!$N$64:$Q$68,2,FALSE)=0,\"\",VLOOKUP($B1155,Récapitulatif!$N$64:$Q$68,2,FALSE)),\"\")","v":""},0,-12.5,null,2025,"2025-02-25",{"$f":"IFERROR(IF(VLOOKUP($H1155,Récapitulatif!$N$14:$Q$24,2,FALSE)=0,\"\",VLOOKUP(H1155,Récapitulatif!$N$14:$Q$24,2,FALSE)),\"\")","v":""},0,12.5]
[2025,"2025-02-26",{"$f":"IFERROR(IF(VLOOKUP($B1156,Récapitulatif!$N$64:$Q$68,2,FALSE)=0,\"\",VLOOKUP($B1156,Récapitulatif!$N$64:$Q$68,2,FALSE)),\"\")","v":""},0,-12.5,null,2025,"2025-02-26",{"$f":"IFERROR(IF(VLOOKUP($H1156,Récapitulatif!$N$14:$Q$24,2,FALSE)=0,\"\",VLOOKUP(H1156,Récapitulatif!$N$14:$Q$24,2,FALSE)),\"\")","v":""},0,12.5]
[2025,"2025-02-27",{"$f":"IFERROR(IF(VLOOKUP($B1157,Récapitulatif!$N$64:$Q$68,2,FALSE)=0,\"\",VLOOKUP($B1157,Récapitulatif!$N$64:$Q$68,2,FALSE)),\"\")","v":""},0,-12.5,null,2025,"2025-02-27",{"$f":"IFERROR(IF(VLOOKUP($H1157,Récapitulatif!$N$14:$Q$24,2,FALSE)=0,\"\",VLOOKUP(H1157,Récapitulatif!$N$14:$Q$24,2,FALSE)),\"\")","v":""},0,12.5]
[2025,"2025-02-28",{"$f":"IFERROR(IF(VLOOKUP($B1158,Récapitulatif!$N$64:$Q$68,2,FALSE)=0,\"\",VLOOKUP($B1158,Récapitulatif!$N$64:$Q$68,2,FALSE)),\"\")","v":""},{"$f":"IF($C1158=\"\",0,$E1158)","v":0},-12.5,null,2025,"2025-02-28",{"$f":"IFERROR(IF(VLOOKUP($H1158,Récapitulatif!$N$14:$Q$24,2,FALSE)=0,\"\",VLOOKUP(H1158,Récapitulatif!$N$14:$Q$24,2,FALSE)),\"\")","v":""},{"$f":"IF($I1158=\"\",0,$K1158)","v":0},12.5]
[{"$f":"YEAR(B1159)","v":2025},{"$f":"B1158+1","v":"2025-03-01"},{"$f":"IFERROR(IF(VLOOKUP($B1159,Récapitulatif!$N$64:$Q$68,2,FALSE)=0,\"\",VLOOKUP($B1159,Récapitulatif!$N$64:$Q$68,2,FALSE)),\"\")","v":""},0,-6.5,null,{"$f":"YEAR(H1159)","v":2025},{"$f":"H1158+1","v":"2025-03-01"},{"$f":"IFERROR(IF(VLOOKUP($H1159,Récapitulatif!$N$14:$Q$24,2,FALSE)=0,\"\",VLOOKUP(H1159,Récapitulatif!$N$14:$Q$24,2,FALSE)),\"\")","v":""},0,6.5]
[2025,{"$f":"DATE(A1159,3,1)","v":"2025-03-01"},{"$f":"IFERROR(IF(VLOOKUP($B1160,Récapitulatif!$N$64:$Q$68,2,FALSE)=0,\"\",VLOOKUP($B1160,Récapitulatif!$N$64:$Q$68,2,FALSE)),\"\")","v":""},0,-6.5,null,2025,{"$f":"DATE(G1159,3,1)","v":"2025-03-01"},{"$f":"IFERROR(IF(VLOOKUP($H1160,Récapitulatif!$N$14:$Q$24,2,FALSE)=0,\"\",VLOOKUP(H1160,Récapitulatif!$N$14:$Q$24,2,FALSE)),\"\")","v":""},0,6.5]
[2025,"2025-03-02",{"$f":"IFERROR(IF(VLOOKUP($B1161,Récapitulatif!$N$64:$Q$68,2,FALSE)=0,\"\",VLOOKUP($B1161,Récapitulatif!$N$64:$Q$68,2,FALSE)),\"\")","v":""},0,-6.5,null,2025,"2025-03-02",{"$f":"IFERROR(IF(VLOOKUP($H1161,Récapitulatif!$N$14:$Q$24,2,FALSE)=0,\"\",VLOOKUP(H1161,Récapitulatif!$N$14:$Q$24,2,FALSE)),\"\")","v":""},0,6.5]
[2025,"2025-03-03",{"$f":"IFERROR(IF(VLOOKUP($B1162,Récapitulatif!$N$64:$Q$68,2,FALSE)=0,\"\",VLOOKUP($B1162,Récapitulatif!$N$64:$Q$68,2,FALSE)),\"\")","v":""},0,-6.5,null,2025,"2025-03-03",{"$f":"IFERROR(IF(VLOOKUP($H1162,Récapitulatif!$N$14:$Q$24,2,FALSE)=0,\"\",VLOOKUP(H1162,Récapitulatif!$N$14:$Q$24,2,FALSE)),\"\")","v":""},0,6.5]
[2025,"2025-03-04",{"$f":"IFERROR(IF(VLOOKUP($B1163,Récapitulatif!$N$64:$Q$68,2,FALSE)=0,\"\",VLOOKUP($B1163,Récapitulatif!$N$64:$Q$68,2,FALSE)),\"\")","v":""},0,-6.5,null,2025,"2025-03-04",{"$f":"IFERROR(IF(VLOOKUP($H1163,Récapitulatif!$N$14:$Q$24,2,FALSE)=0,\"\",VLOOKUP(H1163,Récapitulatif!$N$14:$Q$24,2,FALSE)),\"\")","v":""},0,6.5]
[2025,"2025-03-05",{"$f":"IFERROR(IF(VLOOKUP($B1164,Récapitulatif!$N$64:$Q$68,2,FALSE)=0,\"\",VLOOKUP($B1164,Récapitulatif!$N$64:$Q$68,2,FALSE)),\"\")","v":""},0,-6.5,null,2025,"2025-03-05",{"$f":"IFERROR(IF(VLOOKUP($H1164,Récapitulatif!$N$14:$Q$24,2,FALSE)=0,\"\",VLOOKUP(H1164,Récapitulatif!$N$14:$Q$24,2,FALSE)),\"\")","v":""},0,6.5]
[2025,"2025-03-06",{"$f":"IFERROR(IF(VLOOKUP($B1165,Récapitulatif!$N$64:$Q$68,2,FALSE)=0,\"\",VLOOKUP($B1165,Récapitulatif!$N$64:$Q$68,2,FALSE)),\"\")","v":""},0,-6.5,null,2025,"2025-03-06",{"$f":"IFERROR(IF(VLOOKUP($H1165,Récapitulatif!$N$14:$Q$24,2,FALSE)=0,\"\",VLOOKUP(H1165,Récapitulatif!$N$14:$Q$24,2,FALSE)),\"\")","v":""},0,6.5]
[2025,"2025-03-07",{"$f":"IFERROR(IF(VLOOKUP($B1166,Récapitulatif!$N$64:$Q$68,2,FALSE)=0,\"\",VLOOKUP($B1166,Récapitulatif!$N$64:$Q$68,2,FALSE)),\"\")","v":""},0,-6.5,null,2025,"2025-03-07",{"$f":"IFERROR(IF(VLOOKUP($H1166,Récapitulatif!$N$14:$Q$24,2,FALSE)=0,\"\",VLOOKUP(H1166,Récapitulatif!$N$14:$Q$24,2,FALSE)),\"\")","v":""},0,6.5]
[2025,"2025-03-08",{"$f":"IFERROR(IF(VLOOKUP($B1167,Récapitulatif!$N$64:$Q$68,2,FALSE)=0,\"\",VLOOKUP($B1167,Récapitulatif!$N$64:$Q$68,2,FALSE)),\"\")","v":""},0,-6.5,null,2025,"2025-03-08",{"$f":"IFERROR(IF(VLOOKUP($H1167,Récapitulatif!$N$14:$Q$24,2,FALSE)=0,\"\",VLOOKUP(H1167,Récapitulatif!$N$14:$Q$24,2,FALSE)),\"\")","v":""},0,6.5]
[2025,"2025-03-09",{"$f":"IFERROR(IF(VLOOKUP($B1168,Récapitulatif!$N$64:$Q$68,2,FALSE)=0,\"\",VLOOKUP($B1168,Récapitulatif!$N$64:$Q$68,2,FALSE)),\"\")","v":""},0,-6.5,null,2025,"2025-03-09",{"$f":"IFERROR(IF(VLOOKUP($H1168,Récapitulatif!$N$14:$Q$24,2,FALSE)=0,\"\",VLOOKUP(H1168,Récapitulatif!$N$14:$Q$24,2,FALSE)),\"\")","v":""},0,6.5]
[2025,"2025-03-10",{"$f":"IFERROR(IF(VLOOKUP($B1169,Récapitulatif!$N$64:$Q$68,2,FALSE)=0,\"\",VLOOKUP($B1169,Récapitulatif!$N$64:$Q$68,2,FALSE)),\"\")","v":""},0,-6.5,null,2025,"2025-03-10",{"$f":"IFERROR(IF(VLOOKUP($H1169,Récapitulatif!$N$14:$Q$24,2,FALSE)=0,\"\",VLOOKUP(H1169,Récapitulatif!$N$14:$Q$24,2,FALSE)),\"\")","v":""},0,6.5]
[2025,"2025-03-11",{"$f":"IFERROR(IF(VLOOKUP($B1170,Récapitulatif!$N$64:$Q$68,2,FALSE)=0,\"\",VLOOKUP($B1170,Récapitulatif!$N$64:$Q$68,2,FALSE)),\"\")","v":""},0,-6.5,null,2025,"2025-03-11",{"$f":"IFERROR(IF(VLOOKUP($H1170,Récapitulatif!$N$14:$Q$24,2,FALSE)=0,\"\",VLOOKUP(H1170,Récapitulatif!$N$14:$Q$24,2,FALSE)),\"\")","v":""},0,6.5]
[2025,"2025-03-12",{"$f":"IFERROR(IF(VLOOKUP($B1171,Récapitulatif!$N$64:$Q$68,2,FALSE)=0,\"\",VLOOKUP($B1171,Récapitulatif!$N$64:$Q$68,2,FALSE)),\"\")","v":""},0,-6.5,null,2025,"2025-03-12",{"$f":"IFERROR(IF(VLOOKUP($H1171,Récapitulatif!$N$14:$Q$24,2,FALSE)=0,\"\",VLOOKUP(H1171,Récapitulatif!$N$14:$Q$24,2,FALSE)),\"\")","v":""},0,6.5]
[2025,"2025-03-13",{"$f":"IFERROR(IF(VLOOKUP($B1172,Récapitulatif!$N$64:$Q$68,2,FALSE)=0,\"\",VLOOKUP($B1172,Récapitulatif!$N$64:$Q$68,2,FALSE)),\"\")","v":""},0,-6.5,null,2025,"2025-03-13",{"$f":"IFERROR(IF(VLOOKUP($H1172,Récapitulatif!$N$14:$Q$24,2,FALSE)=0,\"\",VLOOKUP(H1172,Récapitulatif!$N$14:$Q$24,2,FALSE)),\"\")","v":""},0,6.5]
[2025,"2025-03-14",{"$f":"IFERROR(IF(VLOOKUP($B1173,Récapitulatif!$N$64:$Q$68,2,FALSE)=0,\"\",VLOOKUP($B1173,Récapitulatif!$N$64:$Q$68,2,FALSE)),\"\")","v":""},0,-6.5,null,2025,"2025-03-14",{"$f":"IFERROR(IF(VLOOKUP($H1173,Récapitulatif!$N$14:$Q$24,2,FALSE)=0,\"\",VLOOKUP(H1173,Récapitulatif!$N$14:$Q$24,2,FALSE)),\"\")","v":""},0,6.5]
[2025,"2025-03-15",{"$f":"IFERROR(IF(VLOOKUP($B1174,Récapitulatif!$N$64:$Q$68,2,FALSE)=0,\"\",VLOOKUP($B1174,Récapitulatif!$N$64:$Q$68,2,FALSE)),\"\")","v":""},0,-6.5,null,2025,"2025-03-15",{"$f":"IFERROR(IF(VLOOKUP($H1174,Récapitulatif!$N$14:$Q$24,2,FALSE)=0,\"\",VLOOKUP(H1174,Récapitulatif!$N$14:$Q$24,2,FALSE)),\"\")","v":""},0,6.5]
[2025,"2025-03-16",{"$f":"IFERROR(IF(VLOOKUP($B1175,Récapitulatif!$N$64:$Q$68,2,FALSE)=0,\"\",VLOOKUP($B1175,Récapitulatif!$N$64:$Q$68,2,FALSE)),\"\")","v":""},0,-6.5,null,2025,"2025-03-16",{"$f":"IFERROR(IF(VLOOKUP($H1175,Récapitulatif!$N$14:$Q$24,2,FALSE)=0,\"\",VLOOKUP(H1175,Récapitulatif!$N$14:$Q$24,2,FALSE)),\"\")","v":""},0,6.5]
[2025,"2025-03-17",{"$f":"IFERROR(IF(VLOOKUP($B1176,Récapitulatif!$N$64:$Q$68,2,FALSE)=0,\"\",VLOOKUP($B1176,Récapitulatif!$N$64:$Q$68,2,FALSE)),\"\")","v":""},0,-6.5,null,2025,"2025-03-17",{"$f":"IFERROR(IF(VLOOKUP($H1176,Récapitulatif!$N$14:$Q$24,2,FALSE)=0,\"\",VLOOKUP(H1176,Récapitulatif!$N$14:$Q$24,2,FALSE)),\"\")","v":""},0,6.5]
[2025,"2025-03-18",{"$f":"IFERROR(IF(VLOOKUP($B1177,Récapitulatif!$N$64:$Q$68,2,FALSE)=0,\"\",VLOOKUP($B1177,Récapitulatif!$N$64:$Q$68,2,FALSE)),\"\")","v":""},0,-6.5,null,2025,"2025-03-18",{"$f":"IFERROR(IF(VLOOKUP($H1177,Récapitulatif!$N$14:$Q$24,2,FALSE)=0,\"\",VLOOKUP(H1177,Récapitulatif!$N$14:$Q$24,2,FALSE)),\"\")","v":""},0,6.5]
[2025,"2025-03-19",{"$f":"IFERROR(IF(VLOOKUP($B1178,Récapitulatif!$N$64:$Q$68,2,FALSE)=0,\"\",VLOOKUP($B1178,Récapitulatif!$N$64:$Q$68,2,FALSE)),\"\")","v":""},0,-6.5,null,2025,"2025-03-19",{"$f":"IFERROR(IF(VLOOKUP($H1178,Récapitulatif!$N$14:$Q$24,2,FALSE)=0,\"\",VLOOKUP(H1178,Récapitulatif!$N$14:$Q$24,2,FALSE)),\"\")","v":""},0,6.5]
[2025,"2025-03-20",{"$f":"IFERROR(IF(VLOOKUP($B1179,Récapitulatif!$N$64:$Q$68,2,FALSE)=0,\"\",VLOOKUP($B1179,Récapitulatif!$N$64:$Q$68,2,FALSE)),\"\")","v":""},0,-6.5,null,2025,"2025-03-20",{"$f":"IFERROR(IF(VLOOKUP($H1179,Récapitulatif!$N$14:$Q$24,2,FALSE)=0,\"\",VLOOKUP(H1179,Récapitulatif!$N$14:$Q$24,2,FALSE)),\"\")","v":""},0,6.5]
[2025,"2025-03-21",{"$f":"IFERROR(IF(VLOOKUP($B1180,Récapitulatif!$N$64:$Q$68,2,FALSE)=0,\"\",VLOOKUP($B1180,Récapitulatif!$N$64:$Q$68,2,FALSE)),\"\")","v":""},0,-6.5,null,2025,"2025-03-21",{"$f":"IFERROR(IF(VLOOKUP($H1180,Récapitulatif!$N$14:$Q$24,2,FALSE)=0,\"\",VLOOKUP(H1180,Récapitulatif!$N$14:$Q$24,2,FALSE)),\"\")","v":""},0,6.5]
[2025,"2025-03-22",{"$f":"IFERROR(IF(VLOOKUP($B1181,Récapitulatif!$N$64:$Q$68,2,FALSE)=0,\"\",VLOOKUP($B1181,Récapitulatif!$N$64:$Q$68,2,FALSE)),\"\")","v":""},0,-6.5,null,2025,"2025-03-22",{"$f":"IFERROR(IF(VLOOKUP($H1181,Récapitulatif!$N$14:$Q$24,2,FALSE)=0,\"\",VLOOKUP(H1181,Récapitulatif!$N$14:$Q$24,2,FALSE)),\"\")","v":""},0,6.5]
[2025,"2025-03-23",{"$f":"IFERROR(IF(VLOOKUP($B1182,Récapitulatif!$N$64:$Q$68,2,FALSE)=0,\"\",VLOOKUP($B1182,Récapitulatif!$N$64:$Q$68,2,FALSE)),\"\")","v":""},0,-6.5,null,2025,"2025-03-23",{"$f":"IFERROR(IF(VLOOKUP($H1182,Récapitulatif!$N$14:$Q$24,2,FALSE)=0,\"\",VLOOKUP(H1182,Récapitulatif!$N$14:$Q$24,2,FALSE)),\"\")","v":""},0,6.5]
[2025,"2025-03-24",{"$f":"IFERROR(IF(VLOOKUP($B1183,Récapitulatif!$N$64:$Q$68,2,FALSE)=0,\"\",VLOOKUP($B1183,Récapitulatif!$N$64:$Q$68,2,FALSE)),\"\")","v":""},0,-6.5,null,2025,"2025-03-24",{"$f":"IFERROR(IF(VLOOKUP($H1183,Récapitulatif!$N$14:$Q$24,2,FALSE)=0,\"\",VLOOKUP(H1183,Récapitulatif!$N$14:$Q$24,2,FALSE)),\"\")","v":""},0,6.5]
[2025,"2025-03-25",{"$f":"IFERROR(IF(VLOOKUP($B1184,Récapitulatif!$N$64:$Q$68,2,FALSE)=0,\"\",VLOOKUP($B1184,Récapitulatif!$N$64:$Q$68,2,FALSE)),\"\")","v":""},0,-6.5,null,2025,"2025-03-25",{"$f":"IFERROR(IF(VLOOKUP($H1184,Récapitulatif!$N$14:$Q$24,2,FALSE)=0,\"\",VLOOKUP(H1184,Récapitulatif!$N$14:$Q$24,2,FALSE)),\"\")","v":""},0,6.5]
[2025,"2025-03-26",{"$f":"IFERROR(IF(VLOOKUP($B1185,Récapitulatif!$N$64:$Q$68,2,FALSE)=0,\"\",VLOOKUP($B1185,Récapitulatif!$N$64:$Q$68,2,FALSE)),\"\")","v":""},0,-6.5,null,2025,"2025-03-26",{"$f":"IFERROR(IF(VLOOKUP($H1185,Récapitulatif!$N$14:$Q$24,2,FALSE)=0,\"\",VLOOKUP(H1185,Récapitulatif!$N$14:$Q$24,2,FALSE)),\"\")","v":""},0,6.5]
[2025,"2025-03-27",{"$f":"IFERROR(IF(VLOOKUP($B1186,Récapitulatif!$N$64:$Q$68,2,FALSE)=0,\"\",VLOOKUP($B1186,Récapitulatif!$N$64:$Q$68,2,FALSE)),\"\")","v":""},0,-6.5,null,2025,"2025-03-27",{"$f":"IFERROR(IF(VLOOKUP($H1186,Récapitulatif!$N$14:$Q$24,2,FALSE)=0,\"\",VLOOKUP(H1186,Récapitulatif!$N$14:$Q$24,2,FALSE)),\"\")","v":""},0,6.5]
[2025,"2025-03-28",{"$f":"IFERROR(IF(VLOOKUP($B1187,Récapitulatif!$N$64:$Q$68,2,FALSE)=0,\"\",VLOOKUP($B1187,Récapitulatif!$N$64:$Q$68,2,FALSE)),\"\")","v":""},0,-6.5,null,2025,"2025-03-28",{"$f":"IFERROR(IF(VLOOKUP($H1187,Récapitulatif!$N$14:$Q$24,2,FALSE)=0,\"\",VLOOKUP(H1187,Récapitulatif!$N$14:$Q$24,2,FALSE)),\"\")","v":""},0,6.5]
[2025,"2025-03-29",{"$f":"IFERROR(IF(VLOOKUP($B1188,Récapitulatif!$N$64:$Q$68,2,FALSE)=0,\"\",VLOOKUP($B1188,Récapitulatif!$N$64:$Q$68,2,FALSE)),\"\")","v":""},0,-6.5,null,2025,"2025-03-29",{"$f":"IFERROR(IF(VLOOKUP($H1188,Récapitulatif!$N$14:$Q$24,2,FALSE)=0,\"\",VLOOKUP(H1188,Récapitulatif!$N$14:$Q$24,2,FALSE)),\"\")","v":""},0,6.5]
[2025,"2025-03-30",{"$f":"IFERROR(IF(VLOOKUP($B1189,Récapitulatif!$N$64:$Q$68,2,FALSE)=0,\"\",VLOOKUP($B1189,Récapitulatif!$N$64:$Q$68,2,FALSE)),\"\")","v":""},0,-6.5,null,2025,"2025-03-30",{"$f":"IFERROR(IF(VLOOKUP($H1189,Récapitulatif!$N$14:$Q$24,2,FALSE)=0,\"\",VLOOKUP(H1189,Récapitulatif!$N$14:$Q$24,2,FALSE)),\"\")","v":""},0,6.5]
[2025,"2025-03-31",{"$f":"IFERROR(IF(VLOOKUP($B1190,Récapitulatif!$N$64:$Q$68,2,FALSE)=0,\"\",VLOOKUP($B1190,Récapitulatif!$N$64:$Q$68,2,FALSE)),\"\")","v":""},0,-9.5,null,2025,"2025-03-31",{"$f":"IFERROR(IF(VLOOKUP($H1190,Récapitulatif!$N$14:$Q$24,2,FALSE)=0,\"\",VLOOKUP(H1190,Récapitulatif!$N$14:$Q$24,2,FALSE)),\"\")","v":""},0,9.5]
[2025,"2025-04-01",{"$f":"IFERROR(IF(VLOOKUP($B1191,Récapitulatif!$N$64:$Q$68,2,FALSE)=0,\"\",VLOOKUP($B1191,Récapitulatif!$N$64:$Q$68,2,FALSE)),\"\")","v":""},0,-9.5,null,2025,"2025-04-01",{"$f":"IFERROR(IF(VLOOKUP($H1191,Récapitulatif!$N$14:$Q$24,2,FALSE)=0,\"\",VLOOKUP(H1191,Récapitulatif!$N$14:$Q$24,2,FALSE)),\"\")","v":""},0,9.5]
[2025,"2025-04-02",{"$f":"IFERROR(IF(VLOOKUP($B1192,Récapitulatif!$N$64:$Q$68,2,FALSE)=0,\"\",VLOOKUP($B1192,Récapitulatif!$N$64:$Q$68,2,FALSE)),\"\")","v":""},0,-9.5,null,2025,"2025-04-02",{"$f":"IFERROR(IF(VLOOKUP($H1192,Récapitulatif!$N$14:$Q$24,2,FALSE)=0,\"\",VLOOKUP(H1192,Récapitulatif!$N$14:$Q$24,2,FALSE)),\"\")","v":""},0,9.5]
[2025,"2025-04-03",{"$f":"IFERROR(IF(VLOOKUP($B1193,Récapitulatif!$N$64:$Q$68,2,FALSE)=0,\"\",VLOOKUP($B1193,Récapitulatif!$N$64:$Q$68,2,FALSE)),\"\")","v":""},0,-9.5,null,2025,"2025-04-03",{"$f":"IFERROR(IF(VLOOKUP($H1193,Récapitulatif!$N$14:$Q$24,2,FALSE)=0,\"\",VLOOKUP(H1193,Récapitulatif!$N$14:$Q$24,2,FALSE)),\"\")","v":""},0,9.5]
[2025,"2025-04-04",{"$f":"IFERROR(IF(VLOOKUP($B1194,Récapitulatif!$N$64:$Q$68,2,FALSE)=0,\"\",VLOOKUP($B1194,Récapitulatif!$N$64:$Q$68,2,FALSE)),\"\")","v":""},0,-9.5,null,2025,"2025-04-04",{"$f":"IFERROR(IF(VLOOKUP($H1194,Récapitulatif!$N$14:$Q$24,2,FALSE)=0,\"\",VLOOKUP(H1194,Récapitulatif!$N$14:$Q$24,2,FALSE)),\"\")","v":""},0,9.5]
[2025,"2025-04-05",{"$f":"IFERROR(IF(VLOOKUP($B1195,Récapitulatif!$N$64:$Q$68,2,FALSE)=0,\"\",VLOOKUP($B1195,Récapitulatif!$N$64:$Q$68,2,FALSE)),\"\")","v":""},0,-9.5,null,2025,"2025-04-05",{"$f":"IFERROR(IF(VLOOKUP($H1195,Récapitulatif!$N$14:$Q$24,2,FALSE)=0,\"\",VLOOKUP(H1195,Récapitulatif!$N$14:$Q$24,2,FALSE)),\"\")","v":""},0,9.5]
[2025,"2025-04-06",{"$f":"IFERROR(IF(VLOOKUP($B1196,Récapitulatif!$N$64:$Q$68,2,FALSE)=0,\"\",VLOOKUP($B1196,Récapitulatif!$N$64:$Q$68,2,FALSE)),\"\")","v":""},0,-9.5,null,2025,"2025-04-06",{"$f":"IFERROR(IF(VLOOKUP($H1196,Récapitulatif!$N$14:$Q$24,2,FALSE)=0,\"\",VLOOKUP(H1196,Récapitulatif!$N$14:$Q$24,2,FALSE)),\"\")","v":""},0,9.5]
[2025,"2025-04-07",{"$f":"IFERROR(IF(VLOOKUP($B1197,Récapitulatif!$N$64:$Q$68,2,FALSE)=0,\"\",VLOOKUP($B1197,Récapitulatif!$N$64:$Q$68,2,FALSE)),\"\")","v":""},0,-9.5,null,2025,"2025-04-07",{"$f":"IFERROR(IF(VLOOKUP($H1197,Récapitulatif!$N$14:$Q$24,2,FALSE)=0,\"\",VLOOKUP(H1197,Récapitulatif!$N$14:$Q$24,2,FALSE)),\"\")","v":""},0,9.5]
[2025,"2025-04-08",{"$f":"IFERROR(IF(VLOOKUP($B1198,Récapitulatif!$N$64:$Q$68,2,FALSE)=0,\"\",VLOOKUP($B1198,Récapitulatif!$N$64:$Q$68,2,FALSE)),\"\")","v":""},0,-9.5,null,2025,"2025-04-08",{"$f":"IFERROR(IF(VLOOKUP($H1198,Récapitulatif!$N$14:$Q$24,2,FALSE)=0,\"\",VLOOKUP(H1198,Récapitulatif!$N$14:$Q$24,2,FALSE)),\"\")","v":""},0,9.5]
[2025,"2025-04-09",{"$f":"IFERROR(IF(VLOOKUP($B1199,Récapitulatif!$N$64:$Q$68,2,FALSE)=0,\"\",VLOOKUP($B1199,Récapitulatif!$N$64:$Q$68,2,FALSE)),\"\")","v":""},0,-9.5,null,2025,"2025-04-09",{"$f":"IFERROR(IF(VLOOKUP($H1199,Récapitulatif!$N$14:$Q$24,2,FALSE)=0,\"\",VLOOKUP(H1199,Récapitulatif!$N$14:$Q$24,2,FALSE)),\"\")","v":""},0,9.5]
[2025,"2025-04-10",{"$f":"IFERROR(IF(VLOOKUP($B1200,Récapitulatif!$N$64:$Q$68,2,FALSE)=0,\"\",VLOOKUP($B1200,Récapitulatif!$N$64:$Q$68,2,FALSE)),\"\")","v":""},0,-9.5,null,2025,"2025-04-10",{"$f":"IFERROR(IF(VLOOKUP($H1200,Récapitulatif!$N$14:$Q$24,2,FALSE)=0,\"\",VLOOKUP(H1200,Récapitulatif!$N$14:$Q$24,2,FALSE)),\"\")","v":""},0,9.5]
[2025,"2025-04-11",{"$f":"IFERROR(IF(VLOOKUP($B1201,Récapitulatif!$N$64:$Q$68,2,FALSE)=0,\"\",VLOOKUP($B1201,Récapitulatif!$N$64:$Q$68,2,FALSE)),\"\")","v":""},0,-9.5,null,2025,"2025-04-11",{"$f":"IFERROR(IF(VLOOKUP($H1201,Récapitulatif!$N$14:$Q$24,2,FALSE)=0,\"\",VLOOKUP(H1201,Récapitulatif!$N$14:$Q$24,2,FALSE)),\"\")","v":""},0,9.5]
[2025,"2025-04-12",{"$f":"IFERROR(IF(VLOOKUP($B1202,Récapitulatif!$N$64:$Q$68,2,FALSE)=0,\"\",VLOOKUP($B1202,Récapitulatif!$N$64:$Q$68,2,FALSE)),\"\")","v":""},0,-9.5,null,2025,"2025-04-12",{"$f":"IFERROR(IF(VLOOKUP($H1202,Récapitulatif!$N$14:$Q$24,2,FALSE)=0,\"\",VLOOKUP(H1202,Récapitulatif!$N$14:$Q$24,2,FALSE)),\"\")","v":""},0,9.5]
[2025,"2025-04-13",{"$f":"IFERROR(IF(VLOOKUP($B1203,Récapitulatif!$N$64:$Q$68,2,FALSE)=0,\"\",VLOOKUP($B1203,Récapitulatif!$N$64:$Q$68,2,FALSE)),\"\")","v":""},0,-9.5,null,2025,"2025-04-13",{"$f":"IFERROR(IF(VLOOKUP($H1203,Récapitulatif!$N$14:$Q$24,2,FALSE)=0,\"\",VLOOKUP(H1203,Récapitulatif!$N$14:$Q$24,2,FALSE)),\"\")","v":""},0,9.5]
[2025,"2025-04-14",{"$f":"IFERROR(IF(VLOOKUP($B1204,Récapitulatif!$N$64:$Q$68,2,FALSE)=0,\"\",VLOOKUP($B1204,Récapitulatif!$N$64:$Q$68,2,FALSE)),\"\")","v":""},0,-9.5,null,2025,"2025-04-14",{"$f":"IFERROR(IF(VLOOKUP($H1204,Récapitulatif!$N$14:$Q$24,2,FALSE)=0,\"\",VLOOKUP(H1204,Récapitulatif!$N$14:$Q$24,2,FALSE)),\"\")","v":""},0,9.5]
[2025,"2025-04-15",{"$f":"IFERROR(IF(VLOOKUP($B1205,Récapitulatif!$N$64:$Q$68,2,FALSE)=0,\"\",VLOOKUP($B1205,Récapitulatif!$N$64:$Q$68,2,FALSE)),\"\")","v":""},0,-9.5,null,2025,"2025-04-15",{"$f":"IFERROR(IF(VLOOKUP($H1205,Récapitulatif!$N$14:$Q$24,2,FALSE)=0,\"\",VLOOKUP(H1205,Récapitulatif!$N$14:$Q$24,2,FALSE)),\"\")","v":""},0,9.5]
[2025,"2025-04-16",{"$f":"IFERROR(IF(VLOOKUP($B1206,Récapitulatif!$N$64:$Q$68,2,FALSE)=0,\"\",VLOOKUP($B1206,Récapitulatif!$N$64:$Q$68,2,FALSE)),\"\")","v":""},0,-9.5,null,2025,"2025-04-16",{"$f":"IFERROR(IF(VLOOKUP($H1206,Récapitulatif!$N$14:$Q$24,2,FALSE)=0,\"\",VLOOKUP(H1206,Récapitulatif!$N$14:$Q$24,2,FALSE)),\"\")","v":""},0,9.5]
[2025,"2025-04-17",{"$f":"IFERROR(IF(VLOOKUP($B1207,Récapitulatif!$N$64:$Q$68,2,FALSE)=0,\"\",VLOOKUP($B1207,Récapitulatif!$N$64:$Q$68,2,FALSE)),\"\")","v":""},0,-9.5,null,2025,"2025-04-17",{"$f":"IFERROR(IF(VLOOKUP($H1207,Récapitulatif!$N$14:$Q$24,2,FALSE)=0,\"\",VLOOKUP(H1207,Récapitulatif!$N$14:$Q$24,2,FALSE)),\"\")","v":""},0,9.5]
[2025,"2025-04-18",{"$f":"IFERROR(IF(VLOOKUP($B1208,Récapitulatif!$N$64:$Q$68,2,FALSE)=0,\"\",VLOOKUP($B1208,Récapitulatif!$N$64:$Q$68,2,FALSE)),\"\")","v":""},0,-9.5,null,2025,"2025-04-18",{"$f":"IFERROR(IF(VLOOKUP($H1208,Récapitulatif!$N$14:$Q$24,2,FALSE)=0,\"\",VLOOKUP(H1208,Récapitulatif!$N$14:$Q$24,2,FALSE)),\"\")","v":""},0,9.5]
[2025,"2025-04-19",{"$f":"IFERROR(IF(VLOOKUP($B1209,Récapitulatif!$N$64:$Q$68,2,FALSE)=0,\"\",VLOOKUP($B1209,Récapitulatif!$N$64:$Q$68,2,FALSE)),\"\")","v":""},0,-9.5,null,2025,"2025-04-19",{"$f":"IFERROR(IF(VLOOKUP($H1209,Récapitulatif!$N$14:$Q$24,2,FALSE)=0,\"\",VLOOKUP(H1209,Récapitulatif!$N$14:$Q$24,2,FALSE)),\"\")","v":""},0,9.5]
[2025,"2025-04-20",{"$f":"IFERROR(IF(VLOOKUP($B1210,Récapitulatif!$N$64:$Q$68,2,FALSE)=0,\"\",VLOOKUP($B1210,Récapitulatif!$N$64:$Q$68,2,FALSE)),\"\")","v":""},0,-9.5,null,2025,"2025-04-20",{"$f":"IFERROR(IF(VLOOKUP($H1210,Récapitulatif!$N$14:$Q$24,2,FALSE)=0,\"\",VLOOKUP(H1210,Récapitulatif!$N$14:$Q$24,2,FALSE)),\"\")","v":""},0,9.5]
[2025,"2025-04-21",{"$f":"IFERROR(IF(VLOOKUP($B1211,Récapitulatif!$N$64:$Q$68,2,FALSE)=0,\"\",VLOOKUP($B1211,Récapitulatif!$N$64:$Q$68,2,FALSE)),\"\")","v":""},0,-9.5,null,2025,"2025-04-21",{"$f":"IFERROR(IF(VLOOKUP($H1211,Récapitulatif!$N$14:$Q$24,2,FALSE)=0,\"\",VLOOKUP(H1211,Récapitulatif!$N$14:$Q$24,2,FALSE)),\"\")","v":""},0,9.5]
[2025,"2025-04-22",{"$f":"IFERROR(IF(VLOOKUP($B1212,Récapitulatif!$N$64:$Q$68,2,FALSE)=0,\"\",VLOOKUP($B1212,Récapitulatif!$N$64:$Q$68,2,FALSE)),\"\")","v":""},0,-9.5,null,2025,"2025-04-22",{"$f":"IFERROR(IF(VLOOKUP($H1212,Récapitulatif!$N$14:$Q$24,2,FALSE)=0,\"\",VLOOKUP(H1212,Récapitulatif!$N$14:$Q$24,2,FALSE)),\"\")","v":""},0,9.5]
[2025,"2025-04-23",{"$f":"IFERROR(IF(VLOOKUP($B1213,Récapitulatif!$N$64:$Q$68,2,FALSE)=0,\"\",VLOOKUP($B1213,Récapitulatif!$N$64:$Q$68,2,FALSE)),\"\")","v":""},0,-9.5,null,2025,"2025-04-23",{"$f":"IFERROR(IF(VLOOKUP($H1213,Récapitulatif!$N$14:$Q$24,2,FALSE)=0,\"\",VLOOKUP(H1213,Récapitulatif!$N$14:$Q$24,2,FALSE)),\"\")","v":""},0,9.5]
[2025,"2025-04-24",{"$f":"IFERROR(IF(VLOOKUP($B1214,Récapitulatif!$N$64:$Q$68,2,FALSE)=0,\"\",VLOOKUP($B1214,Récapitulatif!$N$64:$Q$68,2,FALSE)),\"\")","v":""},0,-9.5,null,2025,"2025-04-24",{"$f":"IFERROR(IF(VLOOKUP($H1214,Récapitulatif!$N$14:$Q$24,2,FALSE)=0,\"\",VLOOKUP(H1214,Récapitulatif!$N$14:$Q$24,2,FALSE)),\"\")","v":""},0,9.5]
[2025,"2025-04-25",{"$f":"IFERROR(IF(VLOOKUP($B1215,Récapitulatif!$N$64:$Q$68,2,FALSE)=0,\"\",VLOOKUP($B1215,Récapitulatif!$N$64:$Q$68,2,FALSE)),\"\")","v":""},0,-9.5,null,2025,"2025-04-25",{"$f":"IFERROR(IF(VLOOKUP($H1215,Récapitulatif!$N$14:$Q$24,2,FALSE)=0,\"\",VLOOKUP(H1215,Récapitulatif!$N$14:$Q$24,2,FALSE)),\"\")","v":""},0,9.5]
[2025,"2025-04-26",{"$f":"IFERROR(IF(VLOOKUP($B1216,Récapitulatif!$N$64:$Q$68,2,FALSE)=0,\"\",VLOOKUP($B1216,Récapitulatif!$N$64:$Q$68,2,FALSE)),\"\")","v":""},0,-9.5,null,2025,"2025-04-26",{"$f":"IFERROR(IF(VLOOKUP($H1216,Récapitulatif!$N$14:$Q$24,2,FALSE)=0,\"\",VLOOKUP(H1216,Récapitulatif!$N$14:$Q$24,2,FALSE)),\"\")","v":""},0,9.5]
[2025,"2025-04-27",{"$f":"IFERROR(IF(VLOOKUP($B1217,Récapitulatif!$N$64:$Q$68,2,FALSE)=0,\"\",VLOOKUP($B1217,Récapitulatif!$N$64:$Q$68,2,FALSE)),\"\")","v":""},0,-9.5,null,2025,"2025-04-27",{"$f":"IFERROR(IF(VLOOKUP($H1217,Récapitulatif!$N$14:$Q$24,2,FALSE)=0,\"\",VLOOKUP(H1217,Récapitulatif!$N$14:$Q$24,2,FALSE)),\"\")","v":""},0,9.5]
[2025,"2025-04-28",{"$f":"IFERROR(IF(VLOOKUP($B1218,Récapitulatif!$N$64:$Q$68,2,FALSE)=0,\"\",VLOOKUP($B1218,Récapitulatif!$N$64:$Q$68,2,FALSE)),\"\")","v":""},0,-9.5,null,2025,"2025-04-28",{"$f":"IFERROR(IF(VLOOKUP($H1218,Récapitulatif!$N$14:$Q$24,2,FALSE)=0,\"\",VLOOKUP(H1218,Récapitulatif!$N$14:$Q$24,2,FALSE)),\"\")","v":""},0,9.5]
[2025,"2025-04-29",{"$f":"IFERROR(IF(VLOOKUP($B1219,Récapitulatif!$N$64:$Q$68,2,FALSE)=0,\"\",VLOOKUP($B1219,Récapitulatif!$N$64:$Q$68,2,FALSE)),\"\")","v":""},0,-9.5,null,2025,"2025-04-29",{"$f":"IFERROR(IF(VLOOKUP($H1219,Récapitulatif!$N$14:$Q$24,2,FALSE)=0,\"\",VLOOKUP(H1219,Récapitulatif!$N$14:$Q$24,2,FALSE)),\"\")","v":""},0,9.5]
[2025,"2025-04-30",{"$f":"IFERROR(IF(VLOOKUP($B1220,Récapitulatif!$N$64:$Q$68,2,FALSE)=0,\"\",VLOOKUP($B1220,Récapitulatif!$N$64:$Q$68,2,FALSE)),\"\")","v":""},0,-11.5,null,2025,"2025-04-30",{"$f":"IFERROR(IF(VLOOKUP($H1220,Récapitulatif!$N$14:$Q$24,2,FALSE)=0,\"\",VLOOKUP(H1220,Récapitulatif!$N$14:$Q$24,2,FALSE)),\"\")","v":""},0,11.5]
[2025,"2025-05-01",{"$f":"IFERROR(IF(VLOOKUP($B1221,Récapitulatif!$N$64:$Q$68,2,FALSE)=0,\"\",VLOOKUP($B1221,Récapitulatif!$N$64:$Q$68,2,FALSE)),\"\")","v":""},0,-11.5,null,2025,"2025-05-01",{"$f":"IFERROR(IF(VLOOKUP($H1221,Récapitulatif!$N$14:$Q$24,2,FALSE)=0,\"\",VLOOKUP(H1221,Récapitulatif!$N$14:$Q$24,2,FALSE)),\"\")","v":""},0,11.5]
[2025,"2025-05-02",{"$f":"IFERROR(IF(VLOOKUP($B1222,Récapitulatif!$N$64:$Q$68,2,FALSE)=0,\"\",VLOOKUP($B1222,Récapitulatif!$N$64:$Q$68,2,FALSE)),\"\")","v":""},{"$f":"IF($C1222=\"\",0,$E1222)","v":0},-11.5,null,2025,"2025-05-02",{"$f":"IFERROR(IF(VLOOKUP($H1222,Récapitulatif!$N$14:$Q$24,2,FALSE)=0,\"\",VLOOKUP(H1222,Récapitulatif!$N$14:$Q$24,2,FALSE)),\"\")","v":""},{"$f":"IF($I1222=\"\",0,$K1222)","v":0},11.5]
[{"$f":"YEAR(B1223)","v":2025},{"$f":"B1222+1","v":"2025-05-03"},{"$f":"IFERROR(IF(VLOOKUP($B1223,Récapitulatif!$N$64:$Q$68,2,FALSE)=0,\"\",VLOOKUP($B1223,Récapitulatif!$N$64:$Q$68,2,FALSE)),\"\")","v":""},0,-11.5,null,{"$f":"YEAR(H1223)","v":2025},{"$f":"H1222+1","v":"2025-05-03"},{"$f":"IFERROR(IF(VLOOKUP($H1223,Récapitulatif!$N$14:$Q$24,2,FALSE)=0,\"\",VLOOKUP(H1223,Récapitulatif!$N$14:$Q$24,2,FALSE)),\"\")","v":""},0,11.5]
[2025,"2025-05-04",{"$f":"IFERROR(IF(VLOOKUP($B1224,Récapitulatif!$N$64:$Q$68,2,FALSE)=0,\"\",VLOOKUP($B1224,Récapitulatif!$N$64:$Q$68,2,FALSE)),\"\")","v":""},0,-11.5,null,2025,"2025-05-04",{"$f":"IFERROR(IF(VLOOKUP($H1224,Récapitulatif!$N$14:$Q$24,2,FALSE)=0,\"\",VLOOKUP(H1224,Récapitulatif!$N$14:$Q$24,2,FALSE)),\"\")","v":""},0,11.5]
[2025,"2025-05-05",{"$f":"IFERROR(IF(VLOOKUP($B1225,Récapitulatif!$N$64:$Q$68,2,FALSE)=0,\"\",VLOOKUP($B1225,Récapitulatif!$N$64:$Q$68,2,FALSE)),\"\")","v":""},0,-11.5,null,2025,"2025-05-05",{"$f":"IFERROR(IF(VLOOKUP($H1225,Récapitulatif!$N$14:$Q$24,2,FALSE)=0,\"\",VLOOKUP(H1225,Récapitulatif!$N$14:$Q$24,2,FALSE)),\"\")","v":""},0,11.5]
[2025,"2025-05-06",{"$f":"IFERROR(IF(VLOOKUP($B1226,Récapitulatif!$N$64:$Q$68,2,FALSE)=0,\"\",VLOOKUP($B1226,Récapitulatif!$N$64:$Q$68,2,FALSE)),\"\")","v":""},0,-11.5,null,2025,"2025-05-06",{"$f":"IFERROR(IF(VLOOKUP($H1226,Récapitulatif!$N$14:$Q$24,2,FALSE)=0,\"\",VLOOKUP(H1226,Récapitulatif!$N$14:$Q$24,2,FALSE)),\"\")","v":""},0,11.5]
[2025,"2025-05-07",{"$f":"IFERROR(IF(VLOOKUP($B1227,Récapitulatif!$N$64:$Q$68,2,FALSE)=0,\"\",VLOOKUP($B1227,Récapitulatif!$N$64:$Q$68,2,FALSE)),\"\")","v":""},0,-11.5,null,2025,"2025-05-07",{"$f":"IFERROR(IF(VLOOKUP($H1227,Récapitulatif!$N$14:$Q$24,2,FALSE)=0,\"\",VLOOKUP(H1227,Récapitulatif!$N$14:$Q$24,2,FALSE)),\"\")","v":""},0,11.5]
[2025,"2025-05-08",{"$f":"IFERROR(IF(VLOOKUP($B1228,Récapitulatif!$N$64:$Q$68,2,FALSE)=0,\"\",VLOOKUP($B1228,Récapitulatif!$N$64:$Q$68,2,FALSE)),\"\")","v":""},0,-11.5,null,2025,"2025-05-08",{"$f":"IFERROR(IF(VLOOKUP($H1228,Récapitulatif!$N$14:$Q$24,2,FALSE)=0,\"\",VLOOKUP(H1228,Récapitulatif!$N$14:$Q$24,2,FALSE)),\"\")","v":""},0,11.5]
[2025,"2025-05-09",{"$f":"IFERROR(IF(VLOOKUP($B1229,Récapitulatif!$N$64:$Q$68,2,FALSE)=0,\"\",VLOOKUP($B1229,Récapitulatif!$N$64:$Q$68,2,FALSE)),\"\")","v":""},0,-11.5,null,2025,"2025-05-09",{"$f":"IFERROR(IF(VLOOKUP($H1229,Récapitulatif!$N$14:$Q$24,2,FALSE)=0,\"\",VLOOKUP(H1229,Récapitulatif!$N$14:$Q$24,2,FALSE)),\"\")","v":""},0,11.5]
[2025,"2025-05-10",{"$f":"IFERROR(IF(VLOOKUP($B1230,Récapitulatif!$N$64:$Q$68,2,FALSE)=0,\"\",VLOOKUP($B1230,Récapitulatif!$N$64:$Q$68,2,FALSE)),\"\")","v":""},0,-11.5,null,2025,"2025-05-10",{"$f":"IFERROR(IF(VLOOKUP($H1230,Récapitulatif!$N$14:$Q$24,2,FALSE)=0,\"\",VLOOKUP(H1230,Récapitulatif!$N$14:$Q$24,2,FALSE)),\"\")","v":""},0,11.5]
[2025,"2025-05-11",{"$f":"IFERROR(IF(VLOOKUP($B1231,Récapitulatif!$N$64:$Q$68,2,FALSE)=0,\"\",VLOOKUP($B1231,Récapitulatif!$N$64:$Q$68,2,FALSE)),\"\")","v":""},0,-11.5,null,2025,"2025-05-11",{"$f":"IFERROR(IF(VLOOKUP($H1231,Récapitulatif!$N$14:$Q$24,2,FALSE)=0,\"\",VLOOKUP(H1231,Récapitulatif!$N$14:$Q$24,2,FALSE)),\"\")","v":""},0,11.5]
[2025,"2025-05-12",{"$f":"IFERROR(IF(VLOOKUP($B1232,Récapitulatif!$N$64:$Q$68,2,FALSE)=0,\"\",VLOOKUP($B1232,Récapitulatif!$N$64:$Q$68,2,FALSE)),\"\")","v":""},0,-11.5,null,2025,"2025-05-12",{"$f":"IFERROR(IF(VLOOKUP($H1232,Récapitulatif!$N$14:$Q$24,2,FALSE)=0,\"\",VLOOKUP(H1232,Récapitulatif!$N$14:$Q$24,2,FALSE)),\"\")","v":""},0,11.5]
[2025,"2025-05-13",{"$f":"IFERROR(IF(VLOOKUP($B1233,Récapitulatif!$N$64:$Q$68,2,FALSE)=0,\"\",VLOOKUP($B1233,Récapitulatif!$N$64:$Q$68,2,FALSE)),\"\")","v":""},0,-11.5,null,2025,"2025-05-13",{"$f":"IFERROR(IF(VLOOKUP($H1233,Récapitulatif!$N$14:$Q$24,2,FALSE)=0,\"\",VLOOKUP(H1233,Récapitulatif!$N$14:$Q$24,2,FALSE)),\"\")","v":""},0,11.5]
[2025,"2025-05-14",{"$f":"IFERROR(IF(VLOOKUP($B1234,Récapitulatif!$N$64:$Q$68,2,FALSE)=0,\"\",VLOOKUP($B1234,Récapitulatif!$N$64:$Q$68,2,FALSE)),\"\")","v":""},0,-11.5,null,2025,"2025-05-14",{"$f":"IFERROR(IF(VLOOKUP($H1234,Récapitulatif!$N$14:$Q$24,2,FALSE)=0,\"\",VLOOKUP(H1234,Récapitulatif!$N$14:$Q$24,2,FALSE)),\"\")","v":""},0,11.5]
[2025,"2025-05-15",{"$f":"IFERROR(IF(VLOOKUP($B1235,Récapitulatif!$N$64:$Q$68,2,FALSE)=0,\"\",VLOOKUP($B1235,Récapitulatif!$N$64:$Q$68,2,FALSE)),\"\")","v":""},0,-11.5,null,2025,"2025-05-15",{"$f":"IFERROR(IF(VLOOKUP($H1235,Récapitulatif!$N$14:$Q$24,2,FALSE)=0,\"\",VLOOKUP(H1235,Récapitulatif!$N$14:$Q$24,2,FALSE)),\"\")","v":""},0,11.5]
[2025,"2025-05-16",{"$f":"IFERROR(IF(VLOOKUP($B1236,Récapitulatif!$N$64:$Q$68,2,FALSE)=0,\"\",VLOOKUP($B1236,Récapitulatif!$N$64:$Q$68,2,FALSE)),\"\")","v":""},0,-11.5,null,2025,"2025-05-16",{"$f":"IFERROR(IF(VLOOKUP($H1236,Récapitulatif!$N$14:$Q$24,2,FALSE)=0,\"\",VLOOKUP(H1236,Récapitulatif!$N$14:$Q$24,2,FALSE)),\"\")","v":""},0,11.5]
[2025,"2025-05-17",{"$f":"IFERROR(IF(VLOOKUP($B1237,Récapitulatif!$N$64:$Q$68,2,FALSE)=0,\"\",VLOOKUP($B1237,Récapitulatif!$N$64:$Q$68,2,FALSE)),\"\")","v":""},0,-11.5,null,2025,"2025-05-17",{"$f":"IFERROR(IF(VLOOKUP($H1237,Récapitulatif!$N$14:$Q$24,2,FALSE)=0,\"\",VLOOKUP(H1237,Récapitulatif!$N$14:$Q$24,2,FALSE)),\"\")","v":""},0,11.5]
[2025,"2025-05-18",{"$f":"IFERROR(IF(VLOOKUP($B1238,Récapitulatif!$N$64:$Q$68,2,FALSE)=0,\"\",VLOOKUP($B1238,Récapitulatif!$N$64:$Q$68,2,FALSE)),\"\")","v":""},0,-11.5,null,2025,"2025-05-18",{"$f":"IFERROR(IF(VLOOKUP($H1238,Récapitulatif!$N$14:$Q$24,2,FALSE)=0,\"\",VLOOKUP(H1238,Récapitulatif!$N$14:$Q$24,2,FALSE)),\"\")","v":""},0,11.5]
[2025,"2025-05-19",{"$f":"IFERROR(IF(VLOOKUP($B1239,Récapitulatif!$N$64:$Q$68,2,FALSE)=0,\"\",VLOOKUP($B1239,Récapitulatif!$N$64:$Q$68,2,FALSE)),\"\")","v":""},0,-11.5,null,2025,"2025-05-19",{"$f":"IFERROR(IF(VLOOKUP($H1239,Récapitulatif!$N$14:$Q$24,2,FALSE)=0,\"\",VLOOKUP(H1239,Récapitulatif!$N$14:$Q$24,2,FALSE)),\"\")","v":""},0,11.5]
[2025,"2025-05-20",{"$f":"IFERROR(IF(VLOOKUP($B1240,Récapitulatif!$N$64:$Q$68,2,FALSE)=0,\"\",VLOOKUP($B1240,Récapitulatif!$N$64:$Q$68,2,FALSE)),\"\")","v":""},0,-11.5,null,2025,"2025-05-20",{"$f":"IFERROR(IF(VLOOKUP($H1240,Récapitulatif!$N$14:$Q$24,2,FALSE)=0,\"\",VLOOKUP(H1240,Récapitulatif!$N$14:$Q$24,2,FALSE)),\"\")","v":""},0,11.5]
[2025,"2025-05-21",{"$f":"IFERROR(IF(VLOOKUP($B1241,Récapitulatif!$N$64:$Q$68,2,FALSE)=0,\"\",VLOOKUP($B1241,Récapitulatif!$N$64:$Q$68,2,FALSE)),\"\")","v":""},0,-11.5,null,2025,"2025-05-21",{"$f":"IFERROR(IF(VLOOKUP($H1241,Récapitulatif!$N$14:$Q$24,2,FALSE)=0,\"\",VLOOKUP(H1241,Récapitulatif!$N$14:$Q$24,2,FALSE)),\"\")","v":""},0,11.5]
[2025,"2025-05-22",{"$f":"IFERROR(IF(VLOOKUP($B1242,Récapitulatif!$N$64:$Q$68,2,FALSE)=0,\"\",VLOOKUP($B1242,Récapitulatif!$N$64:$Q$68,2,FALSE)),\"\")","v":""},0,-11.5,null,2025,"2025-05-22",{"$f":"IFERROR(IF(VLOOKUP($H1242,Récapitulatif!$N$14:$Q$24,2,FALSE)=0,\"\",VLOOKUP(H1242,Récapitulatif!$N$14:$Q$24,2,FALSE)),\"\")","v":""},0,11.5]
[2025,"2025-05-23",{"$f":"IFERROR(IF(VLOOKUP($B1243,Récapitulatif!$N$64:$Q$68,2,FALSE)=0,\"\",VLOOKUP($B1243,Récapitulatif!$N$64:$Q$68,2,FALSE)),\"\")","v":""},0,-11.5,null,2025,"2025-05-23",{"$f":"IFERROR(IF(VLOOKUP($H1243,Récapitulatif!$N$14:$Q$24,2,FALSE)=0,\"\",VLOOKUP(H1243,Récapitulatif!$N$14:$Q$24,2,FALSE)),\"\")","v":""},0,11.5]
[2025,"2025-05-24",{"$f":"IFERROR(IF(VLOOKUP($B1244,Récapitulatif!$N$64:$Q$68,2,FALSE)=0,\"\",VLOOKUP($B1244,Récapitulatif!$N$64:$Q$68,2,FALSE)),\"\")","v":""},0,-11.5,null,2025,"2025-05-24",{"$f":"IFERROR(IF(VLOOKUP($H1244,Récapitulatif!$N$14:$Q$24,2,FALSE)=0,\"\",VLOOKUP(H1244,Récapitulatif!$N$14:$Q$24,2,FALSE)),\"\")","v":""},0,11.5]
[2025,"2025-05-25",{"$f":"IFERROR(IF(VLOOKUP($B1245,Récapitulatif!$N$64:$Q$68,2,FALSE)=0,\"\",VLOOKUP($B1245,Récapitulatif!$N$64:$Q$68,2,FALSE)),\"\")","v":""},0,-11.5,null,2025,"2025-05-25",{"$f":"IFERROR(IF(VLOOKUP($H1245,Récapitulatif!$N$14:$Q$24,2,FALSE)=0,\"\",VLOOKUP(H1245,Récapitulatif!$N$14:$Q$24,2,FALSE)),\"\")","v":""},0,11.5]
[2025,"2025-05-26",{"$f":"IFERROR(IF(VLOOKUP($B1246,Récapitulatif!$N$64:$Q$68,2,FALSE)=0,\"\",VLOOKUP($B1246,Récapitulatif!$N$64:$Q$68,2,FALSE)),\"\")","v":""},0,-11.5,null,2025,"2025-05-26",{"$f":"IFERROR(IF(VLOOKUP($H1246,Récapitulatif!$N$14:$Q$24,2,FALSE)=0,\"\",VLOOKUP(H1246,Récapitulatif!$N$14:$Q$24,2,FALSE)),\"\")","v":""},0,11.5]
[2025,"2025-05-27",{"$f":"IFERROR(IF(VLOOKUP($B1247,Récapitulatif!$N$64:$Q$68,2,FALSE)=0,\"\",VLOOKUP($B1247,Récapitulatif!$N$64:$Q$68,2,FALSE)),\"\")","v":""},0,-11.5,null,2025,"2025-05-27",{"$f":"IFERROR(IF(VLOOKUP($H1247,Récapitulatif!$N$14:$Q$24,2,FALSE)=0,\"\",VLOOKUP(H1247,Récapitulatif!$N$14:$Q$24,2,FALSE)),\"\")","v":""},0,11.5]
[2025,"2025-05-28",{"$f":"IFERROR(IF(VLOOKUP($B1248,Récapitulatif!$N$64:$Q$68,2,FALSE)=0,\"\",VLOOKUP($B1248,Récapitulatif!$N$64:$Q$68,2,FALSE)),\"\")","v":""},0,-11.5,null,2025,"2025-05-28",{"$f":"IFERROR(IF(VLOOKUP($H1248,Récapitulatif!$N$14:$Q$24,2,FALSE)=0,\"\",VLOOKUP(H1248,Récapitulatif!$N$14:$Q$24,2,FALSE)),\"\")","v":""},0,11.5]
[2025,"2025-05-29",{"$f":"IFERROR(IF(VLOOKUP($B1249,Récapitulatif!$N$64:$Q$68,2,FALSE)=0,\"\",VLOOKUP($B1249,Récapitulatif!$N$64:$Q$68,2,FALSE)),\"\")","v":""},0,-11.5,null,2025,"2025-05-29",{"$f":"IFERROR(IF(VLOOKUP($H1249,Récapitulatif!$N$14:$Q$24,2,FALSE)=0,\"\",VLOOKUP(H1249,Récapitulatif!$N$14:$Q$24,2,FALSE)),\"\")","v":""},0,11.5]
[2025,"2025-05-30",{"$f":"IFERROR(IF(VLOOKUP($B1250,Récapitulatif!$N$64:$Q$68,2,FALSE)=0,\"\",VLOOKUP($B1250,Récapitulatif!$N$64:$Q$68,2,FALSE)),\"\")","v":""},0,-11.5,null,2025,"2025-05-30",{"$f":"IFERROR(IF(VLOOKUP($H1250,Récapitulatif!$N$14:$Q$24,2,FALSE)=0,\"\",VLOOKUP(H1250,Récapitulatif!$N$14:$Q$24,2,FALSE)),\"\")","v":""},0,11.5]
[2025,"2025-05-31",{"$f":"IFERROR(IF(VLOOKUP($B1251,Récapitulatif!$N$64:$Q$68,2,FALSE)=0,\"\",VLOOKUP($B1251,Récapitulatif!$N$64:$Q$68,2,FALSE)),\"\")","v":""},0,-4.5,null,2025,"2025-05-31",{"$f":"IFERROR(IF(VLOOKUP($H1251,Récapitulatif!$N$14:$Q$24,2,FALSE)=0,\"\",VLOOKUP(H1251,Récapitulatif!$N$14:$Q$24,2,FALSE)),\"\")","v":""},0,4.5]
[2025,"2025-06-01",{"$f":"IFERROR(IF(VLOOKUP($B1252,Récapitulatif!$N$64:$Q$68,2,FALSE)=0,\"\",VLOOKUP($B1252,Récapitulatif!$N$64:$Q$68,2,FALSE)),\"\")","v":""},0,-4.5,null,2025,"2025-06-01",{"$f":"IFERROR(IF(VLOOKUP($H1252,Récapitulatif!$N$14:$Q$24,2,FALSE)=0,\"\",VLOOKUP(H1252,Récapitulatif!$N$14:$Q$24,2,FALSE)),\"\")","v":""},0,4.5]
[2025,"2025-06-02",{"$f":"IFERROR(IF(VLOOKUP($B1253,Récapitulatif!$N$64:$Q$68,2,FALSE)=0,\"\",VLOOKUP($B1253,Récapitulatif!$N$64:$Q$68,2,FALSE)),\"\")","v":""},0,-4.5,null,2025,"2025-06-02",{"$f":"IFERROR(IF(VLOOKUP($H1253,Récapitulatif!$N$14:$Q$24,2,FALSE)=0,\"\",VLOOKUP(H1253,Récapitulatif!$N$14:$Q$24,2,FALSE)),\"\")","v":""},0,4.5]
[2025,"2025-06-03",{"$f":"IFERROR(IF(VLOOKUP($B1254,Récapitulatif!$N$64:$Q$68,2,FALSE)=0,\"\",VLOOKUP($B1254,Récapitulatif!$N$64:$Q$68,2,FALSE)),\"\")","v":""},0,-4.5,null,2025,"2025-06-03",{"$f":"IFERROR(IF(VLOOKUP($H1254,Récapitulatif!$N$14:$Q$24,2,FALSE)=0,\"\",VLOOKUP(H1254,Récapitulatif!$N$14:$Q$24,2,FALSE)),\"\")","v":""},0,4.5]
[2025,"2025-06-04",{"$f":"IFERROR(IF(VLOOKUP($B1255,Récapitulatif!$N$64:$Q$68,2,FALSE)=0,\"\",VLOOKUP($B1255,Récapitulatif!$N$64:$Q$68,2,FALSE)),\"\")","v":""},0,-4.5,null,2025,"2025-06-04",{"$f":"IFERROR(IF(VLOOKUP($H1255,Récapitulatif!$N$14:$Q$24,2,FALSE)=0,\"\",VLOOKUP(H1255,Récapitulatif!$N$14:$Q$24,2,FALSE)),\"\")","v":""},0,4.5]
[2025,"2025-06-05",{"$f":"IFERROR(IF(VLOOKUP($B1256,Récapitulatif!$N$64:$Q$68,2,FALSE)=0,\"\",VLOOKUP($B1256,Récapitulatif!$N$64:$Q$68,2,FALSE)),\"\")","v":""},0,-4.5,null,2025,"2025-06-05",{"$f":"IFERROR(IF(VLOOKUP($H1256,Récapitulatif!$N$14:$Q$24,2,FALSE)=0,\"\",VLOOKUP(H1256,Récapitulatif!$N$14:$Q$24,2,FALSE)),\"\")","v":""},0,4.5]
[2025,"2025-06-06",{"$f":"IFERROR(IF(VLOOKUP($B1257,Récapitulatif!$N$64:$Q$68,2,FALSE)=0,\"\",VLOOKUP($B1257,Récapitulatif!$N$64:$Q$68,2,FALSE)),\"\")","v":""},0,-4.5,null,2025,"2025-06-06",{"$f":"IFERROR(IF(VLOOKUP($H1257,Récapitulatif!$N$14:$Q$24,2,FALSE)=0,\"\",VLOOKUP(H1257,Récapitulatif!$N$14:$Q$24,2,FALSE)),\"\")","v":""},0,4.5]
[2025,"2025-06-07",{"$f":"IFERROR(IF(VLOOKUP($B1258,Récapitulatif!$N$64:$Q$68,2,FALSE)=0,\"\",VLOOKUP($B1258,Récapitulatif!$N$64:$Q$68,2,FALSE)),\"\")","v":""},0,-4.5,null,2025,"2025-06-07",{"$f":"IFERROR(IF(VLOOKUP($H1258,Récapitulatif!$N$14:$Q$24,2,FALSE)=0,\"\",VLOOKUP(H1258,Récapitulatif!$N$14:$Q$24,2,FALSE)),\"\")","v":""},0,4.5]
[2025,"2025-06-08",{"$f":"IFERROR(IF(VLOOKUP($B1259,Récapitulatif!$N$64:$Q$68,2,FALSE)=0,\"\",VLOOKUP($B1259,Récapitulatif!$N$64:$Q$68,2,FALSE)),\"\")","v":""},0,-4.5,null,2025,"2025-06-08",{"$f":"IFERROR(IF(VLOOKUP($H1259,Récapitulatif!$N$14:$Q$24,2,FALSE)=0,\"\",VLOOKUP(H1259,Récapitulatif!$N$14:$Q$24,2,FALSE)),\"\")","v":""},0,4.5]
[2025,"2025-06-09",{"$f":"IFERROR(IF(VLOOKUP($B1260,Récapitulatif!$N$64:$Q$68,2,FALSE)=0,\"\",VLOOKUP($B1260,Récapitulatif!$N$64:$Q$68,2,FALSE)),\"\")","v":""},0,-4.5,null,2025,"2025-06-09",{"$f":"IFERROR(IF(VLOOKUP($H1260,Récapitulatif!$N$14:$Q$24,2,FALSE)=0,\"\",VLOOKUP(H1260,Récapitulatif!$N$14:$Q$24,2,FALSE)),\"\")","v":""},0,4.5]
[2025,"2025-06-10",{"$f":"IFERROR(IF(VLOOKUP($B1261,Récapitulatif!$N$64:$Q$68,2,FALSE)=0,\"\",VLOOKUP($B1261,Récapitulatif!$N$64:$Q$68,2,FALSE)),\"\")","v":""},0,-4.5,null,2025,"2025-06-10",{"$f":"IFERROR(IF(VLOOKUP($H1261,Récapitulatif!$N$14:$Q$24,2,FALSE)=0,\"\",VLOOKUP(H1261,Récapitulatif!$N$14:$Q$24,2,FALSE)),\"\")","v":""},0,4.5]
[2025,"2025-06-11",{"$f":"IFERROR(IF(VLOOKUP($B1262,Récapitulatif!$N$64:$Q$68,2,FALSE)=0,\"\",VLOOKUP($B1262,Récapitulatif!$N$64:$Q$68,2,FALSE)),\"\")","v":""},0,-4.5,null,2025,"2025-06-11",{"$f":"IFERROR(IF(VLOOKUP($H1262,Récapitulatif!$N$14:$Q$24,2,FALSE)=0,\"\",VLOOKUP(H1262,Récapitulatif!$N$14:$Q$24,2,FALSE)),\"\")","v":""},0,4.5]
[2025,"2025-06-12",{"$f":"IFERROR(IF(VLOOKUP($B1263,Récapitulatif!$N$64:$Q$68,2,FALSE)=0,\"\",VLOOKUP($B1263,Récapitulatif!$N$64:$Q$68,2,FALSE)),\"\")","v":""},0,-4.5,null,2025,"2025-06-12",{"$f":"IFERROR(IF(VLOOKUP($H1263,Récapitulatif!$N$14:$Q$24,2,FALSE)=0,\"\",VLOOKUP(H1263,Récapitulatif!$N$14:$Q$24,2,FALSE)),\"\")","v":""},0,4.5]
[2025,"2025-06-13",{"$f":"IFERROR(IF(VLOOKUP($B1264,Récapitulatif!$N$64:$Q$68,2,FALSE)=0,\"\",VLOOKUP($B1264,Récapitulatif!$N$64:$Q$68,2,FALSE)),\"\")","v":""},0,-4.5,null,2025,"2025-06-13",{"$f":"IFERROR(IF(VLOOKUP($H1264,Récapitulatif!$N$14:$Q$24,2,FALSE)=0,\"\",VLOOKUP(H1264,Récapitulatif!$N$14:$Q$24,2,FALSE)),\"\")","v":""},0,4.5]
[2025,"2025-06-14",{"$f":"IFERROR(IF(VLOOKUP($B1265,Récapitulatif!$N$64:$Q$68,2,FALSE)=0,\"\",VLOOKUP($B1265,Récapitulatif!$N$64:$Q$68,2,FALSE)),\"\")","v":""},0,-4.5,null,2025,"2025-06-14",{"$f":"IFERROR(IF(VLOOKUP($H1265,Récapitulatif!$N$14:$Q$24,2,FALSE)=0,\"\",VLOOKUP(H1265,Récapitulatif!$N$14:$Q$24,2,FALSE)),\"\")","v":""},0,4.5]
[2025,"2025-06-15",{"$f":"IFERROR(IF(VLOOKUP($B1266,Récapitulatif!$N$64:$Q$68,2,FALSE)=0,\"\",VLOOKUP($B1266,Récapitulatif!$N$64:$Q$68,2,FALSE)),\"\")","v":""},0,-4.5,null,2025,"2025-06-15",{"$f":"IFERROR(IF(VLOOKUP($H1266,Récapitulatif!$N$14:$Q$24,2,FALSE)=0,\"\",VLOOKUP(H1266,Récapitulatif!$N$14:$Q$24,2,FALSE)),\"\")","v":""},0,4.5]
[2025,"2025-06-16",{"$f":"IFERROR(IF(VLOOKUP($B1267,Récapitulatif!$N$64:$Q$68,2,FALSE)=0,\"\",VLOOKUP($B1267,Récapitulatif!$N$64:$Q$68,2,FALSE)),\"\")","v":""},0,-4.5,null,2025,"2025-06-16",{"$f":"IFERROR(IF(VLOOKUP($H1267,Récapitulatif!$N$14:$Q$24,2,FALSE)=0,\"\",VLOOKUP(H1267,Récapitulatif!$N$14:$Q$24,2,FALSE)),\"\")","v":""},0,4.5]
[2025,"2025-06-17",{"$f":"IFERROR(IF(VLOOKUP($B1268,Récapitulatif!$N$64:$Q$68,2,FALSE)=0,\"\",VLOOKUP($B1268,Récapitulatif!$N$64:$Q$68,2,FALSE)),\"\")","v":""},0,-4.5,null,2025,"2025-06-17",{"$f":"IFERROR(IF(VLOOKUP($H1268,Récapitulatif!$N$14:$Q$24,2,FALSE)=0,\"\",VLOOKUP(H1268,Récapitulatif!$N$14:$Q$24,2,FALSE)),\"\")","v":""},0,4.5]
[2025,"2025-06-18",{"$f":"IFERROR(IF(VLOOKUP($B1269,Récapitulatif!$N$64:$Q$68,2,FALSE)=0,\"\",VLOOKUP($B1269,Récapitulatif!$N$64:$Q$68,2,FALSE)),\"\")","v":""},0,-4.5,null,2025,"2025-06-18",{"$f":"IFERROR(IF(VLOOKUP($H1269,Récapitulatif!$N$14:$Q$24,2,FALSE)=0,\"\",VLOOKUP(H1269,Récapitulatif!$N$14:$Q$24,2,FALSE)),\"\")","v":""},0,4.5]
[2025,"2025-06-19",{"$f":"IFERROR(IF(VLOOKUP($B1270,Récapitulatif!$N$64:$Q$68,2,FALSE)=0,\"\",VLOOKUP($B1270,Récapitulatif!$N$64:$Q$68,2,FALSE)),\"\")","v":""},0,-4.5,null,2025,"2025-06-19",{"$f":"IFERROR(IF(VLOOKUP($H1270,Récapitulatif!$N$14:$Q$24,2,FALSE)=0,\"\",VLOOKUP(H1270,Récapitulatif!$N$14:$Q$24,2,FALSE)),\"\")","v":""},0,4.5]
[2025,"2025-06-20",{"$f":"IFERROR(IF(VLOOKUP($B1271,Récapitulatif!$N$64:$Q$68,2,FALSE)=0,\"\",VLOOKUP($B1271,Récapitulatif!$N$64:$Q$68,2,FALSE)),\"\")","v":""},0,-4.5,null,2025,"2025-06-20",{"$f":"IFERROR(IF(VLOOKUP($H1271,Récapitulatif!$N$14:$Q$24,2,FALSE)=0,\"\",VLOOKUP(H1271,Récapitulatif!$N$14:$Q$24,2,FALSE)),\"\")","v":""},0,4.5]
[2025,"2025-06-21",{"$f":"IFERROR(IF(VLOOKUP($B1272,Récapitulatif!$N$64:$Q$68,2,FALSE)=0,\"\",VLOOKUP($B1272,Récapitulatif!$N$64:$Q$68,2,FALSE)),\"\")","v":""},0,-4.5,null,2025,"2025-06-21",{"$f":"IFERROR(IF(VLOOKUP($H1272,Récapitulatif!$N$14:$Q$24,2,FALSE)=0,\"\",VLOOKUP(H1272,Récapitulatif!$N$14:$Q$24,2,FALSE)),\"\")","v":""},0,4.5]
[2025,"2025-06-22",{"$f":"IFERROR(IF(VLOOKUP($B1273,Récapitulatif!$N$64:$Q$68,2,FALSE)=0,\"\",VLOOKUP($B1273,Récapitulatif!$N$64:$Q$68,2,FALSE)),\"\")","v":""},0,-4.5,null,2025,"2025-06-22",{"$f":"IFERROR(IF(VLOOKUP($H1273,Récapitulatif!$N$14:$Q$24,2,FALSE)=0,\"\",VLOOKUP(H1273,Récapitulatif!$N$14:$Q$24,2,FALSE)),\"\")","v":""},0,4.5]
[2025,"2025-06-23",{"$f":"IFERROR(IF(VLOOKUP($B1274,Récapitulatif!$N$64:$Q$68,2,FALSE)=0,\"\",VLOOKUP($B1274,Récapitulatif!$N$64:$Q$68,2,FALSE)),\"\")","v":""},0,-4.5,null,2025,"2025-06-23",{"$f":"IFERROR(IF(VLOOKUP($H1274,Récapitulatif!$N$14:$Q$24,2,FALSE)=0,\"\",VLOOKUP(H1274,Récapitulatif!$N$14:$Q$24,2,FALSE)),\"\")","v":""},0,4.5]
[2025,"2025-06-24",{"$f":"IFERROR(IF(VLOOKUP($B1275,Récapitulatif!$N$64:$Q$68,2,FALSE)=0,\"\",VLOOKUP($B1275,Récapitulatif!$N$64:$Q$68,2,FALSE)),\"\")","v":""},0,-4.5,null,2025,"2025-06-24",{"$f":"IFERROR(IF(VLOOKUP($H1275,Récapitulatif!$N$14:$Q$24,2,FALSE)=0,\"\",VLOOKUP(H1275,Récapitulatif!$N$14:$Q$24,2,FALSE)),\"\")","v":""},0,4.5]
[2025,"2025-06-25",{"$f":"IFERROR(IF(VLOOKUP($B1276,Récapitulatif!$N$64:$Q$68,2,FALSE)=0,\"\",VLOOKUP($B1276,Récapitulatif!$N$64:$Q$68,2,FALSE)),\"\")","v":""},0,-4.5,null,2025,"2025-06-25",{"$f":"IFERROR(IF(VLOOKUP($H1276,Récapitulatif!$N$14:$Q$24,2,FALSE)=0,\"\",VLOOKUP(H1276,Récapitulatif!$N$14:$Q$24,2,FALSE)),\"\")","v":""},0,4.5]
[2025,"2025-06-26",{"$f":"IFERROR(IF(VLOOKUP($B1277,Récapitulatif!$N$64:$Q$68,2,FALSE)=0,\"\",VLOOKUP($B1277,Récapitulatif!$N$64:$Q$68,2,FALSE)),\"\")","v":""},0,-4.5,null,2025,"2025-06-26",{"$f":"IFERROR(IF(VLOOKUP($H1277,Récapitulatif!$N$14:$Q$24,2,FALSE)=0,\"\",VLOOKUP(H1277,Récapitulatif!$N$14:$Q$24,2,FALSE)),\"\")","v":""},0,4.5]
[2025,"2025-06-27",{"$f":"IFERROR(IF(VLOOKUP($B1278,Récapitulatif!$N$64:$Q$68,2,FALSE)=0,\"\",VLOOKUP($B1278,Récapitulatif!$N$64:$Q$68,2,FALSE)),\"\")","v":""},0,-4.5,null,2025,"2025-06-27",{"$f":"IFERROR(IF(VLOOKUP($H1278,Récapitulatif!$N$14:$Q$24,2,FALSE)=0,\"\",VLOOKUP(H1278,Récapitulatif!$N$14:$Q$24,2,FALSE)),\"\")","v":""},0,4.5]
[2025,"2025-06-28",{"$f":"IFERROR(IF(VLOOKUP($B1279,Récapitulatif!$N$64:$Q$68,2,FALSE)=0,\"\",VLOOKUP($B1279,Récapitulatif!$N$64:$Q$68,2,FALSE)),\"\")","v":""},0,-4.5,null,2025,"2025-06-28",{"$f":"IFERROR(IF(VLOOKUP($H1279,Récapitulatif!$N$14:$Q$24,2,FALSE)=0,\"\",VLOOKUP(H1279,Récapitulatif!$N$14:$Q$24,2,FALSE)),\"\")","v":""},0,4.5]
[2025,"2025-06-29",{"$f":"IFERROR(IF(VLOOKUP($B1280,Récapitulatif!$N$64:$Q$68,2,FALSE)=0,\"\",VLOOKUP($B1280,Récapitulatif!$N$64:$Q$68,2,FALSE)),\"\")","v":""},0,-4.5,null,2025,"2025-06-29",{"$f":"IFERROR(IF(VLOOKUP($H1280,Récapitulatif!$N$14:$Q$24,2,FALSE)=0,\"\",VLOOKUP(H1280,Récapitulatif!$N$14:$Q$24,2,FALSE)),\"\")","v":""},0,4.5]
[2025,"2025-06-30",{"$f":"IFERROR(IF(VLOOKUP($B1281,Récapitulatif!$N$64:$Q$68,2,FALSE)=0,\"\",VLOOKUP($B1281,Récapitulatif!$N$64:$Q$68,2,FALSE)),\"\")","v":""},0,-8.5,null,2025,"2025-06-30",{"$f":"IFERROR(IF(VLOOKUP($H1281,Récapitulatif!$N$14:$Q$24,2,FALSE)=0,\"\",VLOOKUP(H1281,Récapitulatif!$N$14:$Q$24,2,FALSE)),\"\")","v":""},0,8.5]
[2025,"2025-07-01",{"$f":"IFERROR(IF(VLOOKUP($B1282,Récapitulatif!$N$64:$Q$68,2,FALSE)=0,\"\",VLOOKUP($B1282,Récapitulatif!$N$64:$Q$68,2,FALSE)),\"\")","v":""},0,-8.5,null,2025,"2025-07-01",{"$f":"IFERROR(IF(VLOOKUP($H1282,Récapitulatif!$N$14:$Q$24,2,FALSE)=0,\"\",VLOOKUP(H1282,Récapitulatif!$N$14:$Q$24,2,FALSE)),\"\")","v":""},0,8.5]
[2025,"2025-07-02",{"$f":"IFERROR(IF(VLOOKUP($B1283,Récapitulatif!$N$64:$Q$68,2,FALSE)=0,\"\",VLOOKUP($B1283,Récapitulatif!$N$64:$Q$68,2,FALSE)),\"\")","v":""},0,-8.5,null,2025,"2025-07-02",{"$f":"IFERROR(IF(VLOOKUP($H1283,Récapitulatif!$N$14:$Q$24,2,FALSE)=0,\"\",VLOOKUP(H1283,Récapitulatif!$N$14:$Q$24,2,FALSE)),\"\")","v":""},0,8.5]
[2025,"2025-07-03",{"$f":"IFERROR(IF(VLOOKUP($B1284,Récapitulatif!$N$64:$Q$68,2,FALSE)=0,\"\",VLOOKUP($B1284,Récapitulatif!$N$64:$Q$68,2,FALSE)),\"\")","v":""},0,-8.5,null,2025,"2025-07-03",{"$f":"IFERROR(IF(VLOOKUP($H1284,Récapitulatif!$N$14:$Q$24,2,FALSE)=0,\"\",VLOOKUP(H1284,Récapitulatif!$N$14:$Q$24,2,FALSE)),\"\")","v":""},0,8.5]
[2025,"2025-07-04",{"$f":"IFERROR(IF(VLOOKUP($B1285,Récapitulatif!$N$64:$Q$68,2,FALSE)=0,\"\",VLOOKUP($B1285,Récapitulatif!$N$64:$Q$68,2,FALSE)),\"\")","v":""},0,-8.5,null,2025,"2025-07-04",{"$f":"IFERROR(IF(VLOOKUP($H1285,Récapitulatif!$N$14:$Q$24,2,FALSE)=0,\"\",VLOOKUP(H1285,Récapitulatif!$N$14:$Q$24,2,FALSE)),\"\")","v":""},0,8.5]
[2025,"2025-07-05",{"$f":"IFERROR(IF(VLOOKUP($B1286,Récapitulatif!$N$64:$Q$68,2,FALSE)=0,\"\",VLOOKUP($B1286,Récapitulatif!$N$64:$Q$68,2,FALSE)),\"\")","v":""},{"$f":"IF($C1286=\"\",0,$E1286)","v":0},-8.5,null,2025,"2025-07-05",{"$f":"IFERROR(IF(VLOOKUP($H1286,Récapitulatif!$N$14:$Q$24,2,FALSE)=0,\"\",VLOOKUP(H1286,Récapitulatif!$N$14:$Q$24,2,FALSE)),\"\")","v":""},{"$f":"IF($I1286=\"\",0,$K1286)","v":0},8.5]
[{"$f":"YEAR(B1287)","v":2025},{"$f":"B1286+1","v":"2025-07-06"},{"$f":"IFERROR(IF(VLOOKUP($B1287,Récapitulatif!$N$64:$Q$68,2,FALSE)=0,\"\",VLOOKUP($B1287,Récapitulatif!$N$64:$Q$68,2,FALSE)),\"\")","v":""},0,-8.5,null,{"$f":"YEAR(H1287)","v":2025},{"$f":"H1286+1","v":"2025-07-06"},{"$f":"IFERROR(IF(VLOOKUP($H1287,Récapitulatif!$N$14:$Q$24,2,FALSE)=0,\"\",VLOOKUP(H1287,Récapitulatif!$N$14:$Q$24,2,FALSE)),\"\")","v":""},0,8.5]
[2025,"2025-07-07",{"$f":"IFERROR(IF(VLOOKUP($B1288,Récapitulatif!$N$64:$Q$68,2,FALSE)=0,\"\",VLOOKUP($B1288,Récapitulatif!$N$64:$Q$68,2,FALSE)),\"\")","v":""},0,-8.5,null,2025,"2025-07-07",{"$f":"IFERROR(IF(VLOOKUP($H1288,Récapitulatif!$N$14:$Q$24,2,FALSE)=0,\"\",VLOOKUP(H1288,Récapitulatif!$N$14:$Q$24,2,FALSE)),\"\")","v":""},0,8.5]
[2025,"2025-07-08",{"$f":"IFERROR(IF(VLOOKUP($B1289,Récapitulatif!$N$64:$Q$68,2,FALSE)=0,\"\",VLOOKUP($B1289,Récapitulatif!$N$64:$Q$68,2,FALSE)),\"\")","v":""},0,-8.5,null,2025,"2025-07-08",{"$f":"IFERROR(IF(VLOOKUP($H1289,Récapitulatif!$N$14:$Q$24,2,FALSE)=0,\"\",VLOOKUP(H1289,Récapitulatif!$N$14:$Q$24,2,FALSE)),\"\")","v":""},0,8.5]
[2025,"2025-07-09",{"$f":"IFERROR(IF(VLOOKUP($B1290,Récapitulatif!$N$64:$Q$68,2,FALSE)=0,\"\",VLOOKUP($B1290,Récapitulatif!$N$64:$Q$68,2,FALSE)),\"\")","v":""},0,-8.5,null,2025,"2025-07-09",{"$f":"IFERROR(IF(VLOOKUP($H1290,Récapitulatif!$N$14:$Q$24,2,FALSE)=0,\"\",VLOOKUP(H1290,Récapitulatif!$N$14:$Q$24,2,FALSE)),\"\")","v":""},0,8.5]
[2025,"2025-07-10",{"$f":"IFERROR(IF(VLOOKUP($B1291,Récapitulatif!$N$64:$Q$68,2,FALSE)=0,\"\",VLOOKUP($B1291,Récapitulatif!$N$64:$Q$68,2,FALSE)),\"\")","v":""},0,-8.5,null,2025,"2025-07-10",{"$f":"IFERROR(IF(VLOOKUP($H1291,Récapitulatif!$N$14:$Q$24,2,FALSE)=0,\"\",VLOOKUP(H1291,Récapitulatif!$N$14:$Q$24,2,FALSE)),\"\")","v":""},0,8.5]
[2025,"2025-07-11",{"$f":"IFERROR(IF(VLOOKUP($B1292,Récapitulatif!$N$64:$Q$68,2,FALSE)=0,\"\",VLOOKUP($B1292,Récapitulatif!$N$64:$Q$68,2,FALSE)),\"\")","v":""},0,-8.5,null,2025,"2025-07-11",{"$f":"IFERROR(IF(VLOOKUP($H1292,Récapitulatif!$N$14:$Q$24,2,FALSE)=0,\"\",VLOOKUP(H1292,Récapitulatif!$N$14:$Q$24,2,FALSE)),\"\")","v":""},0,8.5]
[2025,"2025-07-12",{"$f":"IFERROR(IF(VLOOKUP($B1293,Récapitulatif!$N$64:$Q$68,2,FALSE)=0,\"\",VLOOKUP($B1293,Récapitulatif!$N$64:$Q$68,2,FALSE)),\"\")","v":""},0,-8.5,null,2025,"2025-07-12",{"$f":"IFERROR(IF(VLOOKUP($H1293,Récapitulatif!$N$14:$Q$24,2,FALSE)=0,\"\",VLOOKUP(H1293,Récapitulatif!$N$14:$Q$24,2,FALSE)),\"\")","v":""},0,8.5]
[2025,"2025-07-13",{"$f":"IFERROR(IF(VLOOKUP($B1294,Récapitulatif!$N$64:$Q$68,2,FALSE)=0,\"\",VLOOKUP($B1294,Récapitulatif!$N$64:$Q$68,2,FALSE)),\"\")","v":""},0,-8.5,null,2025,"2025-07-13",{"$f":"IFERROR(IF(VLOOKUP($H1294,Récapitulatif!$N$14:$Q$24,2,FALSE)=0,\"\",VLOOKUP(H1294,Récapitulatif!$N$14:$Q$24,2,FALSE)),\"\")","v":""},0,8.5]
[2025,"2025-07-14",{"$f":"IFERROR(IF(VLOOKUP($B1295,Récapitulatif!$N$64:$Q$68,2,FALSE)=0,\"\",VLOOKUP($B1295,Récapitulatif!$N$64:$Q$68,2,FALSE)),\"\")","v":""},0,-8.5,null,2025,"2025-07-14",{"$f":"IFERROR(IF(VLOOKUP($H1295,Récapitulatif!$N$14:$Q$24,2,FALSE)=0,\"\",VLOOKUP(H1295,Récapitulatif!$N$14:$Q$24,2,FALSE)),\"\")","v":""},0,8.5]
[2025,"2025-07-15",{"$f":"IFERROR(IF(VLOOKUP($B1296,Récapitulatif!$N$64:$Q$68,2,FALSE)=0,\"\",VLOOKUP($B1296,Récapitulatif!$N$64:$Q$68,2,FALSE)),\"\")","v":""},0,-8.5,null,2025,"2025-07-15",{"$f":"IFERROR(IF(VLOOKUP($H1296,Récapitulatif!$N$14:$Q$24,2,FALSE)=0,\"\",VLOOKUP(H1296,Récapitulatif!$N$14:$Q$24,2,FALSE)),\"\")","v":""},0,8.5]
[2025,"2025-07-16",{"$f":"IFERROR(IF(VLOOKUP($B1297,Récapitulatif!$N$64:$Q$68,2,FALSE)=0,\"\",VLOOKUP($B1297,Récapitulatif!$N$64:$Q$68,2,FALSE)),\"\")","v":""},0,-8.5,null,2025,"2025-07-16",{"$f":"IFERROR(IF(VLOOKUP($H1297,Récapitulatif!$N$14:$Q$24,2,FALSE)=0,\"\",VLOOKUP(H1297,Récapitulatif!$N$14:$Q$24,2,FALSE)),\"\")","v":""},0,8.5]
[2025,"2025-07-17",{"$f":"IFERROR(IF(VLOOKUP($B1298,Récapitulatif!$N$64:$Q$68,2,FALSE)=0,\"\",VLOOKUP($B1298,Récapitulatif!$N$64:$Q$68,2,FALSE)),\"\")","v":""},0,-8.5,null,2025,"2025-07-17",{"$f":"IFERROR(IF(VLOOKUP($H1298,Récapitulatif!$N$14:$Q$24,2,FALSE)=0,\"\",VLOOKUP(H1298,Récapitulatif!$N$14:$Q$24,2,FALSE)),\"\")","v":""},0,8.5]
[2025,"2025-07-18",{"$f":"IFERROR(IF(VLOOKUP($B1299,Récapitulatif!$N$64:$Q$68,2,FALSE)=0,\"\",VLOOKUP($B1299,Récapitulatif!$N$64:$Q$68,2,FALSE)),\"\")","v":""},0,-8.5,null,2025,"2025-07-18",{"$f":"IFERROR(IF(VLOOKUP($H1299,Récapitulatif!$N$14:$Q$24,2,FALSE)=0,\"\",VLOOKUP(H1299,Récapitulatif!$N$14:$Q$24,2,FALSE)),\"\")","v":""},0,8.5]
[2025,"2025-07-19",{"$f":"IFERROR(IF(VLOOKUP($B1300,Récapitulatif!$N$64:$Q$68,2,FALSE)=0,\"\",VLOOKUP($B1300,Récapitulatif!$N$64:$Q$68,2,FALSE)),\"\")","v":""},0,-8.5,null,2025,"2025-07-19",{"$f":"IFERROR(IF(VLOOKUP($H1300,Récapitulatif!$N$14:$Q$24,2,FALSE)=0,\"\",VLOOKUP(H1300,Récapitulatif!$N$14:$Q$24,2,FALSE)),\"\")","v":""},0,8.5]
[2025,"2025-07-20",{"$f":"IFERROR(IF(VLOOKUP($B1301,Récapitulatif!$N$64:$Q$68,2,FALSE)=0,\"\",VLOOKUP($B1301,Récapitulatif!$N$64:$Q$68,2,FALSE)),\"\")","v":""},0,-8.5,null,2025,"2025-07-20",{"$f":"IFERROR(IF(VLOOKUP($H1301,Récapitulatif!$N$14:$Q$24,2,FALSE)=0,\"\",VLOOKUP(H1301,Récapitulatif!$N$14:$Q$24,2,FALSE)),\"\")","v":""},0,8.5]
[2025,"2025-07-21",{"$f":"IFERROR(IF(VLOOKUP($B1302,Récapitulatif!$N$64:$Q$68,2,FALSE)=0,\"\",VLOOKUP($B1302,Récapitulatif!$N$64:$Q$68,2,FALSE)),\"\")","v":""},0,-8.5,null,2025,"2025-07-21",{"$f":"IFERROR(IF(VLOOKUP($H1302,Récapitulatif!$N$14:$Q$24,2,FALSE)=0,\"\",VLOOKUP(H1302,Récapitulatif!$N$14:$Q$24,2,FALSE)),\"\")","v":""},0,8.5]
[2025,"2025-07-22",{"$f":"IFERROR(IF(VLOOKUP($B1303,Récapitulatif!$N$64:$Q$68,2,FALSE)=0,\"\",VLOOKUP($B1303,Récapitulatif!$N$64:$Q$68,2,FALSE)),\"\")","v":""},0,-8.5,null,2025,"2025-07-22",{"$f":"IFERROR(IF(VLOOKUP($H1303,Récapitulatif!$N$14:$Q$24,2,FALSE)=0,\"\",VLOOKUP(H1303,Récapitulatif!$N$14:$Q$24,2,FALSE)),\"\")","v":""},0,8.5]
[2025,"2025-07-23",{"$f":"IFERROR(IF(VLOOKUP($B1304,Récapitulatif!$N$64:$Q$68,2,FALSE)=0,\"\",VLOOKUP($B1304,Récapitulatif!$N$64:$Q$68,2,FALSE)),\"\")","v":""},0,-8.5,null,2025,"2025-07-23",{"$f":"IFERROR(IF(VLOOKUP($H1304,Récapitulatif!$N$14:$Q$24,2,FALSE)=0,\"\",VLOOKUP(H1304,Récapitulatif!$N$14:$Q$24,2,FALSE)),\"\")","v":""},0,8.5]
[2025,"2025-07-24",{"$f":"IFERROR(IF(VLOOKUP($B1305,Récapitulatif!$N$64:$Q$68,2,FALSE)=0,\"\",VLOOKUP($B1305,Récapitulatif!$N$64:$Q$68,2,FALSE)),\"\")","v":""},0,-8.5,null,2025,"2025-07-24",{"$f":"IFERROR(IF(VLOOKUP($H1305,Récapitulatif!$N$14:$Q$24,2,FALSE)=0,\"\",VLOOKUP(H1305,Récapitulatif!$N$14:$Q$24,2,FALSE)),\"\")","v":""},0,8.5]
[2025,"2025-07-25",{"$f":"IFERROR(IF(VLOOKUP($B1306,Récapitulatif!$N$64:$Q$68,2,FALSE)=0,\"\",VLOOKUP($B1306,Récapitulatif!$N$64:$Q$68,2,FALSE)),\"\")","v":""},0,-8.5,null,2025,"2025-07-25",{"$f":"IFERROR(IF(VLOOKUP($H1306,Récapitulatif!$N$14:$Q$24,2,FALSE)=0,\"\",VLOOKUP(H1306,Récapitulatif!$N$14:$Q$24,2,FALSE)),\"\")","v":""},0,8.5]
[2025,"2025-07-26",{"$f":"IFERROR(IF(VLOOKUP($B1307,Récapitulatif!$N$64:$Q$68,2,FALSE)=0,\"\",VLOOKUP($B1307,Récapitulatif!$N$64:$Q$68,2,FALSE)),\"\")","v":""},0,-8.5,null,2025,"2025-07-26",{"$f":"IFERROR(IF(VLOOKUP($H1307,Récapitulatif!$N$14:$Q$24,2,FALSE)=0,\"\",VLOOKUP(H1307,Récapitulatif!$N$14:$Q$24,2,FALSE)),\"\")","v":""},0,8.5]
[2025,"2025-07-27",{"$f":"IFERROR(IF(VLOOKUP($B1308,Récapitulatif!$N$64:$Q$68,2,FALSE)=0,\"\",VLOOKUP($B1308,Récapitulatif!$N$64:$Q$68,2,FALSE)),\"\")","v":""},0,-8.5,null,2025,"2025-07-27",{"$f":"IFERROR(IF(VLOOKUP($H1308,Récapitulatif!$N$14:$Q$24,2,FALSE)=0,\"\",VLOOKUP(H1308,Récapitulatif!$N$14:$Q$24,2,FALSE)),\"\")","v":""},0,8.5]
[2025,"2025-07-28",{"$f":"IFERROR(IF(VLOOKUP($B1309,Récapitulatif!$N$64:$Q$68,2,FALSE)=0,\"\",VLOOKUP($B1309,Récapitulatif!$N$64:$Q$68,2,FALSE)),\"\")","v":""},0,-8.5,null,2025,"2025-07-28",{"$f":"IFERROR(IF(VLOOKUP($H1309,Récapitulatif!$N$14:$Q$24,2,FALSE)=0,\"\",VLOOKUP(H1309,Récapitulatif!$N$14:$Q$24,2,FALSE)),\"\")","v":""},0,8.5]
[2025,"2025-07-29",{"$f":"IFERROR(IF(VLOOKUP($B1310,Récapitulatif!$N$64:$Q$68,2,FALSE)=0,\"\",VLOOKUP($B1310,Récapitulatif!$N$64:$Q$68,2,FALSE)),\"\")","v":""},0,-8.5,null,2025,"2025-07-29",{"$f":"IFERROR(IF(VLOOKUP($H1310,Récapitulatif!$N$14:$Q$24,2,FALSE)=0,\"\",VLOOKUP(H1310,Récapitulatif!$N$14:$Q$24,2,FALSE)),\"\")","v":""},0,8.5]
[2025,"2025-07-30",{"$f":"IFERROR(IF(VLOOKUP($B1311,Récapitulatif!$N$64:$Q$68,2,FALSE)=0,\"\",VLOOKUP($B1311,Récapitulatif!$N$64:$Q$68,2,FALSE)),\"\")","v":""},0,-8.5,null,2025,"2025-07-30",{"$f":"IFERROR(IF(VLOOKUP($H1311,Récapitulatif!$N$14:$Q$24,2,FALSE)=0,\"\",VLOOKUP(H1311,Récapitulatif!$N$14:$Q$24,2,FALSE)),\"\")","v":""},0,8.5]
[2025,"2025-07-31",{"$f":"IFERROR(IF(VLOOKUP($B1312,Récapitulatif!$N$64:$Q$68,2,FALSE)=0,\"\",VLOOKUP($B1312,Récapitulatif!$N$64:$Q$68,2,FALSE)),\"\")","v":""},0,-5.5,null,2025,"2025-07-31",{"$f":"IFERROR(IF(VLOOKUP($H1312,Récapitulatif!$N$14:$Q$24,2,FALSE)=0,\"\",VLOOKUP(H1312,Récapitulatif!$N$14:$Q$24,2,FALSE)),\"\")","v":""},0,5.5]
[2025,"2025-08-01",{"$f":"IFERROR(IF(VLOOKUP($B1313,Récapitulatif!$N$64:$Q$68,2,FALSE)=0,\"\",VLOOKUP($B1313,Récapitulatif!$N$64:$Q$68,2,FALSE)),\"\")","v":""},0,-5.5,null,2025,"2025-08-01",{"$f":"IFERROR(IF(VLOOKUP($H1313,Récapitulatif!$N$14:$Q$24,2,FALSE)=0,\"\",VLOOKUP(H1313,Récapitulatif!$N$14:$Q$24,2,FALSE)),\"\")","v":""},0,5.5]
[2025,"2025-08-02",{"$f":"IFERROR(IF(VLOOKUP($B1314,Récapitulatif!$N$64:$Q$68,2,FALSE)=0,\"\",VLOOKUP($B1314,Récapitulatif!$N$64:$Q$68,2,FALSE)),\"\")","v":""},0,-5.5,null,2025,"2025-08-02",{"$f":"IFERROR(IF(VLOOKUP($H1314,Récapitulatif!$N$14:$Q$24,2,FALSE)=0,\"\",VLOOKUP(H1314,Récapitulatif!$N$14:$Q$24,2,FALSE)),\"\")","v":""},0,5.5]
[2025,"2025-08-03",{"$f":"IFERROR(IF(VLOOKUP($B1315,Récapitulatif!$N$64:$Q$68,2,FALSE)=0,\"\",VLOOKUP($B1315,Récapitulatif!$N$64:$Q$68,2,FALSE)),\"\")","v":""},0,-5.5,null,2025,"2025-08-03",{"$f":"IFERROR(IF(VLOOKUP($H1315,Récapitulatif!$N$14:$Q$24,2,FALSE)=0,\"\",VLOOKUP(H1315,Récapitulatif!$N$14:$Q$24,2,FALSE)),\"\")","v":""},0,5.5]
[2025,"2025-08-04",{"$f":"IFERROR(IF(VLOOKUP($B1316,Récapitulatif!$N$64:$Q$68,2,FALSE)=0,\"\",VLOOKUP($B1316,Récapitulatif!$N$64:$Q$68,2,FALSE)),\"\")","v":""},0,-5.5,null,2025,"2025-08-04",{"$f":"IFERROR(IF(VLOOKUP($H1316,Récapitulatif!$N$14:$Q$24,2,FALSE)=0,\"\",VLOOKUP(H1316,Récapitulatif!$N$14:$Q$24,2,FALSE)),\"\")","v":""},0,5.5]
[2025,"2025-08-05",{"$f":"IFERROR(IF(VLOOKUP($B1317,Récapitulatif!$N$64:$Q$68,2,FALSE)=0,\"\",VLOOKUP($B1317,Récapitulatif!$N$64:$Q$68,2,FALSE)),\"\")","v":""},0,-5.5,null,2025,"2025-08-05",{"$f":"IFERROR(IF(VLOOKUP($H1317,Récapitulatif!$N$14:$Q$24,2,FALSE)=0,\"\",VLOOKUP(H1317,Récapitulatif!$N$14:$Q$24,2,FALSE)),\"\")","v":""},0,5.5]
[2025,"2025-08-06",{"$f":"IFERROR(IF(VLOOKUP($B1318,Récapitulatif!$N$64:$Q$68,2,FALSE)=0,\"\",VLOOKUP($B1318,Récapitulatif!$N$64:$Q$68,2,FALSE)),\"\")","v":""},0,-5.5,null,2025,"2025-08-06",{"$f":"IFERROR(IF(VLOOKUP($H1318,Récapitulatif!$N$14:$Q$24,2,FALSE)=0,\"\",VLOOKUP(H1318,Récapitulatif!$N$14:$Q$24,2,FALSE)),\"\")","v":""},0,5.5]
[2025,"2025-08-07",{"$f":"IFERROR(IF(VLOOKUP($B1319,Récapitulatif!$N$64:$Q$68,2,FALSE)=0,\"\",VLOOKUP($B1319,Récapitulatif!$N$64:$Q$68,2,FALSE)),\"\")","v":""},0,-5.5,null,2025,"2025-08-07",{"$f":"IFERROR(IF(VLOOKUP($H1319,Récapitulatif!$N$14:$Q$24,2,FALSE)=0,\"\",VLOOKUP(H1319,Récapitulatif!$N$14:$Q$24,2,FALSE)),\"\")","v":""},0,5.5]
[2025,"2025-08-08",{"$f":"IFERROR(IF(VLOOKUP($B1320,Récapitulatif!$N$64:$Q$68,2,FALSE)=0,\"\",VLOOKUP($B1320,Récapitulatif!$N$64:$Q$68,2,FALSE)),\"\")","v":""},0,-5.5,null,2025,"2025-08-08",{"$f":"IFERROR(IF(VLOOKUP($H1320,Récapitulatif!$N$14:$Q$24,2,FALSE)=0,\"\",VLOOKUP(H1320,Récapitulatif!$N$14:$Q$24,2,FALSE)),\"\")","v":""},0,5.5]
[2025,"2025-08-09",{"$f":"IFERROR(IF(VLOOKUP($B1321,Récapitulatif!$N$64:$Q$68,2,FALSE)=0,\"\",VLOOKUP($B1321,Récapitulatif!$N$64:$Q$68,2,FALSE)),\"\")","v":""},0,-5.5,null,2025,"2025-08-09",{"$f":"IFERROR(IF(VLOOKUP($H1321,Récapitulatif!$N$14:$Q$24,2,FALSE)=0,\"\",VLOOKUP(H1321,Récapitulatif!$N$14:$Q$24,2,FALSE)),\"\")","v":""},0,5.5]
[2025,"2025-08-10",{"$f":"IFERROR(IF(VLOOKUP($B1322,Récapitulatif!$N$64:$Q$68,2,FALSE)=0,\"\",VLOOKUP($B1322,Récapitulatif!$N$64:$Q$68,2,FALSE)),\"\")","v":""},0,-5.5,null,2025,"2025-08-10",{"$f":"IFERROR(IF(VLOOKUP($H1322,Récapitulatif!$N$14:$Q$24,2,FALSE)=0,\"\",VLOOKUP(H1322,Récapitulatif!$N$14:$Q$24,2,FALSE)),\"\")","v":""},0,5.5]
[2025,"2025-08-11",{"$f":"IFERROR(IF(VLOOKUP($B1323,Récapitulatif!$N$64:$Q$68,2,FALSE)=0,\"\",VLOOKUP($B1323,Récapitulatif!$N$64:$Q$68,2,FALSE)),\"\")","v":""},0,-5.5,null,2025,"2025-08-11",{"$f":"IFERROR(IF(VLOOKUP($H1323,Récapitulatif!$N$14:$Q$24,2,FALSE)=0,\"\",VLOOKUP(H1323,Récapitulatif!$N$14:$Q$24,2,FALSE)),\"\")","v":""},0,5.5]
[2025,"2025-08-12",{"$f":"IFERROR(IF(VLOOKUP($B1324,Récapitulatif!$N$64:$Q$68,2,FALSE)=0,\"\",VLOOKUP($B1324,Récapitulatif!$N$64:$Q$68,2,FALSE)),\"\")","v":""},0,-5.5,null,2025,"2025-08-12",{"$f":"IFERROR(IF(VLOOKUP($H1324,Récapitulatif!$N$14:$Q$24,2,FALSE)=0,\"\",VLOOKUP(H1324,Récapitulatif!$N$14:$Q$24,2,FALSE)),\"\")","v":""},0,5.5]
[2025,"2025-08-13",{"$f":"IFERROR(IF(VLOOKUP($B1325,Récapitulatif!$N$64:$Q$68,2,FALSE)=0,\"\",VLOOKUP($B1325,Récapitulatif!$N$64:$Q$68,2,FALSE)),\"\")","v":""},0,-5.5,null,2025,"2025-08-13",{"$f":"IFERROR(IF(VLOOKUP($H1325,Récapitulatif!$N$14:$Q$24,2,FALSE)=0,\"\",VLOOKUP(H1325,Récapitulatif!$N$14:$Q$24,2,FALSE)),\"\")","v":""},0,5.5]
[2025,"2025-08-14",{"$f":"IFERROR(IF(VLOOKUP($B1326,Récapitulatif!$N$64:$Q$68,2,FALSE)=0,\"\",VLOOKUP($B1326,Récapitulatif!$N$64:$Q$68,2,FALSE)),\"\")","v":""},0,-5.5,null,2025,"2025-08-14",{"$f":"IFERROR(IF(VLOOKUP($H1326,Récapitulatif!$N$14:$Q$24,2,FALSE)=0,\"\",VLOOKUP(H1326,Récapitulatif!$N$14:$Q$24,2,FALSE)),\"\")","v":""},0,5.5]
[2025,"2025-08-15",{"$f":"IFERROR(IF(VLOOKUP($B1327,Récapitulatif!$N$64:$Q$68,2,FALSE)=0,\"\",VLOOKUP($B1327,Récapitulatif!$N$64:$Q$68,2,FALSE)),\"\")","v":""},0,-5.5,null,2025,"2025-08-15",{"$f":"IFERROR(IF(VLOOKUP($H1327,Récapitulatif!$N$14:$Q$24,2,FALSE)=0,\"\",VLOOKUP(H1327,Récapitulatif!$N$14:$Q$24,2,FALSE)),\"\")","v":""},0,5.5]
[2025,"2025-08-16",{"$f":"IFERROR(IF(VLOOKUP($B1328,Récapitulatif!$N$64:$Q$68,2,FALSE)=0,\"\",VLOOKUP($B1328,Récapitulatif!$N$64:$Q$68,2,FALSE)),\"\")","v":""},0,-5.5,null,2025,"2025-08-16",{"$f":"IFERROR(IF(VLOOKUP($H1328,Récapitulatif!$N$14:$Q$24,2,FALSE)=0,\"\",VLOOKUP(H1328,Récapitulatif!$N$14:$Q$24,2,FALSE)),\"\")","v":""},0,5.5]
[2025,"2025-08-17",{"$f":"IFERROR(IF(VLOOKUP($B1329,Récapitulatif!$N$64:$Q$68,2,FALSE)=0,\"\",VLOOKUP($B1329,Récapitulatif!$N$64:$Q$68,2,FALSE)),\"\")","v":""},0,-5.5,null,2025,"2025-08-17",{"$f":"IFERROR(IF(VLOOKUP($H1329,Récapitulatif!$N$14:$Q$24,2,FALSE)=0,\"\",VLOOKUP(H1329,Récapitulatif!$N$14:$Q$24,2,FALSE)),\"\")","v":""},0,5.5]
[2025,"2025-08-18",{"$f":"IFERROR(IF(VLOOKUP($B1330,Récapitulatif!$N$64:$Q$68,2,FALSE)=0,\"\",VLOOKUP($B1330,Récapitulatif!$N$64:$Q$68,2,FALSE)),\"\")","v":""},0,-5.5,null,2025,"2025-08-18",{"$f":"IFERROR(IF(VLOOKUP($H1330,Récapitulatif!$N$14:$Q$24,2,FALSE)=0,\"\",VLOOKUP(H1330,Récapitulatif!$N$14:$Q$24,2,FALSE)),\"\")","v":""},0,5.5]
[2025,"2025-08-19",{"$f":"IFERROR(IF(VLOOKUP($B1331,Récapitulatif!$N$64:$Q$68,2,FALSE)=0,\"\",VLOOKUP($B1331,Récapitulatif!$N$64:$Q$68,2,FALSE)),\"\")","v":""},0,-5.5,null,2025,"2025-08-19",{"$f":"IFERROR(IF(VLOOKUP($H1331,Récapitulatif!$N$14:$Q$24,2,FALSE)=0,\"\",VLOOKUP(H1331,Récapitulatif!$N$14:$Q$24,2,FALSE)),\"\")","v":""},0,5.5]
[2025,"2025-08-20",{"$f":"IFERROR(IF(VLOOKUP($B1332,Récapitulatif!$N$64:$Q$68,2,FALSE)=0,\"\",VLOOKUP($B1332,Récapitulatif!$N$64:$Q$68,2,FALSE)),\"\")","v":""},0,-5.5,null,2025,"2025-08-20",{"$f":"IFERROR(IF(VLOOKUP($H1332,Récapitulatif!$N$14:$Q$24,2,FALSE)=0,\"\",VLOOKUP(H1332,Récapitulatif!$N$14:$Q$24,2,FALSE)),\"\")","v":""},0,5.5]
[2025,"2025-08-21",{"$f":"IFERROR(IF(VLOOKUP($B1333,Récapitulatif!$N$64:$Q$68,2,FALSE)=0,\"\",VLOOKUP($B1333,Récapitulatif!$N$64:$Q$68,2,FALSE)),\"\")","v":""},0,-5.5,null,2025,"2025-08-21",{"$f":"IFERROR(IF(VLOOKUP($H1333,Récapitulatif!$N$14:$Q$24,2,FALSE)=0,\"\",VLOOKUP(H1333,Récapitulatif!$N$14:$Q$24,2,FALSE)),\"\")","v":""},0,5.5]
[2025,"2025-08-22",{"$f":"IFERROR(IF(VLOOKUP($B1334,Récapitulatif!$N$64:$Q$68,2,FALSE)=0,\"\",VLOOKUP($B1334,Récapitulatif!$N$64:$Q$68,2,FALSE)),\"\")","v":""},0,-5.5,null,2025,"2025-08-22",{"$f":"IFERROR(IF(VLOOKUP($H1334,Récapitulatif!$N$14:$Q$24,2,FALSE)=0,\"\",VLOOKUP(H1334,Récapitulatif!$N$14:$Q$24,2,FALSE)),\"\")","v":""},0,5.5]
[2025,"2025-08-23",{"$f":"IFERROR(IF(VLOOKUP($B1335,Récapitulatif!$N$64:$Q$68,2,FALSE)=0,\"\",VLOOKUP($B1335,Récapitulatif!$N$64:$Q$68,2,FALSE)),\"\")","v":""},0,-5.5,null,2025,"2025-08-23",{"$f":"IFERROR(IF(VLOOKUP($H1335,Récapitulatif!$N$14:$Q$24,2,FALSE)=0,\"\",VLOOKUP(H1335,Récapitulatif!$N$14:$Q$24,2,FALSE)),\"\")","v":""},0,5.5]
[2025,"2025-08-24",{"$f":"IFERROR(IF(VLOOKUP($B1336,Récapitulatif!$N$64:$Q$68,2,FALSE)=0,\"\",VLOOKUP($B1336,Récapitulatif!$N$64:$Q$68,2,FALSE)),\"\")","v":""},0,-5.5,null,2025,"2025-08-24",{"$f":"IFERROR(IF(VLOOKUP($H1336,Récapitulatif!$N$14:$Q$24,2,FALSE)=0,\"\",VLOOKUP(H1336,Récapitulatif!$N$14:$Q$24,2,FALSE)),\"\")","v":""},0,5.5]
[2025,"2025-08-25",{"$f":"IFERROR(IF(VLOOKUP($B1337,Récapitulatif!$N$64:$Q$68,2,FALSE)=0,\"\",VLOOKUP($B1337,Récapitulatif!$N$64:$Q$68,2,FALSE)),\"\")","v":""},0,-5.5,null,2025,"2025-08-25",{"$f":"IFERROR(IF(VLOOKUP($H1337,Récapitulatif!$N$14:$Q$24,2,FALSE)=0,\"\",VLOOKUP(H1337,Récapitulatif!$N$14:$Q$24,2,FALSE)),\"\")","v":""},0,5.5]
[2025,"2025-08-26",{"$f":"IFERROR(IF(VLOOKUP($B1338,Récapitulatif!$N$64:$Q$68,2,FALSE)=0,\"\",VLOOKUP($B1338,Récapitulatif!$N$64:$Q$68,2,FALSE)),\"\")","v":""},0,-5.5,null,2025,"2025-08-26",{"$f":"IFERROR(IF(VLOOKUP($H1338,Récapitulatif!$N$14:$Q$24,2,FALSE)=0,\"\",VLOOKUP(H1338,Récapitulatif!$N$14:$Q$24,2,FALSE)),\"\")","v":""},0,5.5]
[2025,"2025-08-27",{"$f":"IFERROR(IF(VLOOKUP($B1339,Récapitulatif!$N$64:$Q$68,2,FALSE)=0,\"\",VLOOKUP($B1339,Récapitulatif!$N$64:$Q$68,2,FALSE)),\"\")","v":""},0,-5.5,null,2025,"2025-08-27",{"$f":"IFERROR(IF(VLOOKUP($H1339,Récapitulatif!$N$14:$Q$24,2,FALSE)=0,\"\",VLOOKUP(H1339,Récapitulatif!$N$14:$Q$24,2,FALSE)),\"\")","v":""},0,5.5]
[2025,"2025-08-28",{"$f":"IFERROR(IF(VLOOKUP($B1340,Récapitulatif!$N$64:$Q$68,2,FALSE)=0,\"\",VLOOKUP($B1340,Récapitulatif!$N$64:$Q$68,2,FALSE)),\"\")","v":""},0,-5.5,null,2025,"2025-08-28",{"$f":"IFERROR(IF(VLOOKUP($H1340,Récapitulatif!$N$14:$Q$24,2,FALSE)=0,\"\",VLOOKUP(H1340,Récapitulatif!$N$14:$Q$24,2,FALSE)),\"\")","v":""},0,5.5]
[2025,"2025-08-29",{"$f":"IFERROR(IF(VLOOKUP($B1341,Récapitulatif!$N$64:$Q$68,2,FALSE)=0,\"\",VLOOKUP($B1341,Récapitulatif!$N$64:$Q$68,2,FALSE)),\"\")","v":""},0,-5.5,null,2025,"2025-08-29",{"$f":"IFERROR(IF(VLOOKUP($H1341,Récapitulatif!$N$14:$Q$24,2,FALSE)=0,\"\",VLOOKUP(H1341,Récapitulatif!$N$14:$Q$24,2,FALSE)),\"\")","v":""},0,5.5]
[2025,"2025-08-30",{"$f":"IFERROR(IF(VLOOKUP($B1342,Récapitulatif!$N$64:$Q$68,2,FALSE)=0,\"\",VLOOKUP($B1342,Récapitulatif!$N$64:$Q$68,2,FALSE)),\"\")","v":""},0,-5.5,null,2025,"2025-08-30",{"$f":"IFERROR(IF(VLOOKUP($H1342,Récapitulatif!$N$14:$Q$24,2,FALSE)=0,\"\",VLOOKUP(H1342,Récapitulatif!$N$14:$Q$24,2,FALSE)),\"\")","v":""},0,5.5]
[2025,"2025-08-31",{"$f":"IFERROR(IF(VLOOKUP($B1343,Récapitulatif!$N$64:$Q$68,2,FALSE)=0,\"\",VLOOKUP($B1343,Récapitulatif!$N$64:$Q$68,2,FALSE)),\"\")","v":""},0,-7.5,null,2025,"2025-08-31",{"$f":"IFERROR(IF(VLOOKUP($H1343,Récapitulatif!$N$14:$Q$24,2,FALSE)=0,\"\",VLOOKUP(H1343,Récapitulatif!$N$14:$Q$24,2,FALSE)),\"\")","v":""},0,7.5]
[2025,"2025-09-01",{"$f":"IFERROR(IF(VLOOKUP($B1344,Récapitulatif!$N$64:$Q$68,2,FALSE)=0,\"\",VLOOKUP($B1344,Récapitulatif!$N$64:$Q$68,2,FALSE)),\"\")","v":""},0,-7.5,null,2025,"2025-09-01",{"$f":"IFERROR(IF(VLOOKUP($H1344,Récapitulatif!$N$14:$Q$24,2,FALSE)=0,\"\",VLOOKUP(H1344,Récapitulatif!$N$14:$Q$24,2,FALSE)),\"\")","v":""},0,7.5]
[2025,"2025-09-02",{"$f":"IFERROR(IF(VLOOKUP($B1345,Récapitulatif!$N$64:$Q$68,2,FALSE)=0,\"\",VLOOKUP($B1345,Récapitulatif!$N$64:$Q$68,2,FALSE)),\"\")","v":""},0,-7.5,null,2025,"2025-09-02",{"$f":"IFERROR(IF(VLOOKUP($H1345,Récapitulatif!$N$14:$Q$24,2,FALSE)=0,\"\",VLOOKUP(H1345,Récapitulatif!$N$14:$Q$24,2,FALSE)),\"\")","v":""},0,7.5]
[2025,"2025-09-03",{"$f":"IFERROR(IF(VLOOKUP($B1346,Récapitulatif!$N$64:$Q$68,2,FALSE)=0,\"\",VLOOKUP($B1346,Récapitulatif!$N$64:$Q$68,2,FALSE)),\"\")","v":""},0,-7.5,null,2025,"2025-09-03",{"$f":"IFERROR(IF(VLOOKUP($H1346,Récapitulatif!$N$14:$Q$24,2,FALSE)=0,\"\",VLOOKUP(H1346,Récapitulatif!$N$14:$Q$24,2,FALSE)),\"\")","v":""},0,7.5]
[2025,"2025-09-04",{"$f":"IFERROR(IF(VLOOKUP($B1347,Récapitulatif!$N$64:$Q$68,2,FALSE)=0,\"\",VLOOKUP($B1347,Récapitulatif!$N$64:$Q$68,2,FALSE)),\"\")","v":""},0,-7.5,null,2025,"2025-09-04",{"$f":"IFERROR(IF(VLOOKUP($H1347,Récapitulatif!$N$14:$Q$24,2,FALSE)=0,\"\",VLOOKUP(H1347,Récapitulatif!$N$14:$Q$24,2,FALSE)),\"\")","v":""},0,7.5]
[2025,"2025-09-05",{"$f":"IFERROR(IF(VLOOKUP($B1348,Récapitulatif!$N$64:$Q$68,2,FALSE)=0,\"\",VLOOKUP($B1348,Récapitulatif!$N$64:$Q$68,2,FALSE)),\"\")","v":""},0,-7.5,null,2025,"2025-09-05",{"$f":"IFERROR(IF(VLOOKUP($H1348,Récapitulatif!$N$14:$Q$24,2,FALSE)=0,\"\",VLOOKUP(H1348,Récapitulatif!$N$14:$Q$24,2,FALSE)),\"\")","v":""},0,7.5]
[2025,"2025-09-06",{"$f":"IFERROR(IF(VLOOKUP($B1349,Récapitulatif!$N$64:$Q$68,2,FALSE)=0,\"\",VLOOKUP($B1349,Récapitulatif!$N$64:$Q$68,2,FALSE)),\"\")","v":""},0,-7.5,null,2025,"2025-09-06",{"$f":"IFERROR(IF(VLOOKUP($H1349,Récapitulatif!$N$14:$Q$24,2,FALSE)=0,\"\",VLOOKUP(H1349,Récapitulatif!$N$14:$Q$24,2,FALSE)),\"\")","v":""},0,7.5]
[2025,"2025-09-07",{"$f":"IFERROR(IF(VLOOKUP($B1350,Récapitulatif!$N$64:$Q$68,2,FALSE)=0,\"\",VLOOKUP($B1350,Récapitulatif!$N$64:$Q$68,2,FALSE)),\"\")","v":""},{"$f":"IF($C1350=\"\",0,$E1350)","v":0},-7.5,null,2025,"2025-09-07",{"$f":"IFERROR(IF(VLOOKUP($H1350,Récapitulatif!$N$14:$Q$24,2,FALSE)=0,\"\",VLOOKUP(H1350,Récapitulatif!$N$14:$Q$24,2,FALSE)),\"\")","v":""},{"$f":"IF($I1350=\"\",0,$K1350)","v":0},7.5]
[{"$f":"YEAR(B1351)","v":2025},{"$f":"B1350+1","v":"2025-09-08"},{"$f":"IFERROR(IF(VLOOKUP($B1351,Récapitulatif!$N$64:$Q$68,2,FALSE)=0,\"\",VLOOKUP($B1351,Récapitulatif!$N$64:$Q$68,2,FALSE)),\"\")","v":""},0,-7.5,null,{"$f":"YEAR(H1351)","v":2025},{"$f":"H1350+1","v":"2025-09-08"},{"$f":"IFERROR(IF(VLOOKUP($H1351,Récapitulatif!$N$14:$Q$24,2,FALSE)=0,\"\",VLOOKUP(H1351,Récapitulatif!$N$14:$Q$24,2,FALSE)),\"\")","v":""},0,7.5]
[2025,"2025-09-09",{"$f":"IFERROR(IF(VLOOKUP($B1352,Récapitulatif!$N$64:$Q$68,2,FALSE)=0,\"\",VLOOKUP($B1352,Récapitulatif!$N$64:$Q$68,2,FALSE)),\"\")","v":""},0,-7.5,null,2025,"2025-09-09",{"$f":"IFERROR(IF(VLOOKUP($H1352,Récapitulatif!$N$14:$Q$24,2,FALSE)=0,\"\",VLOOKUP(H1352,Récapitulatif!$N$14:$Q$24,2,FALSE)),\"\")","v":""},0,7.5]
[2025,"2025-09-10",{"$f":"IFERROR(IF(VLOOKUP($B1353,Récapitulatif!$N$64:$Q$68,2,FALSE)=0,\"\",VLOOKUP($B1353,Récapitulatif!$N$64:$Q$68,2,FALSE)),\"\")","v":""},0,-7.5,null,2025,"2025-09-10",{"$f":"IFERROR(IF(VLOOKUP($H1353,Récapitulatif!$N$14:$Q$24,2,FALSE)=0,\"\",VLOOKUP(H1353,Récapitulatif!$N$14:$Q$24,2,FALSE)),\"\")","v":""},0,7.5]
[2025,"2025-09-11",{"$f":"IFERROR(IF(VLOOKUP($B1354,Récapitulatif!$N$64:$Q$68,2,FALSE)=0,\"\",VLOOKUP($B1354,Récapitulatif!$N$64:$Q$68,2,FALSE)),\"\")","v":""},0,-7.5,null,2025,"2025-09-11",{"$f":"IFERROR(IF(VLOOKUP($H1354,Récapitulatif!$N$14:$Q$24,2,FALSE)=0,\"\",VLOOKUP(H1354,Récapitulatif!$N$14:$Q$24,2,FALSE)),\"\")","v":""},0,7.5]
[2025,"2025-09-12",{"$f":"IFERROR(IF(VLOOKUP($B1355,Récapitulatif!$N$64:$Q$68,2,FALSE)=0,\"\",VLOOKUP($B1355,Récapitulatif!$N$64:$Q$68,2,FALSE)),\"\")","v":""},0,-7.5,null,2025,"2025-09-12",{"$f":"IFERROR(IF(VLOOKUP($H1355,Récapitulatif!$N$14:$Q$24,2,FALSE)=0,\"\",VLOOKUP(H1355,Récapitulatif!$N$14:$Q$24,2,FALSE)),\"\")","v":""},0,7.5]
[2025,"2025-09-13",{"$f":"IFERROR(IF(VLOOKUP($B1356,Récapitulatif!$N$64:$Q$68,2,FALSE)=0,\"\",VLOOKUP($B1356,Récapitulatif!$N$64:$Q$68,2,FALSE)),\"\")","v":""},0,-7.5,null,2025,"2025-09-13",{"$f":"IFERROR(IF(VLOOKUP($H1356,Récapitulatif!$N$14:$Q$24,2,FALSE)=0,\"\",VLOOKUP(H1356,Récapitulatif!$N$14:$Q$24,2,FALSE)),\"\")","v":""},0,7.5]
[2025,"2025-09-14",{"$f":"IFERROR(IF(VLOOKUP($B1357,Récapitulatif!$N$64:$Q$68,2,FALSE)=0,\"\",VLOOKUP($B1357,Récapitulatif!$N$64:$Q$68,2,FALSE)),\"\")","v":""},0,-7.5,null,2025,"2025-09-14",{"$f":"IFERROR(IF(VLOOKUP($H1357,Récapitulatif!$N$14:$Q$24,2,FALSE)=0,\"\",VLOOKUP(H1357,Récapitulatif!$N$14:$Q$24,2,FALSE)),\"\")","v":""},0,7.5]
[2025,"2025-09-15",{"$f":"IFERROR(IF(VLOOKUP($B1358,Récapitulatif!$N$64:$Q$68,2,FALSE)=0,\"\",VLOOKUP($B1358,Récapitulatif!$N$64:$Q$68,2,FALSE)),\"\")","v":""},0,-7.5,null,2025,"2025-09-15",{"$f":"IFERROR(IF(VLOOKUP($H1358,Récapitulatif!$N$14:$Q$24,2,FALSE)=0,\"\",VLOOKUP(H1358,Récapitulatif!$N$14:$Q$24,2,FALSE)),\"\")","v":""},0,7.5]
[2025,"2025-09-16",{"$f":"IFERROR(IF(VLOOKUP($B1359,Récapitulatif!$N$64:$Q$68,2,FALSE)=0,\"\",VLOOKUP($B1359,Récapitulatif!$N$64:$Q$68,2,FALSE)),\"\")","v":""},0,-7.5,null,2025,"2025-09-16",{"$f":"IFERROR(IF(VLOOKUP($H1359,Récapitulatif!$N$14:$Q$24,2,FALSE)=0,\"\",VLOOKUP(H1359,Récapitulatif!$N$14:$Q$24,2,FALSE)),\"\")","v":""},0,7.5]
[2025,"2025-09-17",{"$f":"IFERROR(IF(VLOOKUP($B1360,Récapitulatif!$N$64:$Q$68,2,FALSE)=0,\"\",VLOOKUP($B1360,Récapitulatif!$N$64:$Q$68,2,FALSE)),\"\")","v":""},0,-7.5,null,2025,"2025-09-17",{"$f":"IFERROR(IF(VLOOKUP($H1360,Récapitulatif!$N$14:$Q$24,2,FALSE)=0,\"\",VLOOKUP(H1360,Récapitulatif!$N$14:$Q$24,2,FALSE)),\"\")","v":""},0,7.5]
[2025,"2025-09-18",{"$f":"IFERROR(IF(VLOOKUP($B1361,Récapitulatif!$N$64:$Q$68,2,FALSE)=0,\"\",VLOOKUP($B1361,Récapitulatif!$N$64:$Q$68,2,FALSE)),\"\")","v":""},0,-7.5,null,2025,"2025-09-18",{"$f":"IFERROR(IF(VLOOKUP($H1361,Récapitulatif!$N$14:$Q$24,2,FALSE)=0,\"\",VLOOKUP(H1361,Récapitulatif!$N$14:$Q$24,2,FALSE)),\"\")","v":""},0,7.5]
[2025,"2025-09-19",{"$f":"IFERROR(IF(VLOOKUP($B1362,Récapitulatif!$N$64:$Q$68,2,FALSE)=0,\"\",VLOOKUP($B1362,Récapitulatif!$N$64:$Q$68,2,FALSE)),\"\")","v":""},0,-7.5,null,2025,"2025-09-19",{"$f":"IFERROR(IF(VLOOKUP($H1362,Récapitulatif!$N$14:$Q$24,2,FALSE)=0,\"\",VLOOKUP(H1362,Récapitulatif!$N$14:$Q$24,2,FALSE)),\"\")","v":""},0,7.5]
[2025,"2025-09-20",{"$f":"IFERROR(IF(VLOOKUP($B1363,Récapitulatif!$N$64:$Q$68,2,FALSE)=0,\"\",VLOOKUP($B1363,Récapitulatif!$N$64:$Q$68,2,FALSE)),\"\")","v":""},0,-7.5,null,2025,"2025-09-20",{"$f":"IFERROR(IF(VLOOKUP($H1363,Récapitulatif!$N$14:$Q$24,2,FALSE)=0,\"\",VLOOKUP(H1363,Récapitulatif!$N$14:$Q$24,2,FALSE)),\"\")","v":""},0,7.5]
[2025,"2025-09-21",{"$f":"IFERROR(IF(VLOOKUP($B1364,Récapitulatif!$N$64:$Q$68,2,FALSE)=0,\"\",VLOOKUP($B1364,Récapitulatif!$N$64:$Q$68,2,FALSE)),\"\")","v":""},0,-7.5,null,2025,"2025-09-21",{"$f":"IFERROR(IF(VLOOKUP($H1364,Récapitulatif!$N$14:$Q$24,2,FALSE)=0,\"\",VLOOKUP(H1364,Récapitulatif!$N$14:$Q$24,2,FALSE)),\"\")","v":""},0,7.5]
[2025,"2025-09-22",{"$f":"IFERROR(IF(VLOOKUP($B1365,Récapitulatif!$N$64:$Q$68,2,FALSE)=0,\"\",VLOOKUP($B1365,Récapitulatif!$N$64:$Q$68,2,FALSE)),\"\")","v":""},0,-7.5,null,2025,"2025-09-22",{"$f":"IFERROR(IF(VLOOKUP($H1365,Récapitulatif!$N$14:$Q$24,2,FALSE)=0,\"\",VLOOKUP(H1365,Récapitulatif!$N$14:$Q$24,2,FALSE)),\"\")","v":""},0,7.5]
[2025,"2025-09-23",{"$f":"IFERROR(IF(VLOOKUP($B1366,Récapitulatif!$N$64:$Q$68,2,FALSE)=0,\"\",VLOOKUP($B1366,Récapitulatif!$N$64:$Q$68,2,FALSE)),\"\")","v":""},0,-7.5,null,2025,"2025-09-23",{"$f":"IFERROR(IF(VLOOKUP($H1366,Récapitulatif!$N$14:$Q$24,2,FALSE)=0,\"\",VLOOKUP(H1366,Récapitulatif!$N$14:$Q$24,2,FALSE)),\"\")","v":""},0,7.5]
[2025,"2025-09-24",{"$f":"IFERROR(IF(VLOOKUP($B1367,Récapitulatif!$N$64:$Q$68,2,FALSE)=0,\"\",VLOOKUP($B1367,Récapitulatif!$N$64:$Q$68,2,FALSE)),\"\")","v":""},0,-7.5,null,2025,"2025-09-24",{"$f":"IFERROR(IF(VLOOKUP($H1367,Récapitulatif!$N$14:$Q$24,2,FALSE)=0,\"\",VLOOKUP(H1367,Récapitulatif!$N$14:$Q$24,2,FALSE)),\"\")","v":""},0,7.5]
[2025,"2025-09-25",{"$f":"IFERROR(IF(VLOOKUP($B1368,Récapitulatif!$N$64:$Q$68,2,FALSE)=0,\"\",VLOOKUP($B1368,Récapitulatif!$N$64:$Q$68,2,FALSE)),\"\")","v":""},0,-7.5,null,2025,"2025-09-25",{"$f":"IFERROR(IF(VLOOKUP($H1368,Récapitulatif!$N$14:$Q$24,2,FALSE)=0,\"\",VLOOKUP(H1368,Récapitulatif!$N$14:$Q$24,2,FALSE)),\"\")","v":""},0,7.5]
[2025,"2025-09-26",{"$f":"IFERROR(IF(VLOOKUP($B1369,Récapitulatif!$N$64:$Q$68,2,FALSE)=0,\"\",VLOOKUP($B1369,Récapitulatif!$N$64:$Q$68,2,FALSE)),\"\")","v":""},0,-7.5,null,2025,"2025-09-26",{"$f":"IFERROR(IF(VLOOKUP($H1369,Récapitulatif!$N$14:$Q$24,2,FALSE)=0,\"\",VLOOKUP(H1369,Récapitulatif!$N$14:$Q$24,2,FALSE)),\"\")","v":""},0,7.5]
[2025,"2025-09-27",{"$f":"IFERROR(IF(VLOOKUP($B1370,Récapitulatif!$N$64:$Q$68,2,FALSE)=0,\"\",VLOOKUP($B1370,Récapitulatif!$N$64:$Q$68,2,FALSE)),\"\")","v":""},0,-7.5,null,2025,"2025-09-27",{"$f":"IFERROR(IF(VLOOKUP($H1370,Récapitulatif!$N$14:$Q$24,2,FALSE)=0,\"\",VLOOKUP(H1370,Récapitulatif!$N$14:$Q$24,2,FALSE)),\"\")","v":""},0,7.5]
[2025,"2025-09-28",{"$f":"IFERROR(IF(VLOOKUP($B1371,Récapitulatif!$N$64:$Q$68,2,FALSE)=0,\"\",VLOOKUP($B1371,Récapitulatif!$N$64:$Q$68,2,FALSE)),\"\")","v":""},0,-7.5,null,2025,"2025-09-28",{"$f":"IFERROR(IF(VLOOKUP($H1371,Récapitulatif!$N$14:$Q$24,2,FALSE)=0,\"\",VLOOKUP(H1371,Récapitulatif!$N$14:$Q$24,2,FALSE)),\"\")","v":""},0,7.5]
[2025,"2025-09-29",{"$f":"IFERROR(IF(VLOOKUP($B1372,Récapitulatif!$N$64:$Q$68,2,FALSE)=0,\"\",VLOOKUP($B1372,Récapitulatif!$N$64:$Q$68,2,FALSE)),\"\")","v":""},0,-7.5,null,2025,"2025-09-29",{"$f":"IFERROR(IF(VLOOKUP($H1372,Récapitulatif!$N$14:$Q$24,2,FALSE)=0,\"\",VLOOKUP(H1372,Récapitulatif!$N$14:$Q$24,2,FALSE)),\"\")","v":""},0,7.5]
[2025,"2025-09-30",{"$f":"IFERROR(IF(VLOOKUP($B1373,Récapitulatif!$N$64:$Q$68,2,FALSE)=0,\"\",VLOOKUP($B1373,Récapitulatif!$N$64:$Q$68,2,FALSE)),\"\")","v":""},0,-4.5,null,2025,"2025-09-30",{"$f":"IFERROR(IF(VLOOKUP($H1373,Récapitulatif!$N$14:$Q$24,2,FALSE)=0,\"\",VLOOKUP(H1373,Récapitulatif!$N$14:$Q$24,2,FALSE)),\"\")","v":""},0,4.5]
[2025,"2025-10-01",{"$f":"IFERROR(IF(VLOOKUP($B1374,Récapitulatif!$N$64:$Q$68,2,FALSE)=0,\"\",VLOOKUP($B1374,Récapitulatif!$N$64:$Q$68,2,FALSE)),\"\")","v":""},0,-4.5,null,2025,"2025-10-01",{"$f":"IFERROR(IF(VLOOKUP($H1374,Récapitulatif!$N$14:$Q$24,2,FALSE)=0,\"\",VLOOKUP(H1374,Récapitulatif!$N$14:$Q$24,2,FALSE)),\"\")","v":""},0,4.5]
[2025,"2025-10-02",{"$f":"IFERROR(IF(VLOOKUP($B1375,Récapitulatif!$N$64:$Q$68,2,FALSE)=0,\"\",VLOOKUP($B1375,Récapitulatif!$N$64:$Q$68,2,FALSE)),\"\")","v":""},0,-4.5,null,2025,"2025-10-02",{"$f":"IFERROR(IF(VLOOKUP($H1375,Récapitulatif!$N$14:$Q$24,2,FALSE)=0,\"\",VLOOKUP(H1375,Récapitulatif!$N$14:$Q$24,2,FALSE)),\"\")","v":""},0,4.5]
[2025,"2025-10-03",{"$f":"IFERROR(IF(VLOOKUP($B1376,Récapitulatif!$N$64:$Q$68,2,FALSE)=0,\"\",VLOOKUP($B1376,Récapitulatif!$N$64:$Q$68,2,FALSE)),\"\")","v":""},0,-4.5,null,2025,"2025-10-03",{"$f":"IFERROR(IF(VLOOKUP($H1376,Récapitulatif!$N$14:$Q$24,2,FALSE)=0,\"\",VLOOKUP(H1376,Récapitulatif!$N$14:$Q$24,2,FALSE)),\"\")","v":""},0,4.5]
[2025,"2025-10-04",{"$f":"IFERROR(IF(VLOOKUP($B1377,Récapitulatif!$N$64:$Q$68,2,FALSE)=0,\"\",VLOOKUP($B1377,Récapitulatif!$N$64:$Q$68,2,FALSE)),\"\")","v":""},0,-4.5,null,2025,"2025-10-04",{"$f":"IFERROR(IF(VLOOKUP($H1377,Récapitulatif!$N$14:$Q$24,2,FALSE)=0,\"\",VLOOKUP(H1377,Récapitulatif!$N$14:$Q$24,2,FALSE)),\"\")","v":""},0,4.5]
[2025,"2025-10-05",{"$f":"IFERROR(IF(VLOOKUP($B1378,Récapitulatif!$N$64:$Q$68,2,FALSE)=0,\"\",VLOOKUP($B1378,Récapitulatif!$N$64:$Q$68,2,FALSE)),\"\")","v":""},0,-4.5,null,2025,"2025-10-05",{"$f":"IFERROR(IF(VLOOKUP($H1378,Récapitulatif!$N$14:$Q$24,2,FALSE)=0,\"\",VLOOKUP(H1378,Récapitulatif!$N$14:$Q$24,2,FALSE)),\"\")","v":""},0,4.5]
[2025,"2025-10-06",{"$f":"IFERROR(IF(VLOOKUP($B1379,Récapitulatif!$N$64:$Q$68,2,FALSE)=0,\"\",VLOOKUP($B1379,Récapitulatif!$N$64:$Q$68,2,FALSE)),\"\")","v":""},0,-4.5,null,2025,"2025-10-06",{"$f":"IFERROR(IF(VLOOKUP($H1379,Récapitulatif!$N$14:$Q$24,2,FALSE)=0,\"\",VLOOKUP(H1379,Récapitulatif!$N$14:$Q$24,2,FALSE)),\"\")","v":""},0,4.5]
[2025,"2025-10-07",{"$f":"IFERROR(IF(VLOOKUP($B1380,Récapitulatif!$N$64:$Q$68,2,FALSE)=0,\"\",VLOOKUP($B1380,Récapitulatif!$N$64:$Q$68,2,FALSE)),\"\")","v":""},0,-4.5,null,2025,"2025-10-07",{"$f":"IFERROR(IF(VLOOKUP($H1380,Récapitulatif!$N$14:$Q$24,2,FALSE)=0,\"\",VLOOKUP(H1380,Récapitulatif!$N$14:$Q$24,2,FALSE)),\"\")","v":""},0,4.5]
[2025,"2025-10-08",{"$f":"IFERROR(IF(VLOOKUP($B1381,Récapitulatif!$N$64:$Q$68,2,FALSE)=0,\"\",VLOOKUP($B1381,Récapitulatif!$N$64:$Q$68,2,FALSE)),\"\")","v":""},0,-4.5,null,2025,"2025-10-08",{"$f":"IFERROR(IF(VLOOKUP($H1381,Récapitulatif!$N$14:$Q$24,2,FALSE)=0,\"\",VLOOKUP(H1381,Récapitulatif!$N$14:$Q$24,2,FALSE)),\"\")","v":""},0,4.5]
[2025,"2025-10-09",{"$f":"IFERROR(IF(VLOOKUP($B1382,Récapitulatif!$N$64:$Q$68,2,FALSE)=0,\"\",VLOOKUP($B1382,Récapitulatif!$N$64:$Q$68,2,FALSE)),\"\")","v":""},0,-4.5,null,2025,"2025-10-09",{"$f":"IFERROR(IF(VLOOKUP($H1382,Récapitulatif!$N$14:$Q$24,2,FALSE)=0,\"\",VLOOKUP(H1382,Récapitulatif!$N$14:$Q$24,2,FALSE)),\"\")","v":""},0,4.5]
[2025,"2025-10-10",{"$f":"IFERROR(IF(VLOOKUP($B1383,Récapitulatif!$N$64:$Q$68,2,FALSE)=0,\"\",VLOOKUP($B1383,Récapitulatif!$N$64:$Q$68,2,FALSE)),\"\")","v":""},0,-4.5,null,2025,"2025-10-10",{"$f":"IFERROR(IF(VLOOKUP($H1383,Récapitulatif!$N$14:$Q$24,2,FALSE)=0,\"\",VLOOKUP(H1383,Récapitulatif!$N$14:$Q$24,2,FALSE)),\"\")","v":""},0,4.5]
[2025,"2025-10-11",{"$f":"IFERROR(IF(VLOOKUP($B1384,Récapitulatif!$N$64:$Q$68,2,FALSE)=0,\"\",VLOOKUP($B1384,Récapitulatif!$N$64:$Q$68,2,FALSE)),\"\")","v":""},0,-4.5,null,2025,"2025-10-11",{"$f":"IFERROR(IF(VLOOKUP($H1384,Récapitulatif!$N$14:$Q$24,2,FALSE)=0,\"\",VLOOKUP(H1384,Récapitulatif!$N$14:$Q$24,2,FALSE)),\"\")","v":""},0,4.5]
[2025,"2025-10-12",{"$f":"IFERROR(IF(VLOOKUP($B1385,Récapitulatif!$N$64:$Q$68,2,FALSE)=0,\"\",VLOOKUP($B1385,Récapitulatif!$N$64:$Q$68,2,FALSE)),\"\")","v":""},0,-4.5,null,2025,"2025-10-12",{"$f":"IFERROR(IF(VLOOKUP($H1385,Récapitulatif!$N$14:$Q$24,2,FALSE)=0,\"\",VLOOKUP(H1385,Récapitulatif!$N$14:$Q$24,2,FALSE)),\"\")","v":""},0,4.5]
[2025,"2025-10-13",{"$f":"IFERROR(IF(VLOOKUP($B1386,Récapitulatif!$N$64:$Q$68,2,FALSE)=0,\"\",VLOOKUP($B1386,Récapitulatif!$N$64:$Q$68,2,FALSE)),\"\")","v":""},0,-4.5,null,2025,"2025-10-13",{"$f":"IFERROR(IF(VLOOKUP($H1386,Récapitulatif!$N$14:$Q$24,2,FALSE)=0,\"\",VLOOKUP(H1386,Récapitulatif!$N$14:$Q$24,2,FALSE)),\"\")","v":""},0,4.5]
[2025,"2025-10-14",{"$f":"IFERROR(IF(VLOOKUP($B1387,Récapitulatif!$N$64:$Q$68,2,FALSE)=0,\"\",VLOOKUP($B1387,Récapitulatif!$N$64:$Q$68,2,FALSE)),\"\")","v":""},0,-4.5,null,2025,"2025-10-14",{"$f":"IFERROR(IF(VLOOKUP($H1387,Récapitulatif!$N$14:$Q$24,2,FALSE)=0,\"\",VLOOKUP(H1387,Récapitulatif!$N$14:$Q$24,2,FALSE)),\"\")","v":""},0,4.5]
[2025,"2025-10-15",{"$f":"IFERROR(IF(VLOOKUP($B1388,Récapitulatif!$N$64:$Q$68,2,FALSE)=0,\"\",VLOOKUP($B1388,Récapitulatif!$N$64:$Q$68,2,FALSE)),\"\")","v":""},0,-4.5,null,2025,"2025-10-15",{"$f":"IFERROR(IF(VLOOKUP($H1388,Récapitulatif!$N$14:$Q$24,2,FALSE)=0,\"\",VLOOKUP(H1388,Récapitulatif!$N$14:$Q$24,2,FALSE)),\"\")","v":""},0,4.5]
[2025,"2025-10-16",{"$f":"IFERROR(IF(VLOOKUP($B1389,Récapitulatif!$N$64:$Q$68,2,FALSE)=0,\"\",VLOOKUP($B1389,Récapitulatif!$N$64:$Q$68,2,FALSE)),\"\")","v":""},0,-4.5,null,2025,"2025-10-16",{"$f":"IFERROR(IF(VLOOKUP($H1389,Récapitulatif!$N$14:$Q$24,2,FALSE)=0,\"\",VLOOKUP(H1389,Récapitulatif!$N$14:$Q$24,2,FALSE)),\"\")","v":""},0,4.5]
[2025,"2025-10-17",{"$f":"IFERROR(IF(VLOOKUP($B1390,Récapitulatif!$N$64:$Q$68,2,FALSE)=0,\"\",VLOOKUP($B1390,Récapitulatif!$N$64:$Q$68,2,FALSE)),\"\")","v":""},0,-4.5,null,2025,"2025-10-17",{"$f":"IFERROR(IF(VLOOKUP($H1390,Récapitulatif!$N$14:$Q$24,2,FALSE)=0,\"\",VLOOKUP(H1390,Récapitulatif!$N$14:$Q$24,2,FALSE)),\"\")","v":""},0,4.5]
[2025,"2025-10-18",{"$f":"IFERROR(IF(VLOOKUP($B1391,Récapitulatif!$N$64:$Q$68,2,FALSE)=0,\"\",VLOOKUP($B1391,Récapitulatif!$N$64:$Q$68,2,FALSE)),\"\")","v":""},0,-4.5,null,2025,"2025-10-18",{"$f":"IFERROR(IF(VLOOKUP($H1391,Récapitulatif!$N$14:$Q$24,2,FALSE)=0,\"\",VLOOKUP(H1391,Récapitulatif!$N$14:$Q$24,2,FALSE)),\"\")","v":""},0,4.5]
[2025,"2025-10-19",{"$f":"IFERROR(IF(VLOOKUP($B1392,Récapitulatif!$N$64:$Q$68,2,FALSE)=0,\"\",VLOOKUP($B1392,Récapitulatif!$N$64:$Q$68,2,FALSE)),\"\")","v":""},0,-4.5,null,2025,"2025-10-19",{"$f":"IFERROR(IF(VLOOKUP($H1392,Récapitulatif!$N$14:$Q$24,2,FALSE)=0,\"\",VLOOKUP(H1392,Récapitulatif!$N$14:$Q$24,2,FALSE)),\"\")","v":""},0,4.5]
[2025,"2025-10-20",{"$f":"IFERROR(IF(VLOOKUP($B1393,Récapitulatif!$N$64:$Q$68,2,FALSE)=0,\"\",VLOOKUP($B1393,Récapitulatif!$N$64:$Q$68,2,FALSE)),\"\")","v":""},0,-4.5,null,2025,"2025-10-20",{"$f":"IFERROR(IF(VLOOKUP($H1393,Récapitulatif!$N$14:$Q$24,2,FALSE)=0,\"\",VLOOKUP(H1393,Récapitulatif!$N$14:$Q$24,2,FALSE)),\"\")","v":""},0,4.5]
[2025,"2025-10-21",{"$f":"IFERROR(IF(VLOOKUP($B1394,Récapitulatif!$N$64:$Q$68,2,FALSE)=0,\"\",VLOOKUP($B1394,Récapitulatif!$N$64:$Q$68,2,FALSE)),\"\")","v":""},0,-4.5,null,2025,"2025-10-21",{"$f":"IFERROR(IF(VLOOKUP($H1394,Récapitulatif!$N$14:$Q$24,2,FALSE)=0,\"\",VLOOKUP(H1394,Récapitulatif!$N$14:$Q$24,2,FALSE)),\"\")","v":""},0,4.5]
[2025,"2025-10-22",{"$f":"IFERROR(IF(VLOOKUP($B1395,Récapitulatif!$N$64:$Q$68,2,FALSE)=0,\"\",VLOOKUP($B1395,Récapitulatif!$N$64:$Q$68,2,FALSE)),\"\")","v":""},0,-4.5,null,2025,"2025-10-22",{"$f":"IFERROR(IF(VLOOKUP($H1395,Récapitulatif!$N$14:$Q$24,2,FALSE)=0,\"\",VLOOKUP(H1395,Récapitulatif!$N$14:$Q$24,2,FALSE)),\"\")","v":""},0,4.5]
[2025,"2025-10-23",{"$f":"IFERROR(IF(VLOOKUP($B1396,Récapitulatif!$N$64:$Q$68,2,FALSE)=0,\"\",VLOOKUP($B1396,Récapitulatif!$N$64:$Q$68,2,FALSE)),\"\")","v":""},0,-4.5,null,2025,"2025-10-23",{"$f":"IFERROR(IF(VLOOKUP($H1396,Récapitulatif!$N$14:$Q$24,2,FALSE)=0,\"\",VLOOKUP(H1396,Récapitulatif!$N$14:$Q$24,2,FALSE)),\"\")","v":""},0,4.5]
[2025,"2025-10-24",{"$f":"IFERROR(IF(VLOOKUP($B1397,Récapitulatif!$N$64:$Q$68,2,FALSE)=0,\"\",VLOOKUP($B1397,Récapitulatif!$N$64:$Q$68,2,FALSE)),\"\")","v":""},0,-4.5,null,2025,"2025-10-24",{"$f":"IFERROR(IF(VLOOKUP($H1397,Récapitulatif!$N$14:$Q$24,2,FALSE)=0,\"\",VLOOKUP(H1397,Récapitulatif!$N$14:$Q$24,2,FALSE)),\"\")","v":""},0,4.5]
[2025,"2025-10-25",{"$f":"IFERROR(IF(VLOOKUP($B1398,Récapitulatif!$N$64:$Q$68,2,FALSE)=0,\"\",VLOOKUP($B1398,Récapitulatif!$N$64:$Q$68,2,FALSE)),\"\")","v":""},0,-4.5,null,2025,"2025-10-25",{"$f":"IFERROR(IF(VLOOKUP($H1398,Récapitulatif!$N$14:$Q$24,2,FALSE)=0,\"\",VLOOKUP(H1398,Récapitulatif!$N$14:$Q$24,2,FALSE)),\"\")","v":""},0,4.5]
[2025,"2025-10-26",{"$f":"IFERROR(IF(VLOOKUP($B1399,Récapitulatif!$N$64:$Q$68,2,FALSE)=0,\"\",VLOOKUP($B1399,Récapitulatif!$N$64:$Q$68,2,FALSE)),\"\")","v":""},0,-4.5,null,2025,"2025-10-26",{"$f":"IFERROR(IF(VLOOKUP($H1399,Récapitulatif!$N$14:$Q$24,2,FALSE)=0,\"\",VLOOKUP(H1399,Récapitulatif!$N$14:$Q$24,2,FALSE)),\"\")","v":""},0,4.5]
[2025,"2025-10-27",{"$f":"IFERROR(IF(VLOOKUP($B1400,Récapitulatif!$N$64:$Q$68,2,FALSE)=0,\"\",VLOOKUP($B1400,Récapitulatif!$N$64:$Q$68,2,FALSE)),\"\")","v":""},0,-4.5,null,2025,"2025-10-27",{"$f":"IFERROR(IF(VLOOKUP($H1400,Récapitulatif!$N$14:$Q$24,2,FALSE)=0,\"\",VLOOKUP(H1400,Récapitulatif!$N$14:$Q$24,2,FALSE)),\"\")","v":""},0,4.5]
[2025,"2025-10-28",{"$f":"IFERROR(IF(VLOOKUP($B1401,Récapitulatif!$N$64:$Q$68,2,FALSE)=0,\"\",VLOOKUP($B1401,Récapitulatif!$N$64:$Q$68,2,FALSE)),\"\")","v":""},0,-4.5,null,2025,"2025-10-28",{"$f":"IFERROR(IF(VLOOKUP($H1401,Récapitulatif!$N$14:$Q$24,2,FALSE)=0,\"\",VLOOKUP(H1401,Récapitulatif!$N$14:$Q$24,2,FALSE)),\"\")","v":""},0,4.5]
[2025,"2025-10-29",{"$f":"IFERROR(IF(VLOOKUP($B1402,Récapitulatif!$N$64:$Q$68,2,FALSE)=0,\"\",VLOOKUP($B1402,Récapitulatif!$N$64:$Q$68,2,FALSE)),\"\")","v":""},0,-4.5,null,2025,"2025-10-29",{"$f":"IFERROR(IF(VLOOKUP($H1402,Récapitulatif!$N$14:$Q$24,2,FALSE)=0,\"\",VLOOKUP(H1402,Récapitulatif!$N$14:$Q$24,2,FALSE)),\"\")","v":""},0,4.5]
[2025,"2025-10-30",{"$f":"IFERROR(IF(VLOOKUP($B1403,Récapitulatif!$N$64:$Q$68,2,FALSE)=0,\"\",VLOOKUP($B1403,Récapitulatif!$N$64:$Q$68,2,FALSE)),\"\")","v":""},0,-4.5,null,2025,"2025-10-30",{"$f":"IFERROR(IF(VLOOKUP($H1403,Récapitulatif!$N$14:$Q$24,2,FALSE)=0,\"\",VLOOKUP(H1403,Récapitulatif!$N$14:$Q$24,2,FALSE)),\"\")","v":""},0,4.5]
[2025,"2025-10-31",{"$f":"IFERROR(IF(VLOOKUP($B1404,Récapitulatif!$N$64:$Q$68,2,FALSE)=0,\"\",VLOOKUP($B1404,Récapitulatif!$N$64:$Q$68,2,FALSE)),\"\")","v":""},0,-13.5,null,2025,"2025-10-31",{"$f":"IFERROR(IF(VLOOKUP($H1404,Récapitulatif!$N$14:$Q$24,2,FALSE)=0,\"\",VLOOKUP(H1404,Récapitulatif!$N$14:$Q$24,2,FALSE)),\"\")","v":""},0,13.5]
[2025,"2025-11-01",{"$f":"IFERROR(IF(VLOOKUP($B1405,Récapitulatif!$N$64:$Q$68,2,FALSE)=0,\"\",VLOOKUP($B1405,Récapitulatif!$N$64:$Q$68,2,FALSE)),\"\")","v":""},0,-13.5,null,2025,"2025-11-01",{"$f":"IFERROR(IF(VLOOKUP($H1405,Récapitulatif!$N$14:$Q$24,2,FALSE)=0,\"\",VLOOKUP(H1405,Récapitulatif!$N$14:$Q$24,2,FALSE)),\"\")","v":""},0,13.5]
[2025,"2025-11-02",{"$f":"IFERROR(IF(VLOOKUP($B1406,Récapitulatif!$N$64:$Q$68,2,FALSE)=0,\"\",VLOOKUP($B1406,Récapitulatif!$N$64:$Q$68,2,FALSE)),\"\")","v":""},0,-13.5,null,2025,"2025-11-02",{"$f":"IFERROR(IF(VLOOKUP($H1406,Récapitulatif!$N$14:$Q$24,2,FALSE)=0,\"\",VLOOKUP(H1406,Récapitulatif!$N$14:$Q$24,2,FALSE)),\"\")","v":""},0,13.5]
[2025,"2025-11-03",{"$f":"IFERROR(IF(VLOOKUP($B1407,Récapitulatif!$N$64:$Q$68,2,FALSE)=0,\"\",VLOOKUP($B1407,Récapitulatif!$N$64:$Q$68,2,FALSE)),\"\")","v":""},0,-13.5,null,2025,"2025-11-03",{"$f":"IFERROR(IF(VLOOKUP($H1407,Récapitulatif!$N$14:$Q$24,2,FALSE)=0,\"\",VLOOKUP(H1407,Récapitulatif!$N$14:$Q$24,2,FALSE)),\"\")","v":""},0,13.5]
[2025,"2025-11-04",{"$f":"IFERROR(IF(VLOOKUP($B1408,Récapitulatif!$N$64:$Q$68,2,FALSE)=0,\"\",VLOOKUP($B1408,Récapitulatif!$N$64:$Q$68,2,FALSE)),\"\")","v":""},0,-13.5,null,2025,"2025-11-04",{"$f":"IFERROR(IF(VLOOKUP($H1408,Récapitulatif!$N$14:$Q$24,2,FALSE)=0,\"\",VLOOKUP(H1408,Récapitulatif!$N$14:$Q$24,2,FALSE)),\"\")","v":""},0,13.5]
[2025,"2025-11-05",{"$f":"IFERROR(IF(VLOOKUP($B1409,Récapitulatif!$N$64:$Q$68,2,FALSE)=0,\"\",VLOOKUP($B1409,Récapitulatif!$N$64:$Q$68,2,FALSE)),\"\")","v":""},0,-13.5,null,2025,"2025-11-05",{"$f":"IFERROR(IF(VLOOKUP($H1409,Récapitulatif!$N$14:$Q$24,2,FALSE)=0,\"\",VLOOKUP(H1409,Récapitulatif!$N$14:$Q$24,2,FALSE)),\"\")","v":""},0,13.5]
[2025,"2025-11-06",{"$f":"IFERROR(IF(VLOOKUP($B1410,Récapitulatif!$N$64:$Q$68,2,FALSE)=0,\"\",VLOOKUP($B1410,Récapitulatif!$N$64:$Q$68,2,FALSE)),\"\")","v":""},0,-13.5,null,2025,"2025-11-06",{"$f":"IFERROR(IF(VLOOKUP($H1410,Récapitulatif!$N$14:$Q$24,2,FALSE)=0,\"\",VLOOKUP(H1410,Récapitulatif!$N$14:$Q$24,2,FALSE)),\"\")","v":""},0,13.5]
[2025,"2025-11-07",{"$f":"IFERROR(IF(VLOOKUP($B1411,Récapitulatif!$N$64:$Q$68,2,FALSE)=0,\"\",VLOOKUP($B1411,Récapitulatif!$N$64:$Q$68,2,FALSE)),\"\")","v":""},0,-13.5,null,2025,"2025-11-07",{"$f":"IFERROR(IF(VLOOKUP($H1411,Récapitulatif!$N$14:$Q$24,2,FALSE)=0,\"\",VLOOKUP(H1411,Récapitulatif!$N$14:$Q$24,2,FALSE)),\"\")","v":""},0,13.5]
[2025,"2025-11-08",{"$f":"IFERROR(IF(VLOOKUP($B1412,Récapitulatif!$N$64:$Q$68,2,FALSE)=0,\"\",VLOOKUP($B1412,Récapitulatif!$N$64:$Q$68,2,FALSE)),\"\")","v":""},0,-13.5,null,2025,"2025-11-08",{"$f":"IFERROR(IF(VLOOKUP($H1412,Récapitulatif!$N$14:$Q$24,2,FALSE)=0,\"\",VLOOKUP(H1412,Récapitulatif!$N$14:$Q$24,2,FALSE)),\"\")","v":""},0,13.5]
[2025,"2025-11-09",{"$f":"IFERROR(IF(VLOOKUP($B1413,Récapitulatif!$N$64:$Q$68,2,FALSE)=0,\"\",VLOOKUP($B1413,Récapitulatif!$N$64:$Q$68,2,FALSE)),\"\")","v":""},0,-13.5,null,2025,"2025-11-09",{"$f":"IFERROR(IF(VLOOKUP($H1413,Récapitulatif!$N$14:$Q$24,2,FALSE)=0,\"\",VLOOKUP(H1413,Récapitulatif!$N$14:$Q$24,2,FALSE)),\"\")","v":""},0,13.5]
[2025,"2025-11-10",{"$f":"IFERROR(IF(VLOOKUP($B1414,Récapitulatif!$N$64:$Q$68,2,FALSE)=0,\"\",VLOOKUP($B1414,Récapitulatif!$N$64:$Q$68,2,FALSE)),\"\")","v":""},{"$f":"IF($C1414=\"\",0,$E1414)","v":0},-13.5,null,2025,"2025-11-10",{"$f":"IFERROR(IF(VLOOKUP($H1414,Récapitulatif!$N$14:$Q$24,2,FALSE)=0,\"\",VLOOKUP(H1414,Récapitulatif!$N$14:$Q$24,2,FALSE)),\"\")","v":""},{"$f":"IF($I1414=\"\",0,$K1414)","v":0},13.5]
[{"$f":"YEAR(B1415)","v":2025},{"$f":"B1414+1","v":"2025-11-11"},{"$f":"IFERROR(IF(VLOOKUP($B1415,Récapitulatif!$N$64:$Q$68,2,FALSE)=0,\"\",VLOOKUP($B1415,Récapitulatif!$N$64:$Q$68,2,FALSE)),\"\")","v":""},0,-13.5,null,{"$f":"YEAR(H1415)","v":2025},{"$f":"H1414+1","v":"2025-11-11"},{"$f":"IFERROR(IF(VLOOKUP($H1415,Récapitulatif!$N$14:$Q$24,2,FALSE)=0,\"\",VLOOKUP(H1415,Récapitulatif!$N$14:$Q$24,2,FALSE)),\"\")","v":""},0,13.5]
[2025,"2025-11-12",{"$f":"IFERROR(IF(VLOOKUP($B1416,Récapitulatif!$N$64:$Q$68,2,FALSE)=0,\"\",VLOOKUP($B1416,Récapitulatif!$N$64:$Q$68,2,FALSE)),\"\")","v":""},0,-13.5,null,2025,"2025-11-12",{"$f":"IFERROR(IF(VLOOKUP($H1416,Récapitulatif!$N$14:$Q$24,2,FALSE)=0,\"\",VLOOKUP(H1416,Récapitulatif!$N$14:$Q$24,2,FALSE)),\"\")","v":""},0,13.5]
[2025,"2025-11-13",{"$f":"IFERROR(IF(VLOOKUP($B1417,Récapitulatif!$N$64:$Q$68,2,FALSE)=0,\"\",VLOOKUP($B1417,Récapitulatif!$N$64:$Q$68,2,FALSE)),\"\")","v":""},0,-13.5,null,2025,"2025-11-13",{"$f":"IFERROR(IF(VLOOKUP($H1417,Récapitulatif!$N$14:$Q$24,2,FALSE)=0,\"\",VLOOKUP(H1417,Récapitulatif!$N$14:$Q$24,2,FALSE)),\"\")","v":""},0,13.5]
[2025,"2025-11-14",{"$f":"IFERROR(IF(VLOOKUP($B1418,Récapitulatif!$N$64:$Q$68,2,FALSE)=0,\"\",VLOOKUP($B1418,Récapitulatif!$N$64:$Q$68,2,FALSE)),\"\")","v":""},0,-13.5,null,2025,"2025-11-14",{"$f":"IFERROR(IF(VLOOKUP($H1418,Récapitulatif!$N$14:$Q$24,2,FALSE)=0,\"\",VLOOKUP(H1418,Récapitulatif!$N$14:$Q$24,2,FALSE)),\"\")","v":""},0,13.5]
[2025,"2025-11-15",{"$f":"IFERROR(IF(VLOOKUP($B1419,Récapitulatif!$N$64:$Q$68,2,FALSE)=0,\"\",VLOOKUP($B1419,Récapitulatif!$N$64:$Q$68,2,FALSE)),\"\")","v":""},0,-13.5,null,2025,"2025-11-15",{"$f":"IFERROR(IF(VLOOKUP($H1419,Récapitulatif!$N$14:$Q$24,2,FALSE)=0,\"\",VLOOKUP(H1419,Récapitulatif!$N$14:$Q$24,2,FALSE)),\"\")","v":""},0,13.5]
[2025,"2025-11-16",{"$f":"IFERROR(IF(VLOOKUP($B1420,Récapitulatif!$N$64:$Q$68,2,FALSE)=0,\"\",VLOOKUP($B1420,Récapitulatif!$N$64:$Q$68,2,FALSE)),\"\")","v":""},0,-13.5,null,2025,"2025-11-16",{"$f":"IFERROR(IF(VLOOKUP($H1420,Récapitulatif!$N$14:$Q$24,2,FALSE)=0,\"\",VLOOKUP(H1420,Récapitulatif!$N$14:$Q$24,2,FALSE)),\"\")","v":""},0,13.5]
[2025,"2025-11-17",{"$f":"IFERROR(IF(VLOOKUP($B1421,Récapitulatif!$N$64:$Q$68,2,FALSE)=0,\"\",VLOOKUP($B1421,Récapitulatif!$N$64:$Q$68,2,FALSE)),\"\")","v":""},0,-13.5,null,2025,"2025-11-17",{"$f":"IFERROR(IF(VLOOKUP($H1421,Récapitulatif!$N$14:$Q$24,2,FALSE)=0,\"\",VLOOKUP(H1421,Récapitulatif!$N$14:$Q$24,2,FALSE)),\"\")","v":""},0,13.5]
[2025,"2025-11-18",{"$f":"IFERROR(IF(VLOOKUP($B1422,Récapitulatif!$N$64:$Q$68,2,FALSE)=0,\"\",VLOOKUP($B1422,Récapitulatif!$N$64:$Q$68,2,FALSE)),\"\")","v":""},0,-13.5,null,2025,"2025-11-18",{"$f":"IFERROR(IF(VLOOKUP($H1422,Récapitulatif!$N$14:$Q$24,2,FALSE)=0,\"\",VLOOKUP(H1422,Récapitulatif!$N$14:$Q$24,2,FALSE)),\"\")","v":""},0,13.5]
[2025,"2025-11-19",{"$f":"IFERROR(IF(VLOOKUP($B1423,Récapitulatif!$N$64:$Q$68,2,FALSE)=0,\"\",VLOOKUP($B1423,Récapitulatif!$N$64:$Q$68,2,FALSE)),\"\")","v":""},0,-13.5,null,2025,"2025-11-19",{"$f":"IFERROR(IF(VLOOKUP($H1423,Récapitulatif!$N$14:$Q$24,2,FALSE)=0,\"\",VLOOKUP(H1423,Récapitulatif!$N$14:$Q$24,2,FALSE)),\"\")","v":""},0,13.5]
[2025,"2025-11-20",{"$f":"IFERROR(IF(VLOOKUP($B1424,Récapitulatif!$N$64:$Q$68,2,FALSE)=0,\"\",VLOOKUP($B1424,Récapitulatif!$N$64:$Q$68,2,FALSE)),\"\")","v":""},0,-13.5,null,2025,"2025-11-20",{"$f":"IFERROR(IF(VLOOKUP($H1424,Récapitulatif!$N$14:$Q$24,2,FALSE)=0,\"\",VLOOKUP(H1424,Récapitulatif!$N$14:$Q$24,2,FALSE)),\"\")","v":""},0,13.5]
[2025,"2025-11-21",{"$f":"IFERROR(IF(VLOOKUP($B1425,Récapitulatif!$N$64:$Q$68,2,FALSE)=0,\"\",VLOOKUP($B1425,Récapitulatif!$N$64:$Q$68,2,FALSE)),\"\")","v":""},0,-13.5,null,2025,"2025-11-21",{"$f":"IFERROR(IF(VLOOKUP($H1425,Récapitulatif!$N$14:$Q$24,2,FALSE)=0,\"\",VLOOKUP(H1425,Récapitulatif!$N$14:$Q$24,2,FALSE)),\"\")","v":""},0,13.5]
[2025,"2025-11-22",{"$f":"IFERROR(IF(VLOOKUP($B1426,Récapitulatif!$N$64:$Q$68,2,FALSE)=0,\"\",VLOOKUP($B1426,Récapitulatif!$N$64:$Q$68,2,FALSE)),\"\")","v":""},0,-13.5,null,2025,"2025-11-22",{"$f":"IFERROR(IF(VLOOKUP($H1426,Récapitulatif!$N$14:$Q$24,2,FALSE)=0,\"\",VLOOKUP(H1426,Récapitulatif!$N$14:$Q$24,2,FALSE)),\"\")","v":""},0,13.5]
[2025,"2025-11-23",{"$f":"IFERROR(IF(VLOOKUP($B1427,Récapitulatif!$N$64:$Q$68,2,FALSE)=0,\"\",VLOOKUP($B1427,Récapitulatif!$N$64:$Q$68,2,FALSE)),\"\")","v":""},0,-13.5,null,2025,"2025-11-23",{"$f":"IFERROR(IF(VLOOKUP($H1427,Récapitulatif!$N$14:$Q$24,2,FALSE)=0,\"\",VLOOKUP(H1427,Récapitulatif!$N$14:$Q$24,2,FALSE)),\"\")","v":""},0,13.5]
[2025,"2025-11-24",{"$f":"IFERROR(IF(VLOOKUP($B1428,Récapitulatif!$N$64:$Q$68,2,FALSE)=0,\"\",VLOOKUP($B1428,Récapitulatif!$N$64:$Q$68,2,FALSE)),\"\")","v":""},0,-13.5,null,2025,"2025-11-24",{"$f":"IFERROR(IF(VLOOKUP($H1428,Récapitulatif!$N$14:$Q$24,2,FALSE)=0,\"\",VLOOKUP(H1428,Récapitulatif!$N$14:$Q$24,2,FALSE)),\"\")","v":""},0,13.5]
[2025,"2025-11-25",{"$f":"IFERROR(IF(VLOOKUP($B1429,Récapitulatif!$N$64:$Q$68,2,FALSE)=0,\"\",VLOOKUP($B1429,Récapitulatif!$N$64:$Q$68,2,FALSE)),\"\")","v":""},0,-13.5,null,2025,"2025-11-25",{"$f":"IFERROR(IF(VLOOKUP($H1429,Récapitulatif!$N$14:$Q$24,2,FALSE)=0,\"\",VLOOKUP(H1429,Récapitulatif!$N$14:$Q$24,2,FALSE)),\"\")","v":""},0,13.5]
[2025,"2025-11-26",{"$f":"IFERROR(IF(VLOOKUP($B1430,Récapitulatif!$N$64:$Q$68,2,FALSE)=0,\"\",VLOOKUP($B1430,Récapitulatif!$N$64:$Q$68,2,FALSE)),\"\")","v":""},0,-13.5,null,2025,"2025-11-26",{"$f":"IFERROR(IF(VLOOKUP($H1430,Récapitulatif!$N$14:$Q$24,2,FALSE)=0,\"\",VLOOKUP(H1430,Récapitulatif!$N$14:$Q$24,2,FALSE)),\"\")","v":""},0,13.5]
[2025,"2025-11-27",{"$f":"IFERROR(IF(VLOOKUP($B1431,Récapitulatif!$N$64:$Q$68,2,FALSE)=0,\"\",VLOOKUP($B1431,Récapitulatif!$N$64:$Q$68,2,FALSE)),\"\")","v":""},0,-13.5,null,2025,"2025-11-27",{"$f":"IFERROR(IF(VLOOKUP($H1431,Récapitulatif!$N$14:$Q$24,2,FALSE)=0,\"\",VLOOKUP(H1431,Récapitulatif!$N$14:$Q$24,2,FALSE)),\"\")","v":""},0,13.5]
[2025,"2025-11-28",{"$f":"IFERROR(IF(VLOOKUP($B1432,Récapitulatif!$N$64:$Q$68,2,FALSE)=0,\"\",VLOOKUP($B1432,Récapitulatif!$N$64:$Q$68,2,FALSE)),\"\")","v":""},0,-13.5,null,2025,"2025-11-28",{"$f":"IFERROR(IF(VLOOKUP($H1432,Récapitulatif!$N$14:$Q$24,2,FALSE)=0,\"\",VLOOKUP(H1432,Récapitulatif!$N$14:$Q$24,2,FALSE)),\"\")","v":""},0,13.5]
[2025,"2025-11-29",{"$f":"IFERROR(IF(VLOOKUP($B1433,Récapitulatif!$N$64:$Q$68,2,FALSE)=0,\"\",VLOOKUP($B1433,Récapitulatif!$N$64:$Q$68,2,FALSE)),\"\")","v":""},0,-13.5,null,2025,"2025-11-29",{"$f":"IFERROR(IF(VLOOKUP($H1433,Récapitulatif!$N$14:$Q$24,2,FALSE)=0,\"\",VLOOKUP(H1433,Récapitulatif!$N$14:$Q$24,2,FALSE)),\"\")","v":""},0,13.5]
[2025,"2025-11-30",{"$f":"IFERROR(IF(VLOOKUP($B1434,Récapitulatif!$N$64:$Q$68,2,FALSE)=0,\"\",VLOOKUP($B1434,Récapitulatif!$N$64:$Q$68,2,FALSE)),\"\")","v":""},0,-10.5,null,2025,"2025-11-30",{"$f":"IFERROR(IF(VLOOKUP($H1434,Récapitulatif!$N$14:$Q$24,2,FALSE)=0,\"\",VLOOKUP(H1434,Récapitulatif!$N$14:$Q$24,2,FALSE)),\"\")","v":""},0,10.5]
[2025,"2025-12-01",{"$f":"IFERROR(IF(VLOOKUP($B1435,Récapitulatif!$N$64:$Q$68,2,FALSE)=0,\"\",VLOOKUP($B1435,Récapitulatif!$N$64:$Q$68,2,FALSE)),\"\")","v":""},0,-10.5,null,2025,"2025-12-01",{"$f":"IFERROR(IF(VLOOKUP($H1435,Récapitulatif!$N$14:$Q$24,2,FALSE)=0,\"\",VLOOKUP(H1435,Récapitulatif!$N$14:$Q$24,2,FALSE)),\"\")","v":""},0,10.5]
[2025,"2025-12-02",{"$f":"IFERROR(IF(VLOOKUP($B1436,Récapitulatif!$N$64:$Q$68,2,FALSE)=0,\"\",VLOOKUP($B1436,Récapitulatif!$N$64:$Q$68,2,FALSE)),\"\")","v":""},0,-10.5,null,2025,"2025-12-02",{"$f":"IFERROR(IF(VLOOKUP($H1436,Récapitulatif!$N$14:$Q$24,2,FALSE)=0,\"\",VLOOKUP(H1436,Récapitulatif!$N$14:$Q$24,2,FALSE)),\"\")","v":""},0,10.5]
[2025,"2025-12-03",{"$f":"IFERROR(IF(VLOOKUP($B1437,Récapitulatif!$N$64:$Q$68,2,FALSE)=0,\"\",VLOOKUP($B1437,Récapitulatif!$N$64:$Q$68,2,FALSE)),\"\")","v":""},0,-10.5,null,2025,"2025-12-03",{"$f":"IFERROR(IF(VLOOKUP($H1437,Récapitulatif!$N$14:$Q$24,2,FALSE)=0,\"\",VLOOKUP(H1437,Récapitulatif!$N$14:$Q$24,2,FALSE)),\"\")","v":""},0,10.5]
[2025,"2025-12-04",{"$f":"IFERROR(IF(VLOOKUP($B1438,Récapitulatif!$N$64:$Q$68,2,FALSE)=0,\"\",VLOOKUP($B1438,Récapitulatif!$N$64:$Q$68,2,FALSE)),\"\")","v":""},0,-10.5,null,2025,"2025-12-04",{"$f":"IFERROR(IF(VLOOKUP($H1438,Récapitulatif!$N$14:$Q$24,2,FALSE)=0,\"\",VLOOKUP(H1438,Récapitulatif!$N$14:$Q$24,2,FALSE)),\"\")","v":""},0,10.5]
[2025,"2025-12-05",{"$f":"IFERROR(IF(VLOOKUP($B1439,Récapitulatif!$N$64:$Q$68,2,FALSE)=0,\"\",VLOOKUP($B1439,Récapitulatif!$N$64:$Q$68,2,FALSE)),\"\")","v":""},0,-10.5,null,2025,"2025-12-05",{"$f":"IFERROR(IF(VLOOKUP($H1439,Récapitulatif!$N$14:$Q$24,2,FALSE)=0,\"\",VLOOKUP(H1439,Récapitulatif!$N$14:$Q$24,2,FALSE)),\"\")","v":""},0,10.5]
[2025,"2025-12-06",{"$f":"IFERROR(IF(VLOOKUP($B1440,Récapitulatif!$N$64:$Q$68,2,FALSE)=0,\"\",VLOOKUP($B1440,Récapitulatif!$N$64:$Q$68,2,FALSE)),\"\")","v":""},0,-10.5,null,2025,"2025-12-06",{"$f":"IFERROR(IF(VLOOKUP($H1440,Récapitulatif!$N$14:$Q$24,2,FALSE)=0,\"\",VLOOKUP(H1440,Récapitulatif!$N$14:$Q$24,2,FALSE)),\"\")","v":""},0,10.5]
[2025,"2025-12-07",{"$f":"IFERROR(IF(VLOOKUP($B1441,Récapitulatif!$N$64:$Q$68,2,FALSE)=0,\"\",VLOOKUP($B1441,Récapitulatif!$N$64:$Q$68,2,FALSE)),\"\")","v":""},0,-10.5,null,2025,"2025-12-07",{"$f":"IFERROR(IF(VLOOKUP($H1441,Récapitulatif!$N$14:$Q$24,2,FALSE)=0,\"\",VLOOKUP(H1441,Récapitulatif!$N$14:$Q$24,2,FALSE)),\"\")","v":""},0,10.5]
[2025,"2025-12-08",{"$f":"IFERROR(IF(VLOOKUP($B1442,Récapitulatif!$N$64:$Q$68,2,FALSE)=0,\"\",VLOOKUP($B1442,Récapitulatif!$N$64:$Q$68,2,FALSE)),\"\")","v":""},0,-10.5,null,2025,"2025-12-08",{"$f":"IFERROR(IF(VLOOKUP($H1442,Récapitulatif!$N$14:$Q$24,2,FALSE)=0,\"\",VLOOKUP(H1442,Récapitulatif!$N$14:$Q$24,2,FALSE)),\"\")","v":""},0,10.5]
[2025,"2025-12-09",{"$f":"IFERROR(IF(VLOOKUP($B1443,Récapitulatif!$N$64:$Q$68,2,FALSE)=0,\"\",VLOOKUP($B1443,Récapitulatif!$N$64:$Q$68,2,FALSE)),\"\")","v":""},0,-10.5,null,2025,"2025-12-09",{"$f":"IFERROR(IF(VLOOKUP($H1443,Récapitulatif!$N$14:$Q$24,2,FALSE)=0,\"\",VLOOKUP(H1443,Récapitulatif!$N$14:$Q$24,2,FALSE)),\"\")","v":""},0,10.5]
[2025,"2025-12-10",{"$f":"IFERROR(IF(VLOOKUP($B1444,Récapitulatif!$N$64:$Q$68,2,FALSE)=0,\"\",VLOOKUP($B1444,Récapitulatif!$N$64:$Q$68,2,FALSE)),\"\")","v":""},0,-10.5,null,2025,"2025-12-10",{"$f":"IFERROR(IF(VLOOKUP($H1444,Récapitulatif!$N$14:$Q$24,2,FALSE)=0,\"\",VLOOKUP(H1444,Récapitulatif!$N$14:$Q$24,2,FALSE)),\"\")","v":""},0,10.5]
[2025,"2025-12-11",{"$f":"IFERROR(IF(VLOOKUP($B1445,Récapitulatif!$N$64:$Q$68,2,FALSE)=0,\"\",VLOOKUP($B1445,Récapitulatif!$N$64:$Q$68,2,FALSE)),\"\")","v":""},0,-10.5,null,2025,"2025-12-11",{"$f":"IFERROR(IF(VLOOKUP($H1445,Récapitulatif!$N$14:$Q$24,2,FALSE)=0,\"\",VLOOKUP(H1445,Récapitulatif!$N$14:$Q$24,2,FALSE)),\"\")","v":""},0,10.5]
[2025,"2025-12-12",{"$f":"IFERROR(IF(VLOOKUP($B1446,Récapitulatif!$N$64:$Q$68,2,FALSE)=0,\"\",VLOOKUP($B1446,Récapitulatif!$N$64:$Q$68,2,FALSE)),\"\")","v":""},0,-10.5,null,2025,"2025-12-12",{"$f":"IFERROR(IF(VLOOKUP($H1446,Récapitulatif!$N$14:$Q$24,2,FALSE)=0,\"\",VLOOKUP(H1446,Récapitulatif!$N$14:$Q$24,2,FALSE)),\"\")","v":""},0,10.5]
[2025,"2025-12-13",{"$f":"IFERROR(IF(VLOOKUP($B1447,Récapitulatif!$N$64:$Q$68,2,FALSE)=0,\"\",VLOOKUP($B1447,Récapitulatif!$N$64:$Q$68,2,FALSE)),\"\")","v":""},0,-10.5,null,2025,"2025-12-13",{"$f":"IFERROR(IF(VLOOKUP($H1447,Récapitulatif!$N$14:$Q$24,2,FALSE)=0,\"\",VLOOKUP(H1447,Récapitulatif!$N$14:$Q$24,2,FALSE)),\"\")","v":""},0,10.5]
[2025,"2025-12-14",{"$f":"IFERROR(IF(VLOOKUP($B1448,Récapitulatif!$N$64:$Q$68,2,FALSE)=0,\"\",VLOOKUP($B1448,Récapitulatif!$N$64:$Q$68,2,FALSE)),\"\")","v":""},0,-10.5,null,2025,"2025-12-14",{"$f":"IFERROR(IF(VLOOKUP($H1448,Récapitulatif!$N$14:$Q$24,2,FALSE)=0,\"\",VLOOKUP(H1448,Récapitulatif!$N$14:$Q$24,2,FALSE)),\"\")","v":""},0,10.5]
[2025,"2025-12-15",{"$f":"IFERROR(IF(VLOOKUP($B1449,Récapitulatif!$N$64:$Q$68,2,FALSE)=0,\"\",VLOOKUP($B1449,Récapitulatif!$N$64:$Q$68,2,FALSE)),\"\")","v":""},0,-10.5,null,2025,"2025-12-15",{"$f":"IFERROR(IF(VLOOKUP($H1449,Récapitulatif!$N$14:$Q$24,2,FALSE)=0,\"\",VLOOKUP(H1449,Récapitulatif!$N$14:$Q$24,2,FALSE)),\"\")","v":""},0,10.5]
[2025,"2025-12-16",{"$f":"IFERROR(IF(VLOOKUP($B1450,Récapitulatif!$N$64:$Q$68,2,FALSE)=0,\"\",VLOOKUP($B1450,Récapitulatif!$N$64:$Q$68,2,FALSE)),\"\")","v":""},0,-10.5,null,2025,"2025-12-16",{"$f":"IFERROR(IF(VLOOKUP($H1450,Récapitulatif!$N$14:$Q$24,2,FALSE)=0,\"\",VLOOKUP(H1450,Récapitulatif!$N$14:$Q$24,2,FALSE)),\"\")","v":""},0,10.5]
[2025,"2025-12-17",{"$f":"IFERROR(IF(VLOOKUP($B1451,Récapitulatif!$N$64:$Q$68,2,FALSE)=0,\"\",VLOOKUP($B1451,Récapitulatif!$N$64:$Q$68,2,FALSE)),\"\")","v":""},0,-10.5,null,2025,"2025-12-17",{"$f":"IFERROR(IF(VLOOKUP($H1451,Récapitulatif!$N$14:$Q$24,2,FALSE)=0,\"\",VLOOKUP(H1451,Récapitulatif!$N$14:$Q$24,2,FALSE)),\"\")","v":""},0,10.5]
[2025,"2025-12-18",{"$f":"IFERROR(IF(VLOOKUP($B1452,Récapitulatif!$N$64:$Q$68,2,FALSE)=0,\"\",VLOOKUP($B1452,Récapitulatif!$N$64:$Q$68,2,FALSE)),\"\")","v":""},0,-10.5,null,2025,"2025-12-18",{"$f":"IFERROR(IF(VLOOKUP($H1452,Récapitulatif!$N$14:$Q$24,2,FALSE)=0,\"\",VLOOKUP(H1452,Récapitulatif!$N$14:$Q$24,2,FALSE)),\"\")","v":""},0,10.5]
[2025,"2025-12-19",{"$f":"IFERROR(IF(VLOOKUP($B1453,Récapitulatif!$N$64:$Q$68,2,FALSE)=0,\"\",VLOOKUP($B1453,Récapitulatif!$N$64:$Q$68,2,FALSE)),\"\")","v":""},0,-10.5,null,2025,"2025-12-19",{"$f":"IFERROR(IF(VLOOKUP($H1453,Récapitulatif!$N$14:$Q$24,2,FALSE)=0,\"\",VLOOKUP(H1453,Récapitulatif!$N$14:$Q$24,2,FALSE)),\"\")","v":""},0,10.5]
[2025,"2025-12-20",{"$f":"IFERROR(IF(VLOOKUP($B1454,Récapitulatif!$N$64:$Q$68,2,FALSE)=0,\"\",VLOOKUP($B1454,Récapitulatif!$N$64:$Q$68,2,FALSE)),\"\")","v":""},0,-10.5,null,2025,"2025-12-20",{"$f":"IFERROR(IF(VLOOKUP($H1454,Récapitulatif!$N$14:$Q$24,2,FALSE)=0,\"\",VLOOKUP(H1454,Récapitulatif!$N$14:$Q$24,2,FALSE)),\"\")","v":""},0,10.5]
[2025,"2025-12-21",{"$f":"IFERROR(IF(VLOOKUP($B1455,Récapitulatif!$N$64:$Q$68,2,FALSE)=0,\"\",VLOOKUP($B1455,Récapitulatif!$N$64:$Q$68,2,FALSE)),\"\")","v":""},0,-10.5,null,2025,"2025-12-21",{"$f":"IFERROR(IF(VLOOKUP($H1455,Récapitulatif!$N$14:$Q$24,2,FALSE)=0,\"\",VLOOKUP(H1455,Récapitulatif!$N$14:$Q$24,2,FALSE)),\"\")","v":""},0,10.5]
[2025,"2025-12-22",{"$f":"IFERROR(IF(VLOOKUP($B1456,Récapitulatif!$N$64:$Q$68,2,FALSE)=0,\"\",VLOOKUP($B1456,Récapitulatif!$N$64:$Q$68,2,FALSE)),\"\")","v":""},0,-10.5,null,2025,"2025-12-22",{"$f":"IFERROR(IF(VLOOKUP($H1456,Récapitulatif!$N$14:$Q$24,2,FALSE)=0,\"\",VLOOKUP(H1456,Récapitulatif!$N$14:$Q$24,2,FALSE)),\"\")","v":""},0,10.5]
[2025,"2025-12-23",{"$f":"IFERROR(IF(VLOOKUP($B1457,Récapitulatif!$N$64:$Q$68,2,FALSE)=0,\"\",VLOOKUP($B1457,Récapitulatif!$N$64:$Q$68,2,FALSE)),\"\")","v":""},0,-10.5,null,2025,"2025-12-23",{"$f":"IFERROR(IF(VLOOKUP($H1457,Récapitulatif!$N$14:$Q$24,2,FALSE)=0,\"\",VLOOKUP(H1457,Récapitulatif!$N$14:$Q$24,2,FALSE)),\"\")","v":""},0,10.5]
[2025,"2025-12-24",{"$f":"IFERROR(IF(VLOOKUP($B1458,Récapitulatif!$N$64:$Q$68,2,FALSE)=0,\"\",VLOOKUP($B1458,Récapitulatif!$N$64:$Q$68,2,FALSE)),\"\")","v":""},0,-10.5,null,2025,"2025-12-24",{"$f":"IFERROR(IF(VLOOKUP($H1458,Récapitulatif!$N$14:$Q$24,2,FALSE)=0,\"\",VLOOKUP(H1458,Récapitulatif!$N$14:$Q$24,2,FALSE)),\"\")","v":""},0,10.5]
[2025,"2025-12-25",{"$f":"IFERROR(IF(VLOOKUP($B1459,Récapitulatif!$N$64:$Q$68,2,FALSE)=0,\"\",VLOOKUP($B1459,Récapitulatif!$N$64:$Q$68,2,FALSE)),\"\")","v":""},0,-10.5,null,2025,"2025-12-25",{"$f":"IFERROR(IF(VLOOKUP($H1459,Récapitulatif!$N$14:$Q$24,2,FALSE)=0,\"\",VLOOKUP(H1459,Récapitulatif!$N$14:$Q$24,2,FALSE)),\"\")","v":""},0,10.5]
[2025,"2025-12-26",{"$f":"IFERROR(IF(VLOOKUP($B1460,Récapitulatif!$N$64:$Q$68,2,FALSE)=0,\"\",VLOOKUP($B1460,Récapitulatif!$N$64:$Q$68,2,FALSE)),\"\")","v":""},0,-10.5,null,2025,"2025-12-26",{"$f":"IFERROR(IF(VLOOKUP($H1460,Récapitulatif!$N$14:$Q$24,2,FALSE)=0,\"\",VLOOKUP(H1460,Récapitulatif!$N$14:$Q$24,2,FALSE)),\"\")","v":""},0,10.5]
[2025,"2025-12-27",{"$f":"IFERROR(IF(VLOOKUP($B1461,Récapitulatif!$N$64:$Q$68,2,FALSE)=0,\"\",VLOOKUP($B1461,Récapitulatif!$N$64:$Q$68,2,FALSE)),\"\")","v":""},0,-10.5,null,2025,"2025-12-27",{"$f":"IFERROR(IF(VLOOKUP($H1461,Récapitulatif!$N$14:$Q$24,2,FALSE)=0,\"\",VLOOKUP(H1461,Récapitulatif!$N$14:$Q$24,2,FALSE)),\"\")","v":""},0,10.5]
[2025,"2025-12-28",{"$f":"IFERROR(IF(VLOOKUP($B1462,Récapitulatif!$N$64:$Q$68,2,FALSE)=0,\"\",VLOOKUP($B1462,Récapitulatif!$N$64:$Q$68,2,FALSE)),\"\")","v":""},0,-10.5,null,2025,"2025-12-28",{"$f":"IFERROR(IF(VLOOKUP($H1462,Récapitulatif!$N$14:$Q$24,2,FALSE)=0,\"\",VLOOKUP(H1462,Récapitulatif!$N$14:$Q$24,2,FALSE)),\"\")","v":""},0,10.5]
[2025,"2025-12-29",{"$f":"IFERROR(IF(VLOOKUP($B1463,Récapitulatif!$N$64:$Q$68,2,FALSE)=0,\"\",VLOOKUP($B1463,Récapitulatif!$N$64:$Q$68,2,FALSE)),\"\")","v":""},0,-10.5,null,2025,"2025-12-29",{"$f":"IFERROR(IF(VLOOKUP($H1463,Récapitulatif!$N$14:$Q$24,2,FALSE)=0,\"\",VLOOKUP(H1463,Récapitulatif!$N$14:$Q$24,2,FALSE)),\"\")","v":""},0,10.5]
[2025,"2025-12-30",{"$f":"IFERROR(IF(VLOOKUP($B1464,Récapitulatif!$N$64:$Q$68,2,FALSE)=0,\"\",VLOOKUP($B1464,Récapitulatif!$N$64:$Q$68,2,FALSE)),\"\")","v":""},0,-10.5,null,2025,"2025-12-30",{"$f":"IFERROR(IF(VLOOKUP($H1464,Récapitulatif!$N$14:$Q$24,2,FALSE)=0,\"\",VLOOKUP(H1464,Récapitulatif!$N$14:$Q$24,2,FALSE)),\"\")","v":""},0,10.5]
[2025,"2025-12-31",{"$f":"IFERROR(IF(VLOOKUP($B1465,Récapitulatif!$N$64:$Q$68,2,FALSE)=0,\"\",VLOOKUP($B1465,Récapitulatif!$N$64:$Q$68,2,FALSE)),\"\")","v":""},0,-10.5,null,2025,"2025-12-31",{"$f":"IFERROR(IF(VLOOKUP($H1465,Récapitulatif!$N$14:$Q$24,2,FALSE)=0,\"\",VLOOKUP(H1465,Récapitulatif!$N$14:$Q$24,2,FALSE)),\"\")","v":""},0,3.5]
[2026,"2026-01-01",{"$f":"IFERROR(IF(VLOOKUP($B1466,Récapitulatif!$N$64:$Q$68,2,FALSE)=0,\"\",VLOOKUP($B1466,Récapitulatif!$N$64:$Q$68,2,FALSE)),\"\")","v":""},0,-3.5,null,2026,"2026-01-01",{"$f":"IFERROR(IF(VLOOKUP($H1466,Récapitulatif!$N$14:$Q$24,2,FALSE)=0,\"\",VLOOKUP(H1466,Récapitulatif!$N$14:$Q$24,2,FALSE)),\"\")","v":""},0,3.5]
[2026,"2026-01-02",{"$f":"IFERROR(IF(VLOOKUP($B1467,Récapitulatif!$N$64:$Q$68,2,FALSE)=0,\"\",VLOOKUP($B1467,Récapitulatif!$N$64:$Q$68,2,FALSE)),\"\")","v":""},0,-3.5,null,2026,"2026-01-02",{"$f":"IFERROR(IF(VLOOKUP($H1467,Récapitulatif!$N$14:$Q$24,2,FALSE)=0,\"\",VLOOKUP(H1467,Récapitulatif!$N$14:$Q$24,2,FALSE)),\"\")","v":""},0,3.5]
[2026,"2026-01-03",{"$f":"IFERROR(IF(VLOOKUP($B1468,Récapitulatif!$N$64:$Q$68,2,FALSE)=0,\"\",VLOOKUP($B1468,Récapitulatif!$N$64:$Q$68,2,FALSE)),\"\")","v":""},0,-3.5,null,2026,"2026-01-03",{"$f":"IFERROR(IF(VLOOKUP($H1468,Récapitulatif!$N$14:$Q$24,2,FALSE)=0,\"\",VLOOKUP(H1468,Récapitulatif!$N$14:$Q$24,2,FALSE)),\"\")","v":""},0,3.5]

{"sheet":"Annexe","index":6,"n_rows":21,"n_cols":9,"rows_kept":21,"cut":false,"hidden":false,"merged":[[20,1,20,4],[20,7,20,10],[1,7,1,10],[1,0,1,5]]}
[]
["Parcours des athlètes spécifique à chaque sport",null,null,null,null,null,null,"Système éducatif suisse"]
[]
[]
[]
[]
[]
[]
[]
[]
[]
[]
[]
[]
[]
[]
[]
[]
[null,null,null,null,null,null,null,"Source:","https://www.orientation.ch/"]
[]
[null,"Notice Planification de carrière",null,null,null,null,null,"Formation des talents sportifs"]

{"sheet":"Hilfstabelle Alter","index":7,"n_rows":22,"n_cols":2,"rows_kept":22,"cut":false,"hidden":true,"merged":[]}
["Jahr","Datum"]
[{"$f":"'Planification Sport'!B6","v":2022},{"$f":"DATE(A2,7,1)","v":"2022-07-01"}]
[{"$f":"'Planification Sport'!B16","v":2023},{"$f":"DATE(A3,7,1)","v":"2023-07-01"}]
[{"$f":"'Planification Sport'!B26","v":2024},"2024-07-01"]
[{"$f":"'Planification Sport'!B36","v":2025},"2025-07-01"]
[{"$f":"'Planification Sport'!B46","v":2026},"2026-07-01"]
[{"$f":"'Planification Sport'!B56","v":2027},"2027-07-01"]
[{"$f":"'Planification Sport'!B66","v":2028},"2028-07-01"]
[{"$f":"'Planification Sport'!B76","v":2029},"2029-07-01"]
[{"$f":"'Planification Sport'!B86","v":2030},"2030-07-01"]
[{"$f":"'Planification Sport'!B96","v":2031},"2031-07-01"]
[{"$f":"'Planification Sport'!B106","v":2032},"2032-07-01"]
[{"$f":"'Planification Sport'!#REF!","v":{"$error":"#REF!"}},{"$error":"#REF!"}]
[{"$f":"'Planification Sport'!#REF!","v":{"$error":"#REF!"}},{"$error":"#REF!"}]
[{"$f":"'Planification Sport'!#REF!","v":{"$error":"#REF!"}},{"$error":"#REF!"}]
[{"$f":"'Planification Sport'!#REF!","v":{"$error":"#REF!"}},{"$error":"#REF!"}]
[{"$f":"'Planification Sport'!#REF!","v":{"$error":"#REF!"}},{"$error":"#REF!"}]
[{"$f":"'Planification Sport'!#REF!","v":{"$error":"#REF!"}},{"$error":"#REF!"}]
[{"$f":"'Planification Sport'!#REF!","v":{"$error":"#REF!"}},{"$error":"#REF!"}]
[{"$f":"'Planification Sport'!#REF!","v":{"$error":"#REF!"}},{"$error":"#REF!"}]
[{"$f":"'Planification Sport'!#REF!","v":{"$error":"#REF!"}},{"$error":"#REF!"}]
[{"$f":"'Planification Sport'!#REF!","v":{"$error":"#REF!"}},{"$error":"#REF!"}]

{"sheet":"Hilfstabelle Sport Kategorien","index":8,"n_rows":22,"n_cols":2,"rows_kept":22,"cut":false,"hidden":true,"merged":[]}
["Jahr","Kategorie / Kader"]
[{"$f":"'Planification Sport'!B6","v":2022},{"$f":"'Planification Sport'!$B$8","v":0}]
[{"$f":"'Planification Sport'!B16","v":2023},{"$f":"'Planification Sport'!$B$18","v":0}]
[{"$f":"'Planification Sport'!B26","v":2024},{"$f":"'Planification Sport'!$B$28","v":0}]
[{"$f":"'Planification Sport'!B36","v":2025},{"$f":"'Planification Sport'!$B$38","v":0}]
[{"$f":"'Planification Sport'!B46","v":2026},{"$f":"'Planification Sport'!$B$48","v":0}]
[{"$f":"'Planification Sport'!B56","v":2027},{"$f":"'Planification Sport'!$B$58","v":0}]
[{"$f":"'Planification Sport'!B66","v":2028},{"$f":"'Planification Sport'!$B$68","v":0}]
[{"$f":"'Planification Sport'!B76","v":2029},{"$f":"'Planification Sport'!$B$78","v":0}]
[{"$f":"'Planification Sport'!B86","v":2030},{"$f":"'Planification Sport'!$B$88","v":0}]
[{"$f":"'Planification Sport'!B96","v":2031},{"$f":"'Planification Sport'!$B$98","v":0}]
[{"$f":"'Planification Sport'!B106","v":2032},{"$f":"'Planification Sport'!$B$108","v":0}]
[{"$f":"'Planification Sport'!#REF!","v":{"$error":"#REF!"}},{"$f":"'Planification Sport'!#REF!","v":{"$error":"#REF!"}}]
[{"$f":"'Planification Sport'!#REF!","v":{"$error":"#REF!"}},{"$f":"'Planification Sport'!#REF!","v":{"$error":"#REF!"}}]
[{"$f":"'Planification Sport'!#REF!","v":{"$error":"#REF!"}},{"$f":"'Planification Sport'!#REF!","v":{"$error":"#REF!"}}]
[{"$f":"'Planification Sport'!#REF!","v":{"$error":"#REF!"}},{"$f":"'Planification Sport'!#REF!","v":{"$error":"#REF!"}}]
[{"$f":"'Planification Sport'!#REF!","v":{"$error":"#REF!"}},{"$f":"'Planification Sport'!#REF!","v":{"$error":"#REF!"}}]
[{"$f":"'Planification Sport'!#REF!","v":{"$error":"#REF!"}},{"$f":"'Planification Sport'!#REF!","v":{"$error":"#REF!"}}]
[{"$f":"'Planification Sport'!#REF!","v":{"$error":"#REF!"}},{"$f":"'Planification Sport'!#REF!","v":{"$error":"#REF!"}}]
[{"$f":"'Planification Sport'!#REF!","v":{"$error":"#REF!"}},{"$f":"'Planification Sport'!#REF!","v":{"$error":"#REF!"}}]
[{"$f":"'Planification Sport'!#REF!","v":{"$error":"#REF!"}},{"$f":"'Planification Sport'!#REF!","v":{"$error":"#REF!"}}]
[{"$f":"'Planification Sport'!#REF!","v":{"$error":"#REF!"}},{"$f":"'Planification Sport'!#REF!","v":{"$error":"#REF!"}}]

{"sheet":"Hilfstabelle Sport Saisonziele","index":9,"n_rows":148,"n_cols":4,"rows_kept":148,"cut":false,"hidden":true,"merged":[]}
["Jahr","Datum","Meilenstein Bezeichnung","Saisonziele"]
[{"$f":"'Planification Sport'!$K$6","v":2022},{"$f":"'Planification Sport'!$K9","v":"00:00:00"},{"$f":"'Planification Sport'!$J9","v":"But de la saison 1"},{"$f":"'Planification Sport'!L9","v":0}]
[{"$f":"'Planification Sport'!$K$6","v":2022},{"$f":"'Planification Sport'!$K10","v":"00:00:00"},{"$f":"'Planification Sport'!$J10","v":"But de la saison 2"},{"$f":"'Planification Sport'!L10","v":0}]
[{"$f":"'Planification Sport'!$K$6","v":2022},{"$f":"'Planification Sport'!$K11","v":"00:00:00"},{"$f":"'Planification Sport'!$J11","v":"But de la saison 3"},{"$f":"'Planification Sport'!L11","v":0}]
[{"$f":"'Planification Sport'!$K$6","v":2022},{"$f":"'Planification Sport'!$K12","v":"00:00:00"},{"$f":"'Planification Sport'!$J12","v":"But de la saison 4"},{"$f":"'Planification Sport'!L12","v":0}]
[{"$f":"'Planification Sport'!$K$6","v":2022},{"$f":"'Planification Sport'!$K13","v":"00:00:00"},{"$f":"'Planification Sport'!$J13","v":"But de la saison 5"},{"$f":"'Planification Sport'!L13","v":0}]
[{"$f":"'Planification Sport'!$K$6","v":2022},{"$f":"'Planification Sport'!$K14","v":"00:00:00"},{"$f":"'Planification Sport'!$J14","v":"Service militaire debut"},{"$f":"'Planification Sport'!L14","v":0}]
[{"$f":"'Planification Sport'!$K$6","v":2022},{"$f":"'Planification Sport'!$K15","v":"00:00:00"},{"$f":"'Planification Sport'!$J15","v":"Service militaire fin"},{"$f":"'Planification Sport'!L15","v":0}]
[{"$f":"'Planification Sport'!$K$16","v":2023},{"$f":"'Planification Sport'!$K19","v":"00:00:00"},{"$f":"'Planification Sport'!$J19","v":"But de la saison 1"},{"$f":"'Planification Sport'!L19","v":0}]
[{"$f":"'Planification Sport'!$K$16","v":2023},{"$f":"'Planification Sport'!$K20","v":"00:00:00"},{"$f":"'Planification Sport'!$J20","v":"But de la saison 2"},{"$f":"'Planification Sport'!L20","v":0}]
[{"$f":"'Planification Sport'!$K$16","v":2023},{"$f":"'Planification Sport'!$K21","v":"00:00:00"},{"$f":"'Planification Sport'!$J21","v":"But de la saison 3"},{"$f":"'Planification Sport'!L21","v":0}]
[{"$f":"'Planification Sport'!$K$16","v":2023},{"$f":"'Planification Sport'!$K22","v":"00:00:00"},{"$f":"'Planification Sport'!$J22","v":"But de la saison 4"},{"$f":"'Planification Sport'!L22","v":0}]
[{"$f":"'Planification Sport'!$K$16","v":2023},{"$f":"'Planification Sport'!$K23","v":"00:00:00"},{"$f":"'Planification Sport'!$J23","v":"But de la saison 5"},{"$f":"'Planification Sport'!L23","v":0}]
[{"$f":"'Planification Sport'!$K$16","v":2023},{"$f":"'Planification Sport'!$K24","v":"00:00:00"},{"$f":"'Planification Sport'!$J24","v":"Service militaire debut"},{"$f":"'Planification Sport'!L24","v":0}]
[{"$f":"'Planification Sport'!$K$16","v":2023},{"$f":"'Planification Sport'!$K25","v":"00:00:00"},{"$f":"'Planification Sport'!$J25","v":"Service militaire fin"},{"$f":"'Planification Sport'!L25","v":0}]
[{"$f":"'Planification Sport'!$K$26","v":2024},{"$f":"'Planification Sport'!$K29","v":"00:00:00"},{"$f":"'Planification Sport'!$J29","v":"But de la saison 1"},{"$f":"'Planification Sport'!L29","v":0}]
[{"$f":"'Planification Sport'!$K$26","v":2024},{"$f":"'Planification Sport'!$K30","v":"00:00:00"},{"$f":"'Planification Sport'!$J30","v":"But de la saison 2"},{"$f":"'Planification Sport'!L30","v":0}]
[{"$f":"'Planification Sport'!$K$26","v":2024},{"$f":"'Planification Sport'!$K31","v":"00:00:00"},{"$f":"'Planification Sport'!$J31","v":"But de la saison 3"},{"$f":"'Planification Sport'!L31","v":0}]
[{"$f":"'Planification Sport'!$K$26","v":2024},{"$f":"'Planification Sport'!$K32","v":"00:00:00"},{"$f":"'Planification Sport'!$J32","v":"But de la saison 4"},{"$f":"'Planification Sport'!L32","v":0}]
[{"$f":"'Planification Sport'!$K$26","v":2024},{"$f":"'Planification Sport'!$K33","v":"00:00:00"},{"$f":"'Planification Sport'!$J33","v":"But de la saison 5"},{"$f":"'Planification Sport'!L33","v":0}]
[{"$f":"'Planification Sport'!$K$26","v":2024},{"$f":"'Planification Sport'!$K34","v":"00:00:00"},{"$f":"'Planification Sport'!$J34","v":"Service militaire debut"},{"$f":"'Planification Sport'!L34","v":0}]
[{"$f":"'Planification Sport'!$K$26","v":2024},{"$f":"'Planification Sport'!$K35","v":"00:00:00"},{"$f":"'Planification Sport'!$J35","v":"Service militaire fin"},{"$f":"'Planification Sport'!L35","v":0}]
[{"$f":"'Planification Sport'!$K$36","v":2025},{"$f":"'Planification Sport'!$K39","v":"00:00:00"},{"$f":"'Planification Sport'!$J39","v":"But de la saison 1"},{"$f":"'Planification Sport'!L39","v":0}]
[{"$f":"'Planification Sport'!$K$36","v":2025},{"$f":"'Planification Sport'!$K40","v":"00:00:00"},{"$f":"'Planification Sport'!$J40","v":"But de la saison 2"},{"$f":"'Planification Sport'!L40","v":0}]
[{"$f":"'Planification Sport'!$K$36","v":2025},{"$f":"'Planification Sport'!$K41","v":"00:00:00"},{"$f":"'Planification Sport'!$J41","v":"But de la saison 3"},{"$f":"'Planification Sport'!L41","v":0}]
[{"$f":"'Planification Sport'!$K$36","v":2025},{"$f":"'Planification Sport'!$K42","v":"00:00:00"},{"$f":"'Planification Sport'!$J42","v":"But de la saison 4"},{"$f":"'Planification Sport'!L42","v":0}]
[{"$f":"'Planification Sport'!$K$36","v":2025},{"$f":"'Planification Sport'!$K43","v":"00:00:00"},{"$f":"'Planification Sport'!$J43","v":"But de la saison 5"},{"$f":"'Planification Sport'!L43","v":0}]
[{"$f":"'Planification Sport'!$K$36","v":2025},{"$f":"'Planification Sport'!$K44","v":"00:00:00"},{"$f":"'Planification Sport'!$J44","v":"Service militaire debut"},{"$f":"'Planification Sport'!L44","v":0}]
[{"$f":"'Planification Sport'!$K$36","v":2025},{"$f":"'Planification Sport'!$K45","v":"00:00:00"},{"$f":"'Planification Sport'!$J45","v":"Service militaire fin"},{"$f":"'Planification Sport'!L45","v":0}]
[{"$f":"'Planification Sport'!$K$46","v":2026},{"$f":"'Planification Sport'!$K49","v":"00:00:00"},{"$f":"'Planification Sport'!$J49","v":"But de la saison 1"},{"$f":"'Planification Sport'!L49","v":0}]
[{"$f":"'Planification Sport'!$K$46","v":2026},{"$f":"'Planification Sport'!$K50","v":"00:00:00"},{"$f":"'Planification Sport'!$J50","v":"But de la saison 2"},{"$f":"'Planification Sport'!L50","v":0}]
[{"$f":"'Planification Sport'!$K$46","v":2026},{"$f":"'Planification Sport'!$K51","v":"00:00:00"},{"$f":"'Planification Sport'!$J51","v":"But de la saison 3"},{"$f":"'Planification Sport'!L51","v":0}]
[{"$f":"'Planification Sport'!$K$46","v":2026},{"$f":"'Planification Sport'!$K52","v":"00:00:00"},{"$f":"'Planification Sport'!$J52","v":"But de la saison 4"},{"$f":"'Planification Sport'!L52","v":0}]
[{"$f":"'Planification Sport'!$K$46","v":2026},{"$f":"'Planification Sport'!$K53","v":"00:00:00"},{"$f":"'Planification Sport'!$J53","v":"But de la saison 5"},{"$f":"'Planification Sport'!L53","v":0}]
[{"$f":"'Planification Sport'!$K$46","v":2026},{"$f":"'Planification Sport'!$K54","v":"00:00:00"},{"$f":"'Planification Sport'!$J54","v":"Service militaire debut"},{"$f":"'Planification Sport'!L54","v":0}]
[{"$f":"'Planification Sport'!$K$46","v":2026},{"$f":"'Planification Sport'!$K55","v":"00:00:00"},{"$f":"'Planification Sport'!$J55","v":"Service militaire fin"},{"$f":"'Planification Sport'!L55","v":0}]
[{"$f":"'Planification Sport'!$K$56","v":2027},{"$f":"'Planification Sport'!$K59","v":"00:00:00"},{"$f":"'Planification Sport'!$J59","v":"But de la saison 1"},{"$f":"'Planification Sport'!L59","v":0}]
[{"$f":"'Planification Sport'!$K$56","v":2027},{"$f":"'Planification Sport'!$K60","v":"00:00:00"},{"$f":"'Planification Sport'!$J60","v":"But de la saison 2"},{"$f":"'Planification Sport'!L60","v":0}]
[{"$f":"'Planification Sport'!$K$56","v":2027},{"$f":"'Planification Sport'!$K61","v":"00:00:00"},{"$f":"'Planification Sport'!$J61","v":"But de la saison 3"},{"$f":"'Planification Sport'!L61","v":0}]
[{"$f":"'Planification Sport'!$K$56","v":2027},{"$f":"'Planification Sport'!$K62","v":"00:00:00"},{"$f":"'Planification Sport'!$J62","v":"But de la saison 4"},{"$f":"'Planification Sport'!L62","v":0}]
[{"$f":"'Planification Sport'!$K$56","v":2027},{"$f":"'Planification Sport'!$K63","v":"00:00:00"},{"$f":"'Planification Sport'!$J63","v":"But de la saison 5"},{"$f":"'Planification Sport'!L63","v":0}]
[{"$f":"'Planification Sport'!$K$56","v":2027},{"$f":"'Planification Sport'!$K64","v":"00:00:00"},{"$f":"'Planification Sport'!$J64","v":"Service militaire debut"},{"$f":"'Planification Sport'!L64","v":0}]
[{"$f":"'Planification Sport'!$K$56","v":2027},{"$f":"'Planification Sport'!$K65","v":"00:00:00"},{"$f":"'Planification Sport'!$J65","v":"Service militaire fin"},{"$f":"'Planification Sport'!L65","v":0}]
[{"$f":"'Planification Sport'!$K$66","v":2028},{"$f":"'Planification Sport'!$K69","v":"00:00:00"},{"$f":"'Planification Sport'!$J69","v":"But de la saison 1"},{"$f":"'Planification Sport'!L69","v":0}]
[{"$f":"'Planification Sport'!$K$66","v":2028},{"$f":"'Planification Sport'!$K70","v":"00:00:00"},{"$f":"'Planification Sport'!$J70","v":"But de la saison 2"},{"$f":"'Planification Sport'!L70","v":0}]
[{"$f":"'Planification Sport'!$K$66","v":2028},{"$f":"'Planification Sport'!$K71","v":"00:00:00"},{"$f":"'Planification Sport'!$J71","v":"But de la saison 3"},{"$f":"'Planification Sport'!L71","v":0}]
[{"$f":"'Planification Sport'!$K$66","v":2028},{"$f":"'Planification Sport'!$K72","v":"00:00:00"},{"$f":"'Planification Sport'!$J72","v":"But de la saison 4"},{"$f":"'Planification Sport'!L72","v":0}]
[{"$f":"'Planification Sport'!$K$66","v":2028},{"$f":"'Planification Sport'!$K73","v":"00:00:00"},{"$f":"'Planification Sport'!$J73","v":"But de la saison 5"},{"$f":"'Planification Sport'!L73","v":0}]
[{"$f":"'Planification Sport'!$K$66","v":2028},{"$f":"'Planification Sport'!$K74","v":"00:00:00"},{"$f":"'Planification Sport'!$J74","v":"Service militaire debut"},{"$f":"'Planification Sport'!L74","v":0}]
[{"$f":"'Planification Sport'!$K$66","v":2028},{"$f":"'Planification Sport'!$K75","v":"00:00:00"},{"$f":"'Planification Sport'!$J75","v":"Service militaire fin"},{"$f":"'Planification Sport'!L75","v":0}]
[{"$f":"'Planification Sport'!$K$76","v":2029},{"$f":"'Planification Sport'!$K79","v":"00:00:00"},{"$f":"'Planification Sport'!$J79","v":"But de la saison 1"},{"$f":"'Planification Sport'!L79","v":0}]
[{"$f":"'Planification Sport'!$K$76","v":2029},{"$f":"'Planification Sport'!$K80","v":"00:00:00"},{"$f":"'Planification Sport'!$J80","v":"But de la saison 2"},{"$f":"'Planification Sport'!L80","v":0}]
[{"$f":"'Planification Sport'!$K$76","v":2029},{"$f":"'Planification Sport'!$K81","v":"00:00:00"},{"$f":"'Planification Sport'!$J81","v":"But de la saison 3"},{"$f":"'Planification Sport'!L81","v":0}]
[{"$f":"'Planification Sport'!$K$76","v":2029},{"$f":"'Planification Sport'!$K82","v":"00:00:00"},{"$f":"'Planification Sport'!$J82","v":"But de la saison 4"},{"$f":"'Planification Sport'!L82","v":0}]
[{"$f":"'Planification Sport'!$K$76","v":2029},{"$f":"'Planification Sport'!$K83","v":"00:00:00"},{"$f":"'Planification Sport'!$J83","v":"But de la saison 5"},{"$f":"'Planification Sport'!L83","v":0}]
[{"$f":"'Planification Sport'!$K$76","v":2029},{"$f":"'Planification Sport'!$K84","v":"00:00:00"},{"$f":"'Planification Sport'!$J84","v":"Service militaire debut"},{"$f":"'Planification Sport'!L84","v":0}]
[{"$f":"'Planification Sport'!$K$76","v":2029},{"$f":"'Planification Sport'!$K85","v":"00:00:00"},{"$f":"'Planification Sport'!$J85","v":"Service militaire fin"},{"$f":"'Planification Sport'!L85","v":0}]
[{"$f":"'Planification Sport'!$K$86","v":2030},{"$f":"'Planification Sport'!$K89","v":"00:00:00"},{"$f":"'Planification Sport'!$J89","v":"But de la saison 1"},{"$f":"'Planification Sport'!L89","v":0}]
[{"$f":"'Planification Sport'!$K$86","v":2030},{"$f":"'Planification Sport'!$K90","v":"00:00:00"},{"$f":"'Planification Sport'!$J90","v":"But de la saison 2"},{"$f":"'Planification Sport'!L90","v":0}]
[{"$f":"'Planification Sport'!$K$86","v":2030},{"$f":"'Planification Sport'!$K91","v":"00:00:00"},{"$f":"'Planification Sport'!$J91","v":"But de la saison 3"},{"$f":"'Planification Sport'!L91","v":0}]
[{"$f":"'Planification Sport'!$K$86","v":2030},{"$f":"'Planification Sport'!$K92","v":"00:00:00"},{"$f":"'Planification Sport'!$J92","v":"But de la saison 4"},{"$f":"'Planification Sport'!L92","v":0}]
[{"$f":"'Planification Sport'!$K$86","v":2030},{"$f":"'Planification Sport'!$K93","v":"00:00:00"},{"$f":"'Planification Sport'!$J93","v":"But de la saison 5"},{"$f":"'Planification Sport'!L93","v":0}]
[{"$f":"'Planification Sport'!$K$86","v":2030},{"$f":"'Planification Sport'!$K94","v":"00:00:00"},{"$f":"'Planification Sport'!$J94","v":"Service militaire debut"},{"$f":"'Planification Sport'!L94","v":0}]
[{"$f":"'Planification Sport'!$K$86","v":2030},{"$f":"'Planification Sport'!$K95","v":"00:00:00"},{"$f":"'Planification Sport'!$J95","v":"Service militaire fin"},{"$f":"'Planification Sport'!L95","v":0}]
[{"$f":"'Planification Sport'!$K$96","v":2031},{"$f":"'Planification Sport'!$K99","v":"00:00:00"},{"$f":"'Planification Sport'!$J99","v":"But de la saison 1"},{"$f":"'Planification Sport'!L99","v":0}]
[{"$f":"'Planification Sport'!$K$96","v":2031},{"$f":"'Planification Sport'!$K100","v":"00:00:00"},{"$f":"'Planification Sport'!$J100","v":"But de la saison 2"},{"$f":"'Planification Sport'!L100","v":0}]
[{"$f":"'Planification Sport'!$K$96","v":2031},{"$f":"'Planification Sport'!$K101","v":"00:00:00"},{"$f":"'Planification Sport'!$J101","v":"But de la saison 3"},{"$f":"'Planification Sport'!L101","v":0}]
[{"$f":"'Planification Sport'!$K$96","v":2031},{"$f":"'Planification Sport'!$K102","v":"00:00:00"},{"$f":"'Planification Sport'!$J102","v":"But de la saison 4"},{"$f":"'Planification Sport'!L102","v":0}]
[{"$f":"'Planification Sport'!$K$96","v":2031},{"$f":"'Planification Sport'!$K103","v":"00:00:00"},{"$f":"'Planification Sport'!$J103","v":"But de la saison 5"},{"$f":"'Planification Sport'!L103","v":0}]
[{"$f":"'Planification Sport'!$K$96","v":2031},{"$f":"'Planification Sport'!$K104","v":"00:00:00"},{"$f":"'Planification Sport'!$J104","v":"Service militaire debut"},{"$f":"'Planification Sport'!L104","v":0}]
[{"$f":"'Planification Sport'!$K$96","v":2031},{"$f":"'Planification Sport'!$K105","v":"00:00:00"},{"$f":"'Planification Sport'!$J105","v":"Service militaire fin"},{"$f":"'Planification Sport'!L105","v":0}]
[{"$f":"'Planification Sport'!$K$106","v":2032},{"$f":"'Planification Sport'!$K109","v":"00:00:00"},{"$f":"'Planification Sport'!$J109","v":"But de la saison 1"},{"$f":"'Planification Sport'!L109","v":0}]
[{"$f":"'Planification Sport'!$K$106","v":2032},{"$f":"'Planification Sport'!$K110","v":"00:00:00"},{"$f":"'Planification Sport'!$J110","v":"But de la saison 2"},{"$f":"'Planification Sport'!L110","v":0}]
[{"$f":"'Planification Sport'!$K$106","v":2032},{"$f":"'Planification Sport'!$K111","v":"00:00:00"},{"$f":"'Planification Sport'!$J111","v":"But de la saison 3"},{"$f":"'Planification Sport'!L111","v":0}]
[{"$f":"'Planification Sport'!$K$106","v":2032},{"$f":"'Planification Sport'!$K112","v":"00:00:00"},{"$f":"'Planification Sport'!$J112","v":"But de la saison 4"},{"$f":"'Planification Sport'!L112","v":0}]
[{"$f":"'Planification Sport'!$K$106","v":2032},{"$f":"'Planification Sport'!$K113","v":"00:00:00"},{"$f":"'Planification Sport'!$J113","v":"But de la saison 5"},{"$f":"'Planification Sport'!L113","v":0}]
[{"$f":"'Planification Sport'!$K$106","v":2032},{"$f":"'Planification Sport'!$K114","v":"00:00:00"},{"$f":"'Planification Sport'!$J114","v":"Service militaire debut"},{"$f":"'Planification Sport'!L114","v":0}]
[{"$f":"'Planification Sport'!$K$106","v":2032},{"$f":"'Planification Sport'!$K115","v":"00:00:00"},{"$f":"'Planification Sport'!$J115","v":"Service militaire fin"},{"$f":"'Planification Sport'!L115","v":0}]
[{"$f":"'Planification Sport'!#REF!","v":{"$error":"#REF!"}},{"$f":"'Planification Sport'!#REF!","v":{"$error":"#REF!"}},{"$f":"'Planification Sport'!#REF!","v":{"$error":"#REF!"}},{"$f":"'Planification Sport'!#REF!","v":{"$error":"#REF!"}}]
[{"$f":"'Planification Sport'!#REF!","v":{"$error":"#REF!"}},{"$f":"'Planification Sport'!#REF!","v":{"$error":"#REF!"}},{"$f":"'Planification Sport'!#REF!","v":{"$error":"#REF!"}},{"$f":"'Planification Sport'!#REF!","v":{"$error":"#REF!"}}]
[{"$f":"'Planification Sport'!#REF!","v":{"$error":"#REF!"}},{"$f":"'Planification Sport'!#REF!","v":{"$error":"#REF!"}},{"$f":"'Planification Sport'!#REF!","v":{"$error":"#REF!"}},{"$f":"'Planification Sport'!#REF!","v":{"$error":"#REF!"}}]
[{"$f":"'Planification Sport'!#REF!","v":{"$error":"#REF!"}},{"$f":"'Planification Sport'!#REF!","v":{"$error":"#REF!"}},{"$f":"'Planification Sport'!#REF!","v":{"$error":"#REF!"}},{"$f":"'Planification Sport'!#REF!","v":{"$error":"#REF!"}}]
[{"$f":"'Planification Sport'!#REF!","v":{"$error":"#REF!"}},{"$f":"'Planification Sport'!#REF!","v":{"$error":"#REF!"}},{"$f":"'Planification Sport'!#REF!","v":{"$error":"#REF!"}},{"$f":"'Planification Sport'!#REF!","v":{"$error":"#REF!"}}]
[{"$f":"'Planification Sport'!#REF!","v":{"$error":"#REF!"}},{"$f":"'Planification Sport'!#REF!","v":{"$error":"#REF!"}},{"$f":"'Planification Sport'!#REF!","v":{"$error":"#REF!"}},{"$f":"'Planification Sport'!#REF!","v":{"$error":"#REF!"}}]
[{"$f":"'Planification Sport'!#REF!","v":{"$error":"#REF!"}},{"$f":"'Planification Sport'!#REF!","v":{"$error":"#REF!"}},{"$f":"'Planification Sport'!#REF!","v":{"$error":"#REF!"}},{"$f":"'Planification Sport'!#REF!","v":{"$error":"#REF!"}}]
[{"$f":"'Planification Sport'!#REF!","v":{"$error":"#REF!"}},{"$f":"'Planification Sport'!#REF!","v":{"$error":"#REF!"}},{"$f":"'Planification Sport'!#REF!","v":{"$error":"#REF!"}},{"$f":"'Planification Sport'!#REF!","v":{"$error":"#REF!"}}]
[{"$f":"'Planification Sport'!#REF!","v":{"$error":"#REF!"}},{"$f":"'Planification Sport'!#REF!","v":{"$error":"#REF!"}},{"$f":"'Planification Sport'!#REF!","v":{"$error":"#REF!"}},{"$f":"'Planification Sport'!#REF!","v":{"$error":"#REF!"}}]
[{"$f":"'Planification Sport'!#REF!","v":{"$error":"#REF!"}},{"$f":"'Planification Sport'!#REF!","v":{"$error":"#REF!"}},{"$f":"'Planification Sport'!#REF!","v":{"$error":"#REF!"}},{"$f":"'Planification Sport'!#REF!","v":{"$error":"#REF!"}}]
[{"$f":"'Planification Sport'!#REF!","v":{"$error":"#REF!"}},{"$f":"'Planification Sport'!#REF!","v":{"$error":"#REF!"}},{"$f":"'Planification Sport'!#REF!","v":{"$error":"#REF!"}},{"$f":"'Planification Sport'!#REF!","v":{"$error":"#REF!"}}]
[{"$f":"'Planification Sport'!#REF!","v":{"$error":"#REF!"}},{"$f":"'Planification Sport'!#REF!","v":{"$error":"#REF!"}},{"$f":"'Planification Sport'!#REF!","v":{"$error":"#REF!"}},{"$f":"'Planification Sport'!#REF!","v":{"$error":"#REF!"}}]
[{"$f":"'Planification Sport'!#REF!","v":{"$error":"#REF!"}},{"$f":"'Planification Sport'!#REF!","v":{"$error":"#REF!"}},{"$f":"'Planification Sport'!#REF!","v":{"$error":"#REF!"}},{"$f":"'Planification Sport'!#REF!","v":{"$error":"#REF!"}}]
[{"$f":"'Planification Sport'!#REF!","v":{"$error":"#REF!"}},{"$f":"'Planification Sport'!#REF!","v":{"$error":"#REF!"}},{"$f":"'Planification Sport'!#REF!","v":{"$error":"#REF!"}},{"$f":"'Planification Sport'!#REF!","v":{"$error":"#REF!"}}]
[{"$f":"'Planification Sport'!#REF!","v":{"$error":"#REF!"}},{"$f":"'Planification Sport'!#REF!","v":{"$error":"#REF!"}},{"$f":"'Planification Sport'!#REF!","v":{"$error":"#REF!"}},{"$f":"'Planification Sport'!#REF!","v":{"$error":"#REF!"}}]
[{"$f":"'Planification Sport'!#REF!","v":{"$error":"#REF!"}},{"$f":"'Planification Sport'!#REF!","v":{"$error":"#REF!"}},{"$f":"'Planification Sport'!#REF!","v":{"$error":"#REF!"}},{"$f":"'Planification Sport'!#REF!","v":{"$error":"#REF!"}}]
[{"$f":"'Planification Sport'!#REF!","v":{"$error":"#REF!"}},{"$f":"'Planification Sport'!#REF!","v":{"$error":"#REF!"}},{"$f":"'Planification Sport'!#REF!","v":{"$error":"#REF!"}},{"$f":"'Planification Sport'!#REF!","v":{"$error":"#REF!"}}]
[{"$f":"'Planification Sport'!#REF!","v":{"$error":"#REF!"}},{"$f":"'Planification Sport'!#REF!","v":{"$error":"#REF!"}},{"$f":"'Planification Sport'!#REF!","v":{"$error":"#REF!"}},{"$f":"'Planification Sport'!#REF!","v":{"$error":"#REF!"}}]
[{"$f":"'Planification Sport'!#REF!","v":{"$error":"#REF!"}},{"$f":"'Planification Sport'!#REF!","v":{"$error":"#REF!"}},{"$f":"'Planification Sport'!#REF!","v":{"$error":"#REF!"}},{"$f":"'Planification Sport'!#REF!","v":{"$error":"#REF!"}}]
[{"$f":"'Planification Sport'!#REF!","v":{"$error":"#REF!"}},{"$f":"'Planification Sport'!#REF!","v":{"$error":"#REF!"}},{"$f":"'Planification Sport'!#REF!","v":{"$error":"#REF!"}},{"$f":"'Planification Sport'!#REF!","v":{"$error":"#REF!"}}]
[{"$f":"'Planification Sport'!#REF!","v":{"$error":"#REF!"}},{"$f":"'Planification Sport'!#REF!","v":{"$error":"#REF!"}},{"$f":"'Planification Sport'!#REF!","v":{"$error":"#REF!"}},{"$f":"'Planification Sport'!#REF!","v":{"$error":"#REF!"}}]
[{"$f":"'Planification Sport'!#REF!","v":{"$error":"#REF!"}},{"$f":"'Planification Sport'!#REF!","v":{"$error":"#REF!"}},{"$f":"'Planification Sport'!#REF!","v":{"$error":"#REF!"}},{"$f":"'Planification Sport'!#REF!","v":{"$error":"#REF!"}}]
[{"$f":"'Planification Sport'!#REF!","v":{"$error":"#REF!"}},{"$f":"'Planification Sport'!#REF!","v":{"$error":"#REF!"}},{"$f":"'Planification Sport'!#REF!","v":{"$error":"#REF!"}},{"$f":"'Planification Sport'!#REF!","v":{"$error":"#REF!"}}]
[{"$f":"'Planification Sport'!#REF!","v":{"$error":"#REF!"}},{"$f":"'Planification Sport'!#REF!","v":{"$error":"#REF!"}},{"$f":"'Planification Sport'!#REF!","v":{"$error":"#REF!"}},{"$f":"'Planification Sport'!#REF!","v":{"$error":"#REF!"}}]
[{"$f":"'Planification Sport'!#REF!","v":{"$error":"#REF!"}},{"$f":"'Planification Sport'!#REF!","v":{"$error":"#REF!"}},{"$f":"'Planification Sport'!#REF!","v":{"$error":"#REF!"}},{"$f":"'Planification Sport'!#REF!","v":{"$error":"#REF!"}}]
[{"$f":"'Planification Sport'!#REF!","v":{"$error":"#REF!"}},{"$f":"'Planification Sport'!#REF!","v":{"$error":"#REF!"}},{"$f":"'Planification Sport'!#REF!","v":{"$error":"#REF!"}},{"$f":"'Planification Sport'!#REF!","v":{"$error":"#REF!"}}]
[{"$f":"'Planification Sport'!#REF!","v":{"$error":"#REF!"}},{"$f":"'Planification Sport'!#REF!","v":{"$error":"#REF!"}},{"$f":"'Planification Sport'!#REF!","v":{"$error":"#REF!"}},{"$f":"'Planification Sport'!#REF!","v":{"$error":"#REF!"}}]
[{"$f":"'Planification Sport'!#REF!","v":{"$error":"#REF!"}},{"$f":"'Planification Sport'!#REF!","v":{"$error":"#REF!"}},{"$f":"'Planification Sport'!#REF!","v":{"$error":"#REF!"}},{"$f":"'Planification Sport'!#REF!","v":{"$error":"#REF!"}}]
[{"$f":"'Planification Sport'!#REF!","v":{"$error":"#REF!"}},{"$f":"'Planification Sport'!#REF!","v":{"$error":"#REF!"}},{"$f":"'Planification Sport'!#REF!","v":{"$error":"#REF!"}},{"$f":"'Planification Sport'!#REF!","v":{"$error":"#REF!"}}]
[{"$f":"'Planification Sport'!#REF!","v":{"$error":"#REF!"}},{"$f":"'Planification Sport'!#REF!","v":{"$error":"#REF!"}},{"$f":"'Planification Sport'!#REF!","v":{"$error":"#REF!"}},{"$f":"'Planification Sport'!#REF!","v":{"$error":"#REF!"}}]
[{"$f":"'Planification Sport'!#REF!","v":{"$error":"#REF!"}},{"$f":"'Planification Sport'!#REF!","v":{"$error":"#REF!"}},{"$f":"'Planification Sport'!#REF!","v":{"$error":"#REF!"}},{"$f":"'Planification Sport'!#REF!","v":{"$error":"#REF!"}}]
[{"$f":"'Planification Sport'!#REF!","v":{"$error":"#REF!"}},{"$f":"'Planification Sport'!#REF!","v":{"$error":"#REF!"}},{"$f":"'Planification Sport'!#REF!","v":{"$error":"#REF!"}},{"$f":"'Planification Sport'!#REF!","v":{"$error":"#REF!"}}]
[{"$f":"'Planification Sport'!#REF!","v":{"$error":"#REF!"}},{"$f":"'Planification Sport'!#REF!","v":{"$error":"#REF!"}},{"$f":"'Planification Sport'!#REF!","v":{"$error":"#REF!"}},{"$f":"'Planification Sport'!#REF!","v":{"$error":"#REF!"}}]
[{"$f":"'Planification Sport'!#REF!","v":{"$error":"#REF!"}},{"$f":"'Planification Sport'!#REF!","v":{"$error":"#REF!"}},{"$f":"'Planification Sport'!#REF!","v":{"$error":"#REF!"}},{"$f":"'Planification Sport'!#REF!","v":{"$error":"#REF!"}}]
[{"$f":"'Planification Sport'!#REF!","v":{"$error":"#REF!"}},{"$f":"'Planification Sport'!#REF!","v":{"$error":"#REF!"}},{"$f":"'Planification Sport'!#REF!","v":{"$error":"#REF!"}},{"$f":"'Planification Sport'!#REF!","v":{"$error":"#REF!"}}]
[{"$f":"'Planification Sport'!#REF!","v":{"$error":"#REF!"}},{"$f":"'Planification Sport'!#REF!","v":{"$error":"#REF!"}},{"$f":"'Planification Sport'!#REF!","v":{"$error":"#REF!"}},{"$f":"'Planification Sport'!#REF!","v":{"$error":"#REF!"}}]
[{"$f":"'Planification Sport'!#REF!","v":{"$error":"#REF!"}},{"$f":"'Planification Sport'!#REF!","v":{"$error":"#REF!"}},{"$f":"'Planification Sport'!#REF!","v":{"$error":"#REF!"}},{"$f":"'Planification Sport'!#REF!","v":{"$error":"#REF!"}}]
[{"$f":"'Planification Sport'!#REF!","v":{"$error":"#REF!"}},{"$f":"'Planification Sport'!#REF!","v":{"$error":"#REF!"}},{"$f":"'Planification Sport'!#REF!","v":{"$error":"#REF!"}},{"$f":"'Planification Sport'!#REF!","v":{"$error":"#REF!"}}]
[{"$f":"'Planification Sport'!#REF!","v":{"$error":"#REF!"}},{"$f":"'Planification Sport'!#REF!","v":{"$error":"#REF!"}},{"$f":"'Planification Sport'!#REF!","v":{"$error":"#REF!"}},{"$f":"'Planification Sport'!#REF!","v":{"$error":"#REF!"}}]
[{"$f":"'Planification Sport'!#REF!","v":{"$error":"#REF!"}},{"$f":"'Planification Sport'!#REF!","v":{"$error":"#REF!"}},{"$f":"'Planification Sport'!#REF!","v":{"$error":"#REF!"}},{"$f":"'Planification Sport'!#REF!","v":{"$error":"#REF!"}}]
[{"$f":"'Planification Sport'!#REF!","v":{"$error":"#REF!"}},{"$f":"'Planification Sport'!#REF!","v":{"$error":"#REF!"}},{"$f":"'Planification Sport'!#REF!","v":{"$error":"#REF!"}},{"$f":"'Planification Sport'!#REF!","v":{"$error":"#REF!"}}]
[{"$f":"'Planification Sport'!#REF!","v":{"$error":"#REF!"}},{"$f":"'Planification Sport'!#REF!","v":{"$error":"#REF!"}},{"$f":"'Planification Sport'!#REF!","v":{"$error":"#REF!"}},{"$f":"'Planification Sport'!#REF!","v":{"$error":"#REF!"}}]
[{"$f":"'Planification Sport'!#REF!","v":{"$error":"#REF!"}},{"$f":"'Planification Sport'!#REF!","v":{"$error":"#REF!"}},{"$f":"'Planification Sport'!#REF!","v":{"$error":"#REF!"}},{"$f":"'Planification Sport'!#REF!","v":{"$error":"#REF!"}}]
[{"$f":"'Planification Sport'!#REF!","v":{"$error":"#REF!"}},{"$f":"'Planification Sport'!#REF!","v":{"$error":"#REF!"}},{"$f":"'Planification Sport'!#REF!","v":{"$error":"#REF!"}},{"$f":"'Planification Sport'!#REF!","v":{"$error":"#REF!"}}]
[{"$f":"'Planification Sport'!#REF!","v":{"$error":"#REF!"}},{"$f":"'Planification Sport'!#REF!","v":{"$error":"#REF!"}},{"$f":"'Planification Sport'!#REF!","v":{"$error":"#REF!"}},{"$f":"'Planification Sport'!#REF!","v":{"$error":"#REF!"}}]
[{"$f":"'Planification Sport'!#REF!","v":{"$error":"#REF!"}},{"$f":"'Planification Sport'!#REF!","v":{"$error":"#REF!"}},{"$f":"'Planification Sport'!#REF!","v":{"$error":"#REF!"}},{"$f":"'Planification Sport'!#REF!","v":{"$error":"#REF!"}}]
[{"$f":"'Planification Sport'!#REF!","v":{"$error":"#REF!"}},{"$f":"'Planification Sport'!#REF!","v":{"$error":"#REF!"}},{"$f":"'Planification Sport'!#REF!","v":{"$error":"#REF!"}},{"$f":"'Planification Sport'!#REF!","v":{"$error":"#REF!"}}]
[{"$f":"'Planification Sport'!#REF!","v":{"$error":"#REF!"}},{"$f":"'Planification Sport'!#REF!","v":{"$error":"#REF!"}},{"$f":"'Planification Sport'!#REF!","v":{"$error":"#REF!"}},{"$f":"'Planification Sport'!#REF!","v":{"$error":"#REF!"}}]
[{"$f":"'Planification Sport'!#REF!","v":{"$error":"#REF!"}},{"$f":"'Planification Sport'!#REF!","v":{"$error":"#REF!"}},{"$f":"'Planification Sport'!#REF!","v":{"$error":"#REF!"}},{"$f":"'Planification Sport'!#REF!","v":{"$error":"#REF!"}}]
[{"$f":"'Planification Sport'!#REF!","v":{"$error":"#REF!"}},{"$f":"'Planification Sport'!#REF!","v":{"$error":"#REF!"}},{"$f":"'Planification Sport'!#REF!","v":{"$error":"#REF!"}},{"$f":"'Planification Sport'!#REF!","v":{"$error":"#REF!"}}]
[{"$f":"'Planification Sport'!#REF!","v":{"$error":"#REF!"}},{"$f":"'Planification Sport'!#REF!","v":{"$error":"#REF!"}},{"$f":"'Planification Sport'!#REF!","v":{"$error":"#REF!"}},{"$f":"'Planification Sport'!#REF!","v":{"$error":"#REF!"}}]
[{"$f":"'Planification Sport'!#REF!","v":{"$error":"#REF!"}},{"$f":"'Planification Sport'!#REF!","v":{"$error":"#REF!"}},{"$f":"'Planification Sport'!#REF!","v":{"$error":"#REF!"}},{"$f":"'Planification Sport'!#REF!","v":{"$error":"#REF!"}}]
[{"$f":"'Planification Sport'!#REF!","v":{"$error":"#REF!"}},{"$f":"'Planification Sport'!#REF!","v":{"$error":"#REF!"}},{"$f":"'Planification Sport'!#REF!","v":{"$error":"#REF!"}},{"$f":"'Planification Sport'!#REF!","v":{"$error":"#REF!"}}]
[{"$f":"'Planification Sport'!#REF!","v":{"$error":"#REF!"}},{"$f":"'Planification Sport'!#REF!","v":{"$error":"#REF!"}},{"$f":"'Planification Sport'!#REF!","v":{"$error":"#REF!"}},{"$f":"'Planification Sport'!#REF!","v":{"$error":"#REF!"}}]
[{"$f":"'Planification Sport'!#REF!","v":{"$error":"#REF!"}},{"$f":"'Planification Sport'!#REF!","v":{"$error":"#REF!"}},{"$f":"'Planification Sport'!#REF!","v":{"$error":"#REF!"}},{"$f":"'Planification Sport'!#REF!","v":{"$error":"#REF!"}}]
[{"$f":"'Planification Sport'!#REF!","v":{"$error":"#REF!"}},{"$f":"'Planification Sport'!#REF!","v":{"$error":"#REF!"}},{"$f":"'Planification Sport'!#REF!","v":{"$error":"#REF!"}},{"$f":"'Planification Sport'!#REF!","v":{"$error":"#REF!"}}]
[{"$f":"'Planification Sport'!#REF!","v":{"$error":"#REF!"}},{"$f":"'Planification Sport'!#REF!","v":{"$error":"#REF!"}},{"$f":"'Planification Sport'!#REF!","v":{"$error":"#REF!"}},{"$f":"'Planification Sport'!#REF!","v":{"$error":"#REF!"}}]
[{"$f":"'Planification Sport'!#REF!","v":{"$error":"#REF!"}},{"$f":"'Planification Sport'!#REF!","v":{"$error":"#REF!"}},{"$f":"'Planification Sport'!#REF!","v":{"$error":"#REF!"}},{"$f":"'Planification Sport'!#REF!","v":{"$error":"#REF!"}}]
[{"$f":"'Planification Sport'!#REF!","v":{"$error":"#REF!"}},{"$f":"'Planification Sport'!#REF!","v":{"$error":"#REF!"}},{"$f":"'Planification Sport'!#REF!","v":{"$error":"#REF!"}},{"$f":"'Planification Sport'!#REF!","v":{"$error":"#REF!"}}]
[{"$f":"'Planification Sport'!#REF!","v":{"$error":"#REF!"}},{"$f":"'Planification Sport'!#REF!","v":{"$error":"#REF!"}},{"$f":"'Planification Sport'!#REF!","v":{"$error":"#REF!"}},{"$f":"'Planification Sport'!#REF!","v":{"$error":"#REF!"}}]
[{"$f":"'Planification Sport'!#REF!","v":{"$error":"#REF!"}},{"$f":"'Planification Sport'!#REF!","v":{"$error":"#REF!"}},{"$f":"'Planification Sport'!#REF!","v":{"$error":"#REF!"}},{"$f":"'Planification Sport'!#REF!","v":{"$error":"#REF!"}}]
[{"$f":"'Planification Sport'!#REF!","v":{"$error":"#REF!"}},{"$f":"'Planification Sport'!#REF!","v":{"$error":"#REF!"}},{"$f":"'Planification Sport'!#REF!","v":{"$error":"#REF!"}},{"$f":"'Planification Sport'!#REF!","v":{"$error":"#REF!"}}]
[{"$f":"'Planification Sport'!#REF!","v":{"$error":"#REF!"}},{"$f":"'Planification Sport'!#REF!","v":{"$error":"#REF!"}},{"$f":"'Planification Sport'!#REF!","v":{"$error":"#REF!"}},{"$f":"'Planification Sport'!#REF!","v":{"$error":"#REF!"}}]
[{"$f":"'Planification Sport'!#REF!","v":{"$error":"#REF!"}},{"$f":"'Planification Sport'!#REF!","v":{"$error":"#REF!"}},{"$f":"'Planification Sport'!#REF!","v":{"$error":"#REF!"}},{"$f":"'Planification Sport'!#REF!","v":{"$error":"#REF!"}}]
[{"$f":"'Planification Sport'!#REF!","v":{"$error":"#REF!"}},{"$f":"'Planification Sport'!#REF!","v":{"$error":"#REF!"}},{"$f":"'Planification Sport'!#REF!","v":{"$error":"#REF!"}},{"$f":"'Planification Sport'!#REF!","v":{"$error":"#REF!"}}]
[{"$f":"'Planification Sport'!#REF!","v":{"$error":"#REF!"}},{"$f":"'Planification Sport'!#REF!","v":{"$error":"#REF!"}},{"$f":"'Planification Sport'!#REF!","v":{"$error":"#REF!"}},{"$f":"'Planification Sport'!#REF!","v":{"$error":"#REF!"}}]
[{"$f":"'Planification Sport'!#REF!","v":{"$error":"#REF!"}},{"$f":"'Planification Sport'!#REF!","v":{"$error":"#REF!"}},{"$f":"'Planification Sport'!#REF!","v":{"$error":"#REF!"}},{"$f":"'Planification Sport'!#REF!","v":{"$error":"#REF!"}}]
[{"$f":"'Planification Sport'!#REF!","v":{"$error":"#REF!"}},{"$f":"'Planification Sport'!#REF!","v":{"$error":"#REF!"}},{"$f":"'Planification Sport'!#REF!","v":{"$error":"#REF!"}},{"$f":"'Planification Sport'!#REF!","v":{"$error":"#REF!"}}]
[{"$f":"'Planification Sport'!#REF!","v":{"$error":"#REF!"}},{"$f":"'Planification Sport'!#REF!","v":{"$error":"#REF!"}},{"$f":"'Planification Sport'!#REF!","v":{"$error":"#REF!"}},{"$f":"'Planification Sport'!#REF!","v":{"$error":"#REF!"}}]
[{"$f":"'Planification Sport'!#REF!","v":{"$error":"#REF!"}},{"$f":"'Planification Sport'!#REF!","v":{"$error":"#REF!"}},{"$f":"'Planification Sport'!#REF!","v":{"$error":"#REF!"}},{"$f":"'Planification Sport'!#REF!","v":{"$error":"#REF!"}}]

{"sheet":"Hilfstabelle Sport Grobplan","index":10,"n_rows":64,"n_cols":3,"rows_kept":64,"cut":false,"hidden":true,"merged":[]}
["Jahr","Beschreibung Einheit/Umfang/Schwerpunkt","Einheiten/Umfang/Schwerpunkt"]
[{"$f":"'Planification Sport'!$B$6","v":2022},{"$f":"'Planification Sport'!$Q8","v":"Unités d’entraînement par semaine"},{"$f":"'Planification Sport'!$R8","v":0}]
[{"$f":"'Planification Sport'!$B$6","v":2022},{"$f":"'Planification Sport'!$Q10","v":"Volume d’entraînement (h/semaine)"},{"$f":"'Planification Sport'!$R10","v":0}]
[{"$f":"'Planification Sport'!$B$6","v":2022},{"$f":"'Planification Sport'!$Q12","v":"Points principaux d’entraînement"},{"$f":"'Planification Sport'!$R12","v":0}]
[{"$f":"'Planification Sport'!$B$16","v":2023},{"$f":"'Planification Sport'!$Q18","v":"Unités d’entraînement par semaine"},{"$f":"'Planification Sport'!$R18","v":0}]
[{"$f":"'Planification Sport'!$B$16","v":2023},{"$f":"'Planification Sport'!$Q20","v":"Volume d’entraînement (h/semaine)"},{"$f":"'Planification Sport'!$R20","v":0}]
[{"$f":"'Planification Sport'!$B$16","v":2023},{"$f":"'Planification Sport'!$Q22","v":"Points principaux d’entraînement"},{"$f":"'Planification Sport'!$R22","v":0}]
[{"$f":"'Planification Sport'!$B$26","v":2024},{"$f":"'Planification Sport'!$Q28","v":"Unités d’entraînement par semaine"},{"$f":"'Planification Sport'!$R28","v":0}]
[{"$f":"'Planification Sport'!$B$26","v":2024},{"$f":"'Planification Sport'!$Q30","v":"Volume d’entraînement (h/semaine)"},{"$f":"'Planification Sport'!$R30","v":0}]
[{"$f":"'Planification Sport'!$B$26","v":2024},{"$f":"'Planification Sport'!$Q32","v":"Points principaux d’entraînement"},{"$f":"'Planification Sport'!$R32","v":0}]
[{"$f":"'Planification Sport'!$B$36","v":2025},{"$f":"'Planification Sport'!$Q38","v":"Unités d’entraînement par semaine"},{"$f":"'Planification Sport'!$R38","v":0}]
[{"$f":"'Planification Sport'!$B$36","v":2025},{"$f":"'Planification Sport'!$Q40","v":"Volume d’entraînement (h/semaine)"},{"$f":"'Planification Sport'!$R40","v":0}]
[{"$f":"'Planification Sport'!$B$36","v":2025},{"$f":"'Planification Sport'!$Q42","v":"Points principaux d’entraînement"},{"$f":"'Planification Sport'!$R42","v":0}]
[{"$f":"'Planification Sport'!$B$46","v":2026},{"$f":"'Planification Sport'!$Q48","v":"Unités d’entraînement par semaine"},{"$f":"'Planification Sport'!$R48","v":0}]
[{"$f":"'Planification Sport'!$B$46","v":2026},{"$f":"'Planification Sport'!$Q50","v":"Volume d’entraînement (h/semaine)"},{"$f":"'Planification Sport'!$R50","v":0}]
[{"$f":"'Planification Sport'!$B$46","v":2026},{"$f":"'Planification Sport'!$Q52","v":"Points principaux d’entraînement"},{"$f":"'Planification Sport'!$R52","v":0}]
[{"$f":"'Planification Sport'!$B$56","v":2027},{"$f":"'Planification Sport'!$Q58","v":"Unités d’entraînement par semaine"},{"$f":"'Planification Sport'!$R58","v":0}]
[{"$f":"'Planification Sport'!$B$56","v":2027},{"$f":"'Planification Sport'!$Q60","v":"Volume d’entraînement (h/semaine)"},{"$f":"'Planification Sport'!$R60","v":0}]
[{"$f":"'Planification Sport'!$B$56","v":2027},{"$f":"'Planification Sport'!$Q62","v":"Points principaux d’entraînement"},{"$f":"'Planification Sport'!$R62","v":0}]
[{"$f":"'Planification Sport'!$B$66","v":2028},{"$f":"'Planification Sport'!$Q68","v":"Unités d’entraînement par semaine"},{"$f":"'Planification Sport'!$R68","v":0}]
[{"$f":"'Planification Sport'!$B$66","v":2028},{"$f":"'Planification Sport'!$Q70","v":"Volume d’entraînement (h/semaine)"},{"$f":"'Planification Sport'!$R70","v":0}]
[{"$f":"'Planification Sport'!$B$66","v":2028},{"$f":"'Planification Sport'!$Q72","v":"Points principaux d’entraînement"},{"$f":"'Planification Sport'!$R72","v":0}]
[{"$f":"'Planification Sport'!$B$76","v":2029},{"$f":"'Planification Sport'!$Q78","v":"Unités d’entraînement par semaine"},{"$f":"'Planification Sport'!$R78","v":0}]
[{"$f":"'Planification Sport'!$B$76","v":2029},{"$f":"'Planification Sport'!$Q80","v":"Volume d’entraînement (h/semaine)"},{"$f":"'Planification Sport'!$R80","v":0}]
[{"$f":"'Planification Sport'!$B$76","v":2029},{"$f":"'Planification Sport'!$Q82","v":"Points principaux d’entraînement"},{"$f":"'Planification Sport'!$R82","v":0}]
[{"$f":"'Planification Sport'!$B$86","v":2030},{"$f":"'Planification Sport'!$Q88","v":"Unités d’entraînement par semaine"},{"$f":"'Planification Sport'!$R88","v":0}]
[{"$f":"'Planification Sport'!$B$86","v":2030},{"$f":"'Planification Sport'!$Q90","v":"Volume d’entraînement (h/semaine)"},{"$f":"'Planification Sport'!$R90","v":0}]
[{"$f":"'Planification Sport'!$B$86","v":2030},{"$f":"'Planification Sport'!$Q92","v":"Points principaux d’entraînement"},{"$f":"'Planification Sport'!$R92","v":0}]
[{"$f":"'Planification Sport'!$B$96","v":2031},{"$f":"'Planification Sport'!$Q98","v":"Unités d’entraînement par semaine"},{"$f":"'Planification Sport'!$R98","v":0}]
[{"$f":"'Planification Sport'!$B$96","v":2031},{"$f":"'Planification Sport'!$Q100","v":"Volume d’entraînement (h/semaine)"},{"$f":"'Planification Sport'!$R100","v":0}]
[{"$f":"'Planification Sport'!$B$96","v":2031},{"$f":"'Planification Sport'!$Q102","v":"Points principaux d’entraînement"},{"$f":"'Planification Sport'!$R102","v":0}]
[{"$f":"'Planification Sport'!$B$106","v":2032},{"$f":"'Planification Sport'!$Q108","v":"Unités d’entraînement par semaine"},{"$f":"'Planification Sport'!$R108","v":0}]
[{"$f":"'Planification Sport'!$B$106","v":2032},{"$f":"'Planification Sport'!$Q110","v":"Volume d’entraînement (h/semaine)"},{"$f":"'Planification Sport'!$R110","v":0}]
[{"$f":"'Planification Sport'!$B$106","v":2032},{"$f":"'Planification Sport'!$Q112","v":"Points principaux d’entraînement"},{"$f":"'Planification Sport'!$R112","v":0}]
[{"$f":"'Planification Sport'!#REF!","v":{"$error":"#REF!"}},{"$f":"'Planification Sport'!#REF!","v":{"$error":"#REF!"}},{"$f":"'Planification Sport'!#REF!","v":{"$error":"#REF!"}}]
[{"$f":"'Planification Sport'!#REF!","v":{"$error":"#REF!"}},{"$f":"'Planification Sport'!#REF!","v":{"$error":"#REF!"}},{"$f":"'Planification Sport'!#REF!","v":{"$error":"#REF!"}}]
[{"$f":"'Planification Sport'!#REF!","v":{"$error":"#REF!"}},{"$f":"'Planification Sport'!#REF!","v":{"$error":"#REF!"}},{"$f":"'Planification Sport'!#REF!","v":{"$error":"#REF!"}}]
[{"$f":"'Planification Sport'!#REF!","v":{"$error":"#REF!"}},{"$f":"'Planification Sport'!#REF!","v":{"$error":"#REF!"}},{"$f":"'Planification Sport'!#REF!","v":{"$error":"#REF!"}}]
[{"$f":"'Planification Sport'!#REF!","v":{"$error":"#REF!"}},{"$f":"'Planification Sport'!#REF!","v":{"$error":"#REF!"}},{"$f":"'Planification Sport'!#REF!","v":{"$error":"#REF!"}}]
[{"$f":"'Planification Sport'!#REF!","v":{"$error":"#REF!"}},{"$f":"'Planification Sport'!#REF!","v":{"$error":"#REF!"}},{"$f":"'Planification Sport'!#REF!","v":{"$error":"#REF!"}}]
[{"$f":"'Planification Sport'!#REF!","v":{"$error":"#REF!"}},{"$f":"'Planification Sport'!#REF!","v":{"$error":"#REF!"}},{"$f":"'Planification Sport'!#REF!","v":{"$error":"#REF!"}}]
[{"$f":"'Planification Sport'!#REF!","v":{"$error":"#REF!"}},{"$f":"'Planification Sport'!#REF!","v":{"$error":"#REF!"}},{"$f":"'Planification Sport'!#REF!","v":{"$error":"#REF!"}}]
[{"$f":"'Planification Sport'!#REF!","v":{"$error":"#REF!"}},{"$f":"'Planification Sport'!#REF!","v":{"$error":"#REF!"}},{"$f":"'Planification Sport'!#REF!","v":{"$error":"#REF!"}}]
[{"$f":"'Planification Sport'!#REF!","v":{"$error":"#REF!"}},{"$f":"'Planification Sport'!#REF!","v":{"$error":"#REF!"}},{"$f":"'Planification Sport'!#REF!","v":{"$error":"#REF!"}}]
[{"$f":"'Planification Sport'!#REF!","v":{"$error":"#REF!"}},{"$f":"'Planification Sport'!#REF!","v":{"$error":"#REF!"}},{"$f":"'Planification Sport'!#REF!","v":{"$error":"#REF!"}}]
[{"$f":"'Planification Sport'!#REF!","v":{"$error":"#REF!"}},{"$f":"'Planification Sport'!#REF!","v":{"$error":"#REF!"}},{"$f":"'Planification Sport'!#REF!","v":{"$error":"#REF!"}}]
[{"$f":"'Planification Sport'!#REF!","v":{"$error":"#REF!"}},{"$f":"'Planification Sport'!#REF!","v":{"$error":"#REF!"}},{"$f":"'Planification Sport'!#REF!","v":{"$error":"#REF!"}}]
[{"$f":"'Planification Sport'!#REF!","v":{"$error":"#REF!"}},{"$f":"'Planification Sport'!#REF!","v":{"$error":"#REF!"}},{"$f":"'Planification Sport'!#REF!","v":{"$error":"#REF!"}}]
[{"$f":"'Planification Sport'!#REF!","v":{"$error":"#REF!"}},{"$f":"'Planification Sport'!#REF!","v":{"$error":"#REF!"}},{"$f":"'Planification Sport'!#REF!","v":{"$error":"#REF!"}}]
[{"$f":"'Planification Sport'!#REF!","v":{"$error":"#REF!"}},{"$f":"'Planification Sport'!#REF!","v":{"$error":"#REF!"}},{"$f":"'Planification Sport'!#REF!","v":{"$error":"#REF!"}}]
[{"$f":"'Planification Sport'!#REF!","v":{"$error":"#REF!"}},{"$f":"'Planification Sport'!#REF!","v":{"$error":"#REF!"}},{"$f":"'Planification Sport'!#REF!","v":{"$error":"#REF!"}}]
[{"$f":"'Planification Sport'!#REF!","v":{"$error":"#REF!"}},{"$f":"'Planification Sport'!#REF!","v":{"$error":"#REF!"}},{"$f":"'Planification Sport'!#REF!","v":{"$error":"#REF!"}}]
[{"$f":"'Planification Sport'!#REF!","v":{"$error":"#REF!"}},{"$f":"'Planification Sport'!#REF!","v":{"$error":"#REF!"}},{"$f":"'Planification Sport'!#REF!","v":{"$error":"#REF!"}}]
[{"$f":"'Planification Sport'!#REF!","v":{"$error":"#REF!"}},{"$f":"'Planification Sport'!#REF!","v":{"$error":"#REF!"}},{"$f":"'Planification Sport'!#REF!","v":{"$error":"#REF!"}}]
[{"$f":"'Planification Sport'!#REF!","v":{"$error":"#REF!"}},{"$f":"'Planification Sport'!#REF!","v":{"$error":"#REF!"}},{"$f":"'Planification Sport'!#REF!","v":{"$error":"#REF!"}}]
[{"$f":"'Planification Sport'!#REF!","v":{"$error":"#REF!"}},{"$f":"'Planification Sport'!#REF!","v":{"$error":"#REF!"}},{"$f":"'Planification Sport'!#REF!","v":{"$error":"#REF!"}}]
[{"$f":"'Planification Sport'!#REF!","v":{"$error":"#REF!"}},{"$f":"'Planification Sport'!#REF!","v":{"$error":"#REF!"}},{"$f":"'Planification Sport'!#REF!","v":{"$error":"#REF!"}}]
[{"$f":"'Planification Sport'!#REF!","v":{"$error":"#REF!"}},{"$f":"'Planification Sport'!#REF!","v":{"$error":"#REF!"}},{"$f":"'Planification Sport'!#REF!","v":{"$error":"#REF!"}}]
[{"$f":"'Planification Sport'!#REF!","v":{"$error":"#REF!"}},{"$f":"'Planification Sport'!#REF!","v":{"$error":"#REF!"}},{"$f":"'Planification Sport'!#REF!","v":{"$error":"#REF!"}}]
[{"$f":"'Planification Sport'!#REF!","v":{"$error":"#REF!"}},{"$f":"'Planification Sport'!#REF!","v":{"$error":"#REF!"}},{"$f":"'Planification Sport'!#REF!","v":{"$error":"#REF!"}}]
[{"$f":"'Planification Sport'!#REF!","v":{"$error":"#REF!"}},{"$f":"'Planification Sport'!#REF!","v":{"$error":"#REF!"}},{"$f":"'Planification Sport'!#REF!","v":{"$error":"#REF!"}}]
[{"$f":"'Planification Sport'!#REF!","v":{"$error":"#REF!"}},{"$f":"'Planification Sport'!#REF!","v":{"$error":"#REF!"}},{"$f":"'Planification Sport'!#REF!","v":{"$error":"#REF!"}}]
[{"$f":"'Planification Sport'!#REF!","v":{"$error":"#REF!"}},{"$f":"'Planification Sport'!#REF!","v":{"$error":"#REF!"}},{"$f":"'Planification Sport'!#REF!","v":{"$error":"#REF!"}}]
[{"$f":"'Planification Sport'!#REF!","v":{"$error":"#REF!"}},{"$f":"'Planification Sport'!#REF!","v":{"$error":"#REF!"}},{"$f":"'Planification Sport'!#REF!","v":{"$error":"#REF!"}}]

{"sheet":"Hilfstabelle Schule Ausbildung","index":11,"n_rows":22,"n_cols":2,"rows_kept":22,"cut":false,"hidden":true,"merged":[]}
["Jahr","Ausbildung"]
[{"$f":"'Planification Formation'!$K$6","v":2022},{"$f":"'Planification Formation'!$B8","v":0}]
[{"$f":"'Planification Formation'!$K$14","v":2023},{"$f":"'Planification Formation'!$B16","v":0}]
[{"$f":"'Planification Formation'!$K$22","v":2024},{"$f":"'Planification Formation'!$B24","v":0}]
[{"$f":"'Planification Formation'!$K$30","v":2025},{"$f":"'Planification Formation'!$B32","v":0}]
[{"$f":"'Planification Formation'!$K$38","v":2026},{"$f":"'Planification Formation'!$B40","v":0}]
[{"$f":"'Planification Formation'!$K$46","v":2027},{"$f":"'Planification Formation'!$B48","v":0}]
[{"$f":"'Planification Formation'!$K$54","v":2028},{"$f":"'Planification Formation'!$B56","v":0}]
[{"$f":"'Planification Formation'!$K$62","v":2029},{"$f":"'Planification Formation'!$B64","v":0}]
[{"$f":"'Planification Formation'!$K$70","v":2030},{"$f":"'Planification Formation'!$B72","v":0}]
[{"$f":"'Planification Formation'!$K$78","v":2031},{"$f":"'Planification Formation'!$B80","v":0}]
[{"$f":"'Planification Formation'!$K$86","v":2032},{"$f":"'Planification Formation'!$B88","v":0}]
[{"$f":"'Planification Formation'!#REF!","v":{"$error":"#REF!"}},{"$f":"'Planification Formation'!#REF!","v":{"$error":"#REF!"}}]
[{"$f":"'Planification Formation'!#REF!","v":{"$error":"#REF!"}},{"$f":"'Planification Formation'!#REF!","v":{"$error":"#REF!"}}]
[{"$f":"'Planification Formation'!#REF!","v":{"$error":"#REF!"}},{"$f":"'Planification Formation'!#REF!","v":{"$error":"#REF!"}}]
[{"$f":"'Planification Formation'!#REF!","v":{"$error":"#REF!"}},{"$f":"'Planification Formation'!#REF!","v":{"$error":"#REF!"}}]
[{"$f":"'Planification Formation'!#REF!","v":{"$error":"#REF!"}},{"$f":"'Planification Formation'!#REF!","v":{"$error":"#REF!"}}]
[{"$f":"'Planification Formation'!#REF!","v":{"$error":"#REF!"}},{"$f":"'Planification Formation'!#REF!","v":{"$error":"#REF!"}}]
[{"$f":"'Planification Formation'!#REF!","v":{"$error":"#REF!"}},{"$f":"'Planification Formation'!#REF!","v":{"$error":"#REF!"}}]
[{"$f":"'Planification Formation'!#REF!","v":{"$error":"#REF!"}},{"$f":"'Planification Formation'!#REF!","v":{"$error":"#REF!"}}]
[{"$f":"'Planification Formation'!#REF!","v":{"$error":"#REF!"}},{"$f":"'Planification Formation'!#REF!","v":{"$error":"#REF!"}}]
[{"$f":"'Planification Formation'!#REF!","v":{"$error":"#REF!"}},{"$f":"'Planification Formation'!#REF!","v":{"$error":"#REF!"}}]

{"sheet":"Hilfstabelle Schule Meilenstein","index":12,"n_rows":106,"n_cols":4,"rows_kept":106,"cut":false,"hidden":true,"merged":[]}
["Jahr","Datum","Meilenstein Bezeichnung","Meilenstein"]
[{"$f":"'Planification Formation'!$K$6","v":2022},{"$f":"'Planification Formation'!$K9","v":"00:00:00"},{"$f":"'Planification Formation'!$J9","v":"Echéance 1"},{"$f":"'Planification Formation'!$L9","v":0}]
[{"$f":"'Planification Formation'!$K$6","v":2022},{"$f":"'Planification Formation'!$K10","v":"00:00:00"},{"$f":"'Planification Formation'!$J10","v":"Echéance 2"},{"$f":"'Planification Formation'!$L10","v":0}]
[{"$f":"'Planification Formation'!$K$6","v":2022},{"$f":"'Planification Formation'!$K11","v":"00:00:00"},{"$f":"'Planification Formation'!$J11","v":"Echéance 3"},{"$f":"'Planification Formation'!$L11","v":0}]
[{"$f":"'Planification Formation'!$K$6","v":2022},{"$f":"'Planification Formation'!$K12","v":"00:00:00"},{"$f":"'Planification Formation'!$J12","v":"Echéance 4"},{"$f":"'Planification Formation'!$L12","v":0}]
[{"$f":"'Planification Formation'!$K$6","v":2022},{"$f":"'Planification Formation'!$K13","v":"00:00:00"},{"$f":"'Planification Formation'!$J13","v":"Echéance 5"},{"$f":"'Planification Formation'!$L13","v":0}]
[{"$f":"'Planification Formation'!$K$14","v":2023},{"$f":"'Planification Formation'!$K17","v":"00:00:00"},{"$f":"'Planification Formation'!$J17","v":"Echéance 1"},{"$f":"'Planification Formation'!$L17","v":0}]
[{"$f":"'Planification Formation'!$K$14","v":2023},{"$f":"'Planification Formation'!$K18","v":"00:00:00"},{"$f":"'Planification Formation'!$J18","v":"Echéance 2"},{"$f":"'Planification Formation'!$L18","v":0}]
[{"$f":"'Planification Formation'!$K$14","v":2023},{"$f":"'Planification Formation'!$K19","v":"00:00:00"},{"$f":"'Planification Formation'!$J19","v":"Echéance 3"},{"$f":"'Planification Formation'!$L19","v":0}]
[{"$f":"'Planification Formation'!$K$14","v":2023},{"$f":"'Planification Formation'!$K20","v":"00:00:00"},{"$f":"'Planification Formation'!$J20","v":"Echéance 4"},{"$f":"'Planification Formation'!$L20","v":0}]
[{"$f":"'Planification Formation'!$K$14","v":2023},{"$f":"'Planification Formation'!$K21","v":"00:00:00"},{"$f":"'Planification Formation'!$J21","v":"Echéance 5"},{"$f":"'Planification Formation'!$L21","v":0}]
[{"$f":"'Planification Formation'!$K$22","v":2024},{"$f":"'Planification Formation'!$K25","v":"00:00:00"},{"$f":"'Planification Formation'!$J25","v":"Echéance 1"},{"$f":"'Planification Formation'!$L25","v":0}]
[{"$f":"'Planification Formation'!$K$22","v":2024},{"$f":"'Planification Formation'!$K26","v":"00:00:00"},{"$f":"'Planification Formation'!$J26","v":"Echéance 2"},{"$f":"'Planification Formation'!$L26","v":0}]
[{"$f":"'Planification Formation'!$K$22","v":2024},{"$f":"'Planification Formation'!$K27","v":"00:00:00"},{"$f":"'Planification Formation'!$J27","v":"Echéance 3"},{"$f":"'Planification Formation'!$L27","v":0}]
[{"$f":"'Planification Formation'!$K$22","v":2024},{"$f":"'Planification Formation'!$K28","v":"00:00:00"},{"$f":"'Planification Formation'!$J28","v":"Echéance 4"},{"$f":"'Planification Formation'!$L28","v":0}]
[{"$f":"'Planification Formation'!$K$22","v":2024},{"$f":"'Planification Formation'!$K29","v":"00:00:00"},{"$f":"'Planification Formation'!$J29","v":"Echéance 5"},{"$f":"'Planification Formation'!$L29","v":0}]
[{"$f":"'Planification Formation'!$K$30","v":2025},{"$f":"'Planification Formation'!$K33","v":"00:00:00"},{"$f":"'Planification Formation'!$J33","v":"Echéance 1"},{"$f":"'Planification Formation'!$L33","v":0}]
[{"$f":"'Planification Formation'!$K$30","v":2025},{"$f":"'Planification Formation'!$K34","v":"00:00:00"},{"$f":"'Planification Formation'!$J34","v":"Echéance 2"},{"$f":"'Planification Formation'!$L34","v":0}]
[{"$f":"'Planification Formation'!$K$30","v":2025},{"$f":"'Planification Formation'!$K35","v":"00:00:00"},{"$f":"'Planification Formation'!$J35","v":"Echéance 3"},{"$f":"'Planification Formation'!$L35","v":0}]
[{"$f":"'Planification Formation'!$K$30","v":2025},{"$f":"'Planification Formation'!$K36","v":"00:00:00"},{"$f":"'Planification Formation'!$J36","v":"Echéance 4"},{"$f":"'Planification Formation'!$L36","v":0}]
[{"$f":"'Planification Formation'!$K$30","v":2025},{"$f":"'Planification Formation'!$K37","v":"00:00:00"},{"$f":"'Planification Formation'!$J37","v":"Echéance 5"},{"$f":"'Planification Formation'!$L37","v":0}]
[{"$f":"'Planification Formation'!$K$38","v":2026},{"$f":"'Planification Formation'!$K41","v":"00:00:00"},{"$f":"'Planification Formation'!$J41","v":"Echéance 1"},{"$f":"'Planification Formation'!$L41","v":0}]
[{"$f":"'Planification Formation'!$K$38","v":2026},{"$f":"'Planification Formation'!$K42","v":"00:00:00"},{"$f":"'Planification Formation'!$J42","v":"Echéance 2"},{"$f":"'Planification Formation'!$L42","v":0}]
[{"$f":"'Planification Formation'!$K$38","v":2026},{"$f":"'Planification Formation'!$K43","v":"00:00:00"},{"$f":"'Planification Formation'!$J43","v":"Echéance 3"},{"$f":"'Planification Formation'!$L43","v":0}]
[{"$f":"'Planification Formation'!$K$38","v":2026},{"$f":"'Planification Formation'!$K44","v":"00:00:00"},{"$f":"'Planification Formation'!$J44","v":"Echéance 4"},{"$f":"'Planification Formation'!$L44","v":0}]
[{"$f":"'Planification Formation'!$K$38","v":2026},{"$f":"'Planification Formation'!$K45","v":"00:00:00"},{"$f":"'Planification Formation'!$J45","v":"Echéance 5"},{"$f":"'Planification Formation'!$L45","v":0}]
[{"$f":"'Planification Formation'!$K$46","v":2027},{"$f":"'Planification Formation'!$K49","v":"00:00:00"},{"$f":"'Planification Formation'!$J49","v":"Echéance 1"},{"$f":"'Planification Formation'!$L49","v":0}]
[{"$f":"'Planification Formation'!$K$46","v":2027},{"$f":"'Planification Formation'!$K50","v":"00:00:00"},{"$f":"'Planification Formation'!$J50","v":"Echéance 2"},{"$f":"'Planification Formation'!$L50","v":0}]
[{"$f":"'Planification Formation'!$K$46","v":2027},{"$f":"'Planification Formation'!$K51","v":"00:00:00"},{"$f":"'Planification Formation'!$J51","v":"Echéance 3"},{"$f":"'Planification Formation'!$L51","v":0}]
[{"$f":"'Planification Formation'!$K$46","v":2027},{"$f":"'Planification Formation'!$K52","v":"00:00:00"},{"$f":"'Planification Formation'!$J52","v":"Echéance 4"},{"$f":"'Planification Formation'!$L52","v":0}]
[{"$f":"'Planification Formation'!$K$46","v":2027},{"$f":"'Planification Formation'!$K53","v":"00:00:00"},{"$f":"'Planification Formation'!$J53","v":"Echéance 5"},{"$f":"'Planification Formation'!$L53","v":0}]
[{"$f":"'Planification Formation'!$K$54","v":2028},{"$f":"'Planification Formation'!$K57","v":"00:00:00"},{"$f":"'Planification Formation'!$J57","v":"Echéance 1"},{"$f":"'Planification Formation'!$L57","v":0}]
[{"$f":"'Planification Formation'!$K$54","v":2028},{"$f":"'Planification Formation'!$K58","v":"00:00:00"},{"$f":"'Planification Formation'!$J58","v":"Echéance 2"},{"$f":"'Planification Formation'!$L58","v":0}]
[{"$f":"'Planification Formation'!$K$54","v":2028},{"$f":"'Planification Formation'!$K59","v":"00:00:00"},{"$f":"'Planification Formation'!$J59","v":"Echéance 3"},{"$f":"'Planification Formation'!$L59","v":0}]
[{"$f":"'Planification Formation'!$K$54","v":2028},{"$f":"'Planification Formation'!$K60","v":"00:00:00"},{"$f":"'Planification Formation'!$J60","v":"Echéance 4"},{"$f":"'Planification Formation'!$L60","v":0}]
[{"$f":"'Planification Formation'!$K$54","v":2028},{"$f":"'Planification Formation'!$K61","v":"00:00:00"},{"$f":"'Planification Formation'!$J61","v":"Echéance 5"},{"$f":"'Planification Formation'!$L61","v":0}]
[{"$f":"'Planification Formation'!$K$62","v":2029},{"$f":"'Planification Formation'!$K65","v":"00:00:00"},{"$f":"'Planification Formation'!$J65","v":"Echéance 1"},{"$f":"'Planification Formation'!$L65","v":0}]
[{"$f":"'Planification Formation'!$K$62","v":2029},{"$f":"'Planification Formation'!$K66","v":"00:00:00"},{"$f":"'Planification Formation'!$J66","v":"Echéance 2"},{"$f":"'Planification Formation'!$L66","v":0}]
[{"$f":"'Planification Formation'!$K$62","v":2029},{"$f":"'Planification Formation'!$K67","v":"00:00:00"},{"$f":"'Planification Formation'!$J67","v":"Echéance 3"},{"$f":"'Planification Formation'!$L67","v":0}]
[{"$f":"'Planification Formation'!$K$62","v":2029},{"$f":"'Planification Formation'!$K68","v":"00:00:00"},{"$f":"'Planification Formation'!$J68","v":"Echéance 4"},{"$f":"'Planification Formation'!$L68","v":0}]
[{"$f":"'Planification Formation'!$K$62","v":2029},{"$f":"'Planification Formation'!$K69","v":"00:00:00"},{"$f":"'Planification Formation'!$J69","v":"Echéance 5"},{"$f":"'Planification Formation'!$L69","v":0}]
[{"$f":"'Planification Formation'!$K$70","v":2030},{"$f":"'Planification Formation'!$K73","v":"00:00:00"},{"$f":"'Planification Formation'!$J73","v":"Echéance 1"},{"$f":"'Planification Formation'!$L73","v":0}]
[{"$f":"'Planification Formation'!$K$70","v":2030},{"$f":"'Planification Formation'!$K74","v":"00:00:00"},{"$f":"'Planification Formation'!$J74","v":"Echéance 2"},{"$f":"'Planification Formation'!$L74","v":0}]
[{"$f":"'Planification Formation'!$K$70","v":2030},{"$f":"'Planification Formation'!$K75","v":"00:00:00"},{"$f":"'Planification Formation'!$J75","v":"Echéance 3"},{"$f":"'Planification Formation'!$L75","v":0}]
[{"$f":"'Planification Formation'!$K$70","v":2030},{"$f":"'Planification Formation'!$K76","v":"00:00:00"},{"$f":"'Planification Formation'!$J76","v":"Echéance 4"},{"$f":"'Planification Formation'!$L76","v":0}]
[{"$f":"'Planification Formation'!$K$70","v":2030},{"$f":"'Planification Formation'!$K77","v":"00:00:00"},{"$f":"'Planification Formation'!$J77","v":"Echéance 5"},{"$f":"'Planification Formation'!$L77","v":0}]
[{"$f":"'Planification Formation'!$K$78","v":2031},{"$f":"'Planification Formation'!$K81","v":"00:00:00"},{"$f":"'Planification Formation'!$J81","v":"Echéance 1"},{"$f":"'Planification Formation'!$L81","v":0}]
[{"$f":"'Planification Formation'!$K$78","v":2031},{"$f":"'Planification Formation'!$K82","v":"00:00:00"},{"$f":"'Planification Formation'!$J82","v":"Echéance 2"},{"$f":"'Planification Formation'!$L82","v":0}]
[{"$f":"'Planification Formation'!$K$78","v":2031},{"$f":"'Planification Formation'!$K83","v":"00:00:00"},{"$f":"'Planification Formation'!$J83","v":"Echéance 3"},{"$f":"'Planification Formation'!$L83","v":0}]
[{"$f":"'Planification Formation'!$K$78","v":2031},{"$f":"'Planification Formation'!$K84","v":"00:00:00"},{"$f":"'Planification Formation'!$J84","v":"Echéance 4"},{"$f":"'Planification Formation'!$L84","v":0}]
[{"$f":"'Planification Formation'!$K$78","v":2031},{"$f":"'Planification Formation'!$K85","v":"00:00:00"},{"$f":"'Planification Formation'!$J85","v":"Echéance 5"},{"$f":"'Planification Formation'!$L85","v":0}]
[{"$f":"'Planification Formation'!$K$86","v":2032},{"$f":"'Planification Formation'!$K89","v":"00:00:00"},{"$f":"'Planification Formation'!$J89","v":"Echéance 1"},{"$f":"'Planification Formation'!$L89","v":0}]
[{"$f":"'Planification Formation'!$K$86","v":2032},{"$f":"'Planification Formation'!$K90","v":"00:00:00"},{"$f":"'Planification Formation'!$J90","v":"Echéance 2"},{"$f":"'Planification Formation'!$L90","v":0}]
[{"$f":"'Planification Formation'!$K$86","v":2032},{"$f":"'Planification Formation'!$K91","v":"00:00:00"},{"$f":"'Planification Formation'!$J91","v":"Echéance 3"},{"$f":"'Planification Formation'!$L91","v":0}]
[{"$f":"'Planification Formation'!$K$86","v":2032},{"$f":"'Planification Formation'!$K92","v":"00:00:00"},{"$f":"'Planification Formation'!$J92","v":"Echéance 4"},{"$f":"'Planification Formation'!$L92","v":0}]
[{"$f":"'Planification Formation'!$K$86","v":2032},{"$f":"'Planification Formation'!$K93","v":"00:00:00"},{"$f":"'Planification Formation'!$J93","v":"Echéance 5"},{"$f":"'Planification Formation'!$L93","v":0}]
[{"$f":"'Planification Formation'!#REF!","v":{"$error":"#REF!"}},{"$f":"'Planification Formation'!#REF!","v":{"$error":"#REF!"}},{"$f":"'Planification Formation'!#REF!","v":{"$error":"#REF!"}},{"$f":"'Planification Formation'!#REF!","v":{"$error":"#REF!"}}]
[{"$f":"'Planification Formation'!#REF!","v":{"$error":"#REF!"}},{"$f":"'Planification Formation'!#REF!","v":{"$error":"#REF!"}},{"$f":"'Planification Formation'!#REF!","v":{"$error":"#REF!"}},{"$f":"'Planification Formation'!#REF!","v":{"$error":"#REF!"}}]
[{"$f":"'Planification Formation'!#REF!","v":{"$error":"#REF!"}},{"$f":"'Planification Formation'!#REF!","v":{"$error":"#REF!"}},{"$f":"'Planification Formation'!#REF!","v":{"$error":"#REF!"}},{"$f":"'Planification Formation'!#REF!","v":{"$error":"#REF!"}}]
[{"$f":"'Planification Formation'!#REF!","v":{"$error":"#REF!"}},{"$f":"'Planification Formation'!#REF!","v":{"$error":"#REF!"}},{"$f":"'Planification Formation'!#REF!","v":{"$error":"#REF!"}},{"$f":"'Planification Formation'!#REF!","v":{"$error":"#REF!"}}]
[{"$f":"'Planification Formation'!#REF!","v":{"$error":"#REF!"}},{"$f":"'Planification Formation'!#REF!","v":{"$error":"#REF!"}},{"$f":"'Planification Formation'!#REF!","v":{"$error":"#REF!"}},{"$f":"'Planification Formation'!#REF!","v":{"$error":"#REF!"}}]
[{"$f":"'Planification Formation'!#REF!","v":{"$error":"#REF!"}},{"$f":"'Planification Formation'!#REF!","v":{"$error":"#REF!"}},{"$f":"'Planification Formation'!#REF!","v":{"$error":"#REF!"}},{"$f":"'Planification Formation'!#REF!","v":{"$error":"#REF!"}}]
[{"$f":"'Planification Formation'!#REF!","v":{"$error":"#REF!"}},{"$f":"'Planification Formation'!#REF!","v":{"$error":"#REF!"}},{"$f":"'Planification Formation'!#REF!","v":{"$error":"#REF!"}},{"$f":"'Planification Formation'!#REF!","v":{"$error":"#REF!"}}]
[{"$f":"'Planification Formation'!#REF!","v":{"$error":"#REF!"}},{"$f":"'Planification Formation'!#REF!","v":{"$error":"#REF!"}},{"$f":"'Planification Formation'!#REF!","v":{"$error":"#REF!"}},{"$f":"'Planification Formation'!#REF!","v":{"$error":"#REF!"}}]
[{"$f":"'Planification Formation'!#REF!","v":{"$error":"#REF!"}},{"$f":"'Planification Formation'!#REF!","v":{"$error":"#REF!"}},{"$f":"'Planification Formation'!#REF!","v":{"$error":"#REF!"}},{"$f":"'Planification Formation'!#REF!","v":{"$error":"#REF!"}}]
[{"$f":"'Planification Formation'!#REF!","v":{"$error":"#REF!"}},{"$f":"'Planification Formation'!#REF!","v":{"$error":"#REF!"}},{"$f":"'Planification Formation'!#REF!","v":{"$error":"#REF!"}},{"$f":"'Planification Formation'!#REF!","v":{"$error":"#REF!"}}]
[{"$f":"'Planification Formation'!#REF!","v":{"$error":"#REF!"}},{"$f":"'Planification Formation'!#REF!","v":{"$error":"#REF!"}},{"$f":"'Planification Formation'!#REF!","v":{"$error":"#REF!"}},{"$f":"'Planification Formation'!#REF!","v":{"$error":"#REF!"}}]
[{"$f":"'Planification Formation'!#REF!","v":{"$error":"#REF!"}},{"$f":"'Planification Formation'!#REF!","v":{"$error":"#REF!"}},{"$f":"'Planification Formation'!#REF!","v":{"$error":"#REF!"}},{"$f":"'Planification Formation'!#REF!","v":{"$error":"#REF!"}}]
[{"$f":"'Planification Formation'!#REF!","v":{"$error":"#REF!"}},{"$f":"'Planification Formation'!#REF!","v":{"$error":"#REF!"}},{"$f":"'Planification Formation'!#REF!","v":{"$error":"#REF!"}},{"$f":"'Planification Formation'!#REF!","v":{"$error":"#REF!"}}]
[{"$f":"'Planification Formation'!#REF!","v":{"$error":"#REF!"}},{"$f":"'Planification Formation'!#REF!","v":{"$error":"#REF!"}},{"$f":"'Planification Formation'!#REF!","v":{"$error":"#REF!"}},{"$f":"'Planification Formation'!#REF!","v":{"$error":"#REF!"}}]
[{"$f":"'Planification Formation'!#REF!","v":{"$error":"#REF!"}},{"$f":"'Planification Formation'!#REF!","v":{"$error":"#REF!"}},{"$f":"'Planification Formation'!#REF!","v":{"$error":"#REF!"}},{"$f":"'Planification Formation'!#REF!","v":{"$error":"#REF!"}}]
[{"$f":"'Planification Formation'!#REF!","v":{"$error":"#REF!"}},{"$f":"'Planification Formation'!#REF!","v":{"$error":"#REF!"}},{"$f":"'Planification Formation'!#REF!","v":{"$error":"#REF!"}},{"$f":"'Planification Formation'!#REF!","v":{"$error":"#REF!"}}]
[{"$f":"'Planification Formation'!#REF!","v":{"$error":"#REF!"}},{"$f":"'Planification Formation'!#REF!","v":{"$error":"#REF!"}},{"$f":"'Planification Formation'!#REF!","v":{"$error":"#REF!"}},{"$f":"'Planification Formation'!#REF!","v":{"$error":"#REF!"}}]
[{"$f":"'Planification Formation'!#REF!","v":{"$error":"#REF!"}},{"$f":"'Planification Formation'!#REF!","v":{"$error":"#REF!"}},{"$f":"'Planification Formation'!#REF!","v":{"$error":"#REF!"}},{"$f":"'Planification Formation'!#REF!","v":{"$error":"#REF!"}}]
[{"$f":"'Planification Formation'!#REF!","v":{"$error":"#REF!"}},{"$f":"'Planification Formation'!#REF!","v":{"$error":"#REF!"}},{"$f":"'Planification Formation'!#REF!","v":{"$error":"#REF!"}},{"$f":"'Planification Formation'!#REF!","v":{"$error":"#REF!"}}]
[{"$f":"'Planification Formation'!#REF!","v":{"$error":"#REF!"}},{"$f":"'Planification Formation'!#REF!","v":{"$error":"#REF!"}},{"$f":"'Planification Formation'!#REF!","v":{"$error":"#REF!"}},{"$f":"'Planification Formation'!#REF!","v":{"$error":"#REF!"}}]
[{"$f":"'Planification Formation'!#REF!","v":{"$error":"#REF!"}},{"$f":"'Planification Formation'!#REF!","v":{"$error":"#REF!"}},{"$f":"'Planification Formation'!#REF!","v":{"$error":"#REF!"}},{"$f":"'Planification Formation'!#REF!","v":{"$error":"#REF!"}}]
[{"$f":"'Planification Formation'!#REF!","v":{"$error":"#REF!"}},{"$f":"'Planification Formation'!#REF!","v":{"$error":"#REF!"}},{"$f":"'Planification Formation'!#REF!","v":{"$error":"#REF!"}},{"$f":"'Planification Formation'!#REF!","v":{"$error":"#REF!"}}]
[{"$f":"'Planification Formation'!#REF!","v":{"$error":"#REF!"}},{"$f":"'Planification Formation'!#REF!","v":{"$error":"#REF!"}},{"$f":"'Planification Formation'!#REF!","v":{"$error":"#REF!"}},{"$f":"'Planification Formation'!#REF!","v":{"$error":"#REF!"}}]
[{"$f":"'Planification Formation'!#REF!","v":{"$error":"#REF!"}},{"$f":"'Planification Formation'!#REF!","v":{"$error":"#REF!"}},{"$f":"'Planification Formation'!#REF!","v":{"$error":"#REF!"}},{"$f":"'Planification Formation'!#REF!","v":{"$error":"#REF!"}}]
[{"$f":"'Planification Formation'!#REF!","v":{"$error":"#REF!"}},{"$f":"'Planification Formation'!#REF!","v":{"$error":"#REF!"}},{"$f":"'Planification Formation'!#REF!","v":{"$error":"#REF!"}},{"$f":"'Planification Formation'!#REF!","v":{"$error":"#REF!"}}]
[{"$f":"'Planification Formation'!#REF!","v":{"$error":"#REF!"}},{"$f":"'Planification Formation'!#REF!","v":{"$error":"#REF!"}},{"$f":"'Planification Formation'!#REF!","v":{"$error":"#REF!"}},{"$f":"'Planification Formation'!#REF!","v":{"$error":"#REF!"}}]
[{"$f":"'Planification Formation'!#REF!","v":{"$error":"#REF!"}},{"$f":"'Planification Formation'!#REF!","v":{"$error":"#REF!"}},{"$f":"'Planification Formation'!#REF!","v":{"$error":"#REF!"}},{"$f":"'Planification Formation'!#REF!","v":{"$error":"#REF!"}}]
[{"$f":"'Planification Formation'!#REF!","v":{"$error":"#REF!"}},{"$f":"'Planification Formation'!#REF!","v":{"$error":"#REF!"}},{"$f":"'Planification Formation'!#REF!","v":{"$error":"#REF!"}},{"$f":"'Planification Formation'!#REF!","v":{"$error":"#REF!"}}]
[{"$f":"'Planification Formation'!#REF!","v":{"$error":"#REF!"}},{"$f":"'Planification Formation'!#REF!","v":{"$error":"#REF!"}},{"$f":"'Planification Formation'!#REF!","v":{"$error":"#REF!"}},{"$f":"'Planification Formation'!#REF!","v":{"$error":"#REF!"}}]
[{"$f":"'Planification Formation'!#REF!","v":{"$error":"#REF!"}},{"$f":"'Planification Formation'!#REF!","v":{"$error":"#REF!"}},{"$f":"'Planification Formation'!#REF!","v":{"$error":"#REF!"}},{"$f":"'Planification Formation'!#REF!","v":{"$error":"#REF!"}}]
[{"$f":"'Planification Formation'!#REF!","v":{"$error":"#REF!"}},{"$f":"'Planification Formation'!#REF!","v":{"$error":"#REF!"}},{"$f":"'Planification Formation'!#REF!","v":{"$error":"#REF!"}},{"$f":"'Planification Formation'!#REF!","v":{"$error":"#REF!"}}]
[{"$f":"'Planification Formation'!#REF!","v":{"$error":"#REF!"}},{"$f":"'Planification Formation'!#REF!","v":{"$error":"#REF!"}},{"$f":"'Planification Formation'!#REF!","v":{"$error":"#REF!"}},{"$f":"'Planification Formation'!#REF!","v":{"$error":"#REF!"}}]
[{"$f":"'Planification Formation'!#REF!","v":{"$error":"#REF!"}},{"$f":"'Planification Formation'!#REF!","v":{"$error":"#REF!"}},{"$f":"'Planification Formation'!#REF!","v":{"$error":"#REF!"}},{"$f":"'Planification Formation'!#REF!","v":{"$error":"#REF!"}}]
[{"$f":"'Planification Formation'!#REF!","v":{"$error":"#REF!"}},{"$f":"'Planification Formation'!#REF!","v":{"$error":"#REF!"}},{"$f":"'Planification Formation'!#REF!","v":{"$error":"#REF!"}},{"$f":"'Planification Formation'!#REF!","v":{"$error":"#REF!"}}]
[{"$f":"'Planification Formation'!#REF!","v":{"$error":"#REF!"}},{"$f":"'Planification Formation'!#REF!","v":{"$error":"#REF!"}},{"$f":"'Planification Formation'!#REF!","v":{"$error":"#REF!"}},{"$f":"'Planification Formation'!#REF!","v":{"$error":"#REF!"}}]
[{"$f":"'Planification Formation'!#REF!","v":{"$error":"#REF!"}},{"$f":"'Planification Formation'!#REF!","v":{"$error":"#REF!"}},{"$f":"'Planification Formation'!#REF!","v":{"$error":"#REF!"}},{"$f":"'Planification Formation'!#REF!","v":{"$error":"#REF!"}}]
[{"$f":"'Planification Formation'!#REF!","v":{"$error":"#REF!"}},{"$f":"'Planification Formation'!#REF!","v":{"$error":"#REF!"}},{"$f":"'Planification Formation'!#REF!","v":{"$error":"#REF!"}},{"$f":"'Planification Formation'!#REF!","v":{"$error":"#REF!"}}]
[{"$f":"'Planification Formation'!#REF!","v":{"$error":"#REF!"}},{"$f":"'Planification Formation'!#REF!","v":{"$error":"#REF!"}},{"$f":"'Planification Formation'!#REF!","v":{"$error":"#REF!"}},{"$f":"'Planification Formation'!#REF!","v":{"$error":"#REF!"}}]
[{"$f":"'Planification Formation'!#REF!","v":{"$error":"#REF!"}},{"$f":"'Planification Formation'!#REF!","v":{"$error":"#REF!"}},{"$f":"'Planification Formation'!#REF!","v":{"$error":"#REF!"}},{"$f":"'Planification Formation'!#REF!","v":{"$error":"#REF!"}}]
[{"$f":"'Planification Formation'!#REF!","v":{"$error":"#REF!"}},{"$f":"'Planification Formation'!#REF!","v":{"$error":"#REF!"}},{"$f":"'Planification Formation'!#REF!","v":{"$error":"#REF!"}},{"$f":"'Planification Formation'!#REF!","v":{"$error":"#REF!"}}]
[{"$f":"'Planification Formation'!#REF!","v":{"$error":"#REF!"}},{"$f":"'Planification Formation'!#REF!","v":{"$error":"#REF!"}},{"$f":"'Planification Formation'!#REF!","v":{"$error":"#REF!"}},{"$f":"'Planification Formation'!#REF!","v":{"$error":"#REF!"}}]
[{"$f":"'Planification Formation'!#REF!","v":{"$error":"#REF!"}},{"$f":"'Planification Formation'!#REF!","v":{"$error":"#REF!"}},{"$f":"'Planification Formation'!#REF!","v":{"$error":"#REF!"}},{"$f":"'Planification Formation'!#REF!","v":{"$error":"#REF!"}}]
[{"$f":"'Planification Formation'!#REF!","v":{"$error":"#REF!"}},{"$f":"'Planification Formation'!#REF!","v":{"$error":"#REF!"}},{"$f":"'Planification Formation'!#REF!","v":{"$error":"#REF!"}},{"$f":"'Planification Formation'!#REF!","v":{"$error":"#REF!"}}]
[{"$f":"'Planification Formation'!#REF!","v":{"$error":"#REF!"}},{"$f":"'Planification Formation'!#REF!","v":{"$error":"#REF!"}},{"$f":"'Planification Formation'!#REF!","v":{"$error":"#REF!"}},{"$f":"'Planification Formation'!#REF!","v":{"$error":"#REF!"}}]
[{"$f":"'Planification Formation'!#REF!","v":{"$error":"#REF!"}},{"$f":"'Planification Formation'!#REF!","v":{"$error":"#REF!"}},{"$f":"'Planification Formation'!#REF!","v":{"$error":"#REF!"}},{"$f":"'Planification Formation'!#REF!","v":{"$error":"#REF!"}}]
[{"$f":"'Planification Formation'!#REF!","v":{"$error":"#REF!"}},{"$f":"'Planification Formation'!#REF!","v":{"$error":"#REF!"}},{"$f":"'Planification Formation'!#REF!","v":{"$error":"#REF!"}},{"$f":"'Planification Formation'!#REF!","v":{"$error":"#REF!"}}]
[{"$f":"'Planification Formation'!#REF!","v":{"$error":"#REF!"}},{"$f":"'Planification Formation'!#REF!","v":{"$error":"#REF!"}},{"$f":"'Planification Formation'!#REF!","v":{"$error":"#REF!"}},{"$f":"'Planification Formation'!#REF!","v":{"$error":"#REF!"}}]
[{"$f":"'Planification Formation'!#REF!","v":{"$error":"#REF!"}},{"$f":"'Planification Formation'!#REF!","v":{"$error":"#REF!"}},{"$f":"'Planification Formation'!#REF!","v":{"$error":"#REF!"}},{"$f":"'Planification Formation'!#REF!","v":{"$error":"#REF!"}}]
[{"$f":"'Planification Formation'!#REF!","v":{"$error":"#REF!"}},{"$f":"'Planification Formation'!#REF!","v":{"$error":"#REF!"}},{"$f":"'Planification Formation'!#REF!","v":{"$error":"#REF!"}},{"$f":"'Planification Formation'!#REF!","v":{"$error":"#REF!"}}]
[{"$f":"'Planification Formation'!#REF!","v":{"$error":"#REF!"}},{"$f":"'Planification Formation'!#REF!","v":{"$error":"#REF!"}},{"$f":"'Planification Formation'!#REF!","v":{"$error":"#REF!"}},{"$f":"'Planification Formation'!#REF!","v":{"$error":"#REF!"}}]

{"sheet":"Feuil1","index":13,"n_rows":0,"n_cols":0,"rows_kept":0,"cut":false,"hidden":true,"merged":[]}