Workbook
Name BisVereinsnummer: #REF!
Name Lizenztyp: #REF!
Name VonVereinsnummer: #REF!

Sheet Start
C2: Schweizer Gruppenmeisterschaft | H2: Elite | Q2: Version: 04.10.2026 / M. Brupbacher
C3: Championnat suisse de groupes
C4: Gewehr 10m / carabine 10m
B12: Name + Vorname Nom et prénom | D12: JG Année | E12: Lizenz-Nr. Licence no: | G12: Name + Vorname / Nom et prénom | H12: JG Année | I12: Lizenz-Nr. Licence no: | J12: Auswechselschütze tireurs remplaçants | L12: Name + Vorname / Nom et prénom | M12: JG Année | N12: Lizenz-Nr. Licence no: | O12: Auswechselschütze tireurs remplaçants
J13: =COUNTIF(J14:J17,"x") -> 0 | O13: =COUNTIF(O14:O17,"x") -> 0
A14: 1 | F14: 1 | G14: =IF(ISBLANK(B14),"",B14) | H14: =IF(ISBLANK(D14),"",D14) | I14: =IF(ISBLANK(E14),"",E14) | K14: 1 | L14: =IF(ISBLANK(B14),"",B14) | M14: =IF(ISBLANK(D14),"",D14)
A15: 2 | F15: 2 | G15: =IF(ISBLANK(B15),"",B15) | H15: =IF(ISBLANK(D15),"",D15) | I15: =IF(ISBLANK(E15),"",E15) | K15: 2 | L15: =IF(ISBLANK(B15),"",B15) | M15: =IF(ISBLANK(D15),"",D15)
A16: 3 | F16: 3 | G16: =IF(ISBLANK(B16),"",B16) | H16: =IF(ISBLANK(D16),"",D16) | I16: =IF(ISBLANK(E16),"",E16) | K16: 3 | L16: =IF(ISBLANK(B16),"",B16) | M16: =IF(ISBLANK(D16),"",D16)
A17: 4 | F17: 4 | G17: =IF(ISBLANK(B17),"",B17) | H17: =IF(ISBLANK(D17),"",D17) | I17: =IF(ISBLANK(E17),"",E17) | K17: 4 | L17: =IF(ISBLANK(B17),"",B17) | M17: =IF(ISBLANK(D17),"",D17)
F19: =IF(J13>1,"Achtung Es darf nur 1 Schützen pro Runde ausgewechselt werden! Attention, seul 1 tireur peut être changé par tour!"," ") | K19: =IF(O13>1,"Achtung Es darf nur 1 Schützen pro Runde ausgewechselt werden! Attention, seul 1 tireur peut être changé par tour!"," ")
F22: Gruppe Nr. / groupe no: | I22: Elektronische Scheiben/ Cibles électroniques:
A23: Verein/Société:
A24: Vereinsnummer | C24: =IF(C23="","",VLOOKUP(C23,'Vereine 10m'!B:C,2,FALSE)) | I24: Ja | J24: x
I25: Nein:
A26: Gruppenchef/chef du groupe:
A27: Name/nom: | J27: Runde 1 | L27: Runde 2 | N27: Runde 3
A28: Adresse/adresse: | H28: 1. Karton Nr. | J28: 1 | L28: =J28+32 -> 33 | N28: =L28+32 -> 65
A29: PLZ+Ort/NPA+Lieu | H29: 1. Carton-no:
A30: Tel./tél: | H30: Elektronisch: | J30: 1 | L30: =J30+4 -> 5 | N30: =L30+4 -> 9
A31: E-Mail: | H31: Cibles électroniques:
A33: Erläuterungen / remarques:
A35: Bei Auswechselschützen muss ein x in die entsprechende Spalte eingetragen werden
A36: Die Scheibenart muss mit einem x im entsprechenden Feld eingetragen werden
A37: Die erste Nummer der ausgeteilten Kartons ist im entsprechenden Feld einzutragen. /// Nummern für Runde 2/3 korrigieren, falls Nummerierung des gelieferten Materials nicht fortlaufend ist
A38: Die Scheiben müssen der Reihe nach verbraucht werden.
A39: Vereinsname gemäs SAT-Admin erfassen bitte.
A41: Signalez les tireurs remplaçants par un x dans la colonne correspondante
A42: Placez un x dans la case correspondant au type de cibles.
A43: Le numéro du 1er des cartons distribués doit figurer dans la casse prévue à cet effet. /// Corriger les numéros des tours 2 et 3 si la numérotation du matériel livré n'est pas en continu
A44: Les cibles / feuilles de stand doivent être utilisées dans l'ordre de leur numérotation.
A45: Veuillez saisir le nom de l'association conformément à SAT-Admin.

Sheet 1. Runde
K1: Elite Elite
A2: Verein: Sociéte: | B2: =Start!C23 -> 0 | G2: Vereinsnummer: Société No: | I2: =Start!C24 | J2: Runde: Tour: | K2: 1
A3: Funktionär: Responsable: | C3: =Start!C27 -> 0 | G3: Tel. / Tél: | H3: =Start!C30 -> 0 | J3: Gruppe:Groupe: | K3: =Start!F23 -> 0
A4: Strasse, PLZ, Ort: rue, NPA, lieu: | C4: =Start!C28 -> 0 | E4: =Start!C29 -> 0 | H4: E-Mail: | I4: =Start!C31 -> 0
A5: 1 | B5: Name, Nom: | E5: Lizenz Nr./Licence no: | I5: Resultat Résultat | K5: Kontrolle
B6: =Start!B14 -> 0 | E6: =Start!E14 -> 0 | K6: Contrôle
B7: Jg: Année | C7: =Start!D14 -> 0 | D7: =IF(Start!J25="x","Karton Nr. Carton-no","Elektronisch életronique") -> Elektronisch életronique | E7: =IF(Start!J25="x",Start!J28,Start!J30) -> 1 | F7: - | G7: =IF(Start!J25="x",E7+7,E7) -> 1 | I7: =SUM(H5:H8) -> 0
A9: 2 | B9: Name, Nom: | E9: Lizenz Nr./Licence no: | I9: Resultat Résultat | K9: Kontrolle
B10: =Start!B15 -> 0 | E10: =Start!E15 -> 0 | K10: Contrôle
B11: Jg: Année | C11: =Start!D15 -> 0 | D11: =IF(Start!J25="x","Karton Nr. Carton-no","Elektronisch életronique") -> Elektronisch életronique | E11: =G7+1 -> 2 | F11: - | G11: =IF(Start!J25="x",E11+7,E11) -> 2 | I11: =SUM(H9:H12) -> 0
A13: 3 | B13: Name, Nom: | E13: Lizenz Nr./Licence no: | I13: Resultat Résultat | K13: Kontrolle
B14: =Start!B16 -> 0 | E14: =Start!E16 -> 0 | K14: Contrôle
B15: Jg: Année | C15: =Start!D16 -> 0 | D15: =IF(Start!J25="x","Karton Nr. Carton-no","Elektronisch életronique") -> Elektronisch életronique | E15: =G11+1 -> 3 | F15: - | G15: =IF(Start!J25="x",E15+7,E15) -> 3 | I15: =SUM(H13:H16) -> 0
A17: 4 | B17: Name, Nom: | E17: Lizenz Nr./Licence no: | I17: Resultat Résultat | K17: Kontrolle
B18: =Start!B17 -> 0 | E18: =Start!E17 -> 0 | K18: Contrôle
B19: Jg: Année | C19: =Start!D17 -> 0 | D19: =IF(Start!J25="x","Karton Nr. Carton-no","Elektronisch életronique") -> Elektronisch életronique | E19: =G15+1 -> 4 | F19: - | G19: =IF(Start!J25="x",E19+7,E19) -> 4 | I19: =SUM(H17:H20) -> 0
A21: Die aufgeführten Schützen sind lizenzierte Mitglieder unseres Vereins. Sie haben Vorschrifts- gemäss geschossen. Les tireurs inscripts sont membres licenciés de notre société. Ils ont tiré confoormément aux prescriptions. | H21: Total | I21: =SUM(I7+I11+I15+I19) -> 0
A23: Der Kontrolleur / Le Contrôleur:
A25: Gruppenmeisterschaft SSV Gewehr 10m Championnant de groupes SSV carabine 10m | K25: Elite Elite
A26: Verein: Sociéte: | B26: =B2 -> 0 | G26: Vereinsnummer: Société No: | I26: =I2 | J26: Runde: Tour: | K26: =K2 -> 1
A27: Funktionär: Responsable: | C27: =C3 -> 0 | G27: Tel. / Tél: | H27: =H3 -> 0 | J27: Gruppe:Groupe: | K27: =K3 -> 0
A28: Strasse, PLZ, Ort: rue, NPA, lieu: | C28: =C4 -> 0 | E28: =E4 -> 0 | H28: =H4 -> E-Mail: | I28: =I4 -> 0
A29: 1 | B29: Name, Nom: | E29: Lizenz Nr./Licence no: | H29: =H5 -> 0 | I29: Resultat Résultat | K29: Kontrolle
B30: =B6 -> 0 | E30: =E6 -> 0 | H30: =H6 -> 0 | K30: Contrôle
B31: Jg: Année | C31: =C7 -> 0 | D31: =D7 -> Elektronisch életronique | E31: =E7 -> 1 | F31: - | G31: =G7 -> 1 | H31: =H7 -> 0 | I31: =I7 -> 0
H32: =H8 -> 0
A33: 2 | B33: Name, Nom: | E33: Lizenz Nr./Licence no: | H33: =H9 -> 0 | I33: Resultat Résultat | K33: Kontrolle
B34: =B10 -> 0 | E34: =E10 -> 0 | H34: =H10 -> 0 | K34: Contrôle
B35: Jg: Année | C35: =C11 -> 0 | D35: =D11 -> Elektronisch életronique | E35: =E11 -> 2 | F35: - | G35: =G11 -> 2 | H35: =H11 -> 0 | I35: =I11 -> 0
H36: =H12 -> 0
A37: 3 | B37: Name, Nom: | E37: Lizenz Nr./Licence no: | H37: =H13 -> 0 | I37: Resultat Résultat | K37: Kontrolle
B38: =B14 -> 0 | E38: =E14 -> 0 | H38: =H14 -> 0 | K38: Contrôle
B39: Jg: Année | C39: =C15 -> 0 | D39: =D15 -> Elektronisch életronique | E39: =E15 -> 3 | F39: - | G39: =G15 -> 3 | H39: =H15 -> 0 | I39: =I15 -> 0
H40: =H16 -> 0
A41: 4 | B41: Name, Nom: | E41: Lizenz Nr./Licence no: | H41: =H17 -> 0 | I41: Resultat Résultat | K41: Kontrolle
B42: =B18 -> 0 | E42: =E18 -> 0 | H42: =H18 -> 0 | K42: Contrôle
B43: Jg: Année | C43: =C19 -> 0 | D43: =D19 -> Elektronisch életronique | E43: =E19 -> 4 | F43: - | G43: =G19 -> 4 | H43: =H19 -> 0 | I43: =I19 -> 0
H44: =H20 -> 0
A45: Die aufgeführten Schützen sind lizenzierte Mitglieder unseres Vereins. Sie haben Vorschrifts- gemäss geschossen. Les tireurs inscripts sont membres licenciés de notre société. Ils ont tiré confoormément aux prescriptions. | H45: Total | I45: =I21 -> 0
A47: Der Kontrolleur / Le Contrôleur: | E47: =E23 -> 0
...

Sheet 2. Runde
K1: Elite Elite
A2: Verein: Sociéte: | B2: =Start!C23 -> 0 | G2: Vereinsnummer: Société No: | I2: =Start!C24 | J2: Runde: Tour: | K2: 2
A3: Funktionär: Responsable: | C3: =Start!C27 -> 0 | G3: Tel. / Tél: | H3: =Start!C30 -> 0 | J3: Gruppe:Groupe: | K3: =Start!F23 -> 0
A4: Strasse, PLZ, Ort: rue, NPA, lieu: | C4: =Start!C28 -> 0 | E4: =Start!C29 -> 0 | H4: E-Mail: | I4: =Start!C31 -> 0
A5: 1 | B5: Name, Nom: | D5: =IF(Start!J14="x","ausgewechselt", " ") | E5: Lizenz Nr./Licence no: | I5: Resultat Résultat | K5: Kontrolle
B6: =Start!G14 | E6: =Start!I14 | K6: Contrôle
B7: Jg: Année | C7: =Start!H14 | D7: =IF(Start!J25="x","Karton Nr. Carton-no","Elektronisch életronique") -> Elektronisch életronique | E7: =IF(Start!J25="x",Start!L28,Start!L30) -> 5 | F7: - | G7: =IF(Start!J25="x",E7+7,E7) -> 5 | I7: =SUM(H5:H8) -> 0
A9: 2 | B9: Name, Nom: | D9: =IF(Start!J15="x","ausgewechselt"," ") | E9: Lizenz Nr./Licence no: | I9: Resultat Résultat | K9: Kontrolle
B10: =Start!G15 | E10: =Start!I15 | K10: Contrôle
B11: Jg: Année | C11: =Start!H15 | D11: =IF(Start!J25="x","Karton Nr. Carton-no","Elektronisch életronique") -> Elektronisch életronique | E11: =G7+1 -> 6 | F11: - | G11: =IF(Start!J25="x",E11+7,E11) -> 6 | I11: =SUM(H9:H12) -> 0
A13: 3 | B13: Name, Nom: | D13: =IF(Start!J16="x","ausgewechselt", " ") | E13: Lizenz Nr./Licence no: | I13: Resultat Résultat | K13: Kontrolle
B14: =Start!G16 | E14: =Start!I16 | K14: Contrôle
B15: Jg: Année | C15: =Start!H16 | D15: =IF(Start!J25="x","Karton Nr. Carton-no","Elektronisch életronique") -> Elektronisch életronique | E15: =G11+1 -> 7 | F15: - | G15: =IF(Start!J25="x",E15+7,E15) -> 7 | I15: =SUM(H13:H16) -> 0
A17: 4 | B17: Name, Nom: | D17: =IF(Start!J17="x","ausgewechselt", " ") | E17: Lizenz Nr./Licence no: | I17: Resultat Résultat | K17: Kontrolle
B18: =Start!G17 | E18: =Start!I17 | K18: Contrôle
B19: Jg: Année | C19: =Start!H17 | D19: =IF(Start!J25="x","Karton Nr. Carton-no","Elektronisch életronique") -> Elektronisch életronique | E19: =G15+1 -> 8 | F19: - | G19: =IF(Start!J25="x",E19+7,E19) -> 8 | I19: =SUM(H17:H20) -> 0
A21: Die aufgeführten Schützen sind lizenzierte Mitglieder unseres Vereins. Sie haben Vorschrifts- gemäss geschossen. Les tireurs inscripts sont membres licenciés de notre société. Ils ont tiré confoormément aux prescriptions. | H21: Total | I21: =SUM(I7+I11+I15+I19) -> 0
A23: Der Kontrolleur / Le Contrôleur:
A25: Gruppenmeisterschaft SSV Gewehr 10m Championnant de groupes SSV carabine 10m | K25: Elite Elite
A26: Verein: Sociéte: | B26: =B2 -> 0 | G26: Vereinsnummer: Société No: | I26: =I2 | J26: Runde: Tour: | K26: =K2 -> 2
A27: Funktionär: Responsable: | C27: =C3 -> 0 | G27: Tel. / Tél: | H27: =H3 -> 0 | J27: Gruppe:Groupe: | K27: =K3 -> 0
A28: Strasse, PLZ, Ort: rue, NPA, lieu: | C28: =C4 -> 0 | E28: =E4 -> 0 | H28: =H4 -> E-Mail: | I28: =I4 -> 0
A29: 1 | B29: Name, Nom: | D29: =D5 | E29: Lizenz Nr./Licence no: | H29: =H5 -> 0 | I29: Resultat Résultat | K29: Kontrolle
B30: =B6 | E30: =E6 | H30: =H6 -> 0 | K30: Contrôle
B31: Jg: Année | C31: =C7 | D31: =D7 -> Elektronisch életronique | E31: =E7 -> 5 | F31: - | G31: =G7 -> 5 | H31: =H7 -> 0 | I31: =I7 -> 0
H32: =H8 -> 0
A33: 2 | B33: Name, Nom: | D33: =D9 | E33: Lizenz Nr./Licence no: | H33: =H9 -> 0 | I33: Resultat Résultat | K33: Kontrolle
B34: =B10 | E34: =E10 | H34: =H10 -> 0 | K34: Contrôle
B35: Jg: Année | C35: =C11 | D35: =D11 -> Elektronisch életronique | E35: =E11 -> 6 | F35: - | G35: =G11 -> 6 | H35: =H11 -> 0 | I35: =I11 -> 0
H36: =H12 -> 0
A37: 3 | B37: Name, Nom: | D37: =D13 | E37: Lizenz Nr./Licence no: | H37: =H13 -> 0 | I37: Resultat Résultat | K37: Kontrolle
B38: =B14 | E38: =E14 | H38: =H14 -> 0 | K38: Contrôle
B39: Jg: Année | C39: =C15 | D39: =D15 -> Elektronisch életronique | E39: =E15 -> 7 | F39: - | G39: =G15 -> 7 | H39: =H15 -> 0 | I39: =I15 -> 0
H40: =H16 -> 0
A41: 4 | B41: Name, Nom: | D41: =D17 | E41: Lizenz Nr./Licence no: | H41: =H17 -> 0 | I41: Resultat Résultat | K41: Kontrolle
B42: =B18 | E42: =E18 | H42: =H18 -> 0 | K42: Contrôle
B43: Jg: Année | C43: =C19 | D43: =D19 -> Elektronisch életronique | E43: =E19 -> 8 | F43: - | G43: =G19 -> 8 | H43: =H19 -> 0 | I43: =I19 -> 0
H44: =H20 -> 0
A45: Die aufgeführten Schützen sind lizenzierte Mitglieder unseres Vereins. Sie haben Vorschrifts- gemäss geschossen. Les tireurs inscripts sont membres licenciés de notre société. Ils ont tiré confoormément aux prescriptions. | H45: Total | I45: =I21 -> 0
A47: Der Kontrolleur / Le Contrôleur: | E47: =E23 -> 0
...

Sheet 3. Runde
K1: Elite Elite
A2: Verein: Sociéte: | B2: =Start!C23 -> 0 | G2: Vereinsnummer: Société No: | I2: =Start!C24 | J2: Runde: Tour: | K2: 3
A3: Funktionär: Responsable: | C3: =Start!C27 -> 0 | G3: Tel. / Tél: | H3: =Start!C30 -> 0 | J3: Gruppe:Groupe: | K3: =Start!F23 -> 0
A4: Strasse, PLZ, Ort: rue, NPA, lieu: | C4: =Start!C28 -> 0 | E4: =Start!C29 -> 0 | H4: E-Mail: | I4: =Start!C31 -> 0
A5: 1 | B5: Name, Nom: | D5: =IF(Start!O14="x","ausgewechselt", " ") | E5: Lizenz Nr./Licence no: | I5: Resultat Résultat | K5: Kontrolle
B6: =Start!L14 | E6: =Start!N14 -> 0 | K6: Contrôle
B7: Jg: Année | C7: =Start!M14 | D7: =IF(Start!J25="x","Karton Nr. Carton-no","Elektronisch életronique") -> Elektronisch életronique | E7: =IF(Start!J25="x",Start!N28,Start!N30) -> 9 | F7: - | G7: =IF(Start!J25="x",E7+7,E7) -> 9 | I7: =SUM(H5:H8) -> 0
A9: 2 | B9: Name, Nom: | D9: =IF(Start!O15="x","ausgewechselt"," ") | E9: Lizenz Nr./Licence no: | I9: Resultat Résultat | K9: Kontrolle
B10: =Start!L15 | E10: =Start!N15 -> 0 | K10: Contrôle
B11: Jg: Année | C11: =Start!M15 | D11: =IF(Start!J25="x","Karton Nr. Carton-no","Elektronisch életronique") -> Elektronisch életronique | E11: =G7+1 -> 10 | F11: - | G11: =IF(Start!J25="x",E11+7,E11) -> 10 | I11: =SUM(H9:H12) -> 0
A13: 3 | B13: Name, Nom: | D13: =IF(Start!O16="x","ausgewechselt", " ") | E13: Lizenz Nr./Licence no: | I13: Resultat Résultat | K13: Kontrolle
B14: =Start!L16 | E14: =Start!N16 -> 0 | K14: Contrôle
B15: Jg: Année | C15: =Start!M16 | D15: =IF(Start!J25="x","Karton Nr. Carton-no","Elektronisch életronique") -> Elektronisch életronique | E15: =G11+1 -> 11 | F15: - | G15: =IF(Start!J25="x",E15+7,E15) -> 11 | I15: =SUM(H13:H16) -> 0
A17: 4 | B17: Name, Nom: | D17: =IF(Start!O17="x","ausgewechselt", " ") | E17: Lizenz Nr./Licence no: | I17: Resultat Résultat | K17: Kontrolle
B18: =Start!L17 | E18: =Start!N17 -> 0 | K18: Contrôle
B19: Jg: Année | C19: =Start!M17 | D19: =IF(Start!J25="x","Karton Nr. Carton-no","Elektronisch életronique") -> Elektronisch életronique | E19: =G15+1 -> 12 | F19: - | G19: =IF(Start!J25="x",E19+7,E19) -> 12 | I19: =SUM(H17:H20) -> 0
A21: Die aufgeführten Schützen sind lizenzierte Mitglieder unseres Vereins. Sie haben Vorschrifts- gemäss geschossen. Les tireurs inscripts sont membres licenciés de notre société. Ils ont tiré confoormément aux prescriptions. | H21: Total | I21: =SUM(I7+I11+I15+I19) -> 0
A23: Der Kontrolleur / Le Contrôleur:
A25: Gruppenmeisterschaft SSV Gewehr 10m Championnant de groupes SSV carabine 10m | K25: Elite Elite
A26: Verein: Sociéte: | B26: =B2 -> 0 | G26: Vereinsnummer: Société No: | I26: =I2 | J26: Runde: Tour: | K26: =K2 -> 3
A27: Funktionär: Responsable: | C27: =C3 -> 0 | G27: Tel. / Tél: | H27: =H3 -> 0 | J27: Gruppe:Groupe: | K27: =K3 -> 0
A28: Strasse, PLZ, Ort: rue, NPA, lieu: | C28: =C4 -> 0 | E28: =E4 -> 0 | H28: =H4 -> E-Mail: | I28: =I4 -> 0
A29: 1 | B29: Name, Nom: | D29: =D5 | E29: Lizenz Nr./Licence no: | H29: =H5 -> 0 | I29: Resultat Résultat | K29: Kontrolle
B30: =B6 | E30: =E6 -> 0 | H30: =H6 -> 0 | K30: Contrôle
B31: Jg: Année | C31: =C7 | D31: =D7 -> Elektronisch életronique | E31: =E7 -> 9 | F31: - | G31: =G7 -> 9 | H31: =H7 -> 0 | I31: =I7 -> 0
H32: =H8 -> 0
A33: 2 | B33: Name, Nom: | D33: =D9 | E33: Lizenz Nr./Licence no: | H33: =H9 -> 0 | I33: Resultat Résultat | K33: Kontrolle
B34: =B10 | E34: =E10 -> 0 | H34: =H10 -> 0 | K34: Contrôle
B35: Jg: Année | C35: =C11 | D35: =D11 -> Elektronisch életronique | E35: =E11 -> 10 | F35: - | G35: =G11 -> 10 | H35: =H11 -> 0 | I35: =I11 -> 0
H36: =H12 -> 0
A37: 3 | B37: Name, Nom: | D37: =D13 | E37: Lizenz Nr./Licence no: | H37: =H13 -> 0 | I37: Resultat Résultat | K37: Kontrolle
B38: =B14 | E38: =E14 -> 0 | H38: =H14 -> 0 | K38: Contrôle
B39: Jg: Année | C39: =C15 | D39: =D15 -> Elektronisch életronique | E39: =E15 -> 11 | F39: - | G39: =G15 -> 11 | H39: =H15 -> 0 | I39: =I15 -> 0
H40: =H16 -> 0
A41: 4 | B41: Name, Nom: | D41: =D17 | E41: Lizenz Nr./Licence no: | H41: =H17 -> 0 | I41: Resultat Résultat | K41: Kontrolle
B42: =B18 | E42: =E18 -> 0 | H42: =H18 -> 0 | K42: Contrôle
B43: Jg: Année | C43: =C19 | D43: =D19 -> Elektronisch életronique | E43: =E19 -> 12 | F43: - | G43: =G19 -> 12 | H43: =H19 -> 0 | I43: =I19 -> 0
H44: =H20 -> 0
A45: Die aufgeführten Schützen sind lizenzierte Mitglieder unseres Vereins. Sie haben Vorschrifts- gemäss geschossen. Les tireurs inscripts sont membres licenciés de notre société. Ils ont tiré confoormément aux prescriptions. | H45: Total | I45: =I21 -> 0
A47: Der Kontrolleur / Le Contrôleur: | E47: =E23 -> 0
...

Sheet Vereine 10m
C3: Nombre de Numéro de licence | D3: Catégorie
B4: Nom de la société | C4: Numéro de la société | D4: Actif-A F10m | E4: Total général
B6: Adliswil Schützenverein | C6: 1.01.0.06.002 | D6: 32 | E6: 32
B7: Aedermannsdorf-Herbetswil Sportschützen | C7: 1.11.0.05.085 | D7: 8 | E7: 8
B8: Aegerten, Sportschützen Biel-Aegerten | C8: 1.02.4.00.005 | D8: 6 | E8: 6
B9: Affoltern a. A. Sportschützen | C9: 1.01.0.14.003 | D9: 13 | E9: 13
B10: Aigle Société de tir Sous-Officiers et Guidon | C10: 1.22.0.01.003 | D10: 12 | E10: 12
B11: Albisrieden-Urdorf Sportschützen | C11: 1.01.0.14.057 | D11: 1 | E11: 1
B12: Altdorf-Opfertshofen Schützengesellschaft | C12: 1.14.0.04.001 | D12: 30 | E12: 30
B13: Altendorf Feldschützen | C13: 1.05.0.02.002 | D13: 27 | E13: 27
B14: Altishofen-Nebikon Sebastiansgesellschaft | C14: 1.03.0.05.005 | D14: 3 | E14: 3
B15: Altstätten Sportschützen | C15: 1.44.0.00.001 | D15: 17 | E15: 17
B16: Appenzell Luftgewehrsektion | C16: 1.44.0.00.002 | D16: 15 | E16: 15
B17: Arbon-Roggwil, Tälischützen | C17: 1.20.0.01.014 | D17: 2 | E17: 2
... B271: Zweisimmen-St.Stephan Sportschützen | C271: 1.02.1.00.125 | D271: 16 | E271: 16
B272: Total général | D272: 2849 | E272: 2849
