{"text_format":"1","workbook":"xlsx","n_sheets":11,"sheets":["Go","result","copy","Neu","r","1","2","3","4","5","Random"],"not_rendered":{"charts":0,"images":0,"macros":1,"external_links":0,"defined_names":0,"comments":0,"pivot_tables":0},"unopened":[],"bounds":{"document_bytes":16777216,"sheet_cells":100000,"rows_first":2000,"rows_last":500,"rows_between":2000,"halvings":0,"cell_chars":16384,"cell_head_chars":4096},"cells_cut":0,"cells_raw":0,"read":"whole","date_system":"1900"}

{"sheet":"Go","index":0,"n_rows":57,"n_cols":38,"rows_kept":57,"cut":false,"hidden":false,"merged":[[14,36,14,37],[15,36,15,37],[3,36,3,37],[1,16,1,17],[1,3,1,5],[1,14,1,15],[1,8,1,9],[1,10,1,11],[1,12,1,13],[1,6,1,7]]}
[]
[null,null,null,"exercice",null,null,"Random",null,"police",null,"Ͼ Ͽ",null,"time",null,"00:12:00"]
[]
[null,null,null,null,"Suche das folgenden Muster / cherche le dessin suivant :",null,null,null,null,null,null,null,null,null,null,null,null,null,null,null,null,null,null,null,{"$f":"copy!$D$3","v":"Ͼ"},{"$f":"copy!$D$3","v":"Ͼ"},{"$f":"copy!$F$3","v":"Ͽ"},null,null,null,null,null,null,null,null,null,"Resultat - résultat"]
[]
[null,null,null,"Wähle eine Übunbsnummer von 1 bis 5 oder den Zufallsgenerator Random und und klicke auf",null,null,null,null,null,null,null,null,null,null,null,null,null,null,null,null,null,"Choisi un no d'excercice de 1 à 5 ou coche l'aléatoire avant cliquer sur \"start\"."]
[null,"status",null,"\"start\". Anschliessend erscheinen in der Tabelle durcheinander zwei Zeichen. Klicke nun, wie",null,null,null,null,null,null,null,null,null,null,null,null,null,null,null,null,null,"Deux sortes de caractères s'affichent. Clique sur tous les caractère dun type",null,null,null,null,null,null,null,null,null,null,null,null,null,null,"Markiert - marqués",{"$f":"result!AL51","v":0}]
[null,"READY?",null,"im Beispiel unten angezeigt, auf alle Zeichen, welche linienübergreifend auf zwei gleiche folgen!",null,null,null,null,null,null,null,null,null,null,null,null,null,null,null,null,null,"qui suivent les deux caractères de l'autre type, comme l'exemple indique",null,null,null,null,null,null,null,null,null,null,null,null,null,null,"Gefunden - trouvés",{"$f":"result!AL52","v":0}]
[null,"starttime",null,null,null,null,null,null,null,null,null,null,null,null,null,null,"Beispiel / exemple",null,null,null,null,null,null,null,null,null,null,null,null,null,null,null,null,null,null,null,"Fehlalarme - fausses alertes",{"$f":"result!AL53","v":0}]
[null,"00:00:00",null,"X",1,2,3,4,5,6,7,8,9,10,11,12,13,14,15,16,17,18,19,20,21,22,23,24,25,26,27,28,29,30,"X",null,"Verpasst - loupés",{"$f":"result!AL54","v":0}]
[null,"past time",null,1,{"$f":"copy!$D$3","v":"Ͼ"},{"$f":"copy!$F$3","v":"Ͽ"},{"$f":"copy!$D$3","v":"Ͼ"},{"$f":"copy!$D$3","v":"Ͼ"},{"$f":"copy!$D$3","v":"Ͼ"},{"$f":"copy!$F$3","v":"Ͽ"},{"$f":"copy!$D$3","v":"Ͼ"},{"$f":"copy!$D$3","v":"Ͼ"},{"$f":"copy!$F$3","v":"Ͽ"},{"$f":"copy!$F$3","v":"Ͽ"},{"$f":"copy!$F$3","v":"Ͽ"},{"$f":"copy!$F$3","v":"Ͽ"},{"$f":"copy!$F$3","v":"Ͽ"},{"$f":"copy!$D$3","v":"Ͼ"},{"$f":"copy!$D$3","v":"Ͼ"},{"$f":"copy!$F$3","v":"Ͽ"},{"$f":"copy!$F$3","v":"Ͽ"},{"$f":"copy!$F$3","v":"Ͽ"},{"$f":"copy!$F$3","v":"Ͽ"},{"$f":"copy!$F$3","v":"Ͽ"},{"$f":"copy!$F$3","v":"Ͽ"},{"$f":"copy!$D$3","v":"Ͼ"},{"$f":"copy!$D$3","v":"Ͼ"},{"$f":"copy!$F$3","v":"Ͽ"},{"$f":"copy!$F$3","v":"Ͽ"},{"$f":"copy!$D$3","v":"Ͼ"},{"$f":"copy!$D$3","v":"Ͼ"},{"$f":"copy!$F$3","v":"Ͽ"},{"$f":"copy!$D$3","v":"Ͼ"},{"$f":"copy!$D$3","v":"Ͼ"},1,null,"Zu finden 1 - à trouver 1",{"$f":"result!AL55","v":0}]
[null,{"$f":"B14-B10","v":"00:00:00"},null,2,{"$f":"copy!$F$3","v":"Ͽ"},{"$f":"copy!$D$3","v":"Ͼ"},{"$f":"copy!$F$3","v":"Ͽ"},{"$f":"copy!$F$3","v":"Ͽ"},{"$f":"copy!$F$3","v":"Ͽ"},{"$f":"copy!$D$3","v":"Ͼ"},{"$f":"copy!$F$3","v":"Ͽ"},{"$f":"copy!$D$3","v":"Ͼ"},{"$f":"copy!$F$3","v":"Ͽ"},{"$f":"copy!$F$3","v":"Ͽ"},{"$f":"copy!$F$3","v":"Ͽ"},{"$f":"copy!$D$3","v":"Ͼ"},{"$f":"copy!$D$3","v":"Ͼ"},{"$f":"copy!$D$3","v":"Ͼ"},{"$f":"copy!$F$3","v":"Ͽ"},{"$f":"copy!$D$3","v":"Ͼ"},{"$f":"copy!$F$3","v":"Ͽ"},{"$f":"copy!$D$3","v":"Ͼ"},{"$f":"copy!$F$3","v":"Ͽ"},{"$f":"copy!$F$3","v":"Ͽ"},{"$f":"copy!$F$3","v":"Ͽ"},{"$f":"copy!$F$3","v":"Ͽ"},{"$f":"copy!$D$3","v":"Ͼ"},{"$f":"copy!$F$3","v":"Ͽ"},{"$f":"copy!$D$3","v":"Ͼ"},{"$f":"copy!$D$3","v":"Ͼ"},{"$f":"copy!$D$3","v":"Ͼ"},{"$f":"copy!$D$3","v":"Ͼ"},{"$f":"copy!$F$3","v":"Ͽ"},{"$f":"copy!$F$3","v":"Ͽ"},2,null,"Score1",{"$f":"result!AL56","v":""}]
[null,"update",null,"…","arbeite von links => rechts",null,null,null,null,null,null,null,null,null,null,null,null,null,null,null,null,"traiter depuis gauche à droite!",null,null,null,null,null,null,null,null,null,null,null,null,"…",null,"Zu finden 2 - à trouver 2",{"$f":"result!AL57","v":7}]
[null,"00:00:00",null,"X",1,2,3,4,5,6,7,8,9,10,11,12,13,14,15,16,17,18,19,20,21,22,23,24,25,26,27,28,29,30,"X",null,"Score2",{"$f":"result!AL58","v":""}]
[null,null,null,"Du kannst auch die Zeichen unter \"police\" und Dauer unter \"time\" ändern. Sobald die Zeit abgelaufen ist,",null,null,null,null,null,null,null,null,null,null,null,null,null,null,null,null,null,"Tu peux changer les caractères par \"police\" et le temps à disposition par \"time\".",null,null,null,null,null,null,null,null,null,null,null,null,null,null,"score 1 bis zur markierten Zeile\nScore 1 jusque à la lingne traitée"]
[null,null,null,"wird die Umrandung rot und der Status wechselt auf \"STOP!\". Nun kannst Du das Ergebnis mit",null,null,null,null,null,null,null,null,null,null,null,null,null,null,null,null,null,"Après le temps écoule, le cadre vient rouge et le statut passe à \"STOP!\". Dès",null,null,null,null,null,null,null,null,null,null,null,null,null,null,"Score 2 über alle Zeilen\nScore 2 pour tous le lignes"]
[null,null,null,"\"result\" anschauen. Du kannst anschliessend direkt mit \"start\" oder über \"new\" neu beginnen.",null,null,null,null,null,null,null,null,null,null,null,null,null,null,null,null,null,"maintenant tu peux visauliser le résultat par \"result\" et continuer avec \"new\"."]
[]
[]
[]
[]
[]
[]
[]
[]
[]
[]
[]
[]
[]
[]
[]
[]
[]
[]
[]
[]
[]
[]
[]
[]
[]
[]
[]
[]
[]
[]
[]
[]
[]
[]
[]
[]
[]
[]
[]
[null,1,null,1]

{"sheet":"result","index":1,"n_rows":136,"n_cols":38,"rows_kept":136,"cut":false,"hidden":true,"merged":[]}
[]
[]
[]
[null,null,null,"X",1,2,3,4,5,6,7,8,9,10,11,12,13,14,15,16,17,18,19,20,21,22,23,24,25,26,27,28,29,30,"X"]
[null,null,null,1,{"$f":"IF($A$1=\"\",\"\",IF(AND(E52=\"\",OR(E96=\"\",E96=\"%\")),\"\",IF(AND(E52<>\"\",E96=1),1,IF(AND(E52<>\"\",E96=\"\"),\"f\",\"x\"))))","v":""},{"$f":"IF($A$1=\"\",\"\",IF(AND(F52=\"\",OR(F96=\"\",F96=\"%\")),\"\",IF(AND(F52<>\"\",F96=1),1,IF(AND(F52<>\"\",F96=\"\"),\"f\",\"x\"))))","v":""},"","","","","","","","","","","","","","","","","","","","","","","","","","","","",1]
[null,null,null,2,{"$f":"IF($A$1=\"\",\"\",IF(AND(E53=\"\",OR(E97=\"\",E97=\"%\")),\"\",IF(AND(E53<>\"\",E97=1),1,IF(AND(E53<>\"\",E97=\"\"),\"f\",\"x\"))))","v":""},"","","","","","","","","","","","","","","","","","","","","","","","","","","","","",2]
[null,null,null,3,{"$f":"IF($A$1=\"\",\"\",IF(AND(E54=\"\",OR(E98=\"\",E98=\"%\")),\"\",IF(AND(E54<>\"\",E98=1),1,IF(AND(E54<>\"\",E98=\"\"),\"f\",\"x\"))))","v":""},"","","","","","","","","","","","","","","","","","","","","","","","","","","","","",3]
[null,null,null,4,{"$f":"IF($A$1=\"\",\"\",IF(AND(E55=\"\",OR(E99=\"\",E99=\"%\")),\"\",IF(AND(E55<>\"\",E99=1),1,IF(AND(E55<>\"\",E99=\"\"),\"f\",\"x\"))))","v":""},"","","","","","","","","","","","","","","","","","","","","","","","","","","","","",4]
[null,null,null,5,{"$f":"IF($A$1=\"\",\"\",IF(AND(E56=\"\",OR(E100=\"\",E100=\"%\")),\"\",IF(AND(E56<>\"\",E100=1),1,IF(AND(E56<>\"\",E100=\"\"),\"f\",\"x\"))))","v":""},"","","","","","","","","","","","","","","","","","","","","","","","","","","","","",5]
[null,null,null,6,{"$f":"IF($A$1=\"\",\"\",IF(AND(E57=\"\",OR(E101=\"\",E101=\"%\")),\"\",IF(AND(E57<>\"\",E101=1),1,IF(AND(E57<>\"\",E101=\"\"),\"f\",\"x\"))))","v":""},"","","","","","","","","","","","","","","","","","","","","","","","","","","","","",6]
[null,null,null,7,{"$f":"IF($A$1=\"\",\"\",IF(AND(E58=\"\",OR(E102=\"\",E102=\"%\")),\"\",IF(AND(E58<>\"\",E102=1),1,IF(AND(E58<>\"\",E102=\"\"),\"f\",\"x\"))))","v":""},"","","","","","","","","","","","","","","","","","","","","","","","","","","","","",7]
[null,null,null,8,{"$f":"IF($A$1=\"\",\"\",IF(AND(E59=\"\",OR(E103=\"\",E103=\"%\")),\"\",IF(AND(E59<>\"\",E103=1),1,IF(AND(E59<>\"\",E103=\"\"),\"f\",\"x\"))))","v":""},"","","","","","","","","","","","","","","","","","","","","","","","","","","","","",8]
[null,null,null,9,{"$f":"IF($A$1=\"\",\"\",IF(AND(E60=\"\",OR(E104=\"\",E104=\"%\")),\"\",IF(AND(E60<>\"\",E104=1),1,IF(AND(E60<>\"\",E104=\"\"),\"f\",\"x\"))))","v":""},"","","","","","","","","","","","","","","","","","","","","","","","","","","","","",9]
[null,null,null,10,{"$f":"IF($A$1=\"\",\"\",IF(AND(E61=\"\",OR(E105=\"\",E105=\"%\")),\"\",IF(AND(E61<>\"\",E105=1),1,IF(AND(E61<>\"\",E105=\"\"),\"f\",\"x\"))))","v":""},"","","","","","","","","","","","","","","","","","","","","","","","","","","","","",10]
[null,null,null,11,{"$f":"IF($A$1=\"\",\"\",IF(AND(E62=\"\",OR(E106=\"\",E106=\"%\")),\"\",IF(AND(E62<>\"\",E106=1),1,IF(AND(E62<>\"\",E106=\"\"),\"f\",\"x\"))))","v":""},"","","","","","","","","","","","","","","","","","","","","","","","","","","","","",11]
[null,null,null,12,{"$f":"IF($A$1=\"\",\"\",IF(AND(E63=\"\",OR(E107=\"\",E107=\"%\")),\"\",IF(AND(E63<>\"\",E107=1),1,IF(AND(E63<>\"\",E107=\"\"),\"f\",\"x\"))))","v":""},"","","","","","","","","","","","","","","","","","","","","","","","","","","","","",12]
[null,null,null,13,{"$f":"IF($A$1=\"\",\"\",IF(AND(E64=\"\",OR(E108=\"\",E108=\"%\")),\"\",IF(AND(E64<>\"\",E108=1),1,IF(AND(E64<>\"\",E108=\"\"),\"f\",\"x\"))))","v":""},"","","","","","","","","","","","","","","","","","","","","","","","","","","","","",13]
[null,null,null,14,{"$f":"IF($A$1=\"\",\"\",IF(AND(E65=\"\",OR(E109=\"\",E109=\"%\")),\"\",IF(AND(E65<>\"\",E109=1),1,IF(AND(E65<>\"\",E109=\"\"),\"f\",\"x\"))))","v":""},"","","","","","","","","","","","","","","","","","","","","","","","","","","","","",14]
[null,null,null,15,{"$f":"IF($A$1=\"\",\"\",IF(AND(E66=\"\",OR(E110=\"\",E110=\"%\")),\"\",IF(AND(E66<>\"\",E110=1),1,IF(AND(E66<>\"\",E110=\"\"),\"f\",\"x\"))))","v":""},"","","","","","","","","","","","","","","","","","","","","","","","","","","","","",15]
[null,null,null,16,{"$f":"IF($A$1=\"\",\"\",IF(AND(E67=\"\",OR(E111=\"\",E111=\"%\")),\"\",IF(AND(E67<>\"\",E111=1),1,IF(AND(E67<>\"\",E111=\"\"),\"f\",\"x\"))))","v":""},"","","","","","","","","","","","","","","","","","","","","","","","","","","","","",16]
[null,null,null,17,{"$f":"IF($A$1=\"\",\"\",IF(AND(E68=\"\",OR(E112=\"\",E112=\"%\")),\"\",IF(AND(E68<>\"\",E112=1),1,IF(AND(E68<>\"\",E112=\"\"),\"f\",\"x\"))))","v":""},"","","","","","","","","","","","","","","","","","","","","","","","","","","","","",17]
[null,null,null,18,{"$f":"IF($A$1=\"\",\"\",IF(AND(E69=\"\",OR(E113=\"\",E113=\"%\")),\"\",IF(AND(E69<>\"\",E113=1),1,IF(AND(E69<>\"\",E113=\"\"),\"f\",\"x\"))))","v":""},"","","","","","","","","","","","","","","","","","","","","","","","","","","","","",18]
[null,null,null,19,{"$f":"IF($A$1=\"\",\"\",IF(AND(E70=\"\",OR(E114=\"\",E114=\"%\")),\"\",IF(AND(E70<>\"\",E114=1),1,IF(AND(E70<>\"\",E114=\"\"),\"f\",\"x\"))))","v":""},"","","","","","","","","","","","","","","","","","","","","","","","","","","","","",19]
[null,null,null,20,{"$f":"IF($A$1=\"\",\"\",IF(AND(E71=\"\",OR(E115=\"\",E115=\"%\")),\"\",IF(AND(E71<>\"\",E115=1),1,IF(AND(E71<>\"\",E115=\"\"),\"f\",\"x\"))))","v":""},"","","","","","","","","","","","","","","","","","","","","","","","","","","","","",20]
[null,null,null,21,{"$f":"IF($A$1=\"\",\"\",IF(AND(E72=\"\",OR(E116=\"\",E116=\"%\")),\"\",IF(AND(E72<>\"\",E116=1),1,IF(AND(E72<>\"\",E116=\"\"),\"f\",\"x\"))))","v":""},"","","","","","","","","","","","","","","","","","","","","","","","","","","","","",21]
[null,null,null,22,{"$f":"IF($A$1=\"\",\"\",IF(AND(E73=\"\",OR(E117=\"\",E117=\"%\")),\"\",IF(AND(E73<>\"\",E117=1),1,IF(AND(E73<>\"\",E117=\"\"),\"f\",\"x\"))))","v":""},"","","","","","","","","","","","","","","","","","","","","","","","","","","","","",22]
[null,null,null,23,{"$f":"IF($A$1=\"\",\"\",IF(AND(E74=\"\",OR(E118=\"\",E118=\"%\")),\"\",IF(AND(E74<>\"\",E118=1),1,IF(AND(E74<>\"\",E118=\"\"),\"f\",\"x\"))))","v":""},"","","","","","","","","","","","","","","","","","","","","","","","","","","","","",23]
[null,null,null,24,{"$f":"IF($A$1=\"\",\"\",IF(AND(E75=\"\",OR(E119=\"\",E119=\"%\")),\"\",IF(AND(E75<>\"\",E119=1),1,IF(AND(E75<>\"\",E119=\"\"),\"f\",\"x\"))))","v":""},"","","","","","","","","","","","","","","","","","","","","","","","","","","","","",24]
[null,null,null,25,{"$f":"IF($A$1=\"\",\"\",IF(AND(E76=\"\",OR(E120=\"\",E120=\"%\")),\"\",IF(AND(E76<>\"\",E120=1),1,IF(AND(E76<>\"\",E120=\"\"),\"f\",\"x\"))))","v":""},"","","","","","","","","","","","","","","","","","","","","","","","","","","","","",25]
[null,null,null,26,{"$f":"IF($A$1=\"\",\"\",IF(AND(E77=\"\",OR(E121=\"\",E121=\"%\")),\"\",IF(AND(E77<>\"\",E121=1),1,IF(AND(E77<>\"\",E121=\"\"),\"f\",\"x\"))))","v":""},"","","","","","","","","","","","","","","","","","","","","","","","","","","","","",26]
[null,null,null,27,{"$f":"IF($A$1=\"\",\"\",IF(AND(E78=\"\",OR(E122=\"\",E122=\"%\")),\"\",IF(AND(E78<>\"\",E122=1),1,IF(AND(E78<>\"\",E122=\"\"),\"f\",\"x\"))))","v":""},"","","","","","","","","","","","","","","","","","","","","","","","","","","","","",27]
[null,null,null,28,{"$f":"IF($A$1=\"\",\"\",IF(AND(E79=\"\",OR(E123=\"\",E123=\"%\")),\"\",IF(AND(E79<>\"\",E123=1),1,IF(AND(E79<>\"\",E123=\"\"),\"f\",\"x\"))))","v":""},"","","","","","","","","","","","","","","","","","","","","","","","","","","","","",28]
[null,null,null,29,{"$f":"IF($A$1=\"\",\"\",IF(AND(E80=\"\",OR(E124=\"\",E124=\"%\")),\"\",IF(AND(E80<>\"\",E124=1),1,IF(AND(E80<>\"\",E124=\"\"),\"f\",\"x\"))))","v":""},"","","","","","","","","","","","","","","","","","","","","","","","","","","","","",29]
[null,null,null,30,{"$f":"IF($A$1=\"\",\"\",IF(AND(E81=\"\",OR(E125=\"\",E125=\"%\")),\"\",IF(AND(E81<>\"\",E125=1),1,IF(AND(E81<>\"\",E125=\"\"),\"f\",\"x\"))))","v":""},{"$f":"IF($A$1=\"\",\"\",IF(AND(F81=\"\",OR(F125=\"\",F125=\"%\")),\"\",IF(AND(F81<>\"\",F125=1),1,IF(AND(F81<>\"\",F125=\"\"),\"f\",\"x\"))))","v":""},"","","","","","","","","","","","","","","","","","","","","","","","","","","","",30]
[null,null,null,31,{"$f":"IF($A$1=\"\",\"\",IF(AND(E82=\"\",OR(E126=\"\",E126=\"%\")),\"\",IF(AND(E82<>\"\",E126=1),1,IF(AND(E82<>\"\",E126=\"\"),\"f\",\"x\"))))","v":""},"","","","","","","","","","","","","","","","","","","","","","","","","","","","","",31]
[null,null,null,32,{"$f":"IF($A$1=\"\",\"\",IF(AND(E83=\"\",OR(E127=\"\",E127=\"%\")),\"\",IF(AND(E83<>\"\",E127=1),1,IF(AND(E83<>\"\",E127=\"\"),\"f\",\"x\"))))","v":""},"","","","","","","","","","","","","","","","","","","","","","","","","","","","","",32]
[null,null,null,33,{"$f":"IF($A$1=\"\",\"\",IF(AND(E84=\"\",OR(E128=\"\",E128=\"%\")),\"\",IF(AND(E84<>\"\",E128=1),1,IF(AND(E84<>\"\",E128=\"\"),\"f\",\"x\"))))","v":""},"","","","","","","","","","","","","","","","","","","","","","","","","","","","","",33]
[null,null,null,34,{"$f":"IF($A$1=\"\",\"\",IF(AND(E85=\"\",OR(E129=\"\",E129=\"%\")),\"\",IF(AND(E85<>\"\",E129=1),1,IF(AND(E85<>\"\",E129=\"\"),\"f\",\"x\"))))","v":""},"","","","","","","","","","","","","","","","","","","","","","","","","","","","","",34]
[null,null,null,35,{"$f":"IF($A$1=\"\",\"\",IF(AND(E86=\"\",OR(E130=\"\",E130=\"%\")),\"\",IF(AND(E86<>\"\",E130=1),1,IF(AND(E86<>\"\",E130=\"\"),\"f\",\"x\"))))","v":""},"","","","","","","","","","","","","","","","","","","","","","","","","","","","","",35]
[null,null,null,36,{"$f":"IF($A$1=\"\",\"\",IF(AND(E87=\"\",OR(E131=\"\",E131=\"%\")),\"\",IF(AND(E87<>\"\",E131=1),1,IF(AND(E87<>\"\",E131=\"\"),\"f\",\"x\"))))","v":""},"","","","","","","","","","","","","","","","","","","","","","","","","","","","","",36]
[null,null,null,37,{"$f":"IF($A$1=\"\",\"\",IF(AND(E88=\"\",OR(E132=\"\",E132=\"%\")),\"\",IF(AND(E88<>\"\",E132=1),1,IF(AND(E88<>\"\",E132=\"\"),\"f\",\"x\"))))","v":""},"","","","","","","","","","","","","","","","","","","","","","","","","","","","","",37]
[null,null,null,38,{"$f":"IF($A$1=\"\",\"\",IF(AND(E89=\"\",OR(E133=\"\",E133=\"%\")),\"\",IF(AND(E89<>\"\",E133=1),1,IF(AND(E89<>\"\",E133=\"\"),\"f\",\"x\"))))","v":""},"","","","","","","","","","","","","","","","","","","","","","","","","","","","","",38]
[null,null,null,39,{"$f":"IF($A$1=\"\",\"\",IF(AND(E90=\"\",OR(E134=\"\",E134=\"%\")),\"\",IF(AND(E90<>\"\",E134=1),1,IF(AND(E90<>\"\",E134=\"\"),\"f\",\"x\"))))","v":""},"","","","","","","","","","","","","","","","","","","","","","","","","","","","","",39]
[null,null,null,40,{"$f":"IF($A$1=\"\",\"\",IF(AND(E91=\"\",OR(E135=\"\",E135=\"%\")),\"\",IF(AND(E91<>\"\",E135=1),1,IF(AND(E91<>\"\",E135=\"\"),\"f\",\"x\"))))","v":""},"","","","","","","","","","","","","","","","","","","","","","","","","","","","","",40]
[null,null,null,"X",1,2,3,4,5,6,7,8,9,10,11,12,13,14,15,16,17,18,19,20,21,22,23,24,25,26,27,28,29,30,"X"]
[]
[]
[]
[]
[]
[null,{"$f":"MAX(E52:AH91)","v":0},null,{"$f":"Go!D53","v":0},1,2,3,4,5,6,7,8,9,10,11,12,13,14,15,16,17,18,19,20,21,22,23,24,25,26,27,28,29,30,{"$f":"Go!AI53","v":0},null,"Markiert",{"$f":"COUNTIF(E52:AH91,\">50\")","v":0}]
[null,{"$f":"(ROUNDDOWN(B51,0)-52)*30+(B51-ROUNDDOWN(B51,0))*100-4","v":-1564},null,{"$f":"Go!D54","v":0},{"$f":"IF(Go!E54=1,ROW()+COLUMN()/100,\"\")","v":""},{"$f":"IF(Go!F54=1,ROW()+COLUMN()/100,\"\")","v":""},{"$f":"IF(Go!G54=1,ROW()+COLUMN()/100,\"\")","v":""},{"$f":"IF(Go!H54=1,ROW()+COLUMN()/100,\"\")","v":""},{"$f":"IF(Go!I54=1,ROW()+COLUMN()/100,\"\")","v":""},{"$f":"IF(Go!J54=1,ROW()+COLUMN()/100,\"\")","v":""},{"$f":"IF(Go!K54=1,ROW()+COLUMN()/100,\"\")","v":""},{"$f":"IF(Go!L54=1,ROW()+COLUMN()/100,\"\")","v":""},{"$f":"IF(Go!M54=1,ROW()+COLUMN()/100,\"\")","v":""},{"$f":"IF(Go!N54=1,ROW()+COLUMN()/100,\"\")","v":""},{"$f":"IF(Go!O54=1,ROW()+COLUMN()/100,\"\")","v":""},{"$f":"IF(Go!P54=1,ROW()+COLUMN()/100,\"\")","v":""},{"$f":"IF(Go!Q54=1,ROW()+COLUMN()/100,\"\")","v":""},{"$f":"IF(Go!R54=1,ROW()+COLUMN()/100,\"\")","v":""},{"$f":"IF(Go!S54=1,ROW()+COLUMN()/100,\"\")","v":""},{"$f":"IF(Go!T54=1,ROW()+COLUMN()/100,\"\")","v":""},{"$f":"IF(Go!U54=1,ROW()+COLUMN()/100,\"\")","v":""},{"$f":"IF(Go!V54=1,ROW()+COLUMN()/100,\"\")","v":""},{"$f":"IF(Go!W54=1,ROW()+COLUMN()/100,\"\")","v":""},{"$f":"IF(Go!X54=1,ROW()+COLUMN()/100,\"\")","v":""},{"$f":"IF(Go!Y54=1,ROW()+COLUMN()/100,\"\")","v":""},{"$f":"IF(Go!Z54=1,ROW()+COLUMN()/100,\"\")","v":""},{"$f":"IF(Go!AA54=1,ROW()+COLUMN()/100,\"\")","v":""},{"$f":"IF(Go!AB54=1,ROW()+COLUMN()/100,\"\")","v":""},{"$f":"IF(Go!AC54=1,ROW()+COLUMN()/100,\"\")","v":""},{"$f":"IF(Go!AD54=1,ROW()+COLUMN()/100,\"\")","v":""},{"$f":"IF(Go!AE54=1,ROW()+COLUMN()/100,\"\")","v":""},{"$f":"IF(Go!AF54=1,ROW()+COLUMN()/100,\"\")","v":""},{"$f":"IF(Go!AG54=1,ROW()+COLUMN()/100,\"\")","v":""},{"$f":"IF(Go!AH54=1,ROW()+COLUMN()/100,\"\")","v":""},{"$f":"Go!AI54","v":0},null,"Gefunden",{"$f":"COUNTIF($E$5:$AH$44,1)","v":0}]
[null,{"$f":"1200/B58*Go!O2","v":1200},null,{"$f":"Go!D55","v":0},{"$f":"IF(Go!E55=1,ROW()+COLUMN()/100,\"\")","v":""},{"$f":"IF(Go!F55=1,ROW()+COLUMN()/100,\"\")","v":""},{"$f":"IF(Go!G55=1,ROW()+COLUMN()/100,\"\")","v":""},{"$f":"IF(Go!H55=1,ROW()+COLUMN()/100,\"\")","v":""},{"$f":"IF(Go!I55=1,ROW()+COLUMN()/100,\"\")","v":""},{"$f":"IF(Go!J55=1,ROW()+COLUMN()/100,\"\")","v":""},{"$f":"IF(Go!K55=1,ROW()+COLUMN()/100,\"\")","v":""},{"$f":"IF(Go!L55=1,ROW()+COLUMN()/100,\"\")","v":""},{"$f":"IF(Go!M55=1,ROW()+COLUMN()/100,\"\")","v":""},{"$f":"IF(Go!N55=1,ROW()+COLUMN()/100,\"\")","v":""},{"$f":"IF(Go!O55=1,ROW()+COLUMN()/100,\"\")","v":""},{"$f":"IF(Go!P55=1,ROW()+COLUMN()/100,\"\")","v":""},{"$f":"IF(Go!Q55=1,ROW()+COLUMN()/100,\"\")","v":""},{"$f":"IF(Go!R55=1,ROW()+COLUMN()/100,\"\")","v":""},{"$f":"IF(Go!S55=1,ROW()+COLUMN()/100,\"\")","v":""},{"$f":"IF(Go!T55=1,ROW()+COLUMN()/100,\"\")","v":""},{"$f":"IF(Go!U55=1,ROW()+COLUMN()/100,\"\")","v":""},{"$f":"IF(Go!V55=1,ROW()+COLUMN()/100,\"\")","v":""},{"$f":"IF(Go!W55=1,ROW()+COLUMN()/100,\"\")","v":""},{"$f":"IF(Go!X55=1,ROW()+COLUMN()/100,\"\")","v":""},{"$f":"IF(Go!Y55=1,ROW()+COLUMN()/100,\"\")","v":""},{"$f":"IF(Go!Z55=1,ROW()+COLUMN()/100,\"\")","v":""},{"$f":"IF(Go!AA55=1,ROW()+COLUMN()/100,\"\")","v":""},{"$f":"IF(Go!AB55=1,ROW()+COLUMN()/100,\"\")","v":""},{"$f":"IF(Go!AC55=1,ROW()+COLUMN()/100,\"\")","v":""},{"$f":"IF(Go!AD55=1,ROW()+COLUMN()/100,\"\")","v":""},{"$f":"IF(Go!AE55=1,ROW()+COLUMN()/100,\"\")","v":""},{"$f":"IF(Go!AF55=1,ROW()+COLUMN()/100,\"\")","v":""},{"$f":"IF(Go!AG55=1,ROW()+COLUMN()/100,\"\")","v":""},{"$f":"IF(Go!AH55=1,ROW()+COLUMN()/100,\"\")","v":""},{"$f":"Go!AI55","v":0},null,"Fehlalarme",{"$f":"COUNTIF($E$5:$AH$44,\"f\")","v":0}]
[null,{"$f":"COUNTIF(E96:AH135,1)","v":0},null,{"$f":"Go!D56","v":0},{"$f":"IF(Go!E56=1,ROW()+COLUMN()/100,\"\")","v":""},{"$f":"IF(Go!F56=1,ROW()+COLUMN()/100,\"\")","v":""},{"$f":"IF(Go!G56=1,ROW()+COLUMN()/100,\"\")","v":""},{"$f":"IF(Go!H56=1,ROW()+COLUMN()/100,\"\")","v":""},{"$f":"IF(Go!I56=1,ROW()+COLUMN()/100,\"\")","v":""},{"$f":"IF(Go!J56=1,ROW()+COLUMN()/100,\"\")","v":""},{"$f":"IF(Go!K56=1,ROW()+COLUMN()/100,\"\")","v":""},{"$f":"IF(Go!L56=1,ROW()+COLUMN()/100,\"\")","v":""},{"$f":"IF(Go!M56=1,ROW()+COLUMN()/100,\"\")","v":""},{"$f":"IF(Go!N56=1,ROW()+COLUMN()/100,\"\")","v":""},{"$f":"IF(Go!O56=1,ROW()+COLUMN()/100,\"\")","v":""},{"$f":"IF(Go!P56=1,ROW()+COLUMN()/100,\"\")","v":""},{"$f":"IF(Go!Q56=1,ROW()+COLUMN()/100,\"\")","v":""},{"$f":"IF(Go!R56=1,ROW()+COLUMN()/100,\"\")","v":""},{"$f":"IF(Go!S56=1,ROW()+COLUMN()/100,\"\")","v":""},{"$f":"IF(Go!T56=1,ROW()+COLUMN()/100,\"\")","v":""},{"$f":"IF(Go!U56=1,ROW()+COLUMN()/100,\"\")","v":""},{"$f":"IF(Go!V56=1,ROW()+COLUMN()/100,\"\")","v":""},{"$f":"IF(Go!W56=1,ROW()+COLUMN()/100,\"\")","v":""},{"$f":"IF(Go!X56=1,ROW()+COLUMN()/100,\"\")","v":""},{"$f":"IF(Go!Y56=1,ROW()+COLUMN()/100,\"\")","v":""},{"$f":"IF(Go!Z56=1,ROW()+COLUMN()/100,\"\")","v":""},{"$f":"IF(Go!AA56=1,ROW()+COLUMN()/100,\"\")","v":""},{"$f":"IF(Go!AB56=1,ROW()+COLUMN()/100,\"\")","v":""},{"$f":"IF(Go!AC56=1,ROW()+COLUMN()/100,\"\")","v":""},{"$f":"IF(Go!AD56=1,ROW()+COLUMN()/100,\"\")","v":""},{"$f":"IF(Go!AE56=1,ROW()+COLUMN()/100,\"\")","v":""},{"$f":"IF(Go!AF56=1,ROW()+COLUMN()/100,\"\")","v":""},{"$f":"IF(Go!AG56=1,ROW()+COLUMN()/100,\"\")","v":""},{"$f":"IF(Go!AH56=1,ROW()+COLUMN()/100,\"\")","v":""},{"$f":"Go!AI56","v":0},null,"Verpasst",{"$f":"COUNTIF($E$5:$AH$44,\"x\")","v":0}]
[null,{"$f":"COUNTIF(E5:AH44,1)","v":0},null,{"$f":"Go!D57","v":1},{"$f":"IF(Go!E57=1,ROW()+COLUMN()/100,\"\")","v":""},{"$f":"IF(Go!F57=1,ROW()+COLUMN()/100,\"\")","v":""},{"$f":"IF(Go!G57=1,ROW()+COLUMN()/100,\"\")","v":""},{"$f":"IF(Go!H57=1,ROW()+COLUMN()/100,\"\")","v":""},{"$f":"IF(Go!I57=1,ROW()+COLUMN()/100,\"\")","v":""},{"$f":"IF(Go!J57=1,ROW()+COLUMN()/100,\"\")","v":""},{"$f":"IF(Go!K57=1,ROW()+COLUMN()/100,\"\")","v":""},{"$f":"IF(Go!L57=1,ROW()+COLUMN()/100,\"\")","v":""},{"$f":"IF(Go!M57=1,ROW()+COLUMN()/100,\"\")","v":""},{"$f":"IF(Go!N57=1,ROW()+COLUMN()/100,\"\")","v":""},{"$f":"IF(Go!O57=1,ROW()+COLUMN()/100,\"\")","v":""},{"$f":"IF(Go!P57=1,ROW()+COLUMN()/100,\"\")","v":""},{"$f":"IF(Go!Q57=1,ROW()+COLUMN()/100,\"\")","v":""},{"$f":"IF(Go!R57=1,ROW()+COLUMN()/100,\"\")","v":""},{"$f":"IF(Go!S57=1,ROW()+COLUMN()/100,\"\")","v":""},{"$f":"IF(Go!T57=1,ROW()+COLUMN()/100,\"\")","v":""},{"$f":"IF(Go!U57=1,ROW()+COLUMN()/100,\"\")","v":""},{"$f":"IF(Go!V57=1,ROW()+COLUMN()/100,\"\")","v":""},{"$f":"IF(Go!W57=1,ROW()+COLUMN()/100,\"\")","v":""},{"$f":"IF(Go!X57=1,ROW()+COLUMN()/100,\"\")","v":""},{"$f":"IF(Go!Y57=1,ROW()+COLUMN()/100,\"\")","v":""},{"$f":"IF(Go!Z57=1,ROW()+COLUMN()/100,\"\")","v":""},{"$f":"IF(Go!AA57=1,ROW()+COLUMN()/100,\"\")","v":""},{"$f":"IF(Go!AB57=1,ROW()+COLUMN()/100,\"\")","v":""},{"$f":"IF(Go!AC57=1,ROW()+COLUMN()/100,\"\")","v":""},{"$f":"IF(Go!AD57=1,ROW()+COLUMN()/100,\"\")","v":""},{"$f":"IF(Go!AE57=1,ROW()+COLUMN()/100,\"\")","v":""},{"$f":"IF(Go!AF57=1,ROW()+COLUMN()/100,\"\")","v":""},{"$f":"IF(Go!AG57=1,ROW()+COLUMN()/100,\"\")","v":""},{"$f":"IF(Go!AH57=1,ROW()+COLUMN()/100,\"\")","v":""},{"$f":"Go!AI57","v":0},null,"Zu finden 1",{"$f":"SUM(AL52:AL54)","v":0}]
[null,{"$f":"(5/B54*B55)+1","v":{"$error":"#DIV/0!"}},null,{"$f":"Go!D58","v":0},{"$f":"IF(Go!E58=1,ROW()+COLUMN()/100,\"\")","v":""},{"$f":"IF(Go!F58=1,ROW()+COLUMN()/100,\"\")","v":""},{"$f":"IF(Go!G58=1,ROW()+COLUMN()/100,\"\")","v":""},{"$f":"IF(Go!H58=1,ROW()+COLUMN()/100,\"\")","v":""},{"$f":"IF(Go!I58=1,ROW()+COLUMN()/100,\"\")","v":""},{"$f":"IF(Go!J58=1,ROW()+COLUMN()/100,\"\")","v":""},{"$f":"IF(Go!K58=1,ROW()+COLUMN()/100,\"\")","v":""},{"$f":"IF(Go!L58=1,ROW()+COLUMN()/100,\"\")","v":""},{"$f":"IF(Go!M58=1,ROW()+COLUMN()/100,\"\")","v":""},{"$f":"IF(Go!N58=1,ROW()+COLUMN()/100,\"\")","v":""},{"$f":"IF(Go!O58=1,ROW()+COLUMN()/100,\"\")","v":""},{"$f":"IF(Go!P58=1,ROW()+COLUMN()/100,\"\")","v":""},{"$f":"IF(Go!Q58=1,ROW()+COLUMN()/100,\"\")","v":""},{"$f":"IF(Go!R58=1,ROW()+COLUMN()/100,\"\")","v":""},{"$f":"IF(Go!S58=1,ROW()+COLUMN()/100,\"\")","v":""},{"$f":"IF(Go!T58=1,ROW()+COLUMN()/100,\"\")","v":""},{"$f":"IF(Go!U58=1,ROW()+COLUMN()/100,\"\")","v":""},{"$f":"IF(Go!V58=1,ROW()+COLUMN()/100,\"\")","v":""},{"$f":"IF(Go!W58=1,ROW()+COLUMN()/100,\"\")","v":""},{"$f":"IF(Go!X58=1,ROW()+COLUMN()/100,\"\")","v":""},{"$f":"IF(Go!Y58=1,ROW()+COLUMN()/100,\"\")","v":""},{"$f":"IF(Go!Z58=1,ROW()+COLUMN()/100,\"\")","v":""},{"$f":"IF(Go!AA58=1,ROW()+COLUMN()/100,\"\")","v":""},{"$f":"IF(Go!AB58=1,ROW()+COLUMN()/100,\"\")","v":""},{"$f":"IF(Go!AC58=1,ROW()+COLUMN()/100,\"\")","v":""},{"$f":"IF(Go!AD58=1,ROW()+COLUMN()/100,\"\")","v":""},{"$f":"IF(Go!AE58=1,ROW()+COLUMN()/100,\"\")","v":""},{"$f":"IF(Go!AF58=1,ROW()+COLUMN()/100,\"\")","v":""},{"$f":"IF(Go!AG58=1,ROW()+COLUMN()/100,\"\")","v":""},{"$f":"IF(Go!AH58=1,ROW()+COLUMN()/100,\"\")","v":""},{"$f":"Go!AI58","v":0},null,"Score1",{"$f":"IFERROR(IF(100*((AL52/AL55)-(AL53/AL51)-(AL54/AL51))<1,0,ROUND(100*((AL52/AL55)-(AL53/AL51)-(AL54/AL51)),1)),\"\")","v":""}]
[null,{"$f":"IF(B52>B53,6,(5/B53*B52)+1)","v":-5.5166666666666666},null,{"$f":"Go!D59","v":0},{"$f":"IF(Go!E59=1,ROW()+COLUMN()/100,\"\")","v":""},{"$f":"IF(Go!F59=1,ROW()+COLUMN()/100,\"\")","v":""},{"$f":"IF(Go!G59=1,ROW()+COLUMN()/100,\"\")","v":""},{"$f":"IF(Go!H59=1,ROW()+COLUMN()/100,\"\")","v":""},{"$f":"IF(Go!I59=1,ROW()+COLUMN()/100,\"\")","v":""},{"$f":"IF(Go!J59=1,ROW()+COLUMN()/100,\"\")","v":""},{"$f":"IF(Go!K59=1,ROW()+COLUMN()/100,\"\")","v":""},{"$f":"IF(Go!L59=1,ROW()+COLUMN()/100,\"\")","v":""},{"$f":"IF(Go!M59=1,ROW()+COLUMN()/100,\"\")","v":""},{"$f":"IF(Go!N59=1,ROW()+COLUMN()/100,\"\")","v":""},{"$f":"IF(Go!O59=1,ROW()+COLUMN()/100,\"\")","v":""},{"$f":"IF(Go!P59=1,ROW()+COLUMN()/100,\"\")","v":""},{"$f":"IF(Go!Q59=1,ROW()+COLUMN()/100,\"\")","v":""},{"$f":"IF(Go!R59=1,ROW()+COLUMN()/100,\"\")","v":""},{"$f":"IF(Go!S59=1,ROW()+COLUMN()/100,\"\")","v":""},{"$f":"IF(Go!T59=1,ROW()+COLUMN()/100,\"\")","v":""},{"$f":"IF(Go!U59=1,ROW()+COLUMN()/100,\"\")","v":""},{"$f":"IF(Go!V59=1,ROW()+COLUMN()/100,\"\")","v":""},{"$f":"IF(Go!W59=1,ROW()+COLUMN()/100,\"\")","v":""},{"$f":"IF(Go!X59=1,ROW()+COLUMN()/100,\"\")","v":""},{"$f":"IF(Go!Y59=1,ROW()+COLUMN()/100,\"\")","v":""},{"$f":"IF(Go!Z59=1,ROW()+COLUMN()/100,\"\")","v":""},{"$f":"IF(Go!AA59=1,ROW()+COLUMN()/100,\"\")","v":""},{"$f":"IF(Go!AB59=1,ROW()+COLUMN()/100,\"\")","v":""},{"$f":"IF(Go!AC59=1,ROW()+COLUMN()/100,\"\")","v":""},{"$f":"IF(Go!AD59=1,ROW()+COLUMN()/100,\"\")","v":""},{"$f":"IF(Go!AE59=1,ROW()+COLUMN()/100,\"\")","v":""},{"$f":"IF(Go!AF59=1,ROW()+COLUMN()/100,\"\")","v":""},{"$f":"IF(Go!AG59=1,ROW()+COLUMN()/100,\"\")","v":""},{"$f":"IF(Go!AH59=1,ROW()+COLUMN()/100,\"\")","v":""},{"$f":"Go!AI59","v":0},null,"Zu finden 2",{"$f":"COUNTIF(E96:AH135,\"%\")+AL55","v":7}]
[null,"00:12:00",null,{"$f":"Go!D60","v":0},{"$f":"IF(Go!E60=1,ROW()+COLUMN()/100,\"\")","v":""},{"$f":"IF(Go!F60=1,ROW()+COLUMN()/100,\"\")","v":""},{"$f":"IF(Go!G60=1,ROW()+COLUMN()/100,\"\")","v":""},{"$f":"IF(Go!H60=1,ROW()+COLUMN()/100,\"\")","v":""},{"$f":"IF(Go!I60=1,ROW()+COLUMN()/100,\"\")","v":""},{"$f":"IF(Go!J60=1,ROW()+COLUMN()/100,\"\")","v":""},{"$f":"IF(Go!K60=1,ROW()+COLUMN()/100,\"\")","v":""},{"$f":"IF(Go!L60=1,ROW()+COLUMN()/100,\"\")","v":""},{"$f":"IF(Go!M60=1,ROW()+COLUMN()/100,\"\")","v":""},{"$f":"IF(Go!N60=1,ROW()+COLUMN()/100,\"\")","v":""},{"$f":"IF(Go!O60=1,ROW()+COLUMN()/100,\"\")","v":""},{"$f":"IF(Go!P60=1,ROW()+COLUMN()/100,\"\")","v":""},{"$f":"IF(Go!Q60=1,ROW()+COLUMN()/100,\"\")","v":""},{"$f":"IF(Go!R60=1,ROW()+COLUMN()/100,\"\")","v":""},{"$f":"IF(Go!S60=1,ROW()+COLUMN()/100,\"\")","v":""},{"$f":"IF(Go!T60=1,ROW()+COLUMN()/100,\"\")","v":""},{"$f":"IF(Go!U60=1,ROW()+COLUMN()/100,\"\")","v":""},{"$f":"IF(Go!V60=1,ROW()+COLUMN()/100,\"\")","v":""},{"$f":"IF(Go!W60=1,ROW()+COLUMN()/100,\"\")","v":""},{"$f":"IF(Go!X60=1,ROW()+COLUMN()/100,\"\")","v":""},{"$f":"IF(Go!Y60=1,ROW()+COLUMN()/100,\"\")","v":""},{"$f":"IF(Go!Z60=1,ROW()+COLUMN()/100,\"\")","v":""},{"$f":"IF(Go!AA60=1,ROW()+COLUMN()/100,\"\")","v":""},{"$f":"IF(Go!AB60=1,ROW()+COLUMN()/100,\"\")","v":""},{"$f":"IF(Go!AC60=1,ROW()+COLUMN()/100,\"\")","v":""},{"$f":"IF(Go!AD60=1,ROW()+COLUMN()/100,\"\")","v":""},{"$f":"IF(Go!AE60=1,ROW()+COLUMN()/100,\"\")","v":""},{"$f":"IF(Go!AF60=1,ROW()+COLUMN()/100,\"\")","v":""},{"$f":"IF(Go!AG60=1,ROW()+COLUMN()/100,\"\")","v":""},{"$f":"IF(Go!AH60=1,ROW()+COLUMN()/100,\"\")","v":""},{"$f":"Go!AI60","v":0},null,"Score2",{"$f":"IFERROR(IF(100*((AL52/AL57)-(AL53/AL51)-(AL54/AL51))<1,0,ROUND(100*((AL52/AL57)-(AL53/AL51)-(AL54/AL51)),1)),\"\")","v":""}]
[null,{"$f":"ROUND((B57+B56*2)/3,1)","v":{"$error":"#DIV/0!"}},null,{"$f":"Go!D61","v":0},{"$f":"IF(Go!E61=1,ROW()+COLUMN()/100,\"\")","v":""},{"$f":"IF(Go!F61=1,ROW()+COLUMN()/100,\"\")","v":""},{"$f":"IF(Go!G61=1,ROW()+COLUMN()/100,\"\")","v":""},{"$f":"IF(Go!H61=1,ROW()+COLUMN()/100,\"\")","v":""},{"$f":"IF(Go!I61=1,ROW()+COLUMN()/100,\"\")","v":""},{"$f":"IF(Go!J61=1,ROW()+COLUMN()/100,\"\")","v":""},{"$f":"IF(Go!K61=1,ROW()+COLUMN()/100,\"\")","v":""},{"$f":"IF(Go!L61=1,ROW()+COLUMN()/100,\"\")","v":""},{"$f":"IF(Go!M61=1,ROW()+COLUMN()/100,\"\")","v":""},{"$f":"IF(Go!N61=1,ROW()+COLUMN()/100,\"\")","v":""},{"$f":"IF(Go!O61=1,ROW()+COLUMN()/100,\"\")","v":""},{"$f":"IF(Go!P61=1,ROW()+COLUMN()/100,\"\")","v":""},{"$f":"IF(Go!Q61=1,ROW()+COLUMN()/100,\"\")","v":""},{"$f":"IF(Go!R61=1,ROW()+COLUMN()/100,\"\")","v":""},{"$f":"IF(Go!S61=1,ROW()+COLUMN()/100,\"\")","v":""},{"$f":"IF(Go!T61=1,ROW()+COLUMN()/100,\"\")","v":""},{"$f":"IF(Go!U61=1,ROW()+COLUMN()/100,\"\")","v":""},{"$f":"IF(Go!V61=1,ROW()+COLUMN()/100,\"\")","v":""},{"$f":"IF(Go!W61=1,ROW()+COLUMN()/100,\"\")","v":""},{"$f":"IF(Go!X61=1,ROW()+COLUMN()/100,\"\")","v":""},{"$f":"IF(Go!Y61=1,ROW()+COLUMN()/100,\"\")","v":""},{"$f":"IF(Go!Z61=1,ROW()+COLUMN()/100,\"\")","v":""},{"$f":"IF(Go!AA61=1,ROW()+COLUMN()/100,\"\")","v":""},{"$f":"IF(Go!AB61=1,ROW()+COLUMN()/100,\"\")","v":""},{"$f":"IF(Go!AC61=1,ROW()+COLUMN()/100,\"\")","v":""},{"$f":"IF(Go!AD61=1,ROW()+COLUMN()/100,\"\")","v":""},{"$f":"IF(Go!AE61=1,ROW()+COLUMN()/100,\"\")","v":""},{"$f":"IF(Go!AF61=1,ROW()+COLUMN()/100,\"\")","v":""},{"$f":"IF(Go!AG61=1,ROW()+COLUMN()/100,\"\")","v":""},{"$f":"IF(Go!AH61=1,ROW()+COLUMN()/100,\"\")","v":""},{"$f":"Go!AI61","v":0}]
[null,null,null,{"$f":"Go!D62","v":0},{"$f":"IF(Go!E62=1,ROW()+COLUMN()/100,\"\")","v":""},{"$f":"IF(Go!F62=1,ROW()+COLUMN()/100,\"\")","v":""},{"$f":"IF(Go!G62=1,ROW()+COLUMN()/100,\"\")","v":""},{"$f":"IF(Go!H62=1,ROW()+COLUMN()/100,\"\")","v":""},{"$f":"IF(Go!I62=1,ROW()+COLUMN()/100,\"\")","v":""},{"$f":"IF(Go!J62=1,ROW()+COLUMN()/100,\"\")","v":""},{"$f":"IF(Go!K62=1,ROW()+COLUMN()/100,\"\")","v":""},{"$f":"IF(Go!L62=1,ROW()+COLUMN()/100,\"\")","v":""},{"$f":"IF(Go!M62=1,ROW()+COLUMN()/100,\"\")","v":""},{"$f":"IF(Go!N62=1,ROW()+COLUMN()/100,\"\")","v":""},{"$f":"IF(Go!O62=1,ROW()+COLUMN()/100,\"\")","v":""},{"$f":"IF(Go!P62=1,ROW()+COLUMN()/100,\"\")","v":""},{"$f":"IF(Go!Q62=1,ROW()+COLUMN()/100,\"\")","v":""},{"$f":"IF(Go!R62=1,ROW()+COLUMN()/100,\"\")","v":""},{"$f":"IF(Go!S62=1,ROW()+COLUMN()/100,\"\")","v":""},{"$f":"IF(Go!T62=1,ROW()+COLUMN()/100,\"\")","v":""},{"$f":"IF(Go!U62=1,ROW()+COLUMN()/100,\"\")","v":""},{"$f":"IF(Go!V62=1,ROW()+COLUMN()/100,\"\")","v":""},{"$f":"IF(Go!W62=1,ROW()+COLUMN()/100,\"\")","v":""},{"$f":"IF(Go!X62=1,ROW()+COLUMN()/100,\"\")","v":""},{"$f":"IF(Go!Y62=1,ROW()+COLUMN()/100,\"\")","v":""},{"$f":"IF(Go!Z62=1,ROW()+COLUMN()/100,\"\")","v":""},{"$f":"IF(Go!AA62=1,ROW()+COLUMN()/100,\"\")","v":""},{"$f":"IF(Go!AB62=1,ROW()+COLUMN()/100,\"\")","v":""},{"$f":"IF(Go!AC62=1,ROW()+COLUMN()/100,\"\")","v":""},{"$f":"IF(Go!AD62=1,ROW()+COLUMN()/100,\"\")","v":""},{"$f":"IF(Go!AE62=1,ROW()+COLUMN()/100,\"\")","v":""},{"$f":"IF(Go!AF62=1,ROW()+COLUMN()/100,\"\")","v":""},{"$f":"IF(Go!AG62=1,ROW()+COLUMN()/100,\"\")","v":""},{"$f":"IF(Go!AH62=1,ROW()+COLUMN()/100,\"\")","v":""},{"$f":"Go!AI62","v":0}]
[null,null,null,{"$f":"Go!D63","v":0},{"$f":"IF(Go!E63=1,ROW()+COLUMN()/100,\"\")","v":""},{"$f":"IF(Go!F63=1,ROW()+COLUMN()/100,\"\")","v":""},{"$f":"IF(Go!G63=1,ROW()+COLUMN()/100,\"\")","v":""},{"$f":"IF(Go!H63=1,ROW()+COLUMN()/100,\"\")","v":""},{"$f":"IF(Go!I63=1,ROW()+COLUMN()/100,\"\")","v":""},{"$f":"IF(Go!J63=1,ROW()+COLUMN()/100,\"\")","v":""},{"$f":"IF(Go!K63=1,ROW()+COLUMN()/100,\"\")","v":""},{"$f":"IF(Go!L63=1,ROW()+COLUMN()/100,\"\")","v":""},{"$f":"IF(Go!M63=1,ROW()+COLUMN()/100,\"\")","v":""},{"$f":"IF(Go!N63=1,ROW()+COLUMN()/100,\"\")","v":""},{"$f":"IF(Go!O63=1,ROW()+COLUMN()/100,\"\")","v":""},{"$f":"IF(Go!P63=1,ROW()+COLUMN()/100,\"\")","v":""},{"$f":"IF(Go!Q63=1,ROW()+COLUMN()/100,\"\")","v":""},{"$f":"IF(Go!R63=1,ROW()+COLUMN()/100,\"\")","v":""},{"$f":"IF(Go!S63=1,ROW()+COLUMN()/100,\"\")","v":""},{"$f":"IF(Go!T63=1,ROW()+COLUMN()/100,\"\")","v":""},{"$f":"IF(Go!U63=1,ROW()+COLUMN()/100,\"\")","v":""},{"$f":"IF(Go!V63=1,ROW()+COLUMN()/100,\"\")","v":""},{"$f":"IF(Go!W63=1,ROW()+COLUMN()/100,\"\")","v":""},{"$f":"IF(Go!X63=1,ROW()+COLUMN()/100,\"\")","v":""},{"$f":"IF(Go!Y63=1,ROW()+COLUMN()/100,\"\")","v":""},{"$f":"IF(Go!Z63=1,ROW()+COLUMN()/100,\"\")","v":""},{"$f":"IF(Go!AA63=1,ROW()+COLUMN()/100,\"\")","v":""},{"$f":"IF(Go!AB63=1,ROW()+COLUMN()/100,\"\")","v":""},{"$f":"IF(Go!AC63=1,ROW()+COLUMN()/100,\"\")","v":""},{"$f":"IF(Go!AD63=1,ROW()+COLUMN()/100,\"\")","v":""},{"$f":"IF(Go!AE63=1,ROW()+COLUMN()/100,\"\")","v":""},{"$f":"IF(Go!AF63=1,ROW()+COLUMN()/100,\"\")","v":""},{"$f":"IF(Go!AG63=1,ROW()+COLUMN()/100,\"\")","v":""},{"$f":"IF(Go!AH63=1,ROW()+COLUMN()/100,\"\")","v":""},{"$f":"Go!AI63","v":0}]
[null,null,null,{"$f":"Go!D64","v":0},{"$f":"IF(Go!E64=1,ROW()+COLUMN()/100,\"\")","v":""},{"$f":"IF(Go!F64=1,ROW()+COLUMN()/100,\"\")","v":""},{"$f":"IF(Go!G64=1,ROW()+COLUMN()/100,\"\")","v":""},{"$f":"IF(Go!H64=1,ROW()+COLUMN()/100,\"\")","v":""},{"$f":"IF(Go!I64=1,ROW()+COLUMN()/100,\"\")","v":""},{"$f":"IF(Go!J64=1,ROW()+COLUMN()/100,\"\")","v":""},{"$f":"IF(Go!K64=1,ROW()+COLUMN()/100,\"\")","v":""},{"$f":"IF(Go!L64=1,ROW()+COLUMN()/100,\"\")","v":""},{"$f":"IF(Go!M64=1,ROW()+COLUMN()/100,\"\")","v":""},{"$f":"IF(Go!N64=1,ROW()+COLUMN()/100,\"\")","v":""},{"$f":"IF(Go!O64=1,ROW()+COLUMN()/100,\"\")","v":""},{"$f":"IF(Go!P64=1,ROW()+COLUMN()/100,\"\")","v":""},{"$f":"IF(Go!Q64=1,ROW()+COLUMN()/100,\"\")","v":""},{"$f":"IF(Go!R64=1,ROW()+COLUMN()/100,\"\")","v":""},{"$f":"IF(Go!S64=1,ROW()+COLUMN()/100,\"\")","v":""},{"$f":"IF(Go!T64=1,ROW()+COLUMN()/100,\"\")","v":""},{"$f":"IF(Go!U64=1,ROW()+COLUMN()/100,\"\")","v":""},{"$f":"IF(Go!V64=1,ROW()+COLUMN()/100,\"\")","v":""},{"$f":"IF(Go!W64=1,ROW()+COLUMN()/100,\"\")","v":""},{"$f":"IF(Go!X64=1,ROW()+COLUMN()/100,\"\")","v":""},{"$f":"IF(Go!Y64=1,ROW()+COLUMN()/100,\"\")","v":""},{"$f":"IF(Go!Z64=1,ROW()+COLUMN()/100,\"\")","v":""},{"$f":"IF(Go!AA64=1,ROW()+COLUMN()/100,\"\")","v":""},{"$f":"IF(Go!AB64=1,ROW()+COLUMN()/100,\"\")","v":""},{"$f":"IF(Go!AC64=1,ROW()+COLUMN()/100,\"\")","v":""},{"$f":"IF(Go!AD64=1,ROW()+COLUMN()/100,\"\")","v":""},{"$f":"IF(Go!AE64=1,ROW()+COLUMN()/100,\"\")","v":""},{"$f":"IF(Go!AF64=1,ROW()+COLUMN()/100,\"\")","v":""},{"$f":"IF(Go!AG64=1,ROW()+COLUMN()/100,\"\")","v":""},{"$f":"IF(Go!AH64=1,ROW()+COLUMN()/100,\"\")","v":""},{"$f":"Go!AI64","v":0}]
[null,null,null,{"$f":"Go!D65","v":0},{"$f":"IF(Go!E65=1,ROW()+COLUMN()/100,\"\")","v":""},{"$f":"IF(Go!F65=1,ROW()+COLUMN()/100,\"\")","v":""},{"$f":"IF(Go!G65=1,ROW()+COLUMN()/100,\"\")","v":""},{"$f":"IF(Go!H65=1,ROW()+COLUMN()/100,\"\")","v":""},{"$f":"IF(Go!I65=1,ROW()+COLUMN()/100,\"\")","v":""},{"$f":"IF(Go!J65=1,ROW()+COLUMN()/100,\"\")","v":""},{"$f":"IF(Go!K65=1,ROW()+COLUMN()/100,\"\")","v":""},{"$f":"IF(Go!L65=1,ROW()+COLUMN()/100,\"\")","v":""},{"$f":"IF(Go!M65=1,ROW()+COLUMN()/100,\"\")","v":""},{"$f":"IF(Go!N65=1,ROW()+COLUMN()/100,\"\")","v":""},{"$f":"IF(Go!O65=1,ROW()+COLUMN()/100,\"\")","v":""},{"$f":"IF(Go!P65=1,ROW()+COLUMN()/100,\"\")","v":""},{"$f":"IF(Go!Q65=1,ROW()+COLUMN()/100,\"\")","v":""},{"$f":"IF(Go!R65=1,ROW()+COLUMN()/100,\"\")","v":""},{"$f":"IF(Go!S65=1,ROW()+COLUMN()/100,\"\")","v":""},{"$f":"IF(Go!T65=1,ROW()+COLUMN()/100,\"\")","v":""},{"$f":"IF(Go!U65=1,ROW()+COLUMN()/100,\"\")","v":""},{"$f":"IF(Go!V65=1,ROW()+COLUMN()/100,\"\")","v":""},{"$f":"IF(Go!W65=1,ROW()+COLUMN()/100,\"\")","v":""},{"$f":"IF(Go!X65=1,ROW()+COLUMN()/100,\"\")","v":""},{"$f":"IF(Go!Y65=1,ROW()+COLUMN()/100,\"\")","v":""},{"$f":"IF(Go!Z65=1,ROW()+COLUMN()/100,\"\")","v":""},{"$f":"IF(Go!AA65=1,ROW()+COLUMN()/100,\"\")","v":""},{"$f":"IF(Go!AB65=1,ROW()+COLUMN()/100,\"\")","v":""},{"$f":"IF(Go!AC65=1,ROW()+COLUMN()/100,\"\")","v":""},{"$f":"IF(Go!AD65=1,ROW()+COLUMN()/100,\"\")","v":""},{"$f":"IF(Go!AE65=1,ROW()+COLUMN()/100,\"\")","v":""},{"$f":"IF(Go!AF65=1,ROW()+COLUMN()/100,\"\")","v":""},{"$f":"IF(Go!AG65=1,ROW()+COLUMN()/100,\"\")","v":""},{"$f":"IF(Go!AH65=1,ROW()+COLUMN()/100,\"\")","v":""},{"$f":"Go!AI65","v":0}]
[null,null,null,{"$f":"Go!D66","v":0},{"$f":"IF(Go!E66=1,ROW()+COLUMN()/100,\"\")","v":""},{"$f":"IF(Go!F66=1,ROW()+COLUMN()/100,\"\")","v":""},{"$f":"IF(Go!G66=1,ROW()+COLUMN()/100,\"\")","v":""},{"$f":"IF(Go!H66=1,ROW()+COLUMN()/100,\"\")","v":""},{"$f":"IF(Go!I66=1,ROW()+COLUMN()/100,\"\")","v":""},{"$f":"IF(Go!J66=1,ROW()+COLUMN()/100,\"\")","v":""},{"$f":"IF(Go!K66=1,ROW()+COLUMN()/100,\"\")","v":""},{"$f":"IF(Go!L66=1,ROW()+COLUMN()/100,\"\")","v":""},{"$f":"IF(Go!M66=1,ROW()+COLUMN()/100,\"\")","v":""},{"$f":"IF(Go!N66=1,ROW()+COLUMN()/100,\"\")","v":""},{"$f":"IF(Go!O66=1,ROW()+COLUMN()/100,\"\")","v":""},{"$f":"IF(Go!P66=1,ROW()+COLUMN()/100,\"\")","v":""},{"$f":"IF(Go!Q66=1,ROW()+COLUMN()/100,\"\")","v":""},{"$f":"IF(Go!R66=1,ROW()+COLUMN()/100,\"\")","v":""},{"$f":"IF(Go!S66=1,ROW()+COLUMN()/100,\"\")","v":""},{"$f":"IF(Go!T66=1,ROW()+COLUMN()/100,\"\")","v":""},{"$f":"IF(Go!U66=1,ROW()+COLUMN()/100,\"\")","v":""},{"$f":"IF(Go!V66=1,ROW()+COLUMN()/100,\"\")","v":""},{"$f":"IF(Go!W66=1,ROW()+COLUMN()/100,\"\")","v":""},{"$f":"IF(Go!X66=1,ROW()+COLUMN()/100,\"\")","v":""},{"$f":"IF(Go!Y66=1,ROW()+COLUMN()/100,\"\")","v":""},{"$f":"IF(Go!Z66=1,ROW()+COLUMN()/100,\"\")","v":""},{"$f":"IF(Go!AA66=1,ROW()+COLUMN()/100,\"\")","v":""},{"$f":"IF(Go!AB66=1,ROW()+COLUMN()/100,\"\")","v":""},{"$f":"IF(Go!AC66=1,ROW()+COLUMN()/100,\"\")","v":""},{"$f":"IF(Go!AD66=1,ROW()+COLUMN()/100,\"\")","v":""},{"$f":"IF(Go!AE66=1,ROW()+COLUMN()/100,\"\")","v":""},{"$f":"IF(Go!AF66=1,ROW()+COLUMN()/100,\"\")","v":""},{"$f":"IF(Go!AG66=1,ROW()+COLUMN()/100,\"\")","v":""},{"$f":"IF(Go!AH66=1,ROW()+COLUMN()/100,\"\")","v":""},{"$f":"Go!AI66","v":0}]
[null,null,null,{"$f":"Go!D67","v":0},{"$f":"IF(Go!E67=1,ROW()+COLUMN()/100,\"\")","v":""},{"$f":"IF(Go!F67=1,ROW()+COLUMN()/100,\"\")","v":""},{"$f":"IF(Go!G67=1,ROW()+COLUMN()/100,\"\")","v":""},{"$f":"IF(Go!H67=1,ROW()+COLUMN()/100,\"\")","v":""},{"$f":"IF(Go!I67=1,ROW()+COLUMN()/100,\"\")","v":""},{"$f":"IF(Go!J67=1,ROW()+COLUMN()/100,\"\")","v":""},{"$f":"IF(Go!K67=1,ROW()+COLUMN()/100,\"\")","v":""},{"$f":"IF(Go!L67=1,ROW()+COLUMN()/100,\"\")","v":""},{"$f":"IF(Go!M67=1,ROW()+COLUMN()/100,\"\")","v":""},{"$f":"IF(Go!N67=1,ROW()+COLUMN()/100,\"\")","v":""},{"$f":"IF(Go!O67=1,ROW()+COLUMN()/100,\"\")","v":""},{"$f":"IF(Go!P67=1,ROW()+COLUMN()/100,\"\")","v":""},{"$f":"IF(Go!Q67=1,ROW()+COLUMN()/100,\"\")","v":""},{"$f":"IF(Go!R67=1,ROW()+COLUMN()/100,\"\")","v":""},{"$f":"IF(Go!S67=1,ROW()+COLUMN()/100,\"\")","v":""},{"$f":"IF(Go!T67=1,ROW()+COLUMN()/100,\"\")","v":""},{"$f":"IF(Go!U67=1,ROW()+COLUMN()/100,\"\")","v":""},{"$f":"IF(Go!V67=1,ROW()+COLUMN()/100,\"\")","v":""},{"$f":"IF(Go!W67=1,ROW()+COLUMN()/100,\"\")","v":""},{"$f":"IF(Go!X67=1,ROW()+COLUMN()/100,\"\")","v":""},{"$f":"IF(Go!Y67=1,ROW()+COLUMN()/100,\"\")","v":""},{"$f":"IF(Go!Z67=1,ROW()+COLUMN()/100,\"\")","v":""},{"$f":"IF(Go!AA67=1,ROW()+COLUMN()/100,\"\")","v":""},{"$f":"IF(Go!AB67=1,ROW()+COLUMN()/100,\"\")","v":""},{"$f":"IF(Go!AC67=1,ROW()+COLUMN()/100,\"\")","v":""},{"$f":"IF(Go!AD67=1,ROW()+COLUMN()/100,\"\")","v":""},{"$f":"IF(Go!AE67=1,ROW()+COLUMN()/100,\"\")","v":""},{"$f":"IF(Go!AF67=1,ROW()+COLUMN()/100,\"\")","v":""},{"$f":"IF(Go!AG67=1,ROW()+COLUMN()/100,\"\")","v":""},{"$f":"IF(Go!AH67=1,ROW()+COLUMN()/100,\"\")","v":""},{"$f":"Go!AI67","v":0}]
[null,null,null,{"$f":"Go!D68","v":0},{"$f":"IF(Go!E68=1,ROW()+COLUMN()/100,\"\")","v":""},{"$f":"IF(Go!F68=1,ROW()+COLUMN()/100,\"\")","v":""},{"$f":"IF(Go!G68=1,ROW()+COLUMN()/100,\"\")","v":""},{"$f":"IF(Go!H68=1,ROW()+COLUMN()/100,\"\")","v":""},{"$f":"IF(Go!I68=1,ROW()+COLUMN()/100,\"\")","v":""},{"$f":"IF(Go!J68=1,ROW()+COLUMN()/100,\"\")","v":""},{"$f":"IF(Go!K68=1,ROW()+COLUMN()/100,\"\")","v":""},{"$f":"IF(Go!L68=1,ROW()+COLUMN()/100,\"\")","v":""},{"$f":"IF(Go!M68=1,ROW()+COLUMN()/100,\"\")","v":""},{"$f":"IF(Go!N68=1,ROW()+COLUMN()/100,\"\")","v":""},{"$f":"IF(Go!O68=1,ROW()+COLUMN()/100,\"\")","v":""},{"$f":"IF(Go!P68=1,ROW()+COLUMN()/100,\"\")","v":""},{"$f":"IF(Go!Q68=1,ROW()+COLUMN()/100,\"\")","v":""},{"$f":"IF(Go!R68=1,ROW()+COLUMN()/100,\"\")","v":""},{"$f":"IF(Go!S68=1,ROW()+COLUMN()/100,\"\")","v":""},{"$f":"IF(Go!T68=1,ROW()+COLUMN()/100,\"\")","v":""},{"$f":"IF(Go!U68=1,ROW()+COLUMN()/100,\"\")","v":""},{"$f":"IF(Go!V68=1,ROW()+COLUMN()/100,\"\")","v":""},{"$f":"IF(Go!W68=1,ROW()+COLUMN()/100,\"\")","v":""},{"$f":"IF(Go!X68=1,ROW()+COLUMN()/100,\"\")","v":""},{"$f":"IF(Go!Y68=1,ROW()+COLUMN()/100,\"\")","v":""},{"$f":"IF(Go!Z68=1,ROW()+COLUMN()/100,\"\")","v":""},{"$f":"IF(Go!AA68=1,ROW()+COLUMN()/100,\"\")","v":""},{"$f":"IF(Go!AB68=1,ROW()+COLUMN()/100,\"\")","v":""},{"$f":"IF(Go!AC68=1,ROW()+COLUMN()/100,\"\")","v":""},{"$f":"IF(Go!AD68=1,ROW()+COLUMN()/100,\"\")","v":""},{"$f":"IF(Go!AE68=1,ROW()+COLUMN()/100,\"\")","v":""},{"$f":"IF(Go!AF68=1,ROW()+COLUMN()/100,\"\")","v":""},{"$f":"IF(Go!AG68=1,ROW()+COLUMN()/100,\"\")","v":""},{"$f":"IF(Go!AH68=1,ROW()+COLUMN()/100,\"\")","v":""},{"$f":"Go!AI68","v":0}]
[null,null,null,{"$f":"Go!D69","v":0},{"$f":"IF(Go!E69=1,ROW()+COLUMN()/100,\"\")","v":""},{"$f":"IF(Go!F69=1,ROW()+COLUMN()/100,\"\")","v":""},{"$f":"IF(Go!G69=1,ROW()+COLUMN()/100,\"\")","v":""},{"$f":"IF(Go!H69=1,ROW()+COLUMN()/100,\"\")","v":""},{"$f":"IF(Go!I69=1,ROW()+COLUMN()/100,\"\")","v":""},{"$f":"IF(Go!J69=1,ROW()+COLUMN()/100,\"\")","v":""},{"$f":"IF(Go!K69=1,ROW()+COLUMN()/100,\"\")","v":""},{"$f":"IF(Go!L69=1,ROW()+COLUMN()/100,\"\")","v":""},{"$f":"IF(Go!M69=1,ROW()+COLUMN()/100,\"\")","v":""},{"$f":"IF(Go!N69=1,ROW()+COLUMN()/100,\"\")","v":""},{"$f":"IF(Go!O69=1,ROW()+COLUMN()/100,\"\")","v":""},{"$f":"IF(Go!P69=1,ROW()+COLUMN()/100,\"\")","v":""},{"$f":"IF(Go!Q69=1,ROW()+COLUMN()/100,\"\")","v":""},{"$f":"IF(Go!R69=1,ROW()+COLUMN()/100,\"\")","v":""},{"$f":"IF(Go!S69=1,ROW()+COLUMN()/100,\"\")","v":""},{"$f":"IF(Go!T69=1,ROW()+COLUMN()/100,\"\")","v":""},{"$f":"IF(Go!U69=1,ROW()+COLUMN()/100,\"\")","v":""},{"$f":"IF(Go!V69=1,ROW()+COLUMN()/100,\"\")","v":""},{"$f":"IF(Go!W69=1,ROW()+COLUMN()/100,\"\")","v":""},{"$f":"IF(Go!X69=1,ROW()+COLUMN()/100,\"\")","v":""},{"$f":"IF(Go!Y69=1,ROW()+COLUMN()/100,\"\")","v":""},{"$f":"IF(Go!Z69=1,ROW()+COLUMN()/100,\"\")","v":""},{"$f":"IF(Go!AA69=1,ROW()+COLUMN()/100,\"\")","v":""},{"$f":"IF(Go!AB69=1,ROW()+COLUMN()/100,\"\")","v":""},{"$f":"IF(Go!AC69=1,ROW()+COLUMN()/100,\"\")","v":""},{"$f":"IF(Go!AD69=1,ROW()+COLUMN()/100,\"\")","v":""},{"$f":"IF(Go!AE69=1,ROW()+COLUMN()/100,\"\")","v":""},{"$f":"IF(Go!AF69=1,ROW()+COLUMN()/100,\"\")","v":""},{"$f":"IF(Go!AG69=1,ROW()+COLUMN()/100,\"\")","v":""},{"$f":"IF(Go!AH69=1,ROW()+COLUMN()/100,\"\")","v":""},{"$f":"Go!AI69","v":0}]
[null,null,null,{"$f":"Go!D70","v":0},{"$f":"IF(Go!E70=1,ROW()+COLUMN()/100,\"\")","v":""},{"$f":"IF(Go!F70=1,ROW()+COLUMN()/100,\"\")","v":""},{"$f":"IF(Go!G70=1,ROW()+COLUMN()/100,\"\")","v":""},{"$f":"IF(Go!H70=1,ROW()+COLUMN()/100,\"\")","v":""},{"$f":"IF(Go!I70=1,ROW()+COLUMN()/100,\"\")","v":""},{"$f":"IF(Go!J70=1,ROW()+COLUMN()/100,\"\")","v":""},{"$f":"IF(Go!K70=1,ROW()+COLUMN()/100,\"\")","v":""},{"$f":"IF(Go!L70=1,ROW()+COLUMN()/100,\"\")","v":""},{"$f":"IF(Go!M70=1,ROW()+COLUMN()/100,\"\")","v":""},{"$f":"IF(Go!N70=1,ROW()+COLUMN()/100,\"\")","v":""},{"$f":"IF(Go!O70=1,ROW()+COLUMN()/100,\"\")","v":""},{"$f":"IF(Go!P70=1,ROW()+COLUMN()/100,\"\")","v":""},{"$f":"IF(Go!Q70=1,ROW()+COLUMN()/100,\"\")","v":""},{"$f":"IF(Go!R70=1,ROW()+COLUMN()/100,\"\")","v":""},{"$f":"IF(Go!S70=1,ROW()+COLUMN()/100,\"\")","v":""},{"$f":"IF(Go!T70=1,ROW()+COLUMN()/100,\"\")","v":""},{"$f":"IF(Go!U70=1,ROW()+COLUMN()/100,\"\")","v":""},{"$f":"IF(Go!V70=1,ROW()+COLUMN()/100,\"\")","v":""},{"$f":"IF(Go!W70=1,ROW()+COLUMN()/100,\"\")","v":""},{"$f":"IF(Go!X70=1,ROW()+COLUMN()/100,\"\")","v":""},{"$f":"IF(Go!Y70=1,ROW()+COLUMN()/100,\"\")","v":""},{"$f":"IF(Go!Z70=1,ROW()+COLUMN()/100,\"\")","v":""},{"$f":"IF(Go!AA70=1,ROW()+COLUMN()/100,\"\")","v":""},{"$f":"IF(Go!AB70=1,ROW()+COLUMN()/100,\"\")","v":""},{"$f":"IF(Go!AC70=1,ROW()+COLUMN()/100,\"\")","v":""},{"$f":"IF(Go!AD70=1,ROW()+COLUMN()/100,\"\")","v":""},{"$f":"IF(Go!AE70=1,ROW()+COLUMN()/100,\"\")","v":""},{"$f":"IF(Go!AF70=1,ROW()+COLUMN()/100,\"\")","v":""},{"$f":"IF(Go!AG70=1,ROW()+COLUMN()/100,\"\")","v":""},{"$f":"IF(Go!AH70=1,ROW()+COLUMN()/100,\"\")","v":""},{"$f":"Go!AI70","v":0}]
[null,null,null,{"$f":"Go!D71","v":0},{"$f":"IF(Go!E71=1,ROW()+COLUMN()/100,\"\")","v":""},{"$f":"IF(Go!F71=1,ROW()+COLUMN()/100,\"\")","v":""},{"$f":"IF(Go!G71=1,ROW()+COLUMN()/100,\"\")","v":""},{"$f":"IF(Go!H71=1,ROW()+COLUMN()/100,\"\")","v":""},{"$f":"IF(Go!I71=1,ROW()+COLUMN()/100,\"\")","v":""},{"$f":"IF(Go!J71=1,ROW()+COLUMN()/100,\"\")","v":""},{"$f":"IF(Go!K71=1,ROW()+COLUMN()/100,\"\")","v":""},{"$f":"IF(Go!L71=1,ROW()+COLUMN()/100,\"\")","v":""},{"$f":"IF(Go!M71=1,ROW()+COLUMN()/100,\"\")","v":""},{"$f":"IF(Go!N71=1,ROW()+COLUMN()/100,\"\")","v":""},{"$f":"IF(Go!O71=1,ROW()+COLUMN()/100,\"\")","v":""},{"$f":"IF(Go!P71=1,ROW()+COLUMN()/100,\"\")","v":""},{"$f":"IF(Go!Q71=1,ROW()+COLUMN()/100,\"\")","v":""},{"$f":"IF(Go!R71=1,ROW()+COLUMN()/100,\"\")","v":""},{"$f":"IF(Go!S71=1,ROW()+COLUMN()/100,\"\")","v":""},{"$f":"IF(Go!T71=1,ROW()+COLUMN()/100,\"\")","v":""},{"$f":"IF(Go!U71=1,ROW()+COLUMN()/100,\"\")","v":""},{"$f":"IF(Go!V71=1,ROW()+COLUMN()/100,\"\")","v":""},{"$f":"IF(Go!W71=1,ROW()+COLUMN()/100,\"\")","v":""},{"$f":"IF(Go!X71=1,ROW()+COLUMN()/100,\"\")","v":""},{"$f":"IF(Go!Y71=1,ROW()+COLUMN()/100,\"\")","v":""},{"$f":"IF(Go!Z71=1,ROW()+COLUMN()/100,\"\")","v":""},{"$f":"IF(Go!AA71=1,ROW()+COLUMN()/100,\"\")","v":""},{"$f":"IF(Go!AB71=1,ROW()+COLUMN()/100,\"\")","v":""},{"$f":"IF(Go!AC71=1,ROW()+COLUMN()/100,\"\")","v":""},{"$f":"IF(Go!AD71=1,ROW()+COLUMN()/100,\"\")","v":""},{"$f":"IF(Go!AE71=1,ROW()+COLUMN()/100,\"\")","v":""},{"$f":"IF(Go!AF71=1,ROW()+COLUMN()/100,\"\")","v":""},{"$f":"IF(Go!AG71=1,ROW()+COLUMN()/100,\"\")","v":""},{"$f":"IF(Go!AH71=1,ROW()+COLUMN()/100,\"\")","v":""},{"$f":"Go!AI71","v":0}]
[null,null,null,{"$f":"Go!D72","v":0},{"$f":"IF(Go!E72=1,ROW()+COLUMN()/100,\"\")","v":""},{"$f":"IF(Go!F72=1,ROW()+COLUMN()/100,\"\")","v":""},{"$f":"IF(Go!G72=1,ROW()+COLUMN()/100,\"\")","v":""},{"$f":"IF(Go!H72=1,ROW()+COLUMN()/100,\"\")","v":""},{"$f":"IF(Go!I72=1,ROW()+COLUMN()/100,\"\")","v":""},{"$f":"IF(Go!J72=1,ROW()+COLUMN()/100,\"\")","v":""},{"$f":"IF(Go!K72=1,ROW()+COLUMN()/100,\"\")","v":""},{"$f":"IF(Go!L72=1,ROW()+COLUMN()/100,\"\")","v":""},{"$f":"IF(Go!M72=1,ROW()+COLUMN()/100,\"\")","v":""},{"$f":"IF(Go!N72=1,ROW()+COLUMN()/100,\"\")","v":""},{"$f":"IF(Go!O72=1,ROW()+COLUMN()/100,\"\")","v":""},{"$f":"IF(Go!P72=1,ROW()+COLUMN()/100,\"\")","v":""},{"$f":"IF(Go!Q72=1,ROW()+COLUMN()/100,\"\")","v":""},{"$f":"IF(Go!R72=1,ROW()+COLUMN()/100,\"\")","v":""},{"$f":"IF(Go!S72=1,ROW()+COLUMN()/100,\"\")","v":""},{"$f":"IF(Go!T72=1,ROW()+COLUMN()/100,\"\")","v":""},{"$f":"IF(Go!U72=1,ROW()+COLUMN()/100,\"\")","v":""},{"$f":"IF(Go!V72=1,ROW()+COLUMN()/100,\"\")","v":""},{"$f":"IF(Go!W72=1,ROW()+COLUMN()/100,\"\")","v":""},{"$f":"IF(Go!X72=1,ROW()+COLUMN()/100,\"\")","v":""},{"$f":"IF(Go!Y72=1,ROW()+COLUMN()/100,\"\")","v":""},{"$f":"IF(Go!Z72=1,ROW()+COLUMN()/100,\"\")","v":""},{"$f":"IF(Go!AA72=1,ROW()+COLUMN()/100,\"\")","v":""},{"$f":"IF(Go!AB72=1,ROW()+COLUMN()/100,\"\")","v":""},{"$f":"IF(Go!AC72=1,ROW()+COLUMN()/100,\"\")","v":""},{"$f":"IF(Go!AD72=1,ROW()+COLUMN()/100,\"\")","v":""},{"$f":"IF(Go!AE72=1,ROW()+COLUMN()/100,\"\")","v":""},{"$f":"IF(Go!AF72=1,ROW()+COLUMN()/100,\"\")","v":""},{"$f":"IF(Go!AG72=1,ROW()+COLUMN()/100,\"\")","v":""},{"$f":"IF(Go!AH72=1,ROW()+COLUMN()/100,\"\")","v":""},{"$f":"Go!AI72","v":0}]
[null,null,null,{"$f":"Go!D73","v":0},{"$f":"IF(Go!E73=1,ROW()+COLUMN()/100,\"\")","v":""},{"$f":"IF(Go!F73=1,ROW()+COLUMN()/100,\"\")","v":""},{"$f":"IF(Go!G73=1,ROW()+COLUMN()/100,\"\")","v":""},{"$f":"IF(Go!H73=1,ROW()+COLUMN()/100,\"\")","v":""},{"$f":"IF(Go!I73=1,ROW()+COLUMN()/100,\"\")","v":""},{"$f":"IF(Go!J73=1,ROW()+COLUMN()/100,\"\")","v":""},{"$f":"IF(Go!K73=1,ROW()+COLUMN()/100,\"\")","v":""},{"$f":"IF(Go!L73=1,ROW()+COLUMN()/100,\"\")","v":""},{"$f":"IF(Go!M73=1,ROW()+COLUMN()/100,\"\")","v":""},{"$f":"IF(Go!N73=1,ROW()+COLUMN()/100,\"\")","v":""},{"$f":"IF(Go!O73=1,ROW()+COLUMN()/100,\"\")","v":""},{"$f":"IF(Go!P73=1,ROW()+COLUMN()/100,\"\")","v":""},{"$f":"IF(Go!Q73=1,ROW()+COLUMN()/100,\"\")","v":""},{"$f":"IF(Go!R73=1,ROW()+COLUMN()/100,\"\")","v":""},{"$f":"IF(Go!S73=1,ROW()+COLUMN()/100,\"\")","v":""},{"$f":"IF(Go!T73=1,ROW()+COLUMN()/100,\"\")","v":""},{"$f":"IF(Go!U73=1,ROW()+COLUMN()/100,\"\")","v":""},{"$f":"IF(Go!V73=1,ROW()+COLUMN()/100,\"\")","v":""},{"$f":"IF(Go!W73=1,ROW()+COLUMN()/100,\"\")","v":""},{"$f":"IF(Go!X73=1,ROW()+COLUMN()/100,\"\")","v":""},{"$f":"IF(Go!Y73=1,ROW()+COLUMN()/100,\"\")","v":""},{"$f":"IF(Go!Z73=1,ROW()+COLUMN()/100,\"\")","v":""},{"$f":"IF(Go!AA73=1,ROW()+COLUMN()/100,\"\")","v":""},{"$f":"IF(Go!AB73=1,ROW()+COLUMN()/100,\"\")","v":""},{"$f":"IF(Go!AC73=1,ROW()+COLUMN()/100,\"\")","v":""},{"$f":"IF(Go!AD73=1,ROW()+COLUMN()/100,\"\")","v":""},{"$f":"IF(Go!AE73=1,ROW()+COLUMN()/100,\"\")","v":""},{"$f":"IF(Go!AF73=1,ROW()+COLUMN()/100,\"\")","v":""},{"$f":"IF(Go!AG73=1,ROW()+COLUMN()/100,\"\")","v":""},{"$f":"IF(Go!AH73=1,ROW()+COLUMN()/100,\"\")","v":""},{"$f":"Go!AI73","v":0}]
[null,null,null,{"$f":"Go!D74","v":0},{"$f":"IF(Go!E74=1,ROW()+COLUMN()/100,\"\")","v":""},{"$f":"IF(Go!F74=1,ROW()+COLUMN()/100,\"\")","v":""},{"$f":"IF(Go!G74=1,ROW()+COLUMN()/100,\"\")","v":""},{"$f":"IF(Go!H74=1,ROW()+COLUMN()/100,\"\")","v":""},{"$f":"IF(Go!I74=1,ROW()+COLUMN()/100,\"\")","v":""},{"$f":"IF(Go!J74=1,ROW()+COLUMN()/100,\"\")","v":""},{"$f":"IF(Go!K74=1,ROW()+COLUMN()/100,\"\")","v":""},{"$f":"IF(Go!L74=1,ROW()+COLUMN()/100,\"\")","v":""},{"$f":"IF(Go!M74=1,ROW()+COLUMN()/100,\"\")","v":""},{"$f":"IF(Go!N74=1,ROW()+COLUMN()/100,\"\")","v":""},{"$f":"IF(Go!O74=1,ROW()+COLUMN()/100,\"\")","v":""},{"$f":"IF(Go!P74=1,ROW()+COLUMN()/100,\"\")","v":""},{"$f":"IF(Go!Q74=1,ROW()+COLUMN()/100,\"\")","v":""},{"$f":"IF(Go!R74=1,ROW()+COLUMN()/100,\"\")","v":""},{"$f":"IF(Go!S74=1,ROW()+COLUMN()/100,\"\")","v":""},{"$f":"IF(Go!T74=1,ROW()+COLUMN()/100,\"\")","v":""},{"$f":"IF(Go!U74=1,ROW()+COLUMN()/100,\"\")","v":""},{"$f":"IF(Go!V74=1,ROW()+COLUMN()/100,\"\")","v":""},{"$f":"IF(Go!W74=1,ROW()+COLUMN()/100,\"\")","v":""},{"$f":"IF(Go!X74=1,ROW()+COLUMN()/100,\"\")","v":""},{"$f":"IF(Go!Y74=1,ROW()+COLUMN()/100,\"\")","v":""},{"$f":"IF(Go!Z74=1,ROW()+COLUMN()/100,\"\")","v":""},{"$f":"IF(Go!AA74=1,ROW()+COLUMN()/100,\"\")","v":""},{"$f":"IF(Go!AB74=1,ROW()+COLUMN()/100,\"\")","v":""},{"$f":"IF(Go!AC74=1,ROW()+COLUMN()/100,\"\")","v":""},{"$f":"IF(Go!AD74=1,ROW()+COLUMN()/100,\"\")","v":""},{"$f":"IF(Go!AE74=1,ROW()+COLUMN()/100,\"\")","v":""},{"$f":"IF(Go!AF74=1,ROW()+COLUMN()/100,\"\")","v":""},{"$f":"IF(Go!AG74=1,ROW()+COLUMN()/100,\"\")","v":""},{"$f":"IF(Go!AH74=1,ROW()+COLUMN()/100,\"\")","v":""},{"$f":"Go!AI74","v":0}]
[null,null,null,{"$f":"Go!D75","v":0},{"$f":"IF(Go!E75=1,ROW()+COLUMN()/100,\"\")","v":""},{"$f":"IF(Go!F75=1,ROW()+COLUMN()/100,\"\")","v":""},{"$f":"IF(Go!G75=1,ROW()+COLUMN()/100,\"\")","v":""},{"$f":"IF(Go!H75=1,ROW()+COLUMN()/100,\"\")","v":""},{"$f":"IF(Go!I75=1,ROW()+COLUMN()/100,\"\")","v":""},{"$f":"IF(Go!J75=1,ROW()+COLUMN()/100,\"\")","v":""},{"$f":"IF(Go!K75=1,ROW()+COLUMN()/100,\"\")","v":""},{"$f":"IF(Go!L75=1,ROW()+COLUMN()/100,\"\")","v":""},{"$f":"IF(Go!M75=1,ROW()+COLUMN()/100,\"\")","v":""},{"$f":"IF(Go!N75=1,ROW()+COLUMN()/100,\"\")","v":""},{"$f":"IF(Go!O75=1,ROW()+COLUMN()/100,\"\")","v":""},{"$f":"IF(Go!P75=1,ROW()+COLUMN()/100,\"\")","v":""},{"$f":"IF(Go!Q75=1,ROW()+COLUMN()/100,\"\")","v":""},{"$f":"IF(Go!R75=1,ROW()+COLUMN()/100,\"\")","v":""},{"$f":"IF(Go!S75=1,ROW()+COLUMN()/100,\"\")","v":""},{"$f":"IF(Go!T75=1,ROW()+COLUMN()/100,\"\")","v":""},{"$f":"IF(Go!U75=1,ROW()+COLUMN()/100,\"\")","v":""},{"$f":"IF(Go!V75=1,ROW()+COLUMN()/100,\"\")","v":""},{"$f":"IF(Go!W75=1,ROW()+COLUMN()/100,\"\")","v":""},{"$f":"IF(Go!X75=1,ROW()+COLUMN()/100,\"\")","v":""},{"$f":"IF(Go!Y75=1,ROW()+COLUMN()/100,\"\")","v":""},{"$f":"IF(Go!Z75=1,ROW()+COLUMN()/100,\"\")","v":""},{"$f":"IF(Go!AA75=1,ROW()+COLUMN()/100,\"\")","v":""},{"$f":"IF(Go!AB75=1,ROW()+COLUMN()/100,\"\")","v":""},{"$f":"IF(Go!AC75=1,ROW()+COLUMN()/100,\"\")","v":""},{"$f":"IF(Go!AD75=1,ROW()+COLUMN()/100,\"\")","v":""},{"$f":"IF(Go!AE75=1,ROW()+COLUMN()/100,\"\")","v":""},{"$f":"IF(Go!AF75=1,ROW()+COLUMN()/100,\"\")","v":""},{"$f":"IF(Go!AG75=1,ROW()+COLUMN()/100,\"\")","v":""},{"$f":"IF(Go!AH75=1,ROW()+COLUMN()/100,\"\")","v":""},{"$f":"Go!AI75","v":0}]
[null,null,null,{"$f":"Go!D76","v":0},{"$f":"IF(Go!E76=1,ROW()+COLUMN()/100,\"\")","v":""},{"$f":"IF(Go!F76=1,ROW()+COLUMN()/100,\"\")","v":""},{"$f":"IF(Go!G76=1,ROW()+COLUMN()/100,\"\")","v":""},{"$f":"IF(Go!H76=1,ROW()+COLUMN()/100,\"\")","v":""},{"$f":"IF(Go!I76=1,ROW()+COLUMN()/100,\"\")","v":""},{"$f":"IF(Go!J76=1,ROW()+COLUMN()/100,\"\")","v":""},{"$f":"IF(Go!K76=1,ROW()+COLUMN()/100,\"\")","v":""},{"$f":"IF(Go!L76=1,ROW()+COLUMN()/100,\"\")","v":""},{"$f":"IF(Go!M76=1,ROW()+COLUMN()/100,\"\")","v":""},{"$f":"IF(Go!N76=1,ROW()+COLUMN()/100,\"\")","v":""},{"$f":"IF(Go!O76=1,ROW()+COLUMN()/100,\"\")","v":""},{"$f":"IF(Go!P76=1,ROW()+COLUMN()/100,\"\")","v":""},{"$f":"IF(Go!Q76=1,ROW()+COLUMN()/100,\"\")","v":""},{"$f":"IF(Go!R76=1,ROW()+COLUMN()/100,\"\")","v":""},{"$f":"IF(Go!S76=1,ROW()+COLUMN()/100,\"\")","v":""},{"$f":"IF(Go!T76=1,ROW()+COLUMN()/100,\"\")","v":""},{"$f":"IF(Go!U76=1,ROW()+COLUMN()/100,\"\")","v":""},{"$f":"IF(Go!V76=1,ROW()+COLUMN()/100,\"\")","v":""},{"$f":"IF(Go!W76=1,ROW()+COLUMN()/100,\"\")","v":""},{"$f":"IF(Go!X76=1,ROW()+COLUMN()/100,\"\")","v":""},{"$f":"IF(Go!Y76=1,ROW()+COLUMN()/100,\"\")","v":""},{"$f":"IF(Go!Z76=1,ROW()+COLUMN()/100,\"\")","v":""},{"$f":"IF(Go!AA76=1,ROW()+COLUMN()/100,\"\")","v":""},{"$f":"IF(Go!AB76=1,ROW()+COLUMN()/100,\"\")","v":""},{"$f":"IF(Go!AC76=1,ROW()+COLUMN()/100,\"\")","v":""},{"$f":"IF(Go!AD76=1,ROW()+COLUMN()/100,\"\")","v":""},{"$f":"IF(Go!AE76=1,ROW()+COLUMN()/100,\"\")","v":""},{"$f":"IF(Go!AF76=1,ROW()+COLUMN()/100,\"\")","v":""},{"$f":"IF(Go!AG76=1,ROW()+COLUMN()/100,\"\")","v":""},{"$f":"IF(Go!AH76=1,ROW()+COLUMN()/100,\"\")","v":""},{"$f":"Go!AI76","v":0}]
[null,null,null,{"$f":"Go!D77","v":0},{"$f":"IF(Go!E77=1,ROW()+COLUMN()/100,\"\")","v":""},{"$f":"IF(Go!F77=1,ROW()+COLUMN()/100,\"\")","v":""},{"$f":"IF(Go!G77=1,ROW()+COLUMN()/100,\"\")","v":""},{"$f":"IF(Go!H77=1,ROW()+COLUMN()/100,\"\")","v":""},{"$f":"IF(Go!I77=1,ROW()+COLUMN()/100,\"\")","v":""},{"$f":"IF(Go!J77=1,ROW()+COLUMN()/100,\"\")","v":""},{"$f":"IF(Go!K77=1,ROW()+COLUMN()/100,\"\")","v":""},{"$f":"IF(Go!L77=1,ROW()+COLUMN()/100,\"\")","v":""},{"$f":"IF(Go!M77=1,ROW()+COLUMN()/100,\"\")","v":""},{"$f":"IF(Go!N77=1,ROW()+COLUMN()/100,\"\")","v":""},{"$f":"IF(Go!O77=1,ROW()+COLUMN()/100,\"\")","v":""},{"$f":"IF(Go!P77=1,ROW()+COLUMN()/100,\"\")","v":""},{"$f":"IF(Go!Q77=1,ROW()+COLUMN()/100,\"\")","v":""},{"$f":"IF(Go!R77=1,ROW()+COLUMN()/100,\"\")","v":""},{"$f":"IF(Go!S77=1,ROW()+COLUMN()/100,\"\")","v":""},{"$f":"IF(Go!T77=1,ROW()+COLUMN()/100,\"\")","v":""},{"$f":"IF(Go!U77=1,ROW()+COLUMN()/100,\"\")","v":""},{"$f":"IF(Go!V77=1,ROW()+COLUMN()/100,\"\")","v":""},{"$f":"IF(Go!W77=1,ROW()+COLUMN()/100,\"\")","v":""},{"$f":"IF(Go!X77=1,ROW()+COLUMN()/100,\"\")","v":""},{"$f":"IF(Go!Y77=1,ROW()+COLUMN()/100,\"\")","v":""},{"$f":"IF(Go!Z77=1,ROW()+COLUMN()/100,\"\")","v":""},{"$f":"IF(Go!AA77=1,ROW()+COLUMN()/100,\"\")","v":""},{"$f":"IF(Go!AB77=1,ROW()+COLUMN()/100,\"\")","v":""},{"$f":"IF(Go!AC77=1,ROW()+COLUMN()/100,\"\")","v":""},{"$f":"IF(Go!AD77=1,ROW()+COLUMN()/100,\"\")","v":""},{"$f":"IF(Go!AE77=1,ROW()+COLUMN()/100,\"\")","v":""},{"$f":"IF(Go!AF77=1,ROW()+COLUMN()/100,\"\")","v":""},{"$f":"IF(Go!AG77=1,ROW()+COLUMN()/100,\"\")","v":""},{"$f":"IF(Go!AH77=1,ROW()+COLUMN()/100,\"\")","v":""},{"$f":"Go!AI77","v":0}]
[null,null,null,{"$f":"Go!D78","v":0},{"$f":"IF(Go!E78=1,ROW()+COLUMN()/100,\"\")","v":""},{"$f":"IF(Go!F78=1,ROW()+COLUMN()/100,\"\")","v":""},{"$f":"IF(Go!G78=1,ROW()+COLUMN()/100,\"\")","v":""},{"$f":"IF(Go!H78=1,ROW()+COLUMN()/100,\"\")","v":""},{"$f":"IF(Go!I78=1,ROW()+COLUMN()/100,\"\")","v":""},{"$f":"IF(Go!J78=1,ROW()+COLUMN()/100,\"\")","v":""},{"$f":"IF(Go!K78=1,ROW()+COLUMN()/100,\"\")","v":""},{"$f":"IF(Go!L78=1,ROW()+COLUMN()/100,\"\")","v":""},{"$f":"IF(Go!M78=1,ROW()+COLUMN()/100,\"\")","v":""},{"$f":"IF(Go!N78=1,ROW()+COLUMN()/100,\"\")","v":""},{"$f":"IF(Go!O78=1,ROW()+COLUMN()/100,\"\")","v":""},{"$f":"IF(Go!P78=1,ROW()+COLUMN()/100,\"\")","v":""},{"$f":"IF(Go!Q78=1,ROW()+COLUMN()/100,\"\")","v":""},{"$f":"IF(Go!R78=1,ROW()+COLUMN()/100,\"\")","v":""},{"$f":"IF(Go!S78=1,ROW()+COLUMN()/100,\"\")","v":""},{"$f":"IF(Go!T78=1,ROW()+COLUMN()/100,\"\")","v":""},{"$f":"IF(Go!U78=1,ROW()+COLUMN()/100,\"\")","v":""},{"$f":"IF(Go!V78=1,ROW()+COLUMN()/100,\"\")","v":""},{"$f":"IF(Go!W78=1,ROW()+COLUMN()/100,\"\")","v":""},{"$f":"IF(Go!X78=1,ROW()+COLUMN()/100,\"\")","v":""},{"$f":"IF(Go!Y78=1,ROW()+COLUMN()/100,\"\")","v":""},{"$f":"IF(Go!Z78=1,ROW()+COLUMN()/100,\"\")","v":""},{"$f":"IF(Go!AA78=1,ROW()+COLUMN()/100,\"\")","v":""},{"$f":"IF(Go!AB78=1,ROW()+COLUMN()/100,\"\")","v":""},{"$f":"IF(Go!AC78=1,ROW()+COLUMN()/100,\"\")","v":""},{"$f":"IF(Go!AD78=1,ROW()+COLUMN()/100,\"\")","v":""},{"$f":"IF(Go!AE78=1,ROW()+COLUMN()/100,\"\")","v":""},{"$f":"IF(Go!AF78=1,ROW()+COLUMN()/100,\"\")","v":""},{"$f":"IF(Go!AG78=1,ROW()+COLUMN()/100,\"\")","v":""},{"$f":"IF(Go!AH78=1,ROW()+COLUMN()/100,\"\")","v":""},{"$f":"Go!AI78","v":0}]
[null,null,null,{"$f":"Go!D79","v":0},{"$f":"IF(Go!E79=1,ROW()+COLUMN()/100,\"\")","v":""},{"$f":"IF(Go!F79=1,ROW()+COLUMN()/100,\"\")","v":""},{"$f":"IF(Go!G79=1,ROW()+COLUMN()/100,\"\")","v":""},{"$f":"IF(Go!H79=1,ROW()+COLUMN()/100,\"\")","v":""},{"$f":"IF(Go!I79=1,ROW()+COLUMN()/100,\"\")","v":""},{"$f":"IF(Go!J79=1,ROW()+COLUMN()/100,\"\")","v":""},{"$f":"IF(Go!K79=1,ROW()+COLUMN()/100,\"\")","v":""},{"$f":"IF(Go!L79=1,ROW()+COLUMN()/100,\"\")","v":""},{"$f":"IF(Go!M79=1,ROW()+COLUMN()/100,\"\")","v":""},{"$f":"IF(Go!N79=1,ROW()+COLUMN()/100,\"\")","v":""},{"$f":"IF(Go!O79=1,ROW()+COLUMN()/100,\"\")","v":""},{"$f":"IF(Go!P79=1,ROW()+COLUMN()/100,\"\")","v":""},{"$f":"IF(Go!Q79=1,ROW()+COLUMN()/100,\"\")","v":""},{"$f":"IF(Go!R79=1,ROW()+COLUMN()/100,\"\")","v":""},{"$f":"IF(Go!S79=1,ROW()+COLUMN()/100,\"\")","v":""},{"$f":"IF(Go!T79=1,ROW()+COLUMN()/100,\"\")","v":""},{"$f":"IF(Go!U79=1,ROW()+COLUMN()/100,\"\")","v":""},{"$f":"IF(Go!V79=1,ROW()+COLUMN()/100,\"\")","v":""},{"$f":"IF(Go!W79=1,ROW()+COLUMN()/100,\"\")","v":""},{"$f":"IF(Go!X79=1,ROW()+COLUMN()/100,\"\")","v":""},{"$f":"IF(Go!Y79=1,ROW()+COLUMN()/100,\"\")","v":""},{"$f":"IF(Go!Z79=1,ROW()+COLUMN()/100,\"\")","v":""},{"$f":"IF(Go!AA79=1,ROW()+COLUMN()/100,\"\")","v":""},{"$f":"IF(Go!AB79=1,ROW()+COLUMN()/100,\"\")","v":""},{"$f":"IF(Go!AC79=1,ROW()+COLUMN()/100,\"\")","v":""},{"$f":"IF(Go!AD79=1,ROW()+COLUMN()/100,\"\")","v":""},{"$f":"IF(Go!AE79=1,ROW()+COLUMN()/100,\"\")","v":""},{"$f":"IF(Go!AF79=1,ROW()+COLUMN()/100,\"\")","v":""},{"$f":"IF(Go!AG79=1,ROW()+COLUMN()/100,\"\")","v":""},{"$f":"IF(Go!AH79=1,ROW()+COLUMN()/100,\"\")","v":""},{"$f":"Go!AI79","v":0}]
[null,null,null,{"$f":"Go!D80","v":0},{"$f":"IF(Go!E80=1,ROW()+COLUMN()/100,\"\")","v":""},{"$f":"IF(Go!F80=1,ROW()+COLUMN()/100,\"\")","v":""},{"$f":"IF(Go!G80=1,ROW()+COLUMN()/100,\"\")","v":""},{"$f":"IF(Go!H80=1,ROW()+COLUMN()/100,\"\")","v":""},{"$f":"IF(Go!I80=1,ROW()+COLUMN()/100,\"\")","v":""},{"$f":"IF(Go!J80=1,ROW()+COLUMN()/100,\"\")","v":""},{"$f":"IF(Go!K80=1,ROW()+COLUMN()/100,\"\")","v":""},{"$f":"IF(Go!L80=1,ROW()+COLUMN()/100,\"\")","v":""},{"$f":"IF(Go!M80=1,ROW()+COLUMN()/100,\"\")","v":""},{"$f":"IF(Go!N80=1,ROW()+COLUMN()/100,\"\")","v":""},{"$f":"IF(Go!O80=1,ROW()+COLUMN()/100,\"\")","v":""},{"$f":"IF(Go!P80=1,ROW()+COLUMN()/100,\"\")","v":""},{"$f":"IF(Go!Q80=1,ROW()+COLUMN()/100,\"\")","v":""},{"$f":"IF(Go!R80=1,ROW()+COLUMN()/100,\"\")","v":""},{"$f":"IF(Go!S80=1,ROW()+COLUMN()/100,\"\")","v":""},{"$f":"IF(Go!T80=1,ROW()+COLUMN()/100,\"\")","v":""},{"$f":"IF(Go!U80=1,ROW()+COLUMN()/100,\"\")","v":""},{"$f":"IF(Go!V80=1,ROW()+COLUMN()/100,\"\")","v":""},{"$f":"IF(Go!W80=1,ROW()+COLUMN()/100,\"\")","v":""},{"$f":"IF(Go!X80=1,ROW()+COLUMN()/100,\"\")","v":""},{"$f":"IF(Go!Y80=1,ROW()+COLUMN()/100,\"\")","v":""},{"$f":"IF(Go!Z80=1,ROW()+COLUMN()/100,\"\")","v":""},{"$f":"IF(Go!AA80=1,ROW()+COLUMN()/100,\"\")","v":""},{"$f":"IF(Go!AB80=1,ROW()+COLUMN()/100,\"\")","v":""},{"$f":"IF(Go!AC80=1,ROW()+COLUMN()/100,\"\")","v":""},{"$f":"IF(Go!AD80=1,ROW()+COLUMN()/100,\"\")","v":""},{"$f":"IF(Go!AE80=1,ROW()+COLUMN()/100,\"\")","v":""},{"$f":"IF(Go!AF80=1,ROW()+COLUMN()/100,\"\")","v":""},{"$f":"IF(Go!AG80=1,ROW()+COLUMN()/100,\"\")","v":""},{"$f":"IF(Go!AH80=1,ROW()+COLUMN()/100,\"\")","v":""},{"$f":"Go!AI80","v":0}]
[null,null,null,{"$f":"Go!D81","v":0},{"$f":"IF(Go!E81=1,ROW()+COLUMN()/100,\"\")","v":""},{"$f":"IF(Go!F81=1,ROW()+COLUMN()/100,\"\")","v":""},{"$f":"IF(Go!G81=1,ROW()+COLUMN()/100,\"\")","v":""},{"$f":"IF(Go!H81=1,ROW()+COLUMN()/100,\"\")","v":""},{"$f":"IF(Go!I81=1,ROW()+COLUMN()/100,\"\")","v":""},{"$f":"IF(Go!J81=1,ROW()+COLUMN()/100,\"\")","v":""},{"$f":"IF(Go!K81=1,ROW()+COLUMN()/100,\"\")","v":""},{"$f":"IF(Go!L81=1,ROW()+COLUMN()/100,\"\")","v":""},{"$f":"IF(Go!M81=1,ROW()+COLUMN()/100,\"\")","v":""},{"$f":"IF(Go!N81=1,ROW()+COLUMN()/100,\"\")","v":""},{"$f":"IF(Go!O81=1,ROW()+COLUMN()/100,\"\")","v":""},{"$f":"IF(Go!P81=1,ROW()+COLUMN()/100,\"\")","v":""},{"$f":"IF(Go!Q81=1,ROW()+COLUMN()/100,\"\")","v":""},{"$f":"IF(Go!R81=1,ROW()+COLUMN()/100,\"\")","v":""},{"$f":"IF(Go!S81=1,ROW()+COLUMN()/100,\"\")","v":""},{"$f":"IF(Go!T81=1,ROW()+COLUMN()/100,\"\")","v":""},{"$f":"IF(Go!U81=1,ROW()+COLUMN()/100,\"\")","v":""},{"$f":"IF(Go!V81=1,ROW()+COLUMN()/100,\"\")","v":""},{"$f":"IF(Go!W81=1,ROW()+COLUMN()/100,\"\")","v":""},{"$f":"IF(Go!X81=1,ROW()+COLUMN()/100,\"\")","v":""},{"$f":"IF(Go!Y81=1,ROW()+COLUMN()/100,\"\")","v":""},{"$f":"IF(Go!Z81=1,ROW()+COLUMN()/100,\"\")","v":""},{"$f":"IF(Go!AA81=1,ROW()+COLUMN()/100,\"\")","v":""},{"$f":"IF(Go!AB81=1,ROW()+COLUMN()/100,\"\")","v":""},{"$f":"IF(Go!AC81=1,ROW()+COLUMN()/100,\"\")","v":""},{"$f":"IF(Go!AD81=1,ROW()+COLUMN()/100,\"\")","v":""},{"$f":"IF(Go!AE81=1,ROW()+COLUMN()/100,\"\")","v":""},{"$f":"IF(Go!AF81=1,ROW()+COLUMN()/100,\"\")","v":""},{"$f":"IF(Go!AG81=1,ROW()+COLUMN()/100,\"\")","v":""},{"$f":"IF(Go!AH81=1,ROW()+COLUMN()/100,\"\")","v":""},{"$f":"Go!AI81","v":0}]
[null,null,null,{"$f":"Go!D82","v":0},{"$f":"IF(Go!E82=1,ROW()+COLUMN()/100,\"\")","v":""},{"$f":"IF(Go!F82=1,ROW()+COLUMN()/100,\"\")","v":""},{"$f":"IF(Go!G82=1,ROW()+COLUMN()/100,\"\")","v":""},{"$f":"IF(Go!H82=1,ROW()+COLUMN()/100,\"\")","v":""},{"$f":"IF(Go!I82=1,ROW()+COLUMN()/100,\"\")","v":""},{"$f":"IF(Go!J82=1,ROW()+COLUMN()/100,\"\")","v":""},{"$f":"IF(Go!K82=1,ROW()+COLUMN()/100,\"\")","v":""},{"$f":"IF(Go!L82=1,ROW()+COLUMN()/100,\"\")","v":""},{"$f":"IF(Go!M82=1,ROW()+COLUMN()/100,\"\")","v":""},{"$f":"IF(Go!N82=1,ROW()+COLUMN()/100,\"\")","v":""},{"$f":"IF(Go!O82=1,ROW()+COLUMN()/100,\"\")","v":""},{"$f":"IF(Go!P82=1,ROW()+COLUMN()/100,\"\")","v":""},{"$f":"IF(Go!Q82=1,ROW()+COLUMN()/100,\"\")","v":""},{"$f":"IF(Go!R82=1,ROW()+COLUMN()/100,\"\")","v":""},{"$f":"IF(Go!S82=1,ROW()+COLUMN()/100,\"\")","v":""},{"$f":"IF(Go!T82=1,ROW()+COLUMN()/100,\"\")","v":""},{"$f":"IF(Go!U82=1,ROW()+COLUMN()/100,\"\")","v":""},{"$f":"IF(Go!V82=1,ROW()+COLUMN()/100,\"\")","v":""},{"$f":"IF(Go!W82=1,ROW()+COLUMN()/100,\"\")","v":""},{"$f":"IF(Go!X82=1,ROW()+COLUMN()/100,\"\")","v":""},{"$f":"IF(Go!Y82=1,ROW()+COLUMN()/100,\"\")","v":""},{"$f":"IF(Go!Z82=1,ROW()+COLUMN()/100,\"\")","v":""},{"$f":"IF(Go!AA82=1,ROW()+COLUMN()/100,\"\")","v":""},{"$f":"IF(Go!AB82=1,ROW()+COLUMN()/100,\"\")","v":""},{"$f":"IF(Go!AC82=1,ROW()+COLUMN()/100,\"\")","v":""},{"$f":"IF(Go!AD82=1,ROW()+COLUMN()/100,\"\")","v":""},{"$f":"IF(Go!AE82=1,ROW()+COLUMN()/100,\"\")","v":""},{"$f":"IF(Go!AF82=1,ROW()+COLUMN()/100,\"\")","v":""},{"$f":"IF(Go!AG82=1,ROW()+COLUMN()/100,\"\")","v":""},{"$f":"IF(Go!AH82=1,ROW()+COLUMN()/100,\"\")","v":""},{"$f":"Go!AI82","v":0}]
[null,null,null,{"$f":"Go!D83","v":0},{"$f":"IF(Go!E83=1,ROW()+COLUMN()/100,\"\")","v":""},{"$f":"IF(Go!F83=1,ROW()+COLUMN()/100,\"\")","v":""},{"$f":"IF(Go!G83=1,ROW()+COLUMN()/100,\"\")","v":""},{"$f":"IF(Go!H83=1,ROW()+COLUMN()/100,\"\")","v":""},{"$f":"IF(Go!I83=1,ROW()+COLUMN()/100,\"\")","v":""},{"$f":"IF(Go!J83=1,ROW()+COLUMN()/100,\"\")","v":""},{"$f":"IF(Go!K83=1,ROW()+COLUMN()/100,\"\")","v":""},{"$f":"IF(Go!L83=1,ROW()+COLUMN()/100,\"\")","v":""},{"$f":"IF(Go!M83=1,ROW()+COLUMN()/100,\"\")","v":""},{"$f":"IF(Go!N83=1,ROW()+COLUMN()/100,\"\")","v":""},{"$f":"IF(Go!O83=1,ROW()+COLUMN()/100,\"\")","v":""},{"$f":"IF(Go!P83=1,ROW()+COLUMN()/100,\"\")","v":""},{"$f":"IF(Go!Q83=1,ROW()+COLUMN()/100,\"\")","v":""},{"$f":"IF(Go!R83=1,ROW()+COLUMN()/100,\"\")","v":""},{"$f":"IF(Go!S83=1,ROW()+COLUMN()/100,\"\")","v":""},{"$f":"IF(Go!T83=1,ROW()+COLUMN()/100,\"\")","v":""},{"$f":"IF(Go!U83=1,ROW()+COLUMN()/100,\"\")","v":""},{"$f":"IF(Go!V83=1,ROW()+COLUMN()/100,\"\")","v":""},{"$f":"IF(Go!W83=1,ROW()+COLUMN()/100,\"\")","v":""},{"$f":"IF(Go!X83=1,ROW()+COLUMN()/100,\"\")","v":""},{"$f":"IF(Go!Y83=1,ROW()+COLUMN()/100,\"\")","v":""},{"$f":"IF(Go!Z83=1,ROW()+COLUMN()/100,\"\")","v":""},{"$f":"IF(Go!AA83=1,ROW()+COLUMN()/100,\"\")","v":""},{"$f":"IF(Go!AB83=1,ROW()+COLUMN()/100,\"\")","v":""},{"$f":"IF(Go!AC83=1,ROW()+COLUMN()/100,\"\")","v":""},{"$f":"IF(Go!AD83=1,ROW()+COLUMN()/100,\"\")","v":""},{"$f":"IF(Go!AE83=1,ROW()+COLUMN()/100,\"\")","v":""},{"$f":"IF(Go!AF83=1,ROW()+COLUMN()/100,\"\")","v":""},{"$f":"IF(Go!AG83=1,ROW()+COLUMN()/100,\"\")","v":""},{"$f":"IF(Go!AH83=1,ROW()+COLUMN()/100,\"\")","v":""},{"$f":"Go!AI83","v":0}]
[null,null,null,{"$f":"Go!D84","v":0},{"$f":"IF(Go!E84=1,ROW()+COLUMN()/100,\"\")","v":""},{"$f":"IF(Go!F84=1,ROW()+COLUMN()/100,\"\")","v":""},{"$f":"IF(Go!G84=1,ROW()+COLUMN()/100,\"\")","v":""},{"$f":"IF(Go!H84=1,ROW()+COLUMN()/100,\"\")","v":""},{"$f":"IF(Go!I84=1,ROW()+COLUMN()/100,\"\")","v":""},{"$f":"IF(Go!J84=1,ROW()+COLUMN()/100,\"\")","v":""},{"$f":"IF(Go!K84=1,ROW()+COLUMN()/100,\"\")","v":""},{"$f":"IF(Go!L84=1,ROW()+COLUMN()/100,\"\")","v":""},{"$f":"IF(Go!M84=1,ROW()+COLUMN()/100,\"\")","v":""},{"$f":"IF(Go!N84=1,ROW()+COLUMN()/100,\"\")","v":""},{"$f":"IF(Go!O84=1,ROW()+COLUMN()/100,\"\")","v":""},{"$f":"IF(Go!P84=1,ROW()+COLUMN()/100,\"\")","v":""},{"$f":"IF(Go!Q84=1,ROW()+COLUMN()/100,\"\")","v":""},{"$f":"IF(Go!R84=1,ROW()+COLUMN()/100,\"\")","v":""},{"$f":"IF(Go!S84=1,ROW()+COLUMN()/100,\"\")","v":""},{"$f":"IF(Go!T84=1,ROW()+COLUMN()/100,\"\")","v":""},{"$f":"IF(Go!U84=1,ROW()+COLUMN()/100,\"\")","v":""},{"$f":"IF(Go!V84=1,ROW()+COLUMN()/100,\"\")","v":""},{"$f":"IF(Go!W84=1,ROW()+COLUMN()/100,\"\")","v":""},{"$f":"IF(Go!X84=1,ROW()+COLUMN()/100,\"\")","v":""},{"$f":"IF(Go!Y84=1,ROW()+COLUMN()/100,\"\")","v":""},{"$f":"IF(Go!Z84=1,ROW()+COLUMN()/100,\"\")","v":""},{"$f":"IF(Go!AA84=1,ROW()+COLUMN()/100,\"\")","v":""},{"$f":"IF(Go!AB84=1,ROW()+COLUMN()/100,\"\")","v":""},{"$f":"IF(Go!AC84=1,ROW()+COLUMN()/100,\"\")","v":""},{"$f":"IF(Go!AD84=1,ROW()+COLUMN()/100,\"\")","v":""},{"$f":"IF(Go!AE84=1,ROW()+COLUMN()/100,\"\")","v":""},{"$f":"IF(Go!AF84=1,ROW()+COLUMN()/100,\"\")","v":""},{"$f":"IF(Go!AG84=1,ROW()+COLUMN()/100,\"\")","v":""},{"$f":"IF(Go!AH84=1,ROW()+COLUMN()/100,\"\")","v":""},{"$f":"Go!AI84","v":0}]
[null,null,null,{"$f":"Go!D85","v":0},{"$f":"IF(Go!E85=1,ROW()+COLUMN()/100,\"\")","v":""},{"$f":"IF(Go!F85=1,ROW()+COLUMN()/100,\"\")","v":""},{"$f":"IF(Go!G85=1,ROW()+COLUMN()/100,\"\")","v":""},{"$f":"IF(Go!H85=1,ROW()+COLUMN()/100,\"\")","v":""},{"$f":"IF(Go!I85=1,ROW()+COLUMN()/100,\"\")","v":""},{"$f":"IF(Go!J85=1,ROW()+COLUMN()/100,\"\")","v":""},{"$f":"IF(Go!K85=1,ROW()+COLUMN()/100,\"\")","v":""},{"$f":"IF(Go!L85=1,ROW()+COLUMN()/100,\"\")","v":""},{"$f":"IF(Go!M85=1,ROW()+COLUMN()/100,\"\")","v":""},{"$f":"IF(Go!N85=1,ROW()+COLUMN()/100,\"\")","v":""},{"$f":"IF(Go!O85=1,ROW()+COLUMN()/100,\"\")","v":""},{"$f":"IF(Go!P85=1,ROW()+COLUMN()/100,\"\")","v":""},{"$f":"IF(Go!Q85=1,ROW()+COLUMN()/100,\"\")","v":""},{"$f":"IF(Go!R85=1,ROW()+COLUMN()/100,\"\")","v":""},{"$f":"IF(Go!S85=1,ROW()+COLUMN()/100,\"\")","v":""},{"$f":"IF(Go!T85=1,ROW()+COLUMN()/100,\"\")","v":""},{"$f":"IF(Go!U85=1,ROW()+COLUMN()/100,\"\")","v":""},{"$f":"IF(Go!V85=1,ROW()+COLUMN()/100,\"\")","v":""},{"$f":"IF(Go!W85=1,ROW()+COLUMN()/100,\"\")","v":""},{"$f":"IF(Go!X85=1,ROW()+COLUMN()/100,\"\")","v":""},{"$f":"IF(Go!Y85=1,ROW()+COLUMN()/100,\"\")","v":""},{"$f":"IF(Go!Z85=1,ROW()+COLUMN()/100,\"\")","v":""},{"$f":"IF(Go!AA85=1,ROW()+COLUMN()/100,\"\")","v":""},{"$f":"IF(Go!AB85=1,ROW()+COLUMN()/100,\"\")","v":""},{"$f":"IF(Go!AC85=1,ROW()+COLUMN()/100,\"\")","v":""},{"$f":"IF(Go!AD85=1,ROW()+COLUMN()/100,\"\")","v":""},{"$f":"IF(Go!AE85=1,ROW()+COLUMN()/100,\"\")","v":""},{"$f":"IF(Go!AF85=1,ROW()+COLUMN()/100,\"\")","v":""},{"$f":"IF(Go!AG85=1,ROW()+COLUMN()/100,\"\")","v":""},{"$f":"IF(Go!AH85=1,ROW()+COLUMN()/100,\"\")","v":""},{"$f":"Go!AI85","v":0}]
[null,null,null,{"$f":"Go!D86","v":0},{"$f":"IF(Go!E86=1,ROW()+COLUMN()/100,\"\")","v":""},{"$f":"IF(Go!F86=1,ROW()+COLUMN()/100,\"\")","v":""},{"$f":"IF(Go!G86=1,ROW()+COLUMN()/100,\"\")","v":""},{"$f":"IF(Go!H86=1,ROW()+COLUMN()/100,\"\")","v":""},{"$f":"IF(Go!I86=1,ROW()+COLUMN()/100,\"\")","v":""},{"$f":"IF(Go!J86=1,ROW()+COLUMN()/100,\"\")","v":""},{"$f":"IF(Go!K86=1,ROW()+COLUMN()/100,\"\")","v":""},{"$f":"IF(Go!L86=1,ROW()+COLUMN()/100,\"\")","v":""},{"$f":"IF(Go!M86=1,ROW()+COLUMN()/100,\"\")","v":""},{"$f":"IF(Go!N86=1,ROW()+COLUMN()/100,\"\")","v":""},{"$f":"IF(Go!O86=1,ROW()+COLUMN()/100,\"\")","v":""},{"$f":"IF(Go!P86=1,ROW()+COLUMN()/100,\"\")","v":""},{"$f":"IF(Go!Q86=1,ROW()+COLUMN()/100,\"\")","v":""},{"$f":"IF(Go!R86=1,ROW()+COLUMN()/100,\"\")","v":""},{"$f":"IF(Go!S86=1,ROW()+COLUMN()/100,\"\")","v":""},{"$f":"IF(Go!T86=1,ROW()+COLUMN()/100,\"\")","v":""},{"$f":"IF(Go!U86=1,ROW()+COLUMN()/100,\"\")","v":""},{"$f":"IF(Go!V86=1,ROW()+COLUMN()/100,\"\")","v":""},{"$f":"IF(Go!W86=1,ROW()+COLUMN()/100,\"\")","v":""},{"$f":"IF(Go!X86=1,ROW()+COLUMN()/100,\"\")","v":""},{"$f":"IF(Go!Y86=1,ROW()+COLUMN()/100,\"\")","v":""},{"$f":"IF(Go!Z86=1,ROW()+COLUMN()/100,\"\")","v":""},{"$f":"IF(Go!AA86=1,ROW()+COLUMN()/100,\"\")","v":""},{"$f":"IF(Go!AB86=1,ROW()+COLUMN()/100,\"\")","v":""},{"$f":"IF(Go!AC86=1,ROW()+COLUMN()/100,\"\")","v":""},{"$f":"IF(Go!AD86=1,ROW()+COLUMN()/100,\"\")","v":""},{"$f":"IF(Go!AE86=1,ROW()+COLUMN()/100,\"\")","v":""},{"$f":"IF(Go!AF86=1,ROW()+COLUMN()/100,\"\")","v":""},{"$f":"IF(Go!AG86=1,ROW()+COLUMN()/100,\"\")","v":""},{"$f":"IF(Go!AH86=1,ROW()+COLUMN()/100,\"\")","v":""},{"$f":"Go!AI86","v":0}]
[null,null,null,{"$f":"Go!D87","v":0},{"$f":"IF(Go!E87=1,ROW()+COLUMN()/100,\"\")","v":""},{"$f":"IF(Go!F87=1,ROW()+COLUMN()/100,\"\")","v":""},{"$f":"IF(Go!G87=1,ROW()+COLUMN()/100,\"\")","v":""},{"$f":"IF(Go!H87=1,ROW()+COLUMN()/100,\"\")","v":""},{"$f":"IF(Go!I87=1,ROW()+COLUMN()/100,\"\")","v":""},{"$f":"IF(Go!J87=1,ROW()+COLUMN()/100,\"\")","v":""},{"$f":"IF(Go!K87=1,ROW()+COLUMN()/100,\"\")","v":""},{"$f":"IF(Go!L87=1,ROW()+COLUMN()/100,\"\")","v":""},{"$f":"IF(Go!M87=1,ROW()+COLUMN()/100,\"\")","v":""},{"$f":"IF(Go!N87=1,ROW()+COLUMN()/100,\"\")","v":""},{"$f":"IF(Go!O87=1,ROW()+COLUMN()/100,\"\")","v":""},{"$f":"IF(Go!P87=1,ROW()+COLUMN()/100,\"\")","v":""},{"$f":"IF(Go!Q87=1,ROW()+COLUMN()/100,\"\")","v":""},{"$f":"IF(Go!R87=1,ROW()+COLUMN()/100,\"\")","v":""},{"$f":"IF(Go!S87=1,ROW()+COLUMN()/100,\"\")","v":""},{"$f":"IF(Go!T87=1,ROW()+COLUMN()/100,\"\")","v":""},{"$f":"IF(Go!U87=1,ROW()+COLUMN()/100,\"\")","v":""},{"$f":"IF(Go!V87=1,ROW()+COLUMN()/100,\"\")","v":""},{"$f":"IF(Go!W87=1,ROW()+COLUMN()/100,\"\")","v":""},{"$f":"IF(Go!X87=1,ROW()+COLUMN()/100,\"\")","v":""},{"$f":"IF(Go!Y87=1,ROW()+COLUMN()/100,\"\")","v":""},{"$f":"IF(Go!Z87=1,ROW()+COLUMN()/100,\"\")","v":""},{"$f":"IF(Go!AA87=1,ROW()+COLUMN()/100,\"\")","v":""},{"$f":"IF(Go!AB87=1,ROW()+COLUMN()/100,\"\")","v":""},{"$f":"IF(Go!AC87=1,ROW()+COLUMN()/100,\"\")","v":""},{"$f":"IF(Go!AD87=1,ROW()+COLUMN()/100,\"\")","v":""},{"$f":"IF(Go!AE87=1,ROW()+COLUMN()/100,\"\")","v":""},{"$f":"IF(Go!AF87=1,ROW()+COLUMN()/100,\"\")","v":""},{"$f":"IF(Go!AG87=1,ROW()+COLUMN()/100,\"\")","v":""},{"$f":"IF(Go!AH87=1,ROW()+COLUMN()/100,\"\")","v":""},{"$f":"Go!AI87","v":0}]
[null,null,null,{"$f":"Go!D88","v":0},{"$f":"IF(Go!E88=1,ROW()+COLUMN()/100,\"\")","v":""},{"$f":"IF(Go!F88=1,ROW()+COLUMN()/100,\"\")","v":""},{"$f":"IF(Go!G88=1,ROW()+COLUMN()/100,\"\")","v":""},{"$f":"IF(Go!H88=1,ROW()+COLUMN()/100,\"\")","v":""},{"$f":"IF(Go!I88=1,ROW()+COLUMN()/100,\"\")","v":""},{"$f":"IF(Go!J88=1,ROW()+COLUMN()/100,\"\")","v":""},{"$f":"IF(Go!K88=1,ROW()+COLUMN()/100,\"\")","v":""},{"$f":"IF(Go!L88=1,ROW()+COLUMN()/100,\"\")","v":""},{"$f":"IF(Go!M88=1,ROW()+COLUMN()/100,\"\")","v":""},{"$f":"IF(Go!N88=1,ROW()+COLUMN()/100,\"\")","v":""},{"$f":"IF(Go!O88=1,ROW()+COLUMN()/100,\"\")","v":""},{"$f":"IF(Go!P88=1,ROW()+COLUMN()/100,\"\")","v":""},{"$f":"IF(Go!Q88=1,ROW()+COLUMN()/100,\"\")","v":""},{"$f":"IF(Go!R88=1,ROW()+COLUMN()/100,\"\")","v":""},{"$f":"IF(Go!S88=1,ROW()+COLUMN()/100,\"\")","v":""},{"$f":"IF(Go!T88=1,ROW()+COLUMN()/100,\"\")","v":""},{"$f":"IF(Go!U88=1,ROW()+COLUMN()/100,\"\")","v":""},{"$f":"IF(Go!V88=1,ROW()+COLUMN()/100,\"\")","v":""},{"$f":"IF(Go!W88=1,ROW()+COLUMN()/100,\"\")","v":""},{"$f":"IF(Go!X88=1,ROW()+COLUMN()/100,\"\")","v":""},{"$f":"IF(Go!Y88=1,ROW()+COLUMN()/100,\"\")","v":""},{"$f":"IF(Go!Z88=1,ROW()+COLUMN()/100,\"\")","v":""},{"$f":"IF(Go!AA88=1,ROW()+COLUMN()/100,\"\")","v":""},{"$f":"IF(Go!AB88=1,ROW()+COLUMN()/100,\"\")","v":""},{"$f":"IF(Go!AC88=1,ROW()+COLUMN()/100,\"\")","v":""},{"$f":"IF(Go!AD88=1,ROW()+COLUMN()/100,\"\")","v":""},{"$f":"IF(Go!AE88=1,ROW()+COLUMN()/100,\"\")","v":""},{"$f":"IF(Go!AF88=1,ROW()+COLUMN()/100,\"\")","v":""},{"$f":"IF(Go!AG88=1,ROW()+COLUMN()/100,\"\")","v":""},{"$f":"IF(Go!AH88=1,ROW()+COLUMN()/100,\"\")","v":""},{"$f":"Go!AI88","v":0}]
[null,null,null,{"$f":"Go!D89","v":0},{"$f":"IF(Go!E89=1,ROW()+COLUMN()/100,\"\")","v":""},{"$f":"IF(Go!F89=1,ROW()+COLUMN()/100,\"\")","v":""},{"$f":"IF(Go!G89=1,ROW()+COLUMN()/100,\"\")","v":""},{"$f":"IF(Go!H89=1,ROW()+COLUMN()/100,\"\")","v":""},{"$f":"IF(Go!I89=1,ROW()+COLUMN()/100,\"\")","v":""},{"$f":"IF(Go!J89=1,ROW()+COLUMN()/100,\"\")","v":""},{"$f":"IF(Go!K89=1,ROW()+COLUMN()/100,\"\")","v":""},{"$f":"IF(Go!L89=1,ROW()+COLUMN()/100,\"\")","v":""},{"$f":"IF(Go!M89=1,ROW()+COLUMN()/100,\"\")","v":""},{"$f":"IF(Go!N89=1,ROW()+COLUMN()/100,\"\")","v":""},{"$f":"IF(Go!O89=1,ROW()+COLUMN()/100,\"\")","v":""},{"$f":"IF(Go!P89=1,ROW()+COLUMN()/100,\"\")","v":""},{"$f":"IF(Go!Q89=1,ROW()+COLUMN()/100,\"\")","v":""},{"$f":"IF(Go!R89=1,ROW()+COLUMN()/100,\"\")","v":""},{"$f":"IF(Go!S89=1,ROW()+COLUMN()/100,\"\")","v":""},{"$f":"IF(Go!T89=1,ROW()+COLUMN()/100,\"\")","v":""},{"$f":"IF(Go!U89=1,ROW()+COLUMN()/100,\"\")","v":""},{"$f":"IF(Go!V89=1,ROW()+COLUMN()/100,\"\")","v":""},{"$f":"IF(Go!W89=1,ROW()+COLUMN()/100,\"\")","v":""},{"$f":"IF(Go!X89=1,ROW()+COLUMN()/100,\"\")","v":""},{"$f":"IF(Go!Y89=1,ROW()+COLUMN()/100,\"\")","v":""},{"$f":"IF(Go!Z89=1,ROW()+COLUMN()/100,\"\")","v":""},{"$f":"IF(Go!AA89=1,ROW()+COLUMN()/100,\"\")","v":""},{"$f":"IF(Go!AB89=1,ROW()+COLUMN()/100,\"\")","v":""},{"$f":"IF(Go!AC89=1,ROW()+COLUMN()/100,\"\")","v":""},{"$f":"IF(Go!AD89=1,ROW()+COLUMN()/100,\"\")","v":""},{"$f":"IF(Go!AE89=1,ROW()+COLUMN()/100,\"\")","v":""},{"$f":"IF(Go!AF89=1,ROW()+COLUMN()/100,\"\")","v":""},{"$f":"IF(Go!AG89=1,ROW()+COLUMN()/100,\"\")","v":""},{"$f":"IF(Go!AH89=1,ROW()+COLUMN()/100,\"\")","v":""},{"$f":"Go!AI89","v":0}]
[null,null,null,{"$f":"Go!D90","v":0},{"$f":"IF(Go!E90=1,ROW()+COLUMN()/100,\"\")","v":""},{"$f":"IF(Go!F90=1,ROW()+COLUMN()/100,\"\")","v":""},{"$f":"IF(Go!G90=1,ROW()+COLUMN()/100,\"\")","v":""},{"$f":"IF(Go!H90=1,ROW()+COLUMN()/100,\"\")","v":""},{"$f":"IF(Go!I90=1,ROW()+COLUMN()/100,\"\")","v":""},{"$f":"IF(Go!J90=1,ROW()+COLUMN()/100,\"\")","v":""},{"$f":"IF(Go!K90=1,ROW()+COLUMN()/100,\"\")","v":""},{"$f":"IF(Go!L90=1,ROW()+COLUMN()/100,\"\")","v":""},{"$f":"IF(Go!M90=1,ROW()+COLUMN()/100,\"\")","v":""},{"$f":"IF(Go!N90=1,ROW()+COLUMN()/100,\"\")","v":""},{"$f":"IF(Go!O90=1,ROW()+COLUMN()/100,\"\")","v":""},{"$f":"IF(Go!P90=1,ROW()+COLUMN()/100,\"\")","v":""},{"$f":"IF(Go!Q90=1,ROW()+COLUMN()/100,\"\")","v":""},{"$f":"IF(Go!R90=1,ROW()+COLUMN()/100,\"\")","v":""},{"$f":"IF(Go!S90=1,ROW()+COLUMN()/100,\"\")","v":""},{"$f":"IF(Go!T90=1,ROW()+COLUMN()/100,\"\")","v":""},{"$f":"IF(Go!U90=1,ROW()+COLUMN()/100,\"\")","v":""},{"$f":"IF(Go!V90=1,ROW()+COLUMN()/100,\"\")","v":""},{"$f":"IF(Go!W90=1,ROW()+COLUMN()/100,\"\")","v":""},{"$f":"IF(Go!X90=1,ROW()+COLUMN()/100,\"\")","v":""},{"$f":"IF(Go!Y90=1,ROW()+COLUMN()/100,\"\")","v":""},{"$f":"IF(Go!Z90=1,ROW()+COLUMN()/100,\"\")","v":""},{"$f":"IF(Go!AA90=1,ROW()+COLUMN()/100,\"\")","v":""},{"$f":"IF(Go!AB90=1,ROW()+COLUMN()/100,\"\")","v":""},{"$f":"IF(Go!AC90=1,ROW()+COLUMN()/100,\"\")","v":""},{"$f":"IF(Go!AD90=1,ROW()+COLUMN()/100,\"\")","v":""},{"$f":"IF(Go!AE90=1,ROW()+COLUMN()/100,\"\")","v":""},{"$f":"IF(Go!AF90=1,ROW()+COLUMN()/100,\"\")","v":""},{"$f":"IF(Go!AG90=1,ROW()+COLUMN()/100,\"\")","v":""},{"$f":"IF(Go!AH90=1,ROW()+COLUMN()/100,\"\")","v":""},{"$f":"Go!AI90","v":0}]
[null,null,null,{"$f":"Go!D91","v":0},{"$f":"IF(Go!E91=1,ROW()+COLUMN()/100,\"\")","v":""},{"$f":"IF(Go!F91=1,ROW()+COLUMN()/100,\"\")","v":""},{"$f":"IF(Go!G91=1,ROW()+COLUMN()/100,\"\")","v":""},{"$f":"IF(Go!H91=1,ROW()+COLUMN()/100,\"\")","v":""},{"$f":"IF(Go!I91=1,ROW()+COLUMN()/100,\"\")","v":""},{"$f":"IF(Go!J91=1,ROW()+COLUMN()/100,\"\")","v":""},{"$f":"IF(Go!K91=1,ROW()+COLUMN()/100,\"\")","v":""},{"$f":"IF(Go!L91=1,ROW()+COLUMN()/100,\"\")","v":""},{"$f":"IF(Go!M91=1,ROW()+COLUMN()/100,\"\")","v":""},{"$f":"IF(Go!N91=1,ROW()+COLUMN()/100,\"\")","v":""},{"$f":"IF(Go!O91=1,ROW()+COLUMN()/100,\"\")","v":""},{"$f":"IF(Go!P91=1,ROW()+COLUMN()/100,\"\")","v":""},{"$f":"IF(Go!Q91=1,ROW()+COLUMN()/100,\"\")","v":""},{"$f":"IF(Go!R91=1,ROW()+COLUMN()/100,\"\")","v":""},{"$f":"IF(Go!S91=1,ROW()+COLUMN()/100,\"\")","v":""},{"$f":"IF(Go!T91=1,ROW()+COLUMN()/100,\"\")","v":""},{"$f":"IF(Go!U91=1,ROW()+COLUMN()/100,\"\")","v":""},{"$f":"IF(Go!V91=1,ROW()+COLUMN()/100,\"\")","v":""},{"$f":"IF(Go!W91=1,ROW()+COLUMN()/100,\"\")","v":""},{"$f":"IF(Go!X91=1,ROW()+COLUMN()/100,\"\")","v":""},{"$f":"IF(Go!Y91=1,ROW()+COLUMN()/100,\"\")","v":""},{"$f":"IF(Go!Z91=1,ROW()+COLUMN()/100,\"\")","v":""},{"$f":"IF(Go!AA91=1,ROW()+COLUMN()/100,\"\")","v":""},{"$f":"IF(Go!AB91=1,ROW()+COLUMN()/100,\"\")","v":""},{"$f":"IF(Go!AC91=1,ROW()+COLUMN()/100,\"\")","v":""},{"$f":"IF(Go!AD91=1,ROW()+COLUMN()/100,\"\")","v":""},{"$f":"IF(Go!AE91=1,ROW()+COLUMN()/100,\"\")","v":""},{"$f":"IF(Go!AF91=1,ROW()+COLUMN()/100,\"\")","v":""},{"$f":"IF(Go!AG91=1,ROW()+COLUMN()/100,\"\")","v":""},{"$f":"IF(Go!AH91=1,ROW()+COLUMN()/100,\"\")","v":""},{"$f":"Go!AI91","v":0}]
[null,null,null,{"$f":"Go!D92","v":0},{"$f":"IF(Go!E92=1,ROW()+COLUMN()/100,\"\")","v":""},{"$f":"IF(Go!F92=1,ROW()+COLUMN()/100,\"\")","v":""},{"$f":"IF(Go!G92=1,ROW()+COLUMN()/100,\"\")","v":""},{"$f":"IF(Go!H92=1,ROW()+COLUMN()/100,\"\")","v":""},{"$f":"IF(Go!I92=1,ROW()+COLUMN()/100,\"\")","v":""},{"$f":"IF(Go!J92=1,ROW()+COLUMN()/100,\"\")","v":""},{"$f":"IF(Go!K92=1,ROW()+COLUMN()/100,\"\")","v":""},{"$f":"IF(Go!L92=1,ROW()+COLUMN()/100,\"\")","v":""},{"$f":"IF(Go!M92=1,ROW()+COLUMN()/100,\"\")","v":""},{"$f":"IF(Go!N92=1,ROW()+COLUMN()/100,\"\")","v":""},{"$f":"IF(Go!O92=1,ROW()+COLUMN()/100,\"\")","v":""},{"$f":"IF(Go!P92=1,ROW()+COLUMN()/100,\"\")","v":""},{"$f":"IF(Go!Q92=1,ROW()+COLUMN()/100,\"\")","v":""},{"$f":"IF(Go!R92=1,ROW()+COLUMN()/100,\"\")","v":""},{"$f":"IF(Go!S92=1,ROW()+COLUMN()/100,\"\")","v":""},{"$f":"IF(Go!T92=1,ROW()+COLUMN()/100,\"\")","v":""},{"$f":"IF(Go!U92=1,ROW()+COLUMN()/100,\"\")","v":""},{"$f":"IF(Go!V92=1,ROW()+COLUMN()/100,\"\")","v":""},{"$f":"IF(Go!W92=1,ROW()+COLUMN()/100,\"\")","v":""},{"$f":"IF(Go!X92=1,ROW()+COLUMN()/100,\"\")","v":""},{"$f":"IF(Go!Y92=1,ROW()+COLUMN()/100,\"\")","v":""},{"$f":"IF(Go!Z92=1,ROW()+COLUMN()/100,\"\")","v":""},{"$f":"IF(Go!AA92=1,ROW()+COLUMN()/100,\"\")","v":""},{"$f":"IF(Go!AB92=1,ROW()+COLUMN()/100,\"\")","v":""},{"$f":"IF(Go!AC92=1,ROW()+COLUMN()/100,\"\")","v":""},{"$f":"IF(Go!AD92=1,ROW()+COLUMN()/100,\"\")","v":""},{"$f":"IF(Go!AE92=1,ROW()+COLUMN()/100,\"\")","v":""},{"$f":"IF(Go!AF92=1,ROW()+COLUMN()/100,\"\")","v":""},{"$f":"IF(Go!AG92=1,ROW()+COLUMN()/100,\"\")","v":""},{"$f":"IF(Go!AH92=1,ROW()+COLUMN()/100,\"\")","v":""},{"$f":"Go!AI92","v":0}]
[null,null,null,{"$f":"Go!D93","v":0},{"$f":"IF(Go!E93=1,ROW()+COLUMN()/100,\"\")","v":""},{"$f":"IF(Go!F93=1,ROW()+COLUMN()/100,\"\")","v":""},{"$f":"IF(Go!G93=1,ROW()+COLUMN()/100,\"\")","v":""},{"$f":"IF(Go!H93=1,ROW()+COLUMN()/100,\"\")","v":""},{"$f":"IF(Go!I93=1,ROW()+COLUMN()/100,\"\")","v":""},{"$f":"IF(Go!J93=1,ROW()+COLUMN()/100,\"\")","v":""},{"$f":"IF(Go!K93=1,ROW()+COLUMN()/100,\"\")","v":""},{"$f":"IF(Go!L93=1,ROW()+COLUMN()/100,\"\")","v":""},{"$f":"IF(Go!M93=1,ROW()+COLUMN()/100,\"\")","v":""},{"$f":"IF(Go!N93=1,ROW()+COLUMN()/100,\"\")","v":""},{"$f":"IF(Go!O93=1,ROW()+COLUMN()/100,\"\")","v":""},{"$f":"IF(Go!P93=1,ROW()+COLUMN()/100,\"\")","v":""},{"$f":"IF(Go!Q93=1,ROW()+COLUMN()/100,\"\")","v":""},{"$f":"IF(Go!R93=1,ROW()+COLUMN()/100,\"\")","v":""},{"$f":"IF(Go!S93=1,ROW()+COLUMN()/100,\"\")","v":""},{"$f":"IF(Go!T93=1,ROW()+COLUMN()/100,\"\")","v":""},{"$f":"IF(Go!U93=1,ROW()+COLUMN()/100,\"\")","v":""},{"$f":"IF(Go!V93=1,ROW()+COLUMN()/100,\"\")","v":""},{"$f":"IF(Go!W93=1,ROW()+COLUMN()/100,\"\")","v":""},{"$f":"IF(Go!X93=1,ROW()+COLUMN()/100,\"\")","v":""},{"$f":"IF(Go!Y93=1,ROW()+COLUMN()/100,\"\")","v":""},{"$f":"IF(Go!Z93=1,ROW()+COLUMN()/100,\"\")","v":""},{"$f":"IF(Go!AA93=1,ROW()+COLUMN()/100,\"\")","v":""},{"$f":"IF(Go!AB93=1,ROW()+COLUMN()/100,\"\")","v":""},{"$f":"IF(Go!AC93=1,ROW()+COLUMN()/100,\"\")","v":""},{"$f":"IF(Go!AD93=1,ROW()+COLUMN()/100,\"\")","v":""},{"$f":"IF(Go!AE93=1,ROW()+COLUMN()/100,\"\")","v":""},{"$f":"IF(Go!AF93=1,ROW()+COLUMN()/100,\"\")","v":""},{"$f":"IF(Go!AG93=1,ROW()+COLUMN()/100,\"\")","v":""},{"$f":"IF(Go!AH93=1,ROW()+COLUMN()/100,\"\")","v":""},{"$f":"Go!AI93","v":0}]
[null,null,null,{"$f":"Go!D94","v":0},{"$f":"Go!E94","v":0},{"$f":"Go!F94","v":0},{"$f":"Go!G94","v":0},{"$f":"Go!H94","v":0},{"$f":"Go!I94","v":0},{"$f":"Go!J94","v":0},{"$f":"Go!K94","v":0},{"$f":"Go!L94","v":0},{"$f":"Go!M94","v":0},{"$f":"Go!N94","v":0},{"$f":"Go!O94","v":0},{"$f":"Go!P94","v":0},{"$f":"Go!Q94","v":0},{"$f":"Go!R94","v":0},{"$f":"Go!S94","v":0},{"$f":"Go!T94","v":0},{"$f":"Go!U94","v":0},{"$f":"Go!V94","v":0},{"$f":"Go!W94","v":0},{"$f":"Go!X94","v":0},{"$f":"Go!Y94","v":0},{"$f":"Go!Z94","v":0},{"$f":"Go!AA94","v":0},{"$f":"Go!AB94","v":0},{"$f":"Go!AC94","v":0},{"$f":"Go!AD94","v":0},{"$f":"Go!AE94","v":0},{"$f":"Go!AF94","v":0},{"$f":"Go!AG94","v":0},{"$f":"Go!AH94","v":0},{"$f":"Go!AI94","v":0}]
[]
[]
[null,null,null,{"$f":"Go!D97","v":0},1,2,3,4,5,6,7,8,9,10,11,12,13,14,15,16,17,18,19,20,21,22,23,24,25,26,27,28,29,30,{"$f":"Go!AI97","v":0}]
[null,null,null,1,null,null,{"$f":"IF(AND(ROW(G52)+COLUMN(G52)/100<=$B$51,Go!E7=copy!$D$3,Go!F7=copy!$D$3,Go!G7=copy!$F$3),1,IF(AND(Go!E7=copy!$D$3,Go!F7=copy!$D$3,Go!G7=copy!$F$3),\"%\",\"\"))","v":""},{"$f":"IF(AND(ROW(H52)+COLUMN(H52)/100<=$B$51,Go!F7=copy!$D$3,Go!G7=copy!$D$3,Go!H7=copy!$F$3),1,IF(AND(Go!F7=copy!$D$3,Go!G7=copy!$D$3,Go!H7=copy!$F$3),\"%\",\"\"))","v":""},{"$f":"IF(AND(ROW(I52)+COLUMN(I52)/100<=$B$51,Go!G7=copy!$D$3,Go!H7=copy!$D$3,Go!I7=copy!$F$3),1,IF(AND(Go!G7=copy!$D$3,Go!H7=copy!$D$3,Go!I7=copy!$F$3),\"%\",\"\"))","v":""},{"$f":"IF(AND(ROW(J52)+COLUMN(J52)/100<=$B$51,Go!H7=copy!$D$3,Go!I7=copy!$D$3,Go!J7=copy!$F$3),1,IF(AND(Go!H7=copy!$D$3,Go!I7=copy!$D$3,Go!J7=copy!$F$3),\"%\",\"\"))","v":""},{"$f":"IF(AND(ROW(K52)+COLUMN(K52)/100<=$B$51,Go!I7=copy!$D$3,Go!J7=copy!$D$3,Go!K7=copy!$F$3),1,IF(AND(Go!I7=copy!$D$3,Go!J7=copy!$D$3,Go!K7=copy!$F$3),\"%\",\"\"))","v":""},{"$f":"IF(AND(ROW(L52)+COLUMN(L52)/100<=$B$51,Go!J7=copy!$D$3,Go!K7=copy!$D$3,Go!L7=copy!$F$3),1,IF(AND(Go!J7=copy!$D$3,Go!K7=copy!$D$3,Go!L7=copy!$F$3),\"%\",\"\"))","v":""},{"$f":"IF(AND(ROW(M52)+COLUMN(M52)/100<=$B$51,Go!K7=copy!$D$3,Go!L7=copy!$D$3,Go!M7=copy!$F$3),1,IF(AND(Go!K7=copy!$D$3,Go!L7=copy!$D$3,Go!M7=copy!$F$3),\"%\",\"\"))","v":""},{"$f":"IF(AND(ROW(N52)+COLUMN(N52)/100<=$B$51,Go!L7=copy!$D$3,Go!M7=copy!$D$3,Go!N7=copy!$F$3),1,IF(AND(Go!L7=copy!$D$3,Go!M7=copy!$D$3,Go!N7=copy!$F$3),\"%\",\"\"))","v":""},{"$f":"IF(AND(ROW(O52)+COLUMN(O52)/100<=$B$51,Go!M7=copy!$D$3,Go!N7=copy!$D$3,Go!O7=copy!$F$3),1,IF(AND(Go!M7=copy!$D$3,Go!N7=copy!$D$3,Go!O7=copy!$F$3),\"%\",\"\"))","v":""},{"$f":"IF(AND(ROW(P52)+COLUMN(P52)/100<=$B$51,Go!N7=copy!$D$3,Go!O7=copy!$D$3,Go!P7=copy!$F$3),1,IF(AND(Go!N7=copy!$D$3,Go!O7=copy!$D$3,Go!P7=copy!$F$3),\"%\",\"\"))","v":""},{"$f":"IF(AND(ROW(Q52)+COLUMN(Q52)/100<=$B$51,Go!O7=copy!$D$3,Go!P7=copy!$D$3,Go!Q7=copy!$F$3),1,IF(AND(Go!O7=copy!$D$3,Go!P7=copy!$D$3,Go!Q7=copy!$F$3),\"%\",\"\"))","v":""},{"$f":"IF(AND(ROW(R52)+COLUMN(R52)/100<=$B$51,Go!P7=copy!$D$3,Go!Q7=copy!$D$3,Go!R7=copy!$F$3),1,IF(AND(Go!P7=copy!$D$3,Go!Q7=copy!$D$3,Go!R7=copy!$F$3),\"%\",\"\"))","v":""},{"$f":"IF(AND(ROW(S52)+COLUMN(S52)/100<=$B$51,Go!Q7=copy!$D$3,Go!R7=copy!$D$3,Go!S7=copy!$F$3),1,IF(AND(Go!Q7=copy!$D$3,Go!R7=copy!$D$3,Go!S7=copy!$F$3),\"%\",\"\"))","v":""},{"$f":"IF(AND(ROW(T52)+COLUMN(T52)/100<=$B$51,Go!R7=copy!$D$3,Go!S7=copy!$D$3,Go!T7=copy!$F$3),1,IF(AND(Go!R7=copy!$D$3,Go!S7=copy!$D$3,Go!T7=copy!$F$3),\"%\",\"\"))","v":""},{"$f":"IF(AND(ROW(U52)+COLUMN(U52)/100<=$B$51,Go!S7=copy!$D$3,Go!T7=copy!$D$3,Go!U7=copy!$F$3),1,IF(AND(Go!S7=copy!$D$3,Go!T7=copy!$D$3,Go!U7=copy!$F$3),\"%\",\"\"))","v":""},{"$f":"IF(AND(ROW(V52)+COLUMN(V52)/100<=$B$51,Go!T7=copy!$D$3,Go!U7=copy!$D$3,Go!V7=copy!$F$3),1,IF(AND(Go!T7=copy!$D$3,Go!U7=copy!$D$3,Go!V7=copy!$F$3),\"%\",\"\"))","v":""},{"$f":"IF(AND(ROW(W52)+COLUMN(W52)/100<=$B$51,Go!U7=copy!$D$3,Go!V7=copy!$D$3,Go!W7=copy!$F$3),1,IF(AND(Go!U7=copy!$D$3,Go!V7=copy!$D$3,Go!W7=copy!$F$3),\"%\",\"\"))","v":""},{"$f":"IF(AND(ROW(X52)+COLUMN(X52)/100<=$B$51,Go!V7=copy!$D$3,Go!W7=copy!$D$3,Go!X7=copy!$F$3),1,IF(AND(Go!V7=copy!$D$3,Go!W7=copy!$D$3,Go!X7=copy!$F$3),\"%\",\"\"))","v":""},{"$f":"IF(AND(ROW(Y52)+COLUMN(Y52)/100<=$B$51,Go!W7=copy!$D$3,Go!X7=copy!$D$3,Go!Y7=copy!$F$3),1,IF(AND(Go!W7=copy!$D$3,Go!X7=copy!$D$3,Go!Y7=copy!$F$3),\"%\",\"\"))","v":""},{"$f":"IF(AND(ROW(Z52)+COLUMN(Z52)/100<=$B$51,Go!X7=copy!$D$3,Go!Y7=copy!$D$3,Go!Z7=copy!$F$3),1,IF(AND(Go!X7=copy!$D$3,Go!Y7=copy!$D$3,Go!Z7=copy!$F$3),\"%\",\"\"))","v":""},{"$f":"IF(AND(ROW(AA52)+COLUMN(AA52)/100<=$B$51,Go!Y7=copy!$D$3,Go!Z7=copy!$D$3,Go!AA7=copy!$F$3),1,IF(AND(Go!Y7=copy!$D$3,Go!Z7=copy!$D$3,Go!AA7=copy!$F$3),\"%\",\"\"))","v":""},{"$f":"IF(AND(ROW(AB52)+COLUMN(AB52)/100<=$B$51,Go!Z7=copy!$D$3,Go!AA7=copy!$D$3,Go!AB7=copy!$F$3),1,IF(AND(Go!Z7=copy!$D$3,Go!AA7=copy!$D$3,Go!AB7=copy!$F$3),\"%\",\"\"))","v":""},{"$f":"IF(AND(ROW(AC52)+COLUMN(AC52)/100<=$B$51,Go!AA7=copy!$D$3,Go!AB7=copy!$D$3,Go!AC7=copy!$F$3),1,IF(AND(Go!AA7=copy!$D$3,Go!AB7=copy!$D$3,Go!AC7=copy!$F$3),\"%\",\"\"))","v":""},{"$f":"IF(AND(ROW(AD52)+COLUMN(AD52)/100<=$B$51,Go!AB7=copy!$D$3,Go!AC7=copy!$D$3,Go!AD7=copy!$F$3),1,IF(AND(Go!AB7=copy!$D$3,Go!AC7=copy!$D$3,Go!AD7=copy!$F$3),\"%\",\"\"))","v":""},{"$f":"IF(AND(ROW(AE52)+COLUMN(AE52)/100<=$B$51,Go!AC7=copy!$D$3,Go!AD7=copy!$D$3,Go!AE7=copy!$F$3),1,IF(AND(Go!AC7=copy!$D$3,Go!AD7=copy!$D$3,Go!AE7=copy!$F$3),\"%\",\"\"))","v":""},{"$f":"IF(AND(ROW(AF52)+COLUMN(AF52)/100<=$B$51,Go!AD7=copy!$D$3,Go!AE7=copy!$D$3,Go!AF7=copy!$F$3),1,IF(AND(Go!AD7=copy!$D$3,Go!AE7=copy!$D$3,Go!AF7=copy!$F$3),\"%\",\"\"))","v":""},{"$f":"IF(AND(ROW(AG52)+COLUMN(AG52)/100<=$B$51,Go!AE7=copy!$D$3,Go!AF7=copy!$D$3,Go!AG7=copy!$F$3),1,IF(AND(Go!AE7=copy!$D$3,Go!AF7=copy!$D$3,Go!AG7=copy!$F$3),\"%\",\"\"))","v":""},{"$f":"IF(AND(ROW(AH52)+COLUMN(AH52)/100<=$B$51,Go!AF7=copy!$D$3,Go!AG7=copy!$D$3,Go!AH7=copy!$F$3),1,IF(AND(Go!AF7=copy!$D$3,Go!AG7=copy!$D$3,Go!AH7=copy!$F$3),\"%\",\"\"))","v":""},1]
[null,null,null,2,{"$f":"IF(AND(ROW(E53)+COLUMN(E53)/100<=$B$51,Go!AG7=copy!$D$3,Go!AH7=copy!$D$3,Go!E8=copy!$F$3),1,\"\")","v":""},{"$f":"IF(AND(ROW(F53)+COLUMN(F53)/100<=$B$51,Go!AH7=copy!$D$3,Go!E8=copy!$D$3,Go!F8=copy!$F$3),1,\"\")","v":""},{"$f":"IF(AND(ROW(G53)+COLUMN(G53)/100<=$B$51,Go!E8=copy!$D$3,Go!F8=copy!$D$3,Go!G8=copy!$F$3),1,IF(AND(Go!E8=copy!$D$3,Go!F8=copy!$D$3,Go!G8=copy!$F$3),\"%\",\"\"))","v":""},{"$f":"IF(AND(ROW(H53)+COLUMN(H53)/100<=$B$51,Go!F8=copy!$D$3,Go!G8=copy!$D$3,Go!H8=copy!$F$3),1,IF(AND(Go!F8=copy!$D$3,Go!G8=copy!$D$3,Go!H8=copy!$F$3),\"%\",\"\"))","v":""},{"$f":"IF(AND(ROW(I53)+COLUMN(I53)/100<=$B$51,Go!G8=copy!$D$3,Go!H8=copy!$D$3,Go!I8=copy!$F$3),1,IF(AND(Go!G8=copy!$D$3,Go!H8=copy!$D$3,Go!I8=copy!$F$3),\"%\",\"\"))","v":""},{"$f":"IF(AND(ROW(J53)+COLUMN(J53)/100<=$B$51,Go!H8=copy!$D$3,Go!I8=copy!$D$3,Go!J8=copy!$F$3),1,IF(AND(Go!H8=copy!$D$3,Go!I8=copy!$D$3,Go!J8=copy!$F$3),\"%\",\"\"))","v":""},{"$f":"IF(AND(ROW(K53)+COLUMN(K53)/100<=$B$51,Go!I8=copy!$D$3,Go!J8=copy!$D$3,Go!K8=copy!$F$3),1,IF(AND(Go!I8=copy!$D$3,Go!J8=copy!$D$3,Go!K8=copy!$F$3),\"%\",\"\"))","v":""},{"$f":"IF(AND(ROW(L53)+COLUMN(L53)/100<=$B$51,Go!J8=copy!$D$3,Go!K8=copy!$D$3,Go!L8=copy!$F$3),1,IF(AND(Go!J8=copy!$D$3,Go!K8=copy!$D$3,Go!L8=copy!$F$3),\"%\",\"\"))","v":""},{"$f":"IF(AND(ROW(M53)+COLUMN(M53)/100<=$B$51,Go!K8=copy!$D$3,Go!L8=copy!$D$3,Go!M8=copy!$F$3),1,IF(AND(Go!K8=copy!$D$3,Go!L8=copy!$D$3,Go!M8=copy!$F$3),\"%\",\"\"))","v":""},{"$f":"IF(AND(ROW(N53)+COLUMN(N53)/100<=$B$51,Go!L8=copy!$D$3,Go!M8=copy!$D$3,Go!N8=copy!$F$3),1,IF(AND(Go!L8=copy!$D$3,Go!M8=copy!$D$3,Go!N8=copy!$F$3),\"%\",\"\"))","v":""},{"$f":"IF(AND(ROW(O53)+COLUMN(O53)/100<=$B$51,Go!M8=copy!$D$3,Go!N8=copy!$D$3,Go!O8=copy!$F$3),1,IF(AND(Go!M8=copy!$D$3,Go!N8=copy!$D$3,Go!O8=copy!$F$3),\"%\",\"\"))","v":""},{"$f":"IF(AND(ROW(P53)+COLUMN(P53)/100<=$B$51,Go!N8=copy!$D$3,Go!O8=copy!$D$3,Go!P8=copy!$F$3),1,IF(AND(Go!N8=copy!$D$3,Go!O8=copy!$D$3,Go!P8=copy!$F$3),\"%\",\"\"))","v":""},{"$f":"IF(AND(ROW(Q53)+COLUMN(Q53)/100<=$B$51,Go!O8=copy!$D$3,Go!P8=copy!$D$3,Go!Q8=copy!$F$3),1,IF(AND(Go!O8=copy!$D$3,Go!P8=copy!$D$3,Go!Q8=copy!$F$3),\"%\",\"\"))","v":""},{"$f":"IF(AND(ROW(R53)+COLUMN(R53)/100<=$B$51,Go!P8=copy!$D$3,Go!Q8=copy!$D$3,Go!R8=copy!$F$3),1,IF(AND(Go!P8=copy!$D$3,Go!Q8=copy!$D$3,Go!R8=copy!$F$3),\"%\",\"\"))","v":""},{"$f":"IF(AND(ROW(S53)+COLUMN(S53)/100<=$B$51,Go!Q8=copy!$D$3,Go!R8=copy!$D$3,Go!S8=copy!$F$3),1,IF(AND(Go!Q8=copy!$D$3,Go!R8=copy!$D$3,Go!S8=copy!$F$3),\"%\",\"\"))","v":""},{"$f":"IF(AND(ROW(T53)+COLUMN(T53)/100<=$B$51,Go!R8=copy!$D$3,Go!S8=copy!$D$3,Go!T8=copy!$F$3),1,IF(AND(Go!R8=copy!$D$3,Go!S8=copy!$D$3,Go!T8=copy!$F$3),\"%\",\"\"))","v":""},{"$f":"IF(AND(ROW(U53)+COLUMN(U53)/100<=$B$51,Go!S8=copy!$D$3,Go!T8=copy!$D$3,Go!U8=copy!$F$3),1,IF(AND(Go!S8=copy!$D$3,Go!T8=copy!$D$3,Go!U8=copy!$F$3),\"%\",\"\"))","v":""},{"$f":"IF(AND(ROW(V53)+COLUMN(V53)/100<=$B$51,Go!T8=copy!$D$3,Go!U8=copy!$D$3,Go!V8=copy!$F$3),1,IF(AND(Go!T8=copy!$D$3,Go!U8=copy!$D$3,Go!V8=copy!$F$3),\"%\",\"\"))","v":""},{"$f":"IF(AND(ROW(W53)+COLUMN(W53)/100<=$B$51,Go!U8=copy!$D$3,Go!V8=copy!$D$3,Go!W8=copy!$F$3),1,IF(AND(Go!U8=copy!$D$3,Go!V8=copy!$D$3,Go!W8=copy!$F$3),\"%\",\"\"))","v":""},{"$f":"IF(AND(ROW(X53)+COLUMN(X53)/100<=$B$51,Go!V8=copy!$D$3,Go!W8=copy!$D$3,Go!X8=copy!$F$3),1,IF(AND(Go!V8=copy!$D$3,Go!W8=copy!$D$3,Go!X8=copy!$F$3),\"%\",\"\"))","v":""},{"$f":"IF(AND(ROW(Y53)+COLUMN(Y53)/100<=$B$51,Go!W8=copy!$D$3,Go!X8=copy!$D$3,Go!Y8=copy!$F$3),1,IF(AND(Go!W8=copy!$D$3,Go!X8=copy!$D$3,Go!Y8=copy!$F$3),\"%\",\"\"))","v":""},{"$f":"IF(AND(ROW(Z53)+COLUMN(Z53)/100<=$B$51,Go!X8=copy!$D$3,Go!Y8=copy!$D$3,Go!Z8=copy!$F$3),1,IF(AND(Go!X8=copy!$D$3,Go!Y8=copy!$D$3,Go!Z8=copy!$F$3),\"%\",\"\"))","v":""},{"$f":"IF(AND(ROW(AA53)+COLUMN(AA53)/100<=$B$51,Go!Y8=copy!$D$3,Go!Z8=copy!$D$3,Go!AA8=copy!$F$3),1,IF(AND(Go!Y8=copy!$D$3,Go!Z8=copy!$D$3,Go!AA8=copy!$F$3),\"%\",\"\"))","v":""},{"$f":"IF(AND(ROW(AB53)+COLUMN(AB53)/100<=$B$51,Go!Z8=copy!$D$3,Go!AA8=copy!$D$3,Go!AB8=copy!$F$3),1,IF(AND(Go!Z8=copy!$D$3,Go!AA8=copy!$D$3,Go!AB8=copy!$F$3),\"%\",\"\"))","v":""},{"$f":"IF(AND(ROW(AC53)+COLUMN(AC53)/100<=$B$51,Go!AA8=copy!$D$3,Go!AB8=copy!$D$3,Go!AC8=copy!$F$3),1,IF(AND(Go!AA8=copy!$D$3,Go!AB8=copy!$D$3,Go!AC8=copy!$F$3),\"%\",\"\"))","v":""},{"$f":"IF(AND(ROW(AD53)+COLUMN(AD53)/100<=$B$51,Go!AB8=copy!$D$3,Go!AC8=copy!$D$3,Go!AD8=copy!$F$3),1,IF(AND(Go!AB8=copy!$D$3,Go!AC8=copy!$D$3,Go!AD8=copy!$F$3),\"%\",\"\"))","v":""},{"$f":"IF(AND(ROW(AE53)+COLUMN(AE53)/100<=$B$51,Go!AC8=copy!$D$3,Go!AD8=copy!$D$3,Go!AE8=copy!$F$3),1,IF(AND(Go!AC8=copy!$D$3,Go!AD8=copy!$D$3,Go!AE8=copy!$F$3),\"%\",\"\"))","v":""},{"$f":"IF(AND(ROW(AF53)+COLUMN(AF53)/100<=$B$51,Go!AD8=copy!$D$3,Go!AE8=copy!$D$3,Go!AF8=copy!$F$3),1,IF(AND(Go!AD8=copy!$D$3,Go!AE8=copy!$D$3,Go!AF8=copy!$F$3),\"%\",\"\"))","v":""},{"$f":"IF(AND(ROW(AG53)+COLUMN(AG53)/100<=$B$51,Go!AE8=copy!$D$3,Go!AF8=copy!$D$3,Go!AG8=copy!$F$3),1,IF(AND(Go!AE8=copy!$D$3,Go!AF8=copy!$D$3,Go!AG8=copy!$F$3),\"%\",\"\"))","v":""},{"$f":"IF(AND(ROW(AH53)+COLUMN(AH53)/100<=$B$51,Go!AF8=copy!$D$3,Go!AG8=copy!$D$3,Go!AH8=copy!$F$3),1,IF(AND(Go!AF8=copy!$D$3,Go!AG8=copy!$D$3,Go!AH8=copy!$F$3),\"%\",\"\"))","v":""},2]
[null,null,null,3,{"$f":"IF(AND(ROW(E54)+COLUMN(E54)/100<=$B$51,Go!AG8=copy!$D$3,Go!AH8=copy!$D$3,Go!E9=copy!$F$3),1,\"\")","v":""},{"$f":"IF(AND(ROW(F54)+COLUMN(F54)/100<=$B$51,Go!AH8=copy!$D$3,Go!E9=copy!$D$3,Go!F9=copy!$F$3),1,\"\")","v":""},{"$f":"IF(AND(ROW(G54)+COLUMN(G54)/100<=$B$51,Go!E9=copy!$D$3,Go!F9=copy!$D$3,Go!G9=copy!$F$3),1,IF(AND(Go!E9=copy!$D$3,Go!F9=copy!$D$3,Go!G9=copy!$F$3),\"%\",\"\"))","v":""},{"$f":"IF(AND(ROW(H54)+COLUMN(H54)/100<=$B$51,Go!F9=copy!$D$3,Go!G9=copy!$D$3,Go!H9=copy!$F$3),1,IF(AND(Go!F9=copy!$D$3,Go!G9=copy!$D$3,Go!H9=copy!$F$3),\"%\",\"\"))","v":""},{"$f":"IF(AND(ROW(I54)+COLUMN(I54)/100<=$B$51,Go!G9=copy!$D$3,Go!H9=copy!$D$3,Go!I9=copy!$F$3),1,IF(AND(Go!G9=copy!$D$3,Go!H9=copy!$D$3,Go!I9=copy!$F$3),\"%\",\"\"))","v":""},{"$f":"IF(AND(ROW(J54)+COLUMN(J54)/100<=$B$51,Go!H9=copy!$D$3,Go!I9=copy!$D$3,Go!J9=copy!$F$3),1,IF(AND(Go!H9=copy!$D$3,Go!I9=copy!$D$3,Go!J9=copy!$F$3),\"%\",\"\"))","v":""},{"$f":"IF(AND(ROW(K54)+COLUMN(K54)/100<=$B$51,Go!I9=copy!$D$3,Go!J9=copy!$D$3,Go!K9=copy!$F$3),1,IF(AND(Go!I9=copy!$D$3,Go!J9=copy!$D$3,Go!K9=copy!$F$3),\"%\",\"\"))","v":""},{"$f":"IF(AND(ROW(L54)+COLUMN(L54)/100<=$B$51,Go!J9=copy!$D$3,Go!K9=copy!$D$3,Go!L9=copy!$F$3),1,IF(AND(Go!J9=copy!$D$3,Go!K9=copy!$D$3,Go!L9=copy!$F$3),\"%\",\"\"))","v":""},{"$f":"IF(AND(ROW(M54)+COLUMN(M54)/100<=$B$51,Go!K9=copy!$D$3,Go!L9=copy!$D$3,Go!M9=copy!$F$3),1,IF(AND(Go!K9=copy!$D$3,Go!L9=copy!$D$3,Go!M9=copy!$F$3),\"%\",\"\"))","v":""},{"$f":"IF(AND(ROW(N54)+COLUMN(N54)/100<=$B$51,Go!L9=copy!$D$3,Go!M9=copy!$D$3,Go!N9=copy!$F$3),1,IF(AND(Go!L9=copy!$D$3,Go!M9=copy!$D$3,Go!N9=copy!$F$3),\"%\",\"\"))","v":""},{"$f":"IF(AND(ROW(O54)+COLUMN(O54)/100<=$B$51,Go!M9=copy!$D$3,Go!N9=copy!$D$3,Go!O9=copy!$F$3),1,IF(AND(Go!M9=copy!$D$3,Go!N9=copy!$D$3,Go!O9=copy!$F$3),\"%\",\"\"))","v":""},{"$f":"IF(AND(ROW(P54)+COLUMN(P54)/100<=$B$51,Go!N9=copy!$D$3,Go!O9=copy!$D$3,Go!P9=copy!$F$3),1,IF(AND(Go!N9=copy!$D$3,Go!O9=copy!$D$3,Go!P9=copy!$F$3),\"%\",\"\"))","v":""},{"$f":"IF(AND(ROW(Q54)+COLUMN(Q54)/100<=$B$51,Go!O9=copy!$D$3,Go!P9=copy!$D$3,Go!Q9=copy!$F$3),1,IF(AND(Go!O9=copy!$D$3,Go!P9=copy!$D$3,Go!Q9=copy!$F$3),\"%\",\"\"))","v":""},{"$f":"IF(AND(ROW(R54)+COLUMN(R54)/100<=$B$51,Go!P9=copy!$D$3,Go!Q9=copy!$D$3,Go!R9=copy!$F$3),1,IF(AND(Go!P9=copy!$D$3,Go!Q9=copy!$D$3,Go!R9=copy!$F$3),\"%\",\"\"))","v":""},{"$f":"IF(AND(ROW(S54)+COLUMN(S54)/100<=$B$51,Go!Q9=copy!$D$3,Go!R9=copy!$D$3,Go!S9=copy!$F$3),1,IF(AND(Go!Q9=copy!$D$3,Go!R9=copy!$D$3,Go!S9=copy!$F$3),\"%\",\"\"))","v":""},{"$f":"IF(AND(ROW(T54)+COLUMN(T54)/100<=$B$51,Go!R9=copy!$D$3,Go!S9=copy!$D$3,Go!T9=copy!$F$3),1,IF(AND(Go!R9=copy!$D$3,Go!S9=copy!$D$3,Go!T9=copy!$F$3),\"%\",\"\"))","v":""},{"$f":"IF(AND(ROW(U54)+COLUMN(U54)/100<=$B$51,Go!S9=copy!$D$3,Go!T9=copy!$D$3,Go!U9=copy!$F$3),1,IF(AND(Go!S9=copy!$D$3,Go!T9=copy!$D$3,Go!U9=copy!$F$3),\"%\",\"\"))","v":""},{"$f":"IF(AND(ROW(V54)+COLUMN(V54)/100<=$B$51,Go!T9=copy!$D$3,Go!U9=copy!$D$3,Go!V9=copy!$F$3),1,IF(AND(Go!T9=copy!$D$3,Go!U9=copy!$D$3,Go!V9=copy!$F$3),\"%\",\"\"))","v":""},{"$f":"IF(AND(ROW(W54)+COLUMN(W54)/100<=$B$51,Go!U9=copy!$D$3,Go!V9=copy!$D$3,Go!W9=copy!$F$3),1,IF(AND(Go!U9=copy!$D$3,Go!V9=copy!$D$3,Go!W9=copy!$F$3),\"%\",\"\"))","v":""},{"$f":"IF(AND(ROW(X54)+COLUMN(X54)/100<=$B$51,Go!V9=copy!$D$3,Go!W9=copy!$D$3,Go!X9=copy!$F$3),1,IF(AND(Go!V9=copy!$D$3,Go!W9=copy!$D$3,Go!X9=copy!$F$3),\"%\",\"\"))","v":""},{"$f":"IF(AND(ROW(Y54)+COLUMN(Y54)/100<=$B$51,Go!W9=copy!$D$3,Go!X9=copy!$D$3,Go!Y9=copy!$F$3),1,IF(AND(Go!W9=copy!$D$3,Go!X9=copy!$D$3,Go!Y9=copy!$F$3),\"%\",\"\"))","v":""},{"$f":"IF(AND(ROW(Z54)+COLUMN(Z54)/100<=$B$51,Go!X9=copy!$D$3,Go!Y9=copy!$D$3,Go!Z9=copy!$F$3),1,IF(AND(Go!X9=copy!$D$3,Go!Y9=copy!$D$3,Go!Z9=copy!$F$3),\"%\",\"\"))","v":""},{"$f":"IF(AND(ROW(AA54)+COLUMN(AA54)/100<=$B$51,Go!Y9=copy!$D$3,Go!Z9=copy!$D$3,Go!AA9=copy!$F$3),1,IF(AND(Go!Y9=copy!$D$3,Go!Z9=copy!$D$3,Go!AA9=copy!$F$3),\"%\",\"\"))","v":""},{"$f":"IF(AND(ROW(AB54)+COLUMN(AB54)/100<=$B$51,Go!Z9=copy!$D$3,Go!AA9=copy!$D$3,Go!AB9=copy!$F$3),1,IF(AND(Go!Z9=copy!$D$3,Go!AA9=copy!$D$3,Go!AB9=copy!$F$3),\"%\",\"\"))","v":""},{"$f":"IF(AND(ROW(AC54)+COLUMN(AC54)/100<=$B$51,Go!AA9=copy!$D$3,Go!AB9=copy!$D$3,Go!AC9=copy!$F$3),1,IF(AND(Go!AA9=copy!$D$3,Go!AB9=copy!$D$3,Go!AC9=copy!$F$3),\"%\",\"\"))","v":""},{"$f":"IF(AND(ROW(AD54)+COLUMN(AD54)/100<=$B$51,Go!AB9=copy!$D$3,Go!AC9=copy!$D$3,Go!AD9=copy!$F$3),1,IF(AND(Go!AB9=copy!$D$3,Go!AC9=copy!$D$3,Go!AD9=copy!$F$3),\"%\",\"\"))","v":""},{"$f":"IF(AND(ROW(AE54)+COLUMN(AE54)/100<=$B$51,Go!AC9=copy!$D$3,Go!AD9=copy!$D$3,Go!AE9=copy!$F$3),1,IF(AND(Go!AC9=copy!$D$3,Go!AD9=copy!$D$3,Go!AE9=copy!$F$3),\"%\",\"\"))","v":""},{"$f":"IF(AND(ROW(AF54)+COLUMN(AF54)/100<=$B$51,Go!AD9=copy!$D$3,Go!AE9=copy!$D$3,Go!AF9=copy!$F$3),1,IF(AND(Go!AD9=copy!$D$3,Go!AE9=copy!$D$3,Go!AF9=copy!$F$3),\"%\",\"\"))","v":""},{"$f":"IF(AND(ROW(AG54)+COLUMN(AG54)/100<=$B$51,Go!AE9=copy!$D$3,Go!AF9=copy!$D$3,Go!AG9=copy!$F$3),1,IF(AND(Go!AE9=copy!$D$3,Go!AF9=copy!$D$3,Go!AG9=copy!$F$3),\"%\",\"\"))","v":""},{"$f":"IF(AND(ROW(AH54)+COLUMN(AH54)/100<=$B$51,Go!AF9=copy!$D$3,Go!AG9=copy!$D$3,Go!AH9=copy!$F$3),1,IF(AND(Go!AF9=copy!$D$3,Go!AG9=copy!$D$3,Go!AH9=copy!$F$3),\"%\",\"\"))","v":""},3]
[null,null,null,4,{"$f":"IF(AND(ROW(E55)+COLUMN(E55)/100<=$B$51,Go!AG9=copy!$D$3,Go!AH9=copy!$D$3,Go!E10=copy!$F$3),1,\"\")","v":""},{"$f":"IF(AND(ROW(F55)+COLUMN(F55)/100<=$B$51,Go!AH9=copy!$D$3,Go!E10=copy!$D$3,Go!F10=copy!$F$3),1,\"\")","v":""},{"$f":"IF(AND(ROW(G55)+COLUMN(G55)/100<=$B$51,Go!E10=copy!$D$3,Go!F10=copy!$D$3,Go!G10=copy!$F$3),1,IF(AND(Go!E10=copy!$D$3,Go!F10=copy!$D$3,Go!G10=copy!$F$3),\"%\",\"\"))","v":""},{"$f":"IF(AND(ROW(H55)+COLUMN(H55)/100<=$B$51,Go!F10=copy!$D$3,Go!G10=copy!$D$3,Go!H10=copy!$F$3),1,IF(AND(Go!F10=copy!$D$3,Go!G10=copy!$D$3,Go!H10=copy!$F$3),\"%\",\"\"))","v":""},{"$f":"IF(AND(ROW(I55)+COLUMN(I55)/100<=$B$51,Go!G10=copy!$D$3,Go!H10=copy!$D$3,Go!I10=copy!$F$3),1,IF(AND(Go!G10=copy!$D$3,Go!H10=copy!$D$3,Go!I10=copy!$F$3),\"%\",\"\"))","v":""},{"$f":"IF(AND(ROW(J55)+COLUMN(J55)/100<=$B$51,Go!H10=copy!$D$3,Go!I10=copy!$D$3,Go!J10=copy!$F$3),1,IF(AND(Go!H10=copy!$D$3,Go!I10=copy!$D$3,Go!J10=copy!$F$3),\"%\",\"\"))","v":""},{"$f":"IF(AND(ROW(K55)+COLUMN(K55)/100<=$B$51,Go!I10=copy!$D$3,Go!J10=copy!$D$3,Go!K10=copy!$F$3),1,IF(AND(Go!I10=copy!$D$3,Go!J10=copy!$D$3,Go!K10=copy!$F$3),\"%\",\"\"))","v":""},{"$f":"IF(AND(ROW(L55)+COLUMN(L55)/100<=$B$51,Go!J10=copy!$D$3,Go!K10=copy!$D$3,Go!L10=copy!$F$3),1,IF(AND(Go!J10=copy!$D$3,Go!K10=copy!$D$3,Go!L10=copy!$F$3),\"%\",\"\"))","v":""},{"$f":"IF(AND(ROW(M55)+COLUMN(M55)/100<=$B$51,Go!K10=copy!$D$3,Go!L10=copy!$D$3,Go!M10=copy!$F$3),1,IF(AND(Go!K10=copy!$D$3,Go!L10=copy!$D$3,Go!M10=copy!$F$3),\"%\",\"\"))","v":""},{"$f":"IF(AND(ROW(N55)+COLUMN(N55)/100<=$B$51,Go!L10=copy!$D$3,Go!M10=copy!$D$3,Go!N10=copy!$F$3),1,IF(AND(Go!L10=copy!$D$3,Go!M10=copy!$D$3,Go!N10=copy!$F$3),\"%\",\"\"))","v":""},{"$f":"IF(AND(ROW(O55)+COLUMN(O55)/100<=$B$51,Go!M10=copy!$D$3,Go!N10=copy!$D$3,Go!O10=copy!$F$3),1,IF(AND(Go!M10=copy!$D$3,Go!N10=copy!$D$3,Go!O10=copy!$F$3),\"%\",\"\"))","v":""},{"$f":"IF(AND(ROW(P55)+COLUMN(P55)/100<=$B$51,Go!N10=copy!$D$3,Go!O10=copy!$D$3,Go!P10=copy!$F$3),1,IF(AND(Go!N10=copy!$D$3,Go!O10=copy!$D$3,Go!P10=copy!$F$3),\"%\",\"\"))","v":""},{"$f":"IF(AND(ROW(Q55)+COLUMN(Q55)/100<=$B$51,Go!O10=copy!$D$3,Go!P10=copy!$D$3,Go!Q10=copy!$F$3),1,IF(AND(Go!O10=copy!$D$3,Go!P10=copy!$D$3,Go!Q10=copy!$F$3),\"%\",\"\"))","v":""},{"$f":"IF(AND(ROW(R55)+COLUMN(R55)/100<=$B$51,Go!P10=copy!$D$3,Go!Q10=copy!$D$3,Go!R10=copy!$F$3),1,IF(AND(Go!P10=copy!$D$3,Go!Q10=copy!$D$3,Go!R10=copy!$F$3),\"%\",\"\"))","v":""},{"$f":"IF(AND(ROW(S55)+COLUMN(S55)/100<=$B$51,Go!Q10=copy!$D$3,Go!R10=copy!$D$3,Go!S10=copy!$F$3),1,IF(AND(Go!Q10=copy!$D$3,Go!R10=copy!$D$3,Go!S10=copy!$F$3),\"%\",\"\"))","v":""},{"$f":"IF(AND(ROW(T55)+COLUMN(T55)/100<=$B$51,Go!R10=copy!$D$3,Go!S10=copy!$D$3,Go!T10=copy!$F$3),1,IF(AND(Go!R10=copy!$D$3,Go!S10=copy!$D$3,Go!T10=copy!$F$3),\"%\",\"\"))","v":""},{"$f":"IF(AND(ROW(U55)+COLUMN(U55)/100<=$B$51,Go!S10=copy!$D$3,Go!T10=copy!$D$3,Go!U10=copy!$F$3),1,IF(AND(Go!S10=copy!$D$3,Go!T10=copy!$D$3,Go!U10=copy!$F$3),\"%\",\"\"))","v":""},{"$f":"IF(AND(ROW(V55)+COLUMN(V55)/100<=$B$51,Go!T10=copy!$D$3,Go!U10=copy!$D$3,Go!V10=copy!$F$3),1,IF(AND(Go!T10=copy!$D$3,Go!U10=copy!$D$3,Go!V10=copy!$F$3),\"%\",\"\"))","v":""},{"$f":"IF(AND(ROW(W55)+COLUMN(W55)/100<=$B$51,Go!U10=copy!$D$3,Go!V10=copy!$D$3,Go!W10=copy!$F$3),1,IF(AND(Go!U10=copy!$D$3,Go!V10=copy!$D$3,Go!W10=copy!$F$3),\"%\",\"\"))","v":""},{"$f":"IF(AND(ROW(X55)+COLUMN(X55)/100<=$B$51,Go!V10=copy!$D$3,Go!W10=copy!$D$3,Go!X10=copy!$F$3),1,IF(AND(Go!V10=copy!$D$3,Go!W10=copy!$D$3,Go!X10=copy!$F$3),\"%\",\"\"))","v":""},{"$f":"IF(AND(ROW(Y55)+COLUMN(Y55)/100<=$B$51,Go!W10=copy!$D$3,Go!X10=copy!$D$3,Go!Y10=copy!$F$3),1,IF(AND(Go!W10=copy!$D$3,Go!X10=copy!$D$3,Go!Y10=copy!$F$3),\"%\",\"\"))","v":""},{"$f":"IF(AND(ROW(Z55)+COLUMN(Z55)/100<=$B$51,Go!X10=copy!$D$3,Go!Y10=copy!$D$3,Go!Z10=copy!$F$3),1,IF(AND(Go!X10=copy!$D$3,Go!Y10=copy!$D$3,Go!Z10=copy!$F$3),\"%\",\"\"))","v":""},{"$f":"IF(AND(ROW(AA55)+COLUMN(AA55)/100<=$B$51,Go!Y10=copy!$D$3,Go!Z10=copy!$D$3,Go!AA10=copy!$F$3),1,IF(AND(Go!Y10=copy!$D$3,Go!Z10=copy!$D$3,Go!AA10=copy!$F$3),\"%\",\"\"))","v":""},{"$f":"IF(AND(ROW(AB55)+COLUMN(AB55)/100<=$B$51,Go!Z10=copy!$D$3,Go!AA10=copy!$D$3,Go!AB10=copy!$F$3),1,IF(AND(Go!Z10=copy!$D$3,Go!AA10=copy!$D$3,Go!AB10=copy!$F$3),\"%\",\"\"))","v":""},{"$f":"IF(AND(ROW(AC55)+COLUMN(AC55)/100<=$B$51,Go!AA10=copy!$D$3,Go!AB10=copy!$D$3,Go!AC10=copy!$F$3),1,IF(AND(Go!AA10=copy!$D$3,Go!AB10=copy!$D$3,Go!AC10=copy!$F$3),\"%\",\"\"))","v":""},{"$f":"IF(AND(ROW(AD55)+COLUMN(AD55)/100<=$B$51,Go!AB10=copy!$D$3,Go!AC10=copy!$D$3,Go!AD10=copy!$F$3),1,IF(AND(Go!AB10=copy!$D$3,Go!AC10=copy!$D$3,Go!AD10=copy!$F$3),\"%\",\"\"))","v":""},{"$f":"IF(AND(ROW(AE55)+COLUMN(AE55)/100<=$B$51,Go!AC10=copy!$D$3,Go!AD10=copy!$D$3,Go!AE10=copy!$F$3),1,IF(AND(Go!AC10=copy!$D$3,Go!AD10=copy!$D$3,Go!AE10=copy!$F$3),\"%\",\"\"))","v":""},{"$f":"IF(AND(ROW(AF55)+COLUMN(AF55)/100<=$B$51,Go!AD10=copy!$D$3,Go!AE10=copy!$D$3,Go!AF10=copy!$F$3),1,IF(AND(Go!AD10=copy!$D$3,Go!AE10=copy!$D$3,Go!AF10=copy!$F$3),\"%\",\"\"))","v":""},{"$f":"IF(AND(ROW(AG55)+COLUMN(AG55)/100<=$B$51,Go!AE10=copy!$D$3,Go!AF10=copy!$D$3,Go!AG10=copy!$F$3),1,IF(AND(Go!AE10=copy!$D$3,Go!AF10=copy!$D$3,Go!AG10=copy!$F$3),\"%\",\"\"))","v":""},{"$f":"IF(AND(ROW(AH55)+COLUMN(AH55)/100<=$B$51,Go!AF10=copy!$D$3,Go!AG10=copy!$D$3,Go!AH10=copy!$F$3),1,IF(AND(Go!AF10=copy!$D$3,Go!AG10=copy!$D$3,Go!AH10=copy!$F$3),\"%\",\"\"))","v":""},4]
[null,null,null,5,{"$f":"IF(AND(ROW(E56)+COLUMN(E56)/100<=$B$51,Go!AG10=copy!$D$3,Go!AH10=copy!$D$3,Go!E11=copy!$F$3),1,\"\")","v":""},{"$f":"IF(AND(ROW(F56)+COLUMN(F56)/100<=$B$51,Go!AH10=copy!$D$3,Go!E11=copy!$D$3,Go!F11=copy!$F$3),1,\"\")","v":""},{"$f":"IF(AND(ROW(G56)+COLUMN(G56)/100<=$B$51,Go!E11=copy!$D$3,Go!F11=copy!$D$3,Go!G11=copy!$F$3),1,IF(AND(Go!E11=copy!$D$3,Go!F11=copy!$D$3,Go!G11=copy!$F$3),\"%\",\"\"))","v":""},{"$f":"IF(AND(ROW(H56)+COLUMN(H56)/100<=$B$51,Go!F11=copy!$D$3,Go!G11=copy!$D$3,Go!H11=copy!$F$3),1,IF(AND(Go!F11=copy!$D$3,Go!G11=copy!$D$3,Go!H11=copy!$F$3),\"%\",\"\"))","v":""},{"$f":"IF(AND(ROW(I56)+COLUMN(I56)/100<=$B$51,Go!G11=copy!$D$3,Go!H11=copy!$D$3,Go!I11=copy!$F$3),1,IF(AND(Go!G11=copy!$D$3,Go!H11=copy!$D$3,Go!I11=copy!$F$3),\"%\",\"\"))","v":""},{"$f":"IF(AND(ROW(J56)+COLUMN(J56)/100<=$B$51,Go!H11=copy!$D$3,Go!I11=copy!$D$3,Go!J11=copy!$F$3),1,IF(AND(Go!H11=copy!$D$3,Go!I11=copy!$D$3,Go!J11=copy!$F$3),\"%\",\"\"))","v":"%"},{"$f":"IF(AND(ROW(K56)+COLUMN(K56)/100<=$B$51,Go!I11=copy!$D$3,Go!J11=copy!$D$3,Go!K11=copy!$F$3),1,IF(AND(Go!I11=copy!$D$3,Go!J11=copy!$D$3,Go!K11=copy!$F$3),\"%\",\"\"))","v":""},{"$f":"IF(AND(ROW(L56)+COLUMN(L56)/100<=$B$51,Go!J11=copy!$D$3,Go!K11=copy!$D$3,Go!L11=copy!$F$3),1,IF(AND(Go!J11=copy!$D$3,Go!K11=copy!$D$3,Go!L11=copy!$F$3),\"%\",\"\"))","v":""},{"$f":"IF(AND(ROW(M56)+COLUMN(M56)/100<=$B$51,Go!K11=copy!$D$3,Go!L11=copy!$D$3,Go!M11=copy!$F$3),1,IF(AND(Go!K11=copy!$D$3,Go!L11=copy!$D$3,Go!M11=copy!$F$3),\"%\",\"\"))","v":"%"},{"$f":"IF(AND(ROW(N56)+COLUMN(N56)/100<=$B$51,Go!L11=copy!$D$3,Go!M11=copy!$D$3,Go!N11=copy!$F$3),1,IF(AND(Go!L11=copy!$D$3,Go!M11=copy!$D$3,Go!N11=copy!$F$3),\"%\",\"\"))","v":""},{"$f":"IF(AND(ROW(O56)+COLUMN(O56)/100<=$B$51,Go!M11=copy!$D$3,Go!N11=copy!$D$3,Go!O11=copy!$F$3),1,IF(AND(Go!M11=copy!$D$3,Go!N11=copy!$D$3,Go!O11=copy!$F$3),\"%\",\"\"))","v":""},{"$f":"IF(AND(ROW(P56)+COLUMN(P56)/100<=$B$51,Go!N11=copy!$D$3,Go!O11=copy!$D$3,Go!P11=copy!$F$3),1,IF(AND(Go!N11=copy!$D$3,Go!O11=copy!$D$3,Go!P11=copy!$F$3),\"%\",\"\"))","v":""},{"$f":"IF(AND(ROW(Q56)+COLUMN(Q56)/100<=$B$51,Go!O11=copy!$D$3,Go!P11=copy!$D$3,Go!Q11=copy!$F$3),1,IF(AND(Go!O11=copy!$D$3,Go!P11=copy!$D$3,Go!Q11=copy!$F$3),\"%\",\"\"))","v":""},{"$f":"IF(AND(ROW(R56)+COLUMN(R56)/100<=$B$51,Go!P11=copy!$D$3,Go!Q11=copy!$D$3,Go!R11=copy!$F$3),1,IF(AND(Go!P11=copy!$D$3,Go!Q11=copy!$D$3,Go!R11=copy!$F$3),\"%\",\"\"))","v":""},{"$f":"IF(AND(ROW(S56)+COLUMN(S56)/100<=$B$51,Go!Q11=copy!$D$3,Go!R11=copy!$D$3,Go!S11=copy!$F$3),1,IF(AND(Go!Q11=copy!$D$3,Go!R11=copy!$D$3,Go!S11=copy!$F$3),\"%\",\"\"))","v":""},{"$f":"IF(AND(ROW(T56)+COLUMN(T56)/100<=$B$51,Go!R11=copy!$D$3,Go!S11=copy!$D$3,Go!T11=copy!$F$3),1,IF(AND(Go!R11=copy!$D$3,Go!S11=copy!$D$3,Go!T11=copy!$F$3),\"%\",\"\"))","v":"%"},{"$f":"IF(AND(ROW(U56)+COLUMN(U56)/100<=$B$51,Go!S11=copy!$D$3,Go!T11=copy!$D$3,Go!U11=copy!$F$3),1,IF(AND(Go!S11=copy!$D$3,Go!T11=copy!$D$3,Go!U11=copy!$F$3),\"%\",\"\"))","v":""},{"$f":"IF(AND(ROW(V56)+COLUMN(V56)/100<=$B$51,Go!T11=copy!$D$3,Go!U11=copy!$D$3,Go!V11=copy!$F$3),1,IF(AND(Go!T11=copy!$D$3,Go!U11=copy!$D$3,Go!V11=copy!$F$3),\"%\",\"\"))","v":""},{"$f":"IF(AND(ROW(W56)+COLUMN(W56)/100<=$B$51,Go!U11=copy!$D$3,Go!V11=copy!$D$3,Go!W11=copy!$F$3),1,IF(AND(Go!U11=copy!$D$3,Go!V11=copy!$D$3,Go!W11=copy!$F$3),\"%\",\"\"))","v":""},{"$f":"IF(AND(ROW(X56)+COLUMN(X56)/100<=$B$51,Go!V11=copy!$D$3,Go!W11=copy!$D$3,Go!X11=copy!$F$3),1,IF(AND(Go!V11=copy!$D$3,Go!W11=copy!$D$3,Go!X11=copy!$F$3),\"%\",\"\"))","v":""},{"$f":"IF(AND(ROW(Y56)+COLUMN(Y56)/100<=$B$51,Go!W11=copy!$D$3,Go!X11=copy!$D$3,Go!Y11=copy!$F$3),1,IF(AND(Go!W11=copy!$D$3,Go!X11=copy!$D$3,Go!Y11=copy!$F$3),\"%\",\"\"))","v":""},{"$f":"IF(AND(ROW(Z56)+COLUMN(Z56)/100<=$B$51,Go!X11=copy!$D$3,Go!Y11=copy!$D$3,Go!Z11=copy!$F$3),1,IF(AND(Go!X11=copy!$D$3,Go!Y11=copy!$D$3,Go!Z11=copy!$F$3),\"%\",\"\"))","v":""},{"$f":"IF(AND(ROW(AA56)+COLUMN(AA56)/100<=$B$51,Go!Y11=copy!$D$3,Go!Z11=copy!$D$3,Go!AA11=copy!$F$3),1,IF(AND(Go!Y11=copy!$D$3,Go!Z11=copy!$D$3,Go!AA11=copy!$F$3),\"%\",\"\"))","v":""},{"$f":"IF(AND(ROW(AB56)+COLUMN(AB56)/100<=$B$51,Go!Z11=copy!$D$3,Go!AA11=copy!$D$3,Go!AB11=copy!$F$3),1,IF(AND(Go!Z11=copy!$D$3,Go!AA11=copy!$D$3,Go!AB11=copy!$F$3),\"%\",\"\"))","v":"%"},{"$f":"IF(AND(ROW(AC56)+COLUMN(AC56)/100<=$B$51,Go!AA11=copy!$D$3,Go!AB11=copy!$D$3,Go!AC11=copy!$F$3),1,IF(AND(Go!AA11=copy!$D$3,Go!AB11=copy!$D$3,Go!AC11=copy!$F$3),\"%\",\"\"))","v":""},{"$f":"IF(AND(ROW(AD56)+COLUMN(AD56)/100<=$B$51,Go!AB11=copy!$D$3,Go!AC11=copy!$D$3,Go!AD11=copy!$F$3),1,IF(AND(Go!AB11=copy!$D$3,Go!AC11=copy!$D$3,Go!AD11=copy!$F$3),\"%\",\"\"))","v":""},{"$f":"IF(AND(ROW(AE56)+COLUMN(AE56)/100<=$B$51,Go!AC11=copy!$D$3,Go!AD11=copy!$D$3,Go!AE11=copy!$F$3),1,IF(AND(Go!AC11=copy!$D$3,Go!AD11=copy!$D$3,Go!AE11=copy!$F$3),\"%\",\"\"))","v":""},{"$f":"IF(AND(ROW(AF56)+COLUMN(AF56)/100<=$B$51,Go!AD11=copy!$D$3,Go!AE11=copy!$D$3,Go!AF11=copy!$F$3),1,IF(AND(Go!AD11=copy!$D$3,Go!AE11=copy!$D$3,Go!AF11=copy!$F$3),\"%\",\"\"))","v":"%"},{"$f":"IF(AND(ROW(AG56)+COLUMN(AG56)/100<=$B$51,Go!AE11=copy!$D$3,Go!AF11=copy!$D$3,Go!AG11=copy!$F$3),1,IF(AND(Go!AE11=copy!$D$3,Go!AF11=copy!$D$3,Go!AG11=copy!$F$3),\"%\",\"\"))","v":""},{"$f":"IF(AND(ROW(AH56)+COLUMN(AH56)/100<=$B$51,Go!AF11=copy!$D$3,Go!AG11=copy!$D$3,Go!AH11=copy!$F$3),1,IF(AND(Go!AF11=copy!$D$3,Go!AG11=copy!$D$3,Go!AH11=copy!$F$3),\"%\",\"\"))","v":""},5]
[null,null,null,6,{"$f":"IF(AND(ROW(E57)+COLUMN(E57)/100<=$B$51,Go!AG11=copy!$D$3,Go!AH11=copy!$D$3,Go!E12=copy!$F$3),1,\"\")","v":""},{"$f":"IF(AND(ROW(F57)+COLUMN(F57)/100<=$B$51,Go!AH11=copy!$D$3,Go!E12=copy!$D$3,Go!F12=copy!$F$3),1,\"\")","v":""},{"$f":"IF(AND(ROW(G57)+COLUMN(G57)/100<=$B$51,Go!E12=copy!$D$3,Go!F12=copy!$D$3,Go!G12=copy!$F$3),1,IF(AND(Go!E12=copy!$D$3,Go!F12=copy!$D$3,Go!G12=copy!$F$3),\"%\",\"\"))","v":""},{"$f":"IF(AND(ROW(H57)+COLUMN(H57)/100<=$B$51,Go!F12=copy!$D$3,Go!G12=copy!$D$3,Go!H12=copy!$F$3),1,IF(AND(Go!F12=copy!$D$3,Go!G12=copy!$D$3,Go!H12=copy!$F$3),\"%\",\"\"))","v":""},{"$f":"IF(AND(ROW(I57)+COLUMN(I57)/100<=$B$51,Go!G12=copy!$D$3,Go!H12=copy!$D$3,Go!I12=copy!$F$3),1,IF(AND(Go!G12=copy!$D$3,Go!H12=copy!$D$3,Go!I12=copy!$F$3),\"%\",\"\"))","v":""},{"$f":"IF(AND(ROW(J57)+COLUMN(J57)/100<=$B$51,Go!H12=copy!$D$3,Go!I12=copy!$D$3,Go!J12=copy!$F$3),1,IF(AND(Go!H12=copy!$D$3,Go!I12=copy!$D$3,Go!J12=copy!$F$3),\"%\",\"\"))","v":""},{"$f":"IF(AND(ROW(K57)+COLUMN(K57)/100<=$B$51,Go!I12=copy!$D$3,Go!J12=copy!$D$3,Go!K12=copy!$F$3),1,IF(AND(Go!I12=copy!$D$3,Go!J12=copy!$D$3,Go!K12=copy!$F$3),\"%\",\"\"))","v":""},{"$f":"IF(AND(ROW(L57)+COLUMN(L57)/100<=$B$51,Go!J12=copy!$D$3,Go!K12=copy!$D$3,Go!L12=copy!$F$3),1,IF(AND(Go!J12=copy!$D$3,Go!K12=copy!$D$3,Go!L12=copy!$F$3),\"%\",\"\"))","v":""},{"$f":"IF(AND(ROW(M57)+COLUMN(M57)/100<=$B$51,Go!K12=copy!$D$3,Go!L12=copy!$D$3,Go!M12=copy!$F$3),1,IF(AND(Go!K12=copy!$D$3,Go!L12=copy!$D$3,Go!M12=copy!$F$3),\"%\",\"\"))","v":""},{"$f":"IF(AND(ROW(N57)+COLUMN(N57)/100<=$B$51,Go!L12=copy!$D$3,Go!M12=copy!$D$3,Go!N12=copy!$F$3),1,IF(AND(Go!L12=copy!$D$3,Go!M12=copy!$D$3,Go!N12=copy!$F$3),\"%\",\"\"))","v":""},{"$f":"IF(AND(ROW(O57)+COLUMN(O57)/100<=$B$51,Go!M12=copy!$D$3,Go!N12=copy!$D$3,Go!O12=copy!$F$3),1,IF(AND(Go!M12=copy!$D$3,Go!N12=copy!$D$3,Go!O12=copy!$F$3),\"%\",\"\"))","v":""},{"$f":"IF(AND(ROW(P57)+COLUMN(P57)/100<=$B$51,Go!N12=copy!$D$3,Go!O12=copy!$D$3,Go!P12=copy!$F$3),1,IF(AND(Go!N12=copy!$D$3,Go!O12=copy!$D$3,Go!P12=copy!$F$3),\"%\",\"\"))","v":""},{"$f":"IF(AND(ROW(Q57)+COLUMN(Q57)/100<=$B$51,Go!O12=copy!$D$3,Go!P12=copy!$D$3,Go!Q12=copy!$F$3),1,IF(AND(Go!O12=copy!$D$3,Go!P12=copy!$D$3,Go!Q12=copy!$F$3),\"%\",\"\"))","v":""},{"$f":"IF(AND(ROW(R57)+COLUMN(R57)/100<=$B$51,Go!P12=copy!$D$3,Go!Q12=copy!$D$3,Go!R12=copy!$F$3),1,IF(AND(Go!P12=copy!$D$3,Go!Q12=copy!$D$3,Go!R12=copy!$F$3),\"%\",\"\"))","v":""},{"$f":"IF(AND(ROW(S57)+COLUMN(S57)/100<=$B$51,Go!Q12=copy!$D$3,Go!R12=copy!$D$3,Go!S12=copy!$F$3),1,IF(AND(Go!Q12=copy!$D$3,Go!R12=copy!$D$3,Go!S12=copy!$F$3),\"%\",\"\"))","v":"%"},{"$f":"IF(AND(ROW(T57)+COLUMN(T57)/100<=$B$51,Go!R12=copy!$D$3,Go!S12=copy!$D$3,Go!T12=copy!$F$3),1,IF(AND(Go!R12=copy!$D$3,Go!S12=copy!$D$3,Go!T12=copy!$F$3),\"%\",\"\"))","v":""},{"$f":"IF(AND(ROW(U57)+COLUMN(U57)/100<=$B$51,Go!S12=copy!$D$3,Go!T12=copy!$D$3,Go!U12=copy!$F$3),1,IF(AND(Go!S12=copy!$D$3,Go!T12=copy!$D$3,Go!U12=copy!$F$3),\"%\",\"\"))","v":""},{"$f":"IF(AND(ROW(V57)+COLUMN(V57)/100<=$B$51,Go!T12=copy!$D$3,Go!U12=copy!$D$3,Go!V12=copy!$F$3),1,IF(AND(Go!T12=copy!$D$3,Go!U12=copy!$D$3,Go!V12=copy!$F$3),\"%\",\"\"))","v":""},{"$f":"IF(AND(ROW(W57)+COLUMN(W57)/100<=$B$51,Go!U12=copy!$D$3,Go!V12=copy!$D$3,Go!W12=copy!$F$3),1,IF(AND(Go!U12=copy!$D$3,Go!V12=copy!$D$3,Go!W12=copy!$F$3),\"%\",\"\"))","v":""},{"$f":"IF(AND(ROW(X57)+COLUMN(X57)/100<=$B$51,Go!V12=copy!$D$3,Go!W12=copy!$D$3,Go!X12=copy!$F$3),1,IF(AND(Go!V12=copy!$D$3,Go!W12=copy!$D$3,Go!X12=copy!$F$3),\"%\",\"\"))","v":""},{"$f":"IF(AND(ROW(Y57)+COLUMN(Y57)/100<=$B$51,Go!W12=copy!$D$3,Go!X12=copy!$D$3,Go!Y12=copy!$F$3),1,IF(AND(Go!W12=copy!$D$3,Go!X12=copy!$D$3,Go!Y12=copy!$F$3),\"%\",\"\"))","v":""},{"$f":"IF(AND(ROW(Z57)+COLUMN(Z57)/100<=$B$51,Go!X12=copy!$D$3,Go!Y12=copy!$D$3,Go!Z12=copy!$F$3),1,IF(AND(Go!X12=copy!$D$3,Go!Y12=copy!$D$3,Go!Z12=copy!$F$3),\"%\",\"\"))","v":""},{"$f":"IF(AND(ROW(AA57)+COLUMN(AA57)/100<=$B$51,Go!Y12=copy!$D$3,Go!Z12=copy!$D$3,Go!AA12=copy!$F$3),1,IF(AND(Go!Y12=copy!$D$3,Go!Z12=copy!$D$3,Go!AA12=copy!$F$3),\"%\",\"\"))","v":""},{"$f":"IF(AND(ROW(AB57)+COLUMN(AB57)/100<=$B$51,Go!Z12=copy!$D$3,Go!AA12=copy!$D$3,Go!AB12=copy!$F$3),1,IF(AND(Go!Z12=copy!$D$3,Go!AA12=copy!$D$3,Go!AB12=copy!$F$3),\"%\",\"\"))","v":""},{"$f":"IF(AND(ROW(AC57)+COLUMN(AC57)/100<=$B$51,Go!AA12=copy!$D$3,Go!AB12=copy!$D$3,Go!AC12=copy!$F$3),1,IF(AND(Go!AA12=copy!$D$3,Go!AB12=copy!$D$3,Go!AC12=copy!$F$3),\"%\",\"\"))","v":""},{"$f":"IF(AND(ROW(AD57)+COLUMN(AD57)/100<=$B$51,Go!AB12=copy!$D$3,Go!AC12=copy!$D$3,Go!AD12=copy!$F$3),1,IF(AND(Go!AB12=copy!$D$3,Go!AC12=copy!$D$3,Go!AD12=copy!$F$3),\"%\",\"\"))","v":""},{"$f":"IF(AND(ROW(AE57)+COLUMN(AE57)/100<=$B$51,Go!AC12=copy!$D$3,Go!AD12=copy!$D$3,Go!AE12=copy!$F$3),1,IF(AND(Go!AC12=copy!$D$3,Go!AD12=copy!$D$3,Go!AE12=copy!$F$3),\"%\",\"\"))","v":""},{"$f":"IF(AND(ROW(AF57)+COLUMN(AF57)/100<=$B$51,Go!AD12=copy!$D$3,Go!AE12=copy!$D$3,Go!AF12=copy!$F$3),1,IF(AND(Go!AD12=copy!$D$3,Go!AE12=copy!$D$3,Go!AF12=copy!$F$3),\"%\",\"\"))","v":""},{"$f":"IF(AND(ROW(AG57)+COLUMN(AG57)/100<=$B$51,Go!AE12=copy!$D$3,Go!AF12=copy!$D$3,Go!AG12=copy!$F$3),1,IF(AND(Go!AE12=copy!$D$3,Go!AF12=copy!$D$3,Go!AG12=copy!$F$3),\"%\",\"\"))","v":"%"},{"$f":"IF(AND(ROW(AH57)+COLUMN(AH57)/100<=$B$51,Go!AF12=copy!$D$3,Go!AG12=copy!$D$3,Go!AH12=copy!$F$3),1,IF(AND(Go!AF12=copy!$D$3,Go!AG12=copy!$D$3,Go!AH12=copy!$F$3),\"%\",\"\"))","v":""},6]
[null,null,null,7,{"$f":"IF(AND(ROW(E58)+COLUMN(E58)/100<=$B$51,Go!AG12=copy!$D$3,Go!AH12=copy!$D$3,Go!E13=copy!$F$3),1,\"\")","v":""},{"$f":"IF(AND(ROW(F58)+COLUMN(F58)/100<=$B$51,Go!AH12=copy!$D$3,Go!E13=copy!$D$3,Go!F13=copy!$F$3),1,\"\")","v":""},{"$f":"IF(AND(ROW(G58)+COLUMN(G58)/100<=$B$51,Go!E13=copy!$D$3,Go!F13=copy!$D$3,Go!G13=copy!$F$3),1,IF(AND(Go!E13=copy!$D$3,Go!F13=copy!$D$3,Go!G13=copy!$F$3),\"%\",\"\"))","v":""},{"$f":"IF(AND(ROW(H58)+COLUMN(H58)/100<=$B$51,Go!F13=copy!$D$3,Go!G13=copy!$D$3,Go!H13=copy!$F$3),1,IF(AND(Go!F13=copy!$D$3,Go!G13=copy!$D$3,Go!H13=copy!$F$3),\"%\",\"\"))","v":""},{"$f":"IF(AND(ROW(I58)+COLUMN(I58)/100<=$B$51,Go!G13=copy!$D$3,Go!H13=copy!$D$3,Go!I13=copy!$F$3),1,IF(AND(Go!G13=copy!$D$3,Go!H13=copy!$D$3,Go!I13=copy!$F$3),\"%\",\"\"))","v":""},{"$f":"IF(AND(ROW(J58)+COLUMN(J58)/100<=$B$51,Go!H13=copy!$D$3,Go!I13=copy!$D$3,Go!J13=copy!$F$3),1,IF(AND(Go!H13=copy!$D$3,Go!I13=copy!$D$3,Go!J13=copy!$F$3),\"%\",\"\"))","v":""},{"$f":"IF(AND(ROW(K58)+COLUMN(K58)/100<=$B$51,Go!I13=copy!$D$3,Go!J13=copy!$D$3,Go!K13=copy!$F$3),1,IF(AND(Go!I13=copy!$D$3,Go!J13=copy!$D$3,Go!K13=copy!$F$3),\"%\",\"\"))","v":""},{"$f":"IF(AND(ROW(L58)+COLUMN(L58)/100<=$B$51,Go!J13=copy!$D$3,Go!K13=copy!$D$3,Go!L13=copy!$F$3),1,IF(AND(Go!J13=copy!$D$3,Go!K13=copy!$D$3,Go!L13=copy!$F$3),\"%\",\"\"))","v":""},{"$f":"IF(AND(ROW(M58)+COLUMN(M58)/100<=$B$51,Go!K13=copy!$D$3,Go!L13=copy!$D$3,Go!M13=copy!$F$3),1,IF(AND(Go!K13=copy!$D$3,Go!L13=copy!$D$3,Go!M13=copy!$F$3),\"%\",\"\"))","v":""},{"$f":"IF(AND(ROW(N58)+COLUMN(N58)/100<=$B$51,Go!L13=copy!$D$3,Go!M13=copy!$D$3,Go!N13=copy!$F$3),1,IF(AND(Go!L13=copy!$D$3,Go!M13=copy!$D$3,Go!N13=copy!$F$3),\"%\",\"\"))","v":""},{"$f":"IF(AND(ROW(O58)+COLUMN(O58)/100<=$B$51,Go!M13=copy!$D$3,Go!N13=copy!$D$3,Go!O13=copy!$F$3),1,IF(AND(Go!M13=copy!$D$3,Go!N13=copy!$D$3,Go!O13=copy!$F$3),\"%\",\"\"))","v":""},{"$f":"IF(AND(ROW(P58)+COLUMN(P58)/100<=$B$51,Go!N13=copy!$D$3,Go!O13=copy!$D$3,Go!P13=copy!$F$3),1,IF(AND(Go!N13=copy!$D$3,Go!O13=copy!$D$3,Go!P13=copy!$F$3),\"%\",\"\"))","v":""},{"$f":"IF(AND(ROW(Q58)+COLUMN(Q58)/100<=$B$51,Go!O13=copy!$D$3,Go!P13=copy!$D$3,Go!Q13=copy!$F$3),1,IF(AND(Go!O13=copy!$D$3,Go!P13=copy!$D$3,Go!Q13=copy!$F$3),\"%\",\"\"))","v":""},{"$f":"IF(AND(ROW(R58)+COLUMN(R58)/100<=$B$51,Go!P13=copy!$D$3,Go!Q13=copy!$D$3,Go!R13=copy!$F$3),1,IF(AND(Go!P13=copy!$D$3,Go!Q13=copy!$D$3,Go!R13=copy!$F$3),\"%\",\"\"))","v":""},{"$f":"IF(AND(ROW(S58)+COLUMN(S58)/100<=$B$51,Go!Q13=copy!$D$3,Go!R13=copy!$D$3,Go!S13=copy!$F$3),1,IF(AND(Go!Q13=copy!$D$3,Go!R13=copy!$D$3,Go!S13=copy!$F$3),\"%\",\"\"))","v":""},{"$f":"IF(AND(ROW(T58)+COLUMN(T58)/100<=$B$51,Go!R13=copy!$D$3,Go!S13=copy!$D$3,Go!T13=copy!$F$3),1,IF(AND(Go!R13=copy!$D$3,Go!S13=copy!$D$3,Go!T13=copy!$F$3),\"%\",\"\"))","v":""},{"$f":"IF(AND(ROW(U58)+COLUMN(U58)/100<=$B$51,Go!S13=copy!$D$3,Go!T13=copy!$D$3,Go!U13=copy!$F$3),1,IF(AND(Go!S13=copy!$D$3,Go!T13=copy!$D$3,Go!U13=copy!$F$3),\"%\",\"\"))","v":""},{"$f":"IF(AND(ROW(V58)+COLUMN(V58)/100<=$B$51,Go!T13=copy!$D$3,Go!U13=copy!$D$3,Go!V13=copy!$F$3),1,IF(AND(Go!T13=copy!$D$3,Go!U13=copy!$D$3,Go!V13=copy!$F$3),\"%\",\"\"))","v":""},{"$f":"IF(AND(ROW(W58)+COLUMN(W58)/100<=$B$51,Go!U13=copy!$D$3,Go!V13=copy!$D$3,Go!W13=copy!$F$3),1,IF(AND(Go!U13=copy!$D$3,Go!V13=copy!$D$3,Go!W13=copy!$F$3),\"%\",\"\"))","v":""},{"$f":"IF(AND(ROW(X58)+COLUMN(X58)/100<=$B$51,Go!V13=copy!$D$3,Go!W13=copy!$D$3,Go!X13=copy!$F$3),1,IF(AND(Go!V13=copy!$D$3,Go!W13=copy!$D$3,Go!X13=copy!$F$3),\"%\",\"\"))","v":""},{"$f":"IF(AND(ROW(Y58)+COLUMN(Y58)/100<=$B$51,Go!W13=copy!$D$3,Go!X13=copy!$D$3,Go!Y13=copy!$F$3),1,IF(AND(Go!W13=copy!$D$3,Go!X13=copy!$D$3,Go!Y13=copy!$F$3),\"%\",\"\"))","v":""},{"$f":"IF(AND(ROW(Z58)+COLUMN(Z58)/100<=$B$51,Go!X13=copy!$D$3,Go!Y13=copy!$D$3,Go!Z13=copy!$F$3),1,IF(AND(Go!X13=copy!$D$3,Go!Y13=copy!$D$3,Go!Z13=copy!$F$3),\"%\",\"\"))","v":""},{"$f":"IF(AND(ROW(AA58)+COLUMN(AA58)/100<=$B$51,Go!Y13=copy!$D$3,Go!Z13=copy!$D$3,Go!AA13=copy!$F$3),1,IF(AND(Go!Y13=copy!$D$3,Go!Z13=copy!$D$3,Go!AA13=copy!$F$3),\"%\",\"\"))","v":""},{"$f":"IF(AND(ROW(AB58)+COLUMN(AB58)/100<=$B$51,Go!Z13=copy!$D$3,Go!AA13=copy!$D$3,Go!AB13=copy!$F$3),1,IF(AND(Go!Z13=copy!$D$3,Go!AA13=copy!$D$3,Go!AB13=copy!$F$3),\"%\",\"\"))","v":""},{"$f":"IF(AND(ROW(AC58)+COLUMN(AC58)/100<=$B$51,Go!AA13=copy!$D$3,Go!AB13=copy!$D$3,Go!AC13=copy!$F$3),1,IF(AND(Go!AA13=copy!$D$3,Go!AB13=copy!$D$3,Go!AC13=copy!$F$3),\"%\",\"\"))","v":""},{"$f":"IF(AND(ROW(AD58)+COLUMN(AD58)/100<=$B$51,Go!AB13=copy!$D$3,Go!AC13=copy!$D$3,Go!AD13=copy!$F$3),1,IF(AND(Go!AB13=copy!$D$3,Go!AC13=copy!$D$3,Go!AD13=copy!$F$3),\"%\",\"\"))","v":""},{"$f":"IF(AND(ROW(AE58)+COLUMN(AE58)/100<=$B$51,Go!AC13=copy!$D$3,Go!AD13=copy!$D$3,Go!AE13=copy!$F$3),1,IF(AND(Go!AC13=copy!$D$3,Go!AD13=copy!$D$3,Go!AE13=copy!$F$3),\"%\",\"\"))","v":""},{"$f":"IF(AND(ROW(AF58)+COLUMN(AF58)/100<=$B$51,Go!AD13=copy!$D$3,Go!AE13=copy!$D$3,Go!AF13=copy!$F$3),1,IF(AND(Go!AD13=copy!$D$3,Go!AE13=copy!$D$3,Go!AF13=copy!$F$3),\"%\",\"\"))","v":""},{"$f":"IF(AND(ROW(AG58)+COLUMN(AG58)/100<=$B$51,Go!AE13=copy!$D$3,Go!AF13=copy!$D$3,Go!AG13=copy!$F$3),1,IF(AND(Go!AE13=copy!$D$3,Go!AF13=copy!$D$3,Go!AG13=copy!$F$3),\"%\",\"\"))","v":""},{"$f":"IF(AND(ROW(AH58)+COLUMN(AH58)/100<=$B$51,Go!AF13=copy!$D$3,Go!AG13=copy!$D$3,Go!AH13=copy!$F$3),1,IF(AND(Go!AF13=copy!$D$3,Go!AG13=copy!$D$3,Go!AH13=copy!$F$3),\"%\",\"\"))","v":""},7]
[null,null,null,8,{"$f":"IF(AND(ROW(E59)+COLUMN(E59)/100<=$B$51,Go!AG13=copy!$D$3,Go!AH13=copy!$D$3,Go!E14=copy!$F$3),1,\"\")","v":""},{"$f":"IF(AND(ROW(F59)+COLUMN(F59)/100<=$B$51,Go!AH13=copy!$D$3,Go!E14=copy!$D$3,Go!F14=copy!$F$3),1,\"\")","v":""},{"$f":"IF(AND(ROW(G59)+COLUMN(G59)/100<=$B$51,Go!E14=copy!$D$3,Go!F14=copy!$D$3,Go!G14=copy!$F$3),1,IF(AND(Go!E14=copy!$D$3,Go!F14=copy!$D$3,Go!G14=copy!$F$3),\"%\",\"\"))","v":""},{"$f":"IF(AND(ROW(H59)+COLUMN(H59)/100<=$B$51,Go!F14=copy!$D$3,Go!G14=copy!$D$3,Go!H14=copy!$F$3),1,IF(AND(Go!F14=copy!$D$3,Go!G14=copy!$D$3,Go!H14=copy!$F$3),\"%\",\"\"))","v":""},{"$f":"IF(AND(ROW(I59)+COLUMN(I59)/100<=$B$51,Go!G14=copy!$D$3,Go!H14=copy!$D$3,Go!I14=copy!$F$3),1,IF(AND(Go!G14=copy!$D$3,Go!H14=copy!$D$3,Go!I14=copy!$F$3),\"%\",\"\"))","v":""},{"$f":"IF(AND(ROW(J59)+COLUMN(J59)/100<=$B$51,Go!H14=copy!$D$3,Go!I14=copy!$D$3,Go!J14=copy!$F$3),1,IF(AND(Go!H14=copy!$D$3,Go!I14=copy!$D$3,Go!J14=copy!$F$3),\"%\",\"\"))","v":""},{"$f":"IF(AND(ROW(K59)+COLUMN(K59)/100<=$B$51,Go!I14=copy!$D$3,Go!J14=copy!$D$3,Go!K14=copy!$F$3),1,IF(AND(Go!I14=copy!$D$3,Go!J14=copy!$D$3,Go!K14=copy!$F$3),\"%\",\"\"))","v":""},{"$f":"IF(AND(ROW(L59)+COLUMN(L59)/100<=$B$51,Go!J14=copy!$D$3,Go!K14=copy!$D$3,Go!L14=copy!$F$3),1,IF(AND(Go!J14=copy!$D$3,Go!K14=copy!$D$3,Go!L14=copy!$F$3),\"%\",\"\"))","v":""},{"$f":"IF(AND(ROW(M59)+COLUMN(M59)/100<=$B$51,Go!K14=copy!$D$3,Go!L14=copy!$D$3,Go!M14=copy!$F$3),1,IF(AND(Go!K14=copy!$D$3,Go!L14=copy!$D$3,Go!M14=copy!$F$3),\"%\",\"\"))","v":""},{"$f":"IF(AND(ROW(N59)+COLUMN(N59)/100<=$B$51,Go!L14=copy!$D$3,Go!M14=copy!$D$3,Go!N14=copy!$F$3),1,IF(AND(Go!L14=copy!$D$3,Go!M14=copy!$D$3,Go!N14=copy!$F$3),\"%\",\"\"))","v":""},{"$f":"IF(AND(ROW(O59)+COLUMN(O59)/100<=$B$51,Go!M14=copy!$D$3,Go!N14=copy!$D$3,Go!O14=copy!$F$3),1,IF(AND(Go!M14=copy!$D$3,Go!N14=copy!$D$3,Go!O14=copy!$F$3),\"%\",\"\"))","v":""},{"$f":"IF(AND(ROW(P59)+COLUMN(P59)/100<=$B$51,Go!N14=copy!$D$3,Go!O14=copy!$D$3,Go!P14=copy!$F$3),1,IF(AND(Go!N14=copy!$D$3,Go!O14=copy!$D$3,Go!P14=copy!$F$3),\"%\",\"\"))","v":""},{"$f":"IF(AND(ROW(Q59)+COLUMN(Q59)/100<=$B$51,Go!O14=copy!$D$3,Go!P14=copy!$D$3,Go!Q14=copy!$F$3),1,IF(AND(Go!O14=copy!$D$3,Go!P14=copy!$D$3,Go!Q14=copy!$F$3),\"%\",\"\"))","v":""},{"$f":"IF(AND(ROW(R59)+COLUMN(R59)/100<=$B$51,Go!P14=copy!$D$3,Go!Q14=copy!$D$3,Go!R14=copy!$F$3),1,IF(AND(Go!P14=copy!$D$3,Go!Q14=copy!$D$3,Go!R14=copy!$F$3),\"%\",\"\"))","v":""},{"$f":"IF(AND(ROW(S59)+COLUMN(S59)/100<=$B$51,Go!Q14=copy!$D$3,Go!R14=copy!$D$3,Go!S14=copy!$F$3),1,IF(AND(Go!Q14=copy!$D$3,Go!R14=copy!$D$3,Go!S14=copy!$F$3),\"%\",\"\"))","v":""},{"$f":"IF(AND(ROW(T59)+COLUMN(T59)/100<=$B$51,Go!R14=copy!$D$3,Go!S14=copy!$D$3,Go!T14=copy!$F$3),1,IF(AND(Go!R14=copy!$D$3,Go!S14=copy!$D$3,Go!T14=copy!$F$3),\"%\",\"\"))","v":""},{"$f":"IF(AND(ROW(U59)+COLUMN(U59)/100<=$B$51,Go!S14=copy!$D$3,Go!T14=copy!$D$3,Go!U14=copy!$F$3),1,IF(AND(Go!S14=copy!$D$3,Go!T14=copy!$D$3,Go!U14=copy!$F$3),\"%\",\"\"))","v":""},{"$f":"IF(AND(ROW(V59)+COLUMN(V59)/100<=$B$51,Go!T14=copy!$D$3,Go!U14=copy!$D$3,Go!V14=copy!$F$3),1,IF(AND(Go!T14=copy!$D$3,Go!U14=copy!$D$3,Go!V14=copy!$F$3),\"%\",\"\"))","v":""},{"$f":"IF(AND(ROW(W59)+COLUMN(W59)/100<=$B$51,Go!U14=copy!$D$3,Go!V14=copy!$D$3,Go!W14=copy!$F$3),1,IF(AND(Go!U14=copy!$D$3,Go!V14=copy!$D$3,Go!W14=copy!$F$3),\"%\",\"\"))","v":""},{"$f":"IF(AND(ROW(X59)+COLUMN(X59)/100<=$B$51,Go!V14=copy!$D$3,Go!W14=copy!$D$3,Go!X14=copy!$F$3),1,IF(AND(Go!V14=copy!$D$3,Go!W14=copy!$D$3,Go!X14=copy!$F$3),\"%\",\"\"))","v":""},{"$f":"IF(AND(ROW(Y59)+COLUMN(Y59)/100<=$B$51,Go!W14=copy!$D$3,Go!X14=copy!$D$3,Go!Y14=copy!$F$3),1,IF(AND(Go!W14=copy!$D$3,Go!X14=copy!$D$3,Go!Y14=copy!$F$3),\"%\",\"\"))","v":""},{"$f":"IF(AND(ROW(Z59)+COLUMN(Z59)/100<=$B$51,Go!X14=copy!$D$3,Go!Y14=copy!$D$3,Go!Z14=copy!$F$3),1,IF(AND(Go!X14=copy!$D$3,Go!Y14=copy!$D$3,Go!Z14=copy!$F$3),\"%\",\"\"))","v":""},{"$f":"IF(AND(ROW(AA59)+COLUMN(AA59)/100<=$B$51,Go!Y14=copy!$D$3,Go!Z14=copy!$D$3,Go!AA14=copy!$F$3),1,IF(AND(Go!Y14=copy!$D$3,Go!Z14=copy!$D$3,Go!AA14=copy!$F$3),\"%\",\"\"))","v":""},{"$f":"IF(AND(ROW(AB59)+COLUMN(AB59)/100<=$B$51,Go!Z14=copy!$D$3,Go!AA14=copy!$D$3,Go!AB14=copy!$F$3),1,IF(AND(Go!Z14=copy!$D$3,Go!AA14=copy!$D$3,Go!AB14=copy!$F$3),\"%\",\"\"))","v":""},{"$f":"IF(AND(ROW(AC59)+COLUMN(AC59)/100<=$B$51,Go!AA14=copy!$D$3,Go!AB14=copy!$D$3,Go!AC14=copy!$F$3),1,IF(AND(Go!AA14=copy!$D$3,Go!AB14=copy!$D$3,Go!AC14=copy!$F$3),\"%\",\"\"))","v":""},{"$f":"IF(AND(ROW(AD59)+COLUMN(AD59)/100<=$B$51,Go!AB14=copy!$D$3,Go!AC14=copy!$D$3,Go!AD14=copy!$F$3),1,IF(AND(Go!AB14=copy!$D$3,Go!AC14=copy!$D$3,Go!AD14=copy!$F$3),\"%\",\"\"))","v":""},{"$f":"IF(AND(ROW(AE59)+COLUMN(AE59)/100<=$B$51,Go!AC14=copy!$D$3,Go!AD14=copy!$D$3,Go!AE14=copy!$F$3),1,IF(AND(Go!AC14=copy!$D$3,Go!AD14=copy!$D$3,Go!AE14=copy!$F$3),\"%\",\"\"))","v":""},{"$f":"IF(AND(ROW(AF59)+COLUMN(AF59)/100<=$B$51,Go!AD14=copy!$D$3,Go!AE14=copy!$D$3,Go!AF14=copy!$F$3),1,IF(AND(Go!AD14=copy!$D$3,Go!AE14=copy!$D$3,Go!AF14=copy!$F$3),\"%\",\"\"))","v":""},{"$f":"IF(AND(ROW(AG59)+COLUMN(AG59)/100<=$B$51,Go!AE14=copy!$D$3,Go!AF14=copy!$D$3,Go!AG14=copy!$F$3),1,IF(AND(Go!AE14=copy!$D$3,Go!AF14=copy!$D$3,Go!AG14=copy!$F$3),\"%\",\"\"))","v":""},{"$f":"IF(AND(ROW(AH59)+COLUMN(AH59)/100<=$B$51,Go!AF14=copy!$D$3,Go!AG14=copy!$D$3,Go!AH14=copy!$F$3),1,IF(AND(Go!AF14=copy!$D$3,Go!AG14=copy!$D$3,Go!AH14=copy!$F$3),\"%\",\"\"))","v":""},8]
[null,null,null,9,{"$f":"IF(AND(ROW(E60)+COLUMN(E60)/100<=$B$51,Go!AG14=copy!$D$3,Go!AH14=copy!$D$3,Go!E15=copy!$F$3),1,\"\")","v":""},{"$f":"IF(AND(ROW(F60)+COLUMN(F60)/100<=$B$51,Go!AH14=copy!$D$3,Go!E15=copy!$D$3,Go!F15=copy!$F$3),1,\"\")","v":""},{"$f":"IF(AND(ROW(G60)+COLUMN(G60)/100<=$B$51,Go!E15=copy!$D$3,Go!F15=copy!$D$3,Go!G15=copy!$F$3),1,IF(AND(Go!E15=copy!$D$3,Go!F15=copy!$D$3,Go!G15=copy!$F$3),\"%\",\"\"))","v":""},{"$f":"IF(AND(ROW(H60)+COLUMN(H60)/100<=$B$51,Go!F15=copy!$D$3,Go!G15=copy!$D$3,Go!H15=copy!$F$3),1,IF(AND(Go!F15=copy!$D$3,Go!G15=copy!$D$3,Go!H15=copy!$F$3),\"%\",\"\"))","v":""},{"$f":"IF(AND(ROW(I60)+COLUMN(I60)/100<=$B$51,Go!G15=copy!$D$3,Go!H15=copy!$D$3,Go!I15=copy!$F$3),1,IF(AND(Go!G15=copy!$D$3,Go!H15=copy!$D$3,Go!I15=copy!$F$3),\"%\",\"\"))","v":""},{"$f":"IF(AND(ROW(J60)+COLUMN(J60)/100<=$B$51,Go!H15=copy!$D$3,Go!I15=copy!$D$3,Go!J15=copy!$F$3),1,IF(AND(Go!H15=copy!$D$3,Go!I15=copy!$D$3,Go!J15=copy!$F$3),\"%\",\"\"))","v":""},{"$f":"IF(AND(ROW(K60)+COLUMN(K60)/100<=$B$51,Go!I15=copy!$D$3,Go!J15=copy!$D$3,Go!K15=copy!$F$3),1,IF(AND(Go!I15=copy!$D$3,Go!J15=copy!$D$3,Go!K15=copy!$F$3),\"%\",\"\"))","v":""},{"$f":"IF(AND(ROW(L60)+COLUMN(L60)/100<=$B$51,Go!J15=copy!$D$3,Go!K15=copy!$D$3,Go!L15=copy!$F$3),1,IF(AND(Go!J15=copy!$D$3,Go!K15=copy!$D$3,Go!L15=copy!$F$3),\"%\",\"\"))","v":""},{"$f":"IF(AND(ROW(M60)+COLUMN(M60)/100<=$B$51,Go!K15=copy!$D$3,Go!L15=copy!$D$3,Go!M15=copy!$F$3),1,IF(AND(Go!K15=copy!$D$3,Go!L15=copy!$D$3,Go!M15=copy!$F$3),\"%\",\"\"))","v":""},{"$f":"IF(AND(ROW(N60)+COLUMN(N60)/100<=$B$51,Go!L15=copy!$D$3,Go!M15=copy!$D$3,Go!N15=copy!$F$3),1,IF(AND(Go!L15=copy!$D$3,Go!M15=copy!$D$3,Go!N15=copy!$F$3),\"%\",\"\"))","v":""},{"$f":"IF(AND(ROW(O60)+COLUMN(O60)/100<=$B$51,Go!M15=copy!$D$3,Go!N15=copy!$D$3,Go!O15=copy!$F$3),1,IF(AND(Go!M15=copy!$D$3,Go!N15=copy!$D$3,Go!O15=copy!$F$3),\"%\",\"\"))","v":""},{"$f":"IF(AND(ROW(P60)+COLUMN(P60)/100<=$B$51,Go!N15=copy!$D$3,Go!O15=copy!$D$3,Go!P15=copy!$F$3),1,IF(AND(Go!N15=copy!$D$3,Go!O15=copy!$D$3,Go!P15=copy!$F$3),\"%\",\"\"))","v":""},{"$f":"IF(AND(ROW(Q60)+COLUMN(Q60)/100<=$B$51,Go!O15=copy!$D$3,Go!P15=copy!$D$3,Go!Q15=copy!$F$3),1,IF(AND(Go!O15=copy!$D$3,Go!P15=copy!$D$3,Go!Q15=copy!$F$3),\"%\",\"\"))","v":""},{"$f":"IF(AND(ROW(R60)+COLUMN(R60)/100<=$B$51,Go!P15=copy!$D$3,Go!Q15=copy!$D$3,Go!R15=copy!$F$3),1,IF(AND(Go!P15=copy!$D$3,Go!Q15=copy!$D$3,Go!R15=copy!$F$3),\"%\",\"\"))","v":""},{"$f":"IF(AND(ROW(S60)+COLUMN(S60)/100<=$B$51,Go!Q15=copy!$D$3,Go!R15=copy!$D$3,Go!S15=copy!$F$3),1,IF(AND(Go!Q15=copy!$D$3,Go!R15=copy!$D$3,Go!S15=copy!$F$3),\"%\",\"\"))","v":""},{"$f":"IF(AND(ROW(T60)+COLUMN(T60)/100<=$B$51,Go!R15=copy!$D$3,Go!S15=copy!$D$3,Go!T15=copy!$F$3),1,IF(AND(Go!R15=copy!$D$3,Go!S15=copy!$D$3,Go!T15=copy!$F$3),\"%\",\"\"))","v":""},{"$f":"IF(AND(ROW(U60)+COLUMN(U60)/100<=$B$51,Go!S15=copy!$D$3,Go!T15=copy!$D$3,Go!U15=copy!$F$3),1,IF(AND(Go!S15=copy!$D$3,Go!T15=copy!$D$3,Go!U15=copy!$F$3),\"%\",\"\"))","v":""},{"$f":"IF(AND(ROW(V60)+COLUMN(V60)/100<=$B$51,Go!T15=copy!$D$3,Go!U15=copy!$D$3,Go!V15=copy!$F$3),1,IF(AND(Go!T15=copy!$D$3,Go!U15=copy!$D$3,Go!V15=copy!$F$3),\"%\",\"\"))","v":""},{"$f":"IF(AND(ROW(W60)+COLUMN(W60)/100<=$B$51,Go!U15=copy!$D$3,Go!V15=copy!$D$3,Go!W15=copy!$F$3),1,IF(AND(Go!U15=copy!$D$3,Go!V15=copy!$D$3,Go!W15=copy!$F$3),\"%\",\"\"))","v":""},{"$f":"IF(AND(ROW(X60)+COLUMN(X60)/100<=$B$51,Go!V15=copy!$D$3,Go!W15=copy!$D$3,Go!X15=copy!$F$3),1,IF(AND(Go!V15=copy!$D$3,Go!W15=copy!$D$3,Go!X15=copy!$F$3),\"%\",\"\"))","v":""},{"$f":"IF(AND(ROW(Y60)+COLUMN(Y60)/100<=$B$51,Go!W15=copy!$D$3,Go!X15=copy!$D$3,Go!Y15=copy!$F$3),1,IF(AND(Go!W15=copy!$D$3,Go!X15=copy!$D$3,Go!Y15=copy!$F$3),\"%\",\"\"))","v":""},{"$f":"IF(AND(ROW(Z60)+COLUMN(Z60)/100<=$B$51,Go!X15=copy!$D$3,Go!Y15=copy!$D$3,Go!Z15=copy!$F$3),1,IF(AND(Go!X15=copy!$D$3,Go!Y15=copy!$D$3,Go!Z15=copy!$F$3),\"%\",\"\"))","v":""},{"$f":"IF(AND(ROW(AA60)+COLUMN(AA60)/100<=$B$51,Go!Y15=copy!$D$3,Go!Z15=copy!$D$3,Go!AA15=copy!$F$3),1,IF(AND(Go!Y15=copy!$D$3,Go!Z15=copy!$D$3,Go!AA15=copy!$F$3),\"%\",\"\"))","v":""},{"$f":"IF(AND(ROW(AB60)+COLUMN(AB60)/100<=$B$51,Go!Z15=copy!$D$3,Go!AA15=copy!$D$3,Go!AB15=copy!$F$3),1,IF(AND(Go!Z15=copy!$D$3,Go!AA15=copy!$D$3,Go!AB15=copy!$F$3),\"%\",\"\"))","v":""},{"$f":"IF(AND(ROW(AC60)+COLUMN(AC60)/100<=$B$51,Go!AA15=copy!$D$3,Go!AB15=copy!$D$3,Go!AC15=copy!$F$3),1,IF(AND(Go!AA15=copy!$D$3,Go!AB15=copy!$D$3,Go!AC15=copy!$F$3),\"%\",\"\"))","v":""},{"$f":"IF(AND(ROW(AD60)+COLUMN(AD60)/100<=$B$51,Go!AB15=copy!$D$3,Go!AC15=copy!$D$3,Go!AD15=copy!$F$3),1,IF(AND(Go!AB15=copy!$D$3,Go!AC15=copy!$D$3,Go!AD15=copy!$F$3),\"%\",\"\"))","v":""},{"$f":"IF(AND(ROW(AE60)+COLUMN(AE60)/100<=$B$51,Go!AC15=copy!$D$3,Go!AD15=copy!$D$3,Go!AE15=copy!$F$3),1,IF(AND(Go!AC15=copy!$D$3,Go!AD15=copy!$D$3,Go!AE15=copy!$F$3),\"%\",\"\"))","v":""},{"$f":"IF(AND(ROW(AF60)+COLUMN(AF60)/100<=$B$51,Go!AD15=copy!$D$3,Go!AE15=copy!$D$3,Go!AF15=copy!$F$3),1,IF(AND(Go!AD15=copy!$D$3,Go!AE15=copy!$D$3,Go!AF15=copy!$F$3),\"%\",\"\"))","v":""},{"$f":"IF(AND(ROW(AG60)+COLUMN(AG60)/100<=$B$51,Go!AE15=copy!$D$3,Go!AF15=copy!$D$3,Go!AG15=copy!$F$3),1,IF(AND(Go!AE15=copy!$D$3,Go!AF15=copy!$D$3,Go!AG15=copy!$F$3),\"%\",\"\"))","v":""},{"$f":"IF(AND(ROW(AH60)+COLUMN(AH60)/100<=$B$51,Go!AF15=copy!$D$3,Go!AG15=copy!$D$3,Go!AH15=copy!$F$3),1,IF(AND(Go!AF15=copy!$D$3,Go!AG15=copy!$D$3,Go!AH15=copy!$F$3),\"%\",\"\"))","v":""},9]
[null,null,null,{"$f":"Go!D107","v":0},{"$f":"IF(AND(ROW(E61)+COLUMN(E61)/100<=$B$51,Go!AG15=copy!$D$3,Go!AH15=copy!$D$3,Go!E16=copy!$F$3),1,\"\")","v":""},{"$f":"IF(AND(ROW(F61)+COLUMN(F61)/100<=$B$51,Go!AH15=copy!$D$3,Go!E16=copy!$D$3,Go!F16=copy!$F$3),1,\"\")","v":""},{"$f":"IF(AND(ROW(G61)+COLUMN(G61)/100<=$B$51,Go!E16=copy!$D$3,Go!F16=copy!$D$3,Go!G16=copy!$F$3),1,IF(AND(Go!E16=copy!$D$3,Go!F16=copy!$D$3,Go!G16=copy!$F$3),\"%\",\"\"))","v":""},{"$f":"IF(AND(ROW(H61)+COLUMN(H61)/100<=$B$51,Go!F16=copy!$D$3,Go!G16=copy!$D$3,Go!H16=copy!$F$3),1,IF(AND(Go!F16=copy!$D$3,Go!G16=copy!$D$3,Go!H16=copy!$F$3),\"%\",\"\"))","v":""},{"$f":"IF(AND(ROW(I61)+COLUMN(I61)/100<=$B$51,Go!G16=copy!$D$3,Go!H16=copy!$D$3,Go!I16=copy!$F$3),1,IF(AND(Go!G16=copy!$D$3,Go!H16=copy!$D$3,Go!I16=copy!$F$3),\"%\",\"\"))","v":""},{"$f":"IF(AND(ROW(J61)+COLUMN(J61)/100<=$B$51,Go!H16=copy!$D$3,Go!I16=copy!$D$3,Go!J16=copy!$F$3),1,IF(AND(Go!H16=copy!$D$3,Go!I16=copy!$D$3,Go!J16=copy!$F$3),\"%\",\"\"))","v":""},{"$f":"IF(AND(ROW(K61)+COLUMN(K61)/100<=$B$51,Go!I16=copy!$D$3,Go!J16=copy!$D$3,Go!K16=copy!$F$3),1,IF(AND(Go!I16=copy!$D$3,Go!J16=copy!$D$3,Go!K16=copy!$F$3),\"%\",\"\"))","v":""},{"$f":"IF(AND(ROW(L61)+COLUMN(L61)/100<=$B$51,Go!J16=copy!$D$3,Go!K16=copy!$D$3,Go!L16=copy!$F$3),1,IF(AND(Go!J16=copy!$D$3,Go!K16=copy!$D$3,Go!L16=copy!$F$3),\"%\",\"\"))","v":""},{"$f":"IF(AND(ROW(M61)+COLUMN(M61)/100<=$B$51,Go!K16=copy!$D$3,Go!L16=copy!$D$3,Go!M16=copy!$F$3),1,IF(AND(Go!K16=copy!$D$3,Go!L16=copy!$D$3,Go!M16=copy!$F$3),\"%\",\"\"))","v":""},{"$f":"IF(AND(ROW(N61)+COLUMN(N61)/100<=$B$51,Go!L16=copy!$D$3,Go!M16=copy!$D$3,Go!N16=copy!$F$3),1,IF(AND(Go!L16=copy!$D$3,Go!M16=copy!$D$3,Go!N16=copy!$F$3),\"%\",\"\"))","v":""},{"$f":"IF(AND(ROW(O61)+COLUMN(O61)/100<=$B$51,Go!M16=copy!$D$3,Go!N16=copy!$D$3,Go!O16=copy!$F$3),1,IF(AND(Go!M16=copy!$D$3,Go!N16=copy!$D$3,Go!O16=copy!$F$3),\"%\",\"\"))","v":""},{"$f":"IF(AND(ROW(P61)+COLUMN(P61)/100<=$B$51,Go!N16=copy!$D$3,Go!O16=copy!$D$3,Go!P16=copy!$F$3),1,IF(AND(Go!N16=copy!$D$3,Go!O16=copy!$D$3,Go!P16=copy!$F$3),\"%\",\"\"))","v":""},{"$f":"IF(AND(ROW(Q61)+COLUMN(Q61)/100<=$B$51,Go!O16=copy!$D$3,Go!P16=copy!$D$3,Go!Q16=copy!$F$3),1,IF(AND(Go!O16=copy!$D$3,Go!P16=copy!$D$3,Go!Q16=copy!$F$3),\"%\",\"\"))","v":""},{"$f":"IF(AND(ROW(R61)+COLUMN(R61)/100<=$B$51,Go!P16=copy!$D$3,Go!Q16=copy!$D$3,Go!R16=copy!$F$3),1,IF(AND(Go!P16=copy!$D$3,Go!Q16=copy!$D$3,Go!R16=copy!$F$3),\"%\",\"\"))","v":""},{"$f":"IF(AND(ROW(S61)+COLUMN(S61)/100<=$B$51,Go!Q16=copy!$D$3,Go!R16=copy!$D$3,Go!S16=copy!$F$3),1,IF(AND(Go!Q16=copy!$D$3,Go!R16=copy!$D$3,Go!S16=copy!$F$3),\"%\",\"\"))","v":""},{"$f":"IF(AND(ROW(T61)+COLUMN(T61)/100<=$B$51,Go!R16=copy!$D$3,Go!S16=copy!$D$3,Go!T16=copy!$F$3),1,IF(AND(Go!R16=copy!$D$3,Go!S16=copy!$D$3,Go!T16=copy!$F$3),\"%\",\"\"))","v":""},{"$f":"IF(AND(ROW(U61)+COLUMN(U61)/100<=$B$51,Go!S16=copy!$D$3,Go!T16=copy!$D$3,Go!U16=copy!$F$3),1,IF(AND(Go!S16=copy!$D$3,Go!T16=copy!$D$3,Go!U16=copy!$F$3),\"%\",\"\"))","v":""},{"$f":"IF(AND(ROW(V61)+COLUMN(V61)/100<=$B$51,Go!T16=copy!$D$3,Go!U16=copy!$D$3,Go!V16=copy!$F$3),1,IF(AND(Go!T16=copy!$D$3,Go!U16=copy!$D$3,Go!V16=copy!$F$3),\"%\",\"\"))","v":""},{"$f":"IF(AND(ROW(W61)+COLUMN(W61)/100<=$B$51,Go!U16=copy!$D$3,Go!V16=copy!$D$3,Go!W16=copy!$F$3),1,IF(AND(Go!U16=copy!$D$3,Go!V16=copy!$D$3,Go!W16=copy!$F$3),\"%\",\"\"))","v":""},{"$f":"IF(AND(ROW(X61)+COLUMN(X61)/100<=$B$51,Go!V16=copy!$D$3,Go!W16=copy!$D$3,Go!X16=copy!$F$3),1,IF(AND(Go!V16=copy!$D$3,Go!W16=copy!$D$3,Go!X16=copy!$F$3),\"%\",\"\"))","v":""},{"$f":"IF(AND(ROW(Y61)+COLUMN(Y61)/100<=$B$51,Go!W16=copy!$D$3,Go!X16=copy!$D$3,Go!Y16=copy!$F$3),1,IF(AND(Go!W16=copy!$D$3,Go!X16=copy!$D$3,Go!Y16=copy!$F$3),\"%\",\"\"))","v":""},{"$f":"IF(AND(ROW(Z61)+COLUMN(Z61)/100<=$B$51,Go!X16=copy!$D$3,Go!Y16=copy!$D$3,Go!Z16=copy!$F$3),1,IF(AND(Go!X16=copy!$D$3,Go!Y16=copy!$D$3,Go!Z16=copy!$F$3),\"%\",\"\"))","v":""},{"$f":"IF(AND(ROW(AA61)+COLUMN(AA61)/100<=$B$51,Go!Y16=copy!$D$3,Go!Z16=copy!$D$3,Go!AA16=copy!$F$3),1,IF(AND(Go!Y16=copy!$D$3,Go!Z16=copy!$D$3,Go!AA16=copy!$F$3),\"%\",\"\"))","v":""},{"$f":"IF(AND(ROW(AB61)+COLUMN(AB61)/100<=$B$51,Go!Z16=copy!$D$3,Go!AA16=copy!$D$3,Go!AB16=copy!$F$3),1,IF(AND(Go!Z16=copy!$D$3,Go!AA16=copy!$D$3,Go!AB16=copy!$F$3),\"%\",\"\"))","v":""},{"$f":"IF(AND(ROW(AC61)+COLUMN(AC61)/100<=$B$51,Go!AA16=copy!$D$3,Go!AB16=copy!$D$3,Go!AC16=copy!$F$3),1,IF(AND(Go!AA16=copy!$D$3,Go!AB16=copy!$D$3,Go!AC16=copy!$F$3),\"%\",\"\"))","v":""},{"$f":"IF(AND(ROW(AD61)+COLUMN(AD61)/100<=$B$51,Go!AB16=copy!$D$3,Go!AC16=copy!$D$3,Go!AD16=copy!$F$3),1,IF(AND(Go!AB16=copy!$D$3,Go!AC16=copy!$D$3,Go!AD16=copy!$F$3),\"%\",\"\"))","v":""},{"$f":"IF(AND(ROW(AE61)+COLUMN(AE61)/100<=$B$51,Go!AC16=copy!$D$3,Go!AD16=copy!$D$3,Go!AE16=copy!$F$3),1,IF(AND(Go!AC16=copy!$D$3,Go!AD16=copy!$D$3,Go!AE16=copy!$F$3),\"%\",\"\"))","v":""},{"$f":"IF(AND(ROW(AF61)+COLUMN(AF61)/100<=$B$51,Go!AD16=copy!$D$3,Go!AE16=copy!$D$3,Go!AF16=copy!$F$3),1,IF(AND(Go!AD16=copy!$D$3,Go!AE16=copy!$D$3,Go!AF16=copy!$F$3),\"%\",\"\"))","v":""},{"$f":"IF(AND(ROW(AG61)+COLUMN(AG61)/100<=$B$51,Go!AE16=copy!$D$3,Go!AF16=copy!$D$3,Go!AG16=copy!$F$3),1,IF(AND(Go!AE16=copy!$D$3,Go!AF16=copy!$D$3,Go!AG16=copy!$F$3),\"%\",\"\"))","v":""},{"$f":"IF(AND(ROW(AH61)+COLUMN(AH61)/100<=$B$51,Go!AF16=copy!$D$3,Go!AG16=copy!$D$3,Go!AH16=copy!$F$3),1,IF(AND(Go!AF16=copy!$D$3,Go!AG16=copy!$D$3,Go!AH16=copy!$F$3),\"%\",\"\"))","v":""},{"$f":"Go!AI107","v":0}]
[null,null,null,1,{"$f":"IF(AND(ROW(E62)+COLUMN(E62)/100<=$B$51,Go!AG16=copy!$D$3,Go!AH16=copy!$D$3,Go!E17=copy!$F$3),1,\"\")","v":""},{"$f":"IF(AND(ROW(F62)+COLUMN(F62)/100<=$B$51,Go!AH16=copy!$D$3,Go!E17=copy!$D$3,Go!F17=copy!$F$3),1,\"\")","v":""},{"$f":"IF(AND(ROW(G62)+COLUMN(G62)/100<=$B$51,Go!E17=copy!$D$3,Go!F17=copy!$D$3,Go!G17=copy!$F$3),1,IF(AND(Go!E17=copy!$D$3,Go!F17=copy!$D$3,Go!G17=copy!$F$3),\"%\",\"\"))","v":""},{"$f":"IF(AND(ROW(H62)+COLUMN(H62)/100<=$B$51,Go!F17=copy!$D$3,Go!G17=copy!$D$3,Go!H17=copy!$F$3),1,IF(AND(Go!F17=copy!$D$3,Go!G17=copy!$D$3,Go!H17=copy!$F$3),\"%\",\"\"))","v":""},{"$f":"IF(AND(ROW(I62)+COLUMN(I62)/100<=$B$51,Go!G17=copy!$D$3,Go!H17=copy!$D$3,Go!I17=copy!$F$3),1,IF(AND(Go!G17=copy!$D$3,Go!H17=copy!$D$3,Go!I17=copy!$F$3),\"%\",\"\"))","v":""},{"$f":"IF(AND(ROW(J62)+COLUMN(J62)/100<=$B$51,Go!H17=copy!$D$3,Go!I17=copy!$D$3,Go!J17=copy!$F$3),1,IF(AND(Go!H17=copy!$D$3,Go!I17=copy!$D$3,Go!J17=copy!$F$3),\"%\",\"\"))","v":""},{"$f":"IF(AND(ROW(K62)+COLUMN(K62)/100<=$B$51,Go!I17=copy!$D$3,Go!J17=copy!$D$3,Go!K17=copy!$F$3),1,IF(AND(Go!I17=copy!$D$3,Go!J17=copy!$D$3,Go!K17=copy!$F$3),\"%\",\"\"))","v":""},{"$f":"IF(AND(ROW(L62)+COLUMN(L62)/100<=$B$51,Go!J17=copy!$D$3,Go!K17=copy!$D$3,Go!L17=copy!$F$3),1,IF(AND(Go!J17=copy!$D$3,Go!K17=copy!$D$3,Go!L17=copy!$F$3),\"%\",\"\"))","v":""},{"$f":"IF(AND(ROW(M62)+COLUMN(M62)/100<=$B$51,Go!K17=copy!$D$3,Go!L17=copy!$D$3,Go!M17=copy!$F$3),1,IF(AND(Go!K17=copy!$D$3,Go!L17=copy!$D$3,Go!M17=copy!$F$3),\"%\",\"\"))","v":""},{"$f":"IF(AND(ROW(N62)+COLUMN(N62)/100<=$B$51,Go!L17=copy!$D$3,Go!M17=copy!$D$3,Go!N17=copy!$F$3),1,IF(AND(Go!L17=copy!$D$3,Go!M17=copy!$D$3,Go!N17=copy!$F$3),\"%\",\"\"))","v":""},{"$f":"IF(AND(ROW(O62)+COLUMN(O62)/100<=$B$51,Go!M17=copy!$D$3,Go!N17=copy!$D$3,Go!O17=copy!$F$3),1,IF(AND(Go!M17=copy!$D$3,Go!N17=copy!$D$3,Go!O17=copy!$F$3),\"%\",\"\"))","v":""},{"$f":"IF(AND(ROW(P62)+COLUMN(P62)/100<=$B$51,Go!N17=copy!$D$3,Go!O17=copy!$D$3,Go!P17=copy!$F$3),1,IF(AND(Go!N17=copy!$D$3,Go!O17=copy!$D$3,Go!P17=copy!$F$3),\"%\",\"\"))","v":""},{"$f":"IF(AND(ROW(Q62)+COLUMN(Q62)/100<=$B$51,Go!O17=copy!$D$3,Go!P17=copy!$D$3,Go!Q17=copy!$F$3),1,IF(AND(Go!O17=copy!$D$3,Go!P17=copy!$D$3,Go!Q17=copy!$F$3),\"%\",\"\"))","v":""},{"$f":"IF(AND(ROW(R62)+COLUMN(R62)/100<=$B$51,Go!P17=copy!$D$3,Go!Q17=copy!$D$3,Go!R17=copy!$F$3),1,IF(AND(Go!P17=copy!$D$3,Go!Q17=copy!$D$3,Go!R17=copy!$F$3),\"%\",\"\"))","v":""},{"$f":"IF(AND(ROW(S62)+COLUMN(S62)/100<=$B$51,Go!Q17=copy!$D$3,Go!R17=copy!$D$3,Go!S17=copy!$F$3),1,IF(AND(Go!Q17=copy!$D$3,Go!R17=copy!$D$3,Go!S17=copy!$F$3),\"%\",\"\"))","v":""},{"$f":"IF(AND(ROW(T62)+COLUMN(T62)/100<=$B$51,Go!R17=copy!$D$3,Go!S17=copy!$D$3,Go!T17=copy!$F$3),1,IF(AND(Go!R17=copy!$D$3,Go!S17=copy!$D$3,Go!T17=copy!$F$3),\"%\",\"\"))","v":""},{"$f":"IF(AND(ROW(U62)+COLUMN(U62)/100<=$B$51,Go!S17=copy!$D$3,Go!T17=copy!$D$3,Go!U17=copy!$F$3),1,IF(AND(Go!S17=copy!$D$3,Go!T17=copy!$D$3,Go!U17=copy!$F$3),\"%\",\"\"))","v":""},{"$f":"IF(AND(ROW(V62)+COLUMN(V62)/100<=$B$51,Go!T17=copy!$D$3,Go!U17=copy!$D$3,Go!V17=copy!$F$3),1,IF(AND(Go!T17=copy!$D$3,Go!U17=copy!$D$3,Go!V17=copy!$F$3),\"%\",\"\"))","v":""},{"$f":"IF(AND(ROW(W62)+COLUMN(W62)/100<=$B$51,Go!U17=copy!$D$3,Go!V17=copy!$D$3,Go!W17=copy!$F$3),1,IF(AND(Go!U17=copy!$D$3,Go!V17=copy!$D$3,Go!W17=copy!$F$3),\"%\",\"\"))","v":""},{"$f":"IF(AND(ROW(X62)+COLUMN(X62)/100<=$B$51,Go!V17=copy!$D$3,Go!W17=copy!$D$3,Go!X17=copy!$F$3),1,IF(AND(Go!V17=copy!$D$3,Go!W17=copy!$D$3,Go!X17=copy!$F$3),\"%\",\"\"))","v":""},{"$f":"IF(AND(ROW(Y62)+COLUMN(Y62)/100<=$B$51,Go!W17=copy!$D$3,Go!X17=copy!$D$3,Go!Y17=copy!$F$3),1,IF(AND(Go!W17=copy!$D$3,Go!X17=copy!$D$3,Go!Y17=copy!$F$3),\"%\",\"\"))","v":""},{"$f":"IF(AND(ROW(Z62)+COLUMN(Z62)/100<=$B$51,Go!X17=copy!$D$3,Go!Y17=copy!$D$3,Go!Z17=copy!$F$3),1,IF(AND(Go!X17=copy!$D$3,Go!Y17=copy!$D$3,Go!Z17=copy!$F$3),\"%\",\"\"))","v":""},{"$f":"IF(AND(ROW(AA62)+COLUMN(AA62)/100<=$B$51,Go!Y17=copy!$D$3,Go!Z17=copy!$D$3,Go!AA17=copy!$F$3),1,IF(AND(Go!Y17=copy!$D$3,Go!Z17=copy!$D$3,Go!AA17=copy!$F$3),\"%\",\"\"))","v":""},{"$f":"IF(AND(ROW(AB62)+COLUMN(AB62)/100<=$B$51,Go!Z17=copy!$D$3,Go!AA17=copy!$D$3,Go!AB17=copy!$F$3),1,IF(AND(Go!Z17=copy!$D$3,Go!AA17=copy!$D$3,Go!AB17=copy!$F$3),\"%\",\"\"))","v":""},{"$f":"IF(AND(ROW(AC62)+COLUMN(AC62)/100<=$B$51,Go!AA17=copy!$D$3,Go!AB17=copy!$D$3,Go!AC17=copy!$F$3),1,IF(AND(Go!AA17=copy!$D$3,Go!AB17=copy!$D$3,Go!AC17=copy!$F$3),\"%\",\"\"))","v":""},{"$f":"IF(AND(ROW(AD62)+COLUMN(AD62)/100<=$B$51,Go!AB17=copy!$D$3,Go!AC17=copy!$D$3,Go!AD17=copy!$F$3),1,IF(AND(Go!AB17=copy!$D$3,Go!AC17=copy!$D$3,Go!AD17=copy!$F$3),\"%\",\"\"))","v":""},{"$f":"IF(AND(ROW(AE62)+COLUMN(AE62)/100<=$B$51,Go!AC17=copy!$D$3,Go!AD17=copy!$D$3,Go!AE17=copy!$F$3),1,IF(AND(Go!AC17=copy!$D$3,Go!AD17=copy!$D$3,Go!AE17=copy!$F$3),\"%\",\"\"))","v":""},{"$f":"IF(AND(ROW(AF62)+COLUMN(AF62)/100<=$B$51,Go!AD17=copy!$D$3,Go!AE17=copy!$D$3,Go!AF17=copy!$F$3),1,IF(AND(Go!AD17=copy!$D$3,Go!AE17=copy!$D$3,Go!AF17=copy!$F$3),\"%\",\"\"))","v":""},{"$f":"IF(AND(ROW(AG62)+COLUMN(AG62)/100<=$B$51,Go!AE17=copy!$D$3,Go!AF17=copy!$D$3,Go!AG17=copy!$F$3),1,IF(AND(Go!AE17=copy!$D$3,Go!AF17=copy!$D$3,Go!AG17=copy!$F$3),\"%\",\"\"))","v":""},{"$f":"IF(AND(ROW(AH62)+COLUMN(AH62)/100<=$B$51,Go!AF17=copy!$D$3,Go!AG17=copy!$D$3,Go!AH17=copy!$F$3),1,IF(AND(Go!AF17=copy!$D$3,Go!AG17=copy!$D$3,Go!AH17=copy!$F$3),\"%\",\"\"))","v":""},1]
[null,null,null,2,{"$f":"IF(AND(ROW(E63)+COLUMN(E63)/100<=$B$51,Go!AG17=copy!$D$3,Go!AH17=copy!$D$3,Go!E18=copy!$F$3),1,\"\")","v":""},{"$f":"IF(AND(ROW(F63)+COLUMN(F63)/100<=$B$51,Go!AH17=copy!$D$3,Go!E18=copy!$D$3,Go!F18=copy!$F$3),1,\"\")","v":""},{"$f":"IF(AND(ROW(G63)+COLUMN(G63)/100<=$B$51,Go!E18=copy!$D$3,Go!F18=copy!$D$3,Go!G18=copy!$F$3),1,IF(AND(Go!E18=copy!$D$3,Go!F18=copy!$D$3,Go!G18=copy!$F$3),\"%\",\"\"))","v":""},{"$f":"IF(AND(ROW(H63)+COLUMN(H63)/100<=$B$51,Go!F18=copy!$D$3,Go!G18=copy!$D$3,Go!H18=copy!$F$3),1,IF(AND(Go!F18=copy!$D$3,Go!G18=copy!$D$3,Go!H18=copy!$F$3),\"%\",\"\"))","v":""},{"$f":"IF(AND(ROW(I63)+COLUMN(I63)/100<=$B$51,Go!G18=copy!$D$3,Go!H18=copy!$D$3,Go!I18=copy!$F$3),1,IF(AND(Go!G18=copy!$D$3,Go!H18=copy!$D$3,Go!I18=copy!$F$3),\"%\",\"\"))","v":""},{"$f":"IF(AND(ROW(J63)+COLUMN(J63)/100<=$B$51,Go!H18=copy!$D$3,Go!I18=copy!$D$3,Go!J18=copy!$F$3),1,IF(AND(Go!H18=copy!$D$3,Go!I18=copy!$D$3,Go!J18=copy!$F$3),\"%\",\"\"))","v":""},{"$f":"IF(AND(ROW(K63)+COLUMN(K63)/100<=$B$51,Go!I18=copy!$D$3,Go!J18=copy!$D$3,Go!K18=copy!$F$3),1,IF(AND(Go!I18=copy!$D$3,Go!J18=copy!$D$3,Go!K18=copy!$F$3),\"%\",\"\"))","v":""},{"$f":"IF(AND(ROW(L63)+COLUMN(L63)/100<=$B$51,Go!J18=copy!$D$3,Go!K18=copy!$D$3,Go!L18=copy!$F$3),1,IF(AND(Go!J18=copy!$D$3,Go!K18=copy!$D$3,Go!L18=copy!$F$3),\"%\",\"\"))","v":""},{"$f":"IF(AND(ROW(M63)+COLUMN(M63)/100<=$B$51,Go!K18=copy!$D$3,Go!L18=copy!$D$3,Go!M18=copy!$F$3),1,IF(AND(Go!K18=copy!$D$3,Go!L18=copy!$D$3,Go!M18=copy!$F$3),\"%\",\"\"))","v":""},{"$f":"IF(AND(ROW(N63)+COLUMN(N63)/100<=$B$51,Go!L18=copy!$D$3,Go!M18=copy!$D$3,Go!N18=copy!$F$3),1,IF(AND(Go!L18=copy!$D$3,Go!M18=copy!$D$3,Go!N18=copy!$F$3),\"%\",\"\"))","v":""},{"$f":"IF(AND(ROW(O63)+COLUMN(O63)/100<=$B$51,Go!M18=copy!$D$3,Go!N18=copy!$D$3,Go!O18=copy!$F$3),1,IF(AND(Go!M18=copy!$D$3,Go!N18=copy!$D$3,Go!O18=copy!$F$3),\"%\",\"\"))","v":""},{"$f":"IF(AND(ROW(P63)+COLUMN(P63)/100<=$B$51,Go!N18=copy!$D$3,Go!O18=copy!$D$3,Go!P18=copy!$F$3),1,IF(AND(Go!N18=copy!$D$3,Go!O18=copy!$D$3,Go!P18=copy!$F$3),\"%\",\"\"))","v":""},{"$f":"IF(AND(ROW(Q63)+COLUMN(Q63)/100<=$B$51,Go!O18=copy!$D$3,Go!P18=copy!$D$3,Go!Q18=copy!$F$3),1,IF(AND(Go!O18=copy!$D$3,Go!P18=copy!$D$3,Go!Q18=copy!$F$3),\"%\",\"\"))","v":""},{"$f":"IF(AND(ROW(R63)+COLUMN(R63)/100<=$B$51,Go!P18=copy!$D$3,Go!Q18=copy!$D$3,Go!R18=copy!$F$3),1,IF(AND(Go!P18=copy!$D$3,Go!Q18=copy!$D$3,Go!R18=copy!$F$3),\"%\",\"\"))","v":""},{"$f":"IF(AND(ROW(S63)+COLUMN(S63)/100<=$B$51,Go!Q18=copy!$D$3,Go!R18=copy!$D$3,Go!S18=copy!$F$3),1,IF(AND(Go!Q18=copy!$D$3,Go!R18=copy!$D$3,Go!S18=copy!$F$3),\"%\",\"\"))","v":""},{"$f":"IF(AND(ROW(T63)+COLUMN(T63)/100<=$B$51,Go!R18=copy!$D$3,Go!S18=copy!$D$3,Go!T18=copy!$F$3),1,IF(AND(Go!R18=copy!$D$3,Go!S18=copy!$D$3,Go!T18=copy!$F$3),\"%\",\"\"))","v":""},{"$f":"IF(AND(ROW(U63)+COLUMN(U63)/100<=$B$51,Go!S18=copy!$D$3,Go!T18=copy!$D$3,Go!U18=copy!$F$3),1,IF(AND(Go!S18=copy!$D$3,Go!T18=copy!$D$3,Go!U18=copy!$F$3),\"%\",\"\"))","v":""},{"$f":"IF(AND(ROW(V63)+COLUMN(V63)/100<=$B$51,Go!T18=copy!$D$3,Go!U18=copy!$D$3,Go!V18=copy!$F$3),1,IF(AND(Go!T18=copy!$D$3,Go!U18=copy!$D$3,Go!V18=copy!$F$3),\"%\",\"\"))","v":""},{"$f":"IF(AND(ROW(W63)+COLUMN(W63)/100<=$B$51,Go!U18=copy!$D$3,Go!V18=copy!$D$3,Go!W18=copy!$F$3),1,IF(AND(Go!U18=copy!$D$3,Go!V18=copy!$D$3,Go!W18=copy!$F$3),\"%\",\"\"))","v":""},{"$f":"IF(AND(ROW(X63)+COLUMN(X63)/100<=$B$51,Go!V18=copy!$D$3,Go!W18=copy!$D$3,Go!X18=copy!$F$3),1,IF(AND(Go!V18=copy!$D$3,Go!W18=copy!$D$3,Go!X18=copy!$F$3),\"%\",\"\"))","v":""},{"$f":"IF(AND(ROW(Y63)+COLUMN(Y63)/100<=$B$51,Go!W18=copy!$D$3,Go!X18=copy!$D$3,Go!Y18=copy!$F$3),1,IF(AND(Go!W18=copy!$D$3,Go!X18=copy!$D$3,Go!Y18=copy!$F$3),\"%\",\"\"))","v":""},{"$f":"IF(AND(ROW(Z63)+COLUMN(Z63)/100<=$B$51,Go!X18=copy!$D$3,Go!Y18=copy!$D$3,Go!Z18=copy!$F$3),1,IF(AND(Go!X18=copy!$D$3,Go!Y18=copy!$D$3,Go!Z18=copy!$F$3),\"%\",\"\"))","v":""},{"$f":"IF(AND(ROW(AA63)+COLUMN(AA63)/100<=$B$51,Go!Y18=copy!$D$3,Go!Z18=copy!$D$3,Go!AA18=copy!$F$3),1,IF(AND(Go!Y18=copy!$D$3,Go!Z18=copy!$D$3,Go!AA18=copy!$F$3),\"%\",\"\"))","v":""},{"$f":"IF(AND(ROW(AB63)+COLUMN(AB63)/100<=$B$51,Go!Z18=copy!$D$3,Go!AA18=copy!$D$3,Go!AB18=copy!$F$3),1,IF(AND(Go!Z18=copy!$D$3,Go!AA18=copy!$D$3,Go!AB18=copy!$F$3),\"%\",\"\"))","v":""},{"$f":"IF(AND(ROW(AC63)+COLUMN(AC63)/100<=$B$51,Go!AA18=copy!$D$3,Go!AB18=copy!$D$3,Go!AC18=copy!$F$3),1,IF(AND(Go!AA18=copy!$D$3,Go!AB18=copy!$D$3,Go!AC18=copy!$F$3),\"%\",\"\"))","v":""},{"$f":"IF(AND(ROW(AD63)+COLUMN(AD63)/100<=$B$51,Go!AB18=copy!$D$3,Go!AC18=copy!$D$3,Go!AD18=copy!$F$3),1,IF(AND(Go!AB18=copy!$D$3,Go!AC18=copy!$D$3,Go!AD18=copy!$F$3),\"%\",\"\"))","v":""},{"$f":"IF(AND(ROW(AE63)+COLUMN(AE63)/100<=$B$51,Go!AC18=copy!$D$3,Go!AD18=copy!$D$3,Go!AE18=copy!$F$3),1,IF(AND(Go!AC18=copy!$D$3,Go!AD18=copy!$D$3,Go!AE18=copy!$F$3),\"%\",\"\"))","v":""},{"$f":"IF(AND(ROW(AF63)+COLUMN(AF63)/100<=$B$51,Go!AD18=copy!$D$3,Go!AE18=copy!$D$3,Go!AF18=copy!$F$3),1,IF(AND(Go!AD18=copy!$D$3,Go!AE18=copy!$D$3,Go!AF18=copy!$F$3),\"%\",\"\"))","v":""},{"$f":"IF(AND(ROW(AG63)+COLUMN(AG63)/100<=$B$51,Go!AE18=copy!$D$3,Go!AF18=copy!$D$3,Go!AG18=copy!$F$3),1,IF(AND(Go!AE18=copy!$D$3,Go!AF18=copy!$D$3,Go!AG18=copy!$F$3),\"%\",\"\"))","v":""},{"$f":"IF(AND(ROW(AH63)+COLUMN(AH63)/100<=$B$51,Go!AF18=copy!$D$3,Go!AG18=copy!$D$3,Go!AH18=copy!$F$3),1,IF(AND(Go!AF18=copy!$D$3,Go!AG18=copy!$D$3,Go!AH18=copy!$F$3),\"%\",\"\"))","v":""},2]
[null,null,null,3,{"$f":"IF(AND(ROW(E64)+COLUMN(E64)/100<=$B$51,Go!AG18=copy!$D$3,Go!AH18=copy!$D$3,Go!E19=copy!$F$3),1,\"\")","v":""},{"$f":"IF(AND(ROW(F64)+COLUMN(F64)/100<=$B$51,Go!AH18=copy!$D$3,Go!E19=copy!$D$3,Go!F19=copy!$F$3),1,\"\")","v":""},{"$f":"IF(AND(ROW(G64)+COLUMN(G64)/100<=$B$51,Go!E19=copy!$D$3,Go!F19=copy!$D$3,Go!G19=copy!$F$3),1,IF(AND(Go!E19=copy!$D$3,Go!F19=copy!$D$3,Go!G19=copy!$F$3),\"%\",\"\"))","v":""},{"$f":"IF(AND(ROW(H64)+COLUMN(H64)/100<=$B$51,Go!F19=copy!$D$3,Go!G19=copy!$D$3,Go!H19=copy!$F$3),1,IF(AND(Go!F19=copy!$D$3,Go!G19=copy!$D$3,Go!H19=copy!$F$3),\"%\",\"\"))","v":""},{"$f":"IF(AND(ROW(I64)+COLUMN(I64)/100<=$B$51,Go!G19=copy!$D$3,Go!H19=copy!$D$3,Go!I19=copy!$F$3),1,IF(AND(Go!G19=copy!$D$3,Go!H19=copy!$D$3,Go!I19=copy!$F$3),\"%\",\"\"))","v":""},{"$f":"IF(AND(ROW(J64)+COLUMN(J64)/100<=$B$51,Go!H19=copy!$D$3,Go!I19=copy!$D$3,Go!J19=copy!$F$3),1,IF(AND(Go!H19=copy!$D$3,Go!I19=copy!$D$3,Go!J19=copy!$F$3),\"%\",\"\"))","v":""},{"$f":"IF(AND(ROW(K64)+COLUMN(K64)/100<=$B$51,Go!I19=copy!$D$3,Go!J19=copy!$D$3,Go!K19=copy!$F$3),1,IF(AND(Go!I19=copy!$D$3,Go!J19=copy!$D$3,Go!K19=copy!$F$3),\"%\",\"\"))","v":""},{"$f":"IF(AND(ROW(L64)+COLUMN(L64)/100<=$B$51,Go!J19=copy!$D$3,Go!K19=copy!$D$3,Go!L19=copy!$F$3),1,IF(AND(Go!J19=copy!$D$3,Go!K19=copy!$D$3,Go!L19=copy!$F$3),\"%\",\"\"))","v":""},{"$f":"IF(AND(ROW(M64)+COLUMN(M64)/100<=$B$51,Go!K19=copy!$D$3,Go!L19=copy!$D$3,Go!M19=copy!$F$3),1,IF(AND(Go!K19=copy!$D$3,Go!L19=copy!$D$3,Go!M19=copy!$F$3),\"%\",\"\"))","v":""},{"$f":"IF(AND(ROW(N64)+COLUMN(N64)/100<=$B$51,Go!L19=copy!$D$3,Go!M19=copy!$D$3,Go!N19=copy!$F$3),1,IF(AND(Go!L19=copy!$D$3,Go!M19=copy!$D$3,Go!N19=copy!$F$3),\"%\",\"\"))","v":""},{"$f":"IF(AND(ROW(O64)+COLUMN(O64)/100<=$B$51,Go!M19=copy!$D$3,Go!N19=copy!$D$3,Go!O19=copy!$F$3),1,IF(AND(Go!M19=copy!$D$3,Go!N19=copy!$D$3,Go!O19=copy!$F$3),\"%\",\"\"))","v":""},{"$f":"IF(AND(ROW(P64)+COLUMN(P64)/100<=$B$51,Go!N19=copy!$D$3,Go!O19=copy!$D$3,Go!P19=copy!$F$3),1,IF(AND(Go!N19=copy!$D$3,Go!O19=copy!$D$3,Go!P19=copy!$F$3),\"%\",\"\"))","v":""},{"$f":"IF(AND(ROW(Q64)+COLUMN(Q64)/100<=$B$51,Go!O19=copy!$D$3,Go!P19=copy!$D$3,Go!Q19=copy!$F$3),1,IF(AND(Go!O19=copy!$D$3,Go!P19=copy!$D$3,Go!Q19=copy!$F$3),\"%\",\"\"))","v":""},{"$f":"IF(AND(ROW(R64)+COLUMN(R64)/100<=$B$51,Go!P19=copy!$D$3,Go!Q19=copy!$D$3,Go!R19=copy!$F$3),1,IF(AND(Go!P19=copy!$D$3,Go!Q19=copy!$D$3,Go!R19=copy!$F$3),\"%\",\"\"))","v":""},{"$f":"IF(AND(ROW(S64)+COLUMN(S64)/100<=$B$51,Go!Q19=copy!$D$3,Go!R19=copy!$D$3,Go!S19=copy!$F$3),1,IF(AND(Go!Q19=copy!$D$3,Go!R19=copy!$D$3,Go!S19=copy!$F$3),\"%\",\"\"))","v":""},{"$f":"IF(AND(ROW(T64)+COLUMN(T64)/100<=$B$51,Go!R19=copy!$D$3,Go!S19=copy!$D$3,Go!T19=copy!$F$3),1,IF(AND(Go!R19=copy!$D$3,Go!S19=copy!$D$3,Go!T19=copy!$F$3),\"%\",\"\"))","v":""},{"$f":"IF(AND(ROW(U64)+COLUMN(U64)/100<=$B$51,Go!S19=copy!$D$3,Go!T19=copy!$D$3,Go!U19=copy!$F$3),1,IF(AND(Go!S19=copy!$D$3,Go!T19=copy!$D$3,Go!U19=copy!$F$3),\"%\",\"\"))","v":""},{"$f":"IF(AND(ROW(V64)+COLUMN(V64)/100<=$B$51,Go!T19=copy!$D$3,Go!U19=copy!$D$3,Go!V19=copy!$F$3),1,IF(AND(Go!T19=copy!$D$3,Go!U19=copy!$D$3,Go!V19=copy!$F$3),\"%\",\"\"))","v":""},{"$f":"IF(AND(ROW(W64)+COLUMN(W64)/100<=$B$51,Go!U19=copy!$D$3,Go!V19=copy!$D$3,Go!W19=copy!$F$3),1,IF(AND(Go!U19=copy!$D$3,Go!V19=copy!$D$3,Go!W19=copy!$F$3),\"%\",\"\"))","v":""},{"$f":"IF(AND(ROW(X64)+COLUMN(X64)/100<=$B$51,Go!V19=copy!$D$3,Go!W19=copy!$D$3,Go!X19=copy!$F$3),1,IF(AND(Go!V19=copy!$D$3,Go!W19=copy!$D$3,Go!X19=copy!$F$3),\"%\",\"\"))","v":""},{"$f":"IF(AND(ROW(Y64)+COLUMN(Y64)/100<=$B$51,Go!W19=copy!$D$3,Go!X19=copy!$D$3,Go!Y19=copy!$F$3),1,IF(AND(Go!W19=copy!$D$3,Go!X19=copy!$D$3,Go!Y19=copy!$F$3),\"%\",\"\"))","v":""},{"$f":"IF(AND(ROW(Z64)+COLUMN(Z64)/100<=$B$51,Go!X19=copy!$D$3,Go!Y19=copy!$D$3,Go!Z19=copy!$F$3),1,IF(AND(Go!X19=copy!$D$3,Go!Y19=copy!$D$3,Go!Z19=copy!$F$3),\"%\",\"\"))","v":""},{"$f":"IF(AND(ROW(AA64)+COLUMN(AA64)/100<=$B$51,Go!Y19=copy!$D$3,Go!Z19=copy!$D$3,Go!AA19=copy!$F$3),1,IF(AND(Go!Y19=copy!$D$3,Go!Z19=copy!$D$3,Go!AA19=copy!$F$3),\"%\",\"\"))","v":""},{"$f":"IF(AND(ROW(AB64)+COLUMN(AB64)/100<=$B$51,Go!Z19=copy!$D$3,Go!AA19=copy!$D$3,Go!AB19=copy!$F$3),1,IF(AND(Go!Z19=copy!$D$3,Go!AA19=copy!$D$3,Go!AB19=copy!$F$3),\"%\",\"\"))","v":""},{"$f":"IF(AND(ROW(AC64)+COLUMN(AC64)/100<=$B$51,Go!AA19=copy!$D$3,Go!AB19=copy!$D$3,Go!AC19=copy!$F$3),1,IF(AND(Go!AA19=copy!$D$3,Go!AB19=copy!$D$3,Go!AC19=copy!$F$3),\"%\",\"\"))","v":""},{"$f":"IF(AND(ROW(AD64)+COLUMN(AD64)/100<=$B$51,Go!AB19=copy!$D$3,Go!AC19=copy!$D$3,Go!AD19=copy!$F$3),1,IF(AND(Go!AB19=copy!$D$3,Go!AC19=copy!$D$3,Go!AD19=copy!$F$3),\"%\",\"\"))","v":""},{"$f":"IF(AND(ROW(AE64)+COLUMN(AE64)/100<=$B$51,Go!AC19=copy!$D$3,Go!AD19=copy!$D$3,Go!AE19=copy!$F$3),1,IF(AND(Go!AC19=copy!$D$3,Go!AD19=copy!$D$3,Go!AE19=copy!$F$3),\"%\",\"\"))","v":""},{"$f":"IF(AND(ROW(AF64)+COLUMN(AF64)/100<=$B$51,Go!AD19=copy!$D$3,Go!AE19=copy!$D$3,Go!AF19=copy!$F$3),1,IF(AND(Go!AD19=copy!$D$3,Go!AE19=copy!$D$3,Go!AF19=copy!$F$3),\"%\",\"\"))","v":""},{"$f":"IF(AND(ROW(AG64)+COLUMN(AG64)/100<=$B$51,Go!AE19=copy!$D$3,Go!AF19=copy!$D$3,Go!AG19=copy!$F$3),1,IF(AND(Go!AE19=copy!$D$3,Go!AF19=copy!$D$3,Go!AG19=copy!$F$3),\"%\",\"\"))","v":""},{"$f":"IF(AND(ROW(AH64)+COLUMN(AH64)/100<=$B$51,Go!AF19=copy!$D$3,Go!AG19=copy!$D$3,Go!AH19=copy!$F$3),1,IF(AND(Go!AF19=copy!$D$3,Go!AG19=copy!$D$3,Go!AH19=copy!$F$3),\"%\",\"\"))","v":""},3]
[null,null,null,4,{"$f":"IF(AND(ROW(E65)+COLUMN(E65)/100<=$B$51,Go!AG19=copy!$D$3,Go!AH19=copy!$D$3,Go!E20=copy!$F$3),1,\"\")","v":""},{"$f":"IF(AND(ROW(F65)+COLUMN(F65)/100<=$B$51,Go!AH19=copy!$D$3,Go!E20=copy!$D$3,Go!F20=copy!$F$3),1,\"\")","v":""},{"$f":"IF(AND(ROW(G65)+COLUMN(G65)/100<=$B$51,Go!E20=copy!$D$3,Go!F20=copy!$D$3,Go!G20=copy!$F$3),1,IF(AND(Go!E20=copy!$D$3,Go!F20=copy!$D$3,Go!G20=copy!$F$3),\"%\",\"\"))","v":""},{"$f":"IF(AND(ROW(H65)+COLUMN(H65)/100<=$B$51,Go!F20=copy!$D$3,Go!G20=copy!$D$3,Go!H20=copy!$F$3),1,IF(AND(Go!F20=copy!$D$3,Go!G20=copy!$D$3,Go!H20=copy!$F$3),\"%\",\"\"))","v":""},{"$f":"IF(AND(ROW(I65)+COLUMN(I65)/100<=$B$51,Go!G20=copy!$D$3,Go!H20=copy!$D$3,Go!I20=copy!$F$3),1,IF(AND(Go!G20=copy!$D$3,Go!H20=copy!$D$3,Go!I20=copy!$F$3),\"%\",\"\"))","v":""},{"$f":"IF(AND(ROW(J65)+COLUMN(J65)/100<=$B$51,Go!H20=copy!$D$3,Go!I20=copy!$D$3,Go!J20=copy!$F$3),1,IF(AND(Go!H20=copy!$D$3,Go!I20=copy!$D$3,Go!J20=copy!$F$3),\"%\",\"\"))","v":""},{"$f":"IF(AND(ROW(K65)+COLUMN(K65)/100<=$B$51,Go!I20=copy!$D$3,Go!J20=copy!$D$3,Go!K20=copy!$F$3),1,IF(AND(Go!I20=copy!$D$3,Go!J20=copy!$D$3,Go!K20=copy!$F$3),\"%\",\"\"))","v":""},{"$f":"IF(AND(ROW(L65)+COLUMN(L65)/100<=$B$51,Go!J20=copy!$D$3,Go!K20=copy!$D$3,Go!L20=copy!$F$3),1,IF(AND(Go!J20=copy!$D$3,Go!K20=copy!$D$3,Go!L20=copy!$F$3),\"%\",\"\"))","v":""},{"$f":"IF(AND(ROW(M65)+COLUMN(M65)/100<=$B$51,Go!K20=copy!$D$3,Go!L20=copy!$D$3,Go!M20=copy!$F$3),1,IF(AND(Go!K20=copy!$D$3,Go!L20=copy!$D$3,Go!M20=copy!$F$3),\"%\",\"\"))","v":""},{"$f":"IF(AND(ROW(N65)+COLUMN(N65)/100<=$B$51,Go!L20=copy!$D$3,Go!M20=copy!$D$3,Go!N20=copy!$F$3),1,IF(AND(Go!L20=copy!$D$3,Go!M20=copy!$D$3,Go!N20=copy!$F$3),\"%\",\"\"))","v":""},{"$f":"IF(AND(ROW(O65)+COLUMN(O65)/100<=$B$51,Go!M20=copy!$D$3,Go!N20=copy!$D$3,Go!O20=copy!$F$3),1,IF(AND(Go!M20=copy!$D$3,Go!N20=copy!$D$3,Go!O20=copy!$F$3),\"%\",\"\"))","v":""},{"$f":"IF(AND(ROW(P65)+COLUMN(P65)/100<=$B$51,Go!N20=copy!$D$3,Go!O20=copy!$D$3,Go!P20=copy!$F$3),1,IF(AND(Go!N20=copy!$D$3,Go!O20=copy!$D$3,Go!P20=copy!$F$3),\"%\",\"\"))","v":""},{"$f":"IF(AND(ROW(Q65)+COLUMN(Q65)/100<=$B$51,Go!O20=copy!$D$3,Go!P20=copy!$D$3,Go!Q20=copy!$F$3),1,IF(AND(Go!O20=copy!$D$3,Go!P20=copy!$D$3,Go!Q20=copy!$F$3),\"%\",\"\"))","v":""},{"$f":"IF(AND(ROW(R65)+COLUMN(R65)/100<=$B$51,Go!P20=copy!$D$3,Go!Q20=copy!$D$3,Go!R20=copy!$F$3),1,IF(AND(Go!P20=copy!$D$3,Go!Q20=copy!$D$3,Go!R20=copy!$F$3),\"%\",\"\"))","v":""},{"$f":"IF(AND(ROW(S65)+COLUMN(S65)/100<=$B$51,Go!Q20=copy!$D$3,Go!R20=copy!$D$3,Go!S20=copy!$F$3),1,IF(AND(Go!Q20=copy!$D$3,Go!R20=copy!$D$3,Go!S20=copy!$F$3),\"%\",\"\"))","v":""},{"$f":"IF(AND(ROW(T65)+COLUMN(T65)/100<=$B$51,Go!R20=copy!$D$3,Go!S20=copy!$D$3,Go!T20=copy!$F$3),1,IF(AND(Go!R20=copy!$D$3,Go!S20=copy!$D$3,Go!T20=copy!$F$3),\"%\",\"\"))","v":""},{"$f":"IF(AND(ROW(U65)+COLUMN(U65)/100<=$B$51,Go!S20=copy!$D$3,Go!T20=copy!$D$3,Go!U20=copy!$F$3),1,IF(AND(Go!S20=copy!$D$3,Go!T20=copy!$D$3,Go!U20=copy!$F$3),\"%\",\"\"))","v":""},{"$f":"IF(AND(ROW(V65)+COLUMN(V65)/100<=$B$51,Go!T20=copy!$D$3,Go!U20=copy!$D$3,Go!V20=copy!$F$3),1,IF(AND(Go!T20=copy!$D$3,Go!U20=copy!$D$3,Go!V20=copy!$F$3),\"%\",\"\"))","v":""},{"$f":"IF(AND(ROW(W65)+COLUMN(W65)/100<=$B$51,Go!U20=copy!$D$3,Go!V20=copy!$D$3,Go!W20=copy!$F$3),1,IF(AND(Go!U20=copy!$D$3,Go!V20=copy!$D$3,Go!W20=copy!$F$3),\"%\",\"\"))","v":""},{"$f":"IF(AND(ROW(X65)+COLUMN(X65)/100<=$B$51,Go!V20=copy!$D$3,Go!W20=copy!$D$3,Go!X20=copy!$F$3),1,IF(AND(Go!V20=copy!$D$3,Go!W20=copy!$D$3,Go!X20=copy!$F$3),\"%\",\"\"))","v":""},{"$f":"IF(AND(ROW(Y65)+COLUMN(Y65)/100<=$B$51,Go!W20=copy!$D$3,Go!X20=copy!$D$3,Go!Y20=copy!$F$3),1,IF(AND(Go!W20=copy!$D$3,Go!X20=copy!$D$3,Go!Y20=copy!$F$3),\"%\",\"\"))","v":""},{"$f":"IF(AND(ROW(Z65)+COLUMN(Z65)/100<=$B$51,Go!X20=copy!$D$3,Go!Y20=copy!$D$3,Go!Z20=copy!$F$3),1,IF(AND(Go!X20=copy!$D$3,Go!Y20=copy!$D$3,Go!Z20=copy!$F$3),\"%\",\"\"))","v":""},{"$f":"IF(AND(ROW(AA65)+COLUMN(AA65)/100<=$B$51,Go!Y20=copy!$D$3,Go!Z20=copy!$D$3,Go!AA20=copy!$F$3),1,IF(AND(Go!Y20=copy!$D$3,Go!Z20=copy!$D$3,Go!AA20=copy!$F$3),\"%\",\"\"))","v":""},{"$f":"IF(AND(ROW(AB65)+COLUMN(AB65)/100<=$B$51,Go!Z20=copy!$D$3,Go!AA20=copy!$D$3,Go!AB20=copy!$F$3),1,IF(AND(Go!Z20=copy!$D$3,Go!AA20=copy!$D$3,Go!AB20=copy!$F$3),\"%\",\"\"))","v":""},{"$f":"IF(AND(ROW(AC65)+COLUMN(AC65)/100<=$B$51,Go!AA20=copy!$D$3,Go!AB20=copy!$D$3,Go!AC20=copy!$F$3),1,IF(AND(Go!AA20=copy!$D$3,Go!AB20=copy!$D$3,Go!AC20=copy!$F$3),\"%\",\"\"))","v":""},{"$f":"IF(AND(ROW(AD65)+COLUMN(AD65)/100<=$B$51,Go!AB20=copy!$D$3,Go!AC20=copy!$D$3,Go!AD20=copy!$F$3),1,IF(AND(Go!AB20=copy!$D$3,Go!AC20=copy!$D$3,Go!AD20=copy!$F$3),\"%\",\"\"))","v":""},{"$f":"IF(AND(ROW(AE65)+COLUMN(AE65)/100<=$B$51,Go!AC20=copy!$D$3,Go!AD20=copy!$D$3,Go!AE20=copy!$F$3),1,IF(AND(Go!AC20=copy!$D$3,Go!AD20=copy!$D$3,Go!AE20=copy!$F$3),\"%\",\"\"))","v":""},{"$f":"IF(AND(ROW(AF65)+COLUMN(AF65)/100<=$B$51,Go!AD20=copy!$D$3,Go!AE20=copy!$D$3,Go!AF20=copy!$F$3),1,IF(AND(Go!AD20=copy!$D$3,Go!AE20=copy!$D$3,Go!AF20=copy!$F$3),\"%\",\"\"))","v":""},{"$f":"IF(AND(ROW(AG65)+COLUMN(AG65)/100<=$B$51,Go!AE20=copy!$D$3,Go!AF20=copy!$D$3,Go!AG20=copy!$F$3),1,IF(AND(Go!AE20=copy!$D$3,Go!AF20=copy!$D$3,Go!AG20=copy!$F$3),\"%\",\"\"))","v":""},{"$f":"IF(AND(ROW(AH65)+COLUMN(AH65)/100<=$B$51,Go!AF20=copy!$D$3,Go!AG20=copy!$D$3,Go!AH20=copy!$F$3),1,IF(AND(Go!AF20=copy!$D$3,Go!AG20=copy!$D$3,Go!AH20=copy!$F$3),\"%\",\"\"))","v":""},4]
[null,null,null,{"$f":"Go!D112","v":0},{"$f":"IF(AND(ROW(E66)+COLUMN(E66)/100<=$B$51,Go!AG20=copy!$D$3,Go!AH20=copy!$D$3,Go!E21=copy!$F$3),1,\"\")","v":""},{"$f":"IF(AND(ROW(F66)+COLUMN(F66)/100<=$B$51,Go!AH20=copy!$D$3,Go!E21=copy!$D$3,Go!F21=copy!$F$3),1,\"\")","v":""},{"$f":"IF(AND(ROW(G66)+COLUMN(G66)/100<=$B$51,Go!E21=copy!$D$3,Go!F21=copy!$D$3,Go!G21=copy!$F$3),1,IF(AND(Go!E21=copy!$D$3,Go!F21=copy!$D$3,Go!G21=copy!$F$3),\"%\",\"\"))","v":""},{"$f":"IF(AND(ROW(H66)+COLUMN(H66)/100<=$B$51,Go!F21=copy!$D$3,Go!G21=copy!$D$3,Go!H21=copy!$F$3),1,IF(AND(Go!F21=copy!$D$3,Go!G21=copy!$D$3,Go!H21=copy!$F$3),\"%\",\"\"))","v":""},{"$f":"IF(AND(ROW(I66)+COLUMN(I66)/100<=$B$51,Go!G21=copy!$D$3,Go!H21=copy!$D$3,Go!I21=copy!$F$3),1,IF(AND(Go!G21=copy!$D$3,Go!H21=copy!$D$3,Go!I21=copy!$F$3),\"%\",\"\"))","v":""},{"$f":"IF(AND(ROW(J66)+COLUMN(J66)/100<=$B$51,Go!H21=copy!$D$3,Go!I21=copy!$D$3,Go!J21=copy!$F$3),1,IF(AND(Go!H21=copy!$D$3,Go!I21=copy!$D$3,Go!J21=copy!$F$3),\"%\",\"\"))","v":""},{"$f":"IF(AND(ROW(K66)+COLUMN(K66)/100<=$B$51,Go!I21=copy!$D$3,Go!J21=copy!$D$3,Go!K21=copy!$F$3),1,IF(AND(Go!I21=copy!$D$3,Go!J21=copy!$D$3,Go!K21=copy!$F$3),\"%\",\"\"))","v":""},{"$f":"IF(AND(ROW(L66)+COLUMN(L66)/100<=$B$51,Go!J21=copy!$D$3,Go!K21=copy!$D$3,Go!L21=copy!$F$3),1,IF(AND(Go!J21=copy!$D$3,Go!K21=copy!$D$3,Go!L21=copy!$F$3),\"%\",\"\"))","v":""},{"$f":"IF(AND(ROW(M66)+COLUMN(M66)/100<=$B$51,Go!K21=copy!$D$3,Go!L21=copy!$D$3,Go!M21=copy!$F$3),1,IF(AND(Go!K21=copy!$D$3,Go!L21=copy!$D$3,Go!M21=copy!$F$3),\"%\",\"\"))","v":""},{"$f":"IF(AND(ROW(N66)+COLUMN(N66)/100<=$B$51,Go!L21=copy!$D$3,Go!M21=copy!$D$3,Go!N21=copy!$F$3),1,IF(AND(Go!L21=copy!$D$3,Go!M21=copy!$D$3,Go!N21=copy!$F$3),\"%\",\"\"))","v":""},{"$f":"IF(AND(ROW(O66)+COLUMN(O66)/100<=$B$51,Go!M21=copy!$D$3,Go!N21=copy!$D$3,Go!O21=copy!$F$3),1,IF(AND(Go!M21=copy!$D$3,Go!N21=copy!$D$3,Go!O21=copy!$F$3),\"%\",\"\"))","v":""},{"$f":"IF(AND(ROW(P66)+COLUMN(P66)/100<=$B$51,Go!N21=copy!$D$3,Go!O21=copy!$D$3,Go!P21=copy!$F$3),1,IF(AND(Go!N21=copy!$D$3,Go!O21=copy!$D$3,Go!P21=copy!$F$3),\"%\",\"\"))","v":""},{"$f":"IF(AND(ROW(Q66)+COLUMN(Q66)/100<=$B$51,Go!O21=copy!$D$3,Go!P21=copy!$D$3,Go!Q21=copy!$F$3),1,IF(AND(Go!O21=copy!$D$3,Go!P21=copy!$D$3,Go!Q21=copy!$F$3),\"%\",\"\"))","v":""},{"$f":"IF(AND(ROW(R66)+COLUMN(R66)/100<=$B$51,Go!P21=copy!$D$3,Go!Q21=copy!$D$3,Go!R21=copy!$F$3),1,IF(AND(Go!P21=copy!$D$3,Go!Q21=copy!$D$3,Go!R21=copy!$F$3),\"%\",\"\"))","v":""},{"$f":"IF(AND(ROW(S66)+COLUMN(S66)/100<=$B$51,Go!Q21=copy!$D$3,Go!R21=copy!$D$3,Go!S21=copy!$F$3),1,IF(AND(Go!Q21=copy!$D$3,Go!R21=copy!$D$3,Go!S21=copy!$F$3),\"%\",\"\"))","v":""},{"$f":"IF(AND(ROW(T66)+COLUMN(T66)/100<=$B$51,Go!R21=copy!$D$3,Go!S21=copy!$D$3,Go!T21=copy!$F$3),1,IF(AND(Go!R21=copy!$D$3,Go!S21=copy!$D$3,Go!T21=copy!$F$3),\"%\",\"\"))","v":""},{"$f":"IF(AND(ROW(U66)+COLUMN(U66)/100<=$B$51,Go!S21=copy!$D$3,Go!T21=copy!$D$3,Go!U21=copy!$F$3),1,IF(AND(Go!S21=copy!$D$3,Go!T21=copy!$D$3,Go!U21=copy!$F$3),\"%\",\"\"))","v":""},{"$f":"IF(AND(ROW(V66)+COLUMN(V66)/100<=$B$51,Go!T21=copy!$D$3,Go!U21=copy!$D$3,Go!V21=copy!$F$3),1,IF(AND(Go!T21=copy!$D$3,Go!U21=copy!$D$3,Go!V21=copy!$F$3),\"%\",\"\"))","v":""},{"$f":"IF(AND(ROW(W66)+COLUMN(W66)/100<=$B$51,Go!U21=copy!$D$3,Go!V21=copy!$D$3,Go!W21=copy!$F$3),1,IF(AND(Go!U21=copy!$D$3,Go!V21=copy!$D$3,Go!W21=copy!$F$3),\"%\",\"\"))","v":""},{"$f":"IF(AND(ROW(X66)+COLUMN(X66)/100<=$B$51,Go!V21=copy!$D$3,Go!W21=copy!$D$3,Go!X21=copy!$F$3),1,IF(AND(Go!V21=copy!$D$3,Go!W21=copy!$D$3,Go!X21=copy!$F$3),\"%\",\"\"))","v":""},{"$f":"IF(AND(ROW(Y66)+COLUMN(Y66)/100<=$B$51,Go!W21=copy!$D$3,Go!X21=copy!$D$3,Go!Y21=copy!$F$3),1,IF(AND(Go!W21=copy!$D$3,Go!X21=copy!$D$3,Go!Y21=copy!$F$3),\"%\",\"\"))","v":""},{"$f":"IF(AND(ROW(Z66)+COLUMN(Z66)/100<=$B$51,Go!X21=copy!$D$3,Go!Y21=copy!$D$3,Go!Z21=copy!$F$3),1,IF(AND(Go!X21=copy!$D$3,Go!Y21=copy!$D$3,Go!Z21=copy!$F$3),\"%\",\"\"))","v":""},{"$f":"IF(AND(ROW(AA66)+COLUMN(AA66)/100<=$B$51,Go!Y21=copy!$D$3,Go!Z21=copy!$D$3,Go!AA21=copy!$F$3),1,IF(AND(Go!Y21=copy!$D$3,Go!Z21=copy!$D$3,Go!AA21=copy!$F$3),\"%\",\"\"))","v":""},{"$f":"IF(AND(ROW(AB66)+COLUMN(AB66)/100<=$B$51,Go!Z21=copy!$D$3,Go!AA21=copy!$D$3,Go!AB21=copy!$F$3),1,IF(AND(Go!Z21=copy!$D$3,Go!AA21=copy!$D$3,Go!AB21=copy!$F$3),\"%\",\"\"))","v":""},{"$f":"IF(AND(ROW(AC66)+COLUMN(AC66)/100<=$B$51,Go!AA21=copy!$D$3,Go!AB21=copy!$D$3,Go!AC21=copy!$F$3),1,IF(AND(Go!AA21=copy!$D$3,Go!AB21=copy!$D$3,Go!AC21=copy!$F$3),\"%\",\"\"))","v":""},{"$f":"IF(AND(ROW(AD66)+COLUMN(AD66)/100<=$B$51,Go!AB21=copy!$D$3,Go!AC21=copy!$D$3,Go!AD21=copy!$F$3),1,IF(AND(Go!AB21=copy!$D$3,Go!AC21=copy!$D$3,Go!AD21=copy!$F$3),\"%\",\"\"))","v":""},{"$f":"IF(AND(ROW(AE66)+COLUMN(AE66)/100<=$B$51,Go!AC21=copy!$D$3,Go!AD21=copy!$D$3,Go!AE21=copy!$F$3),1,IF(AND(Go!AC21=copy!$D$3,Go!AD21=copy!$D$3,Go!AE21=copy!$F$3),\"%\",\"\"))","v":""},{"$f":"IF(AND(ROW(AF66)+COLUMN(AF66)/100<=$B$51,Go!AD21=copy!$D$3,Go!AE21=copy!$D$3,Go!AF21=copy!$F$3),1,IF(AND(Go!AD21=copy!$D$3,Go!AE21=copy!$D$3,Go!AF21=copy!$F$3),\"%\",\"\"))","v":""},{"$f":"IF(AND(ROW(AG66)+COLUMN(AG66)/100<=$B$51,Go!AE21=copy!$D$3,Go!AF21=copy!$D$3,Go!AG21=copy!$F$3),1,IF(AND(Go!AE21=copy!$D$3,Go!AF21=copy!$D$3,Go!AG21=copy!$F$3),\"%\",\"\"))","v":""},{"$f":"IF(AND(ROW(AH66)+COLUMN(AH66)/100<=$B$51,Go!AF21=copy!$D$3,Go!AG21=copy!$D$3,Go!AH21=copy!$F$3),1,IF(AND(Go!AF21=copy!$D$3,Go!AG21=copy!$D$3,Go!AH21=copy!$F$3),\"%\",\"\"))","v":""},{"$f":"Go!AI112","v":0}]
[null,null,null,{"$f":"Go!D113","v":0},{"$f":"IF(AND(ROW(E67)+COLUMN(E67)/100<=$B$51,Go!AG21=copy!$D$3,Go!AH21=copy!$D$3,Go!E22=copy!$F$3),1,\"\")","v":""},{"$f":"IF(AND(ROW(F67)+COLUMN(F67)/100<=$B$51,Go!AH21=copy!$D$3,Go!E22=copy!$D$3,Go!F22=copy!$F$3),1,\"\")","v":""},{"$f":"IF(AND(ROW(G67)+COLUMN(G67)/100<=$B$51,Go!E22=copy!$D$3,Go!F22=copy!$D$3,Go!G22=copy!$F$3),1,IF(AND(Go!E22=copy!$D$3,Go!F22=copy!$D$3,Go!G22=copy!$F$3),\"%\",\"\"))","v":""},{"$f":"IF(AND(ROW(H67)+COLUMN(H67)/100<=$B$51,Go!F22=copy!$D$3,Go!G22=copy!$D$3,Go!H22=copy!$F$3),1,IF(AND(Go!F22=copy!$D$3,Go!G22=copy!$D$3,Go!H22=copy!$F$3),\"%\",\"\"))","v":""},{"$f":"IF(AND(ROW(I67)+COLUMN(I67)/100<=$B$51,Go!G22=copy!$D$3,Go!H22=copy!$D$3,Go!I22=copy!$F$3),1,IF(AND(Go!G22=copy!$D$3,Go!H22=copy!$D$3,Go!I22=copy!$F$3),\"%\",\"\"))","v":""},{"$f":"IF(AND(ROW(J67)+COLUMN(J67)/100<=$B$51,Go!H22=copy!$D$3,Go!I22=copy!$D$3,Go!J22=copy!$F$3),1,IF(AND(Go!H22=copy!$D$3,Go!I22=copy!$D$3,Go!J22=copy!$F$3),\"%\",\"\"))","v":""},{"$f":"IF(AND(ROW(K67)+COLUMN(K67)/100<=$B$51,Go!I22=copy!$D$3,Go!J22=copy!$D$3,Go!K22=copy!$F$3),1,IF(AND(Go!I22=copy!$D$3,Go!J22=copy!$D$3,Go!K22=copy!$F$3),\"%\",\"\"))","v":""},{"$f":"IF(AND(ROW(L67)+COLUMN(L67)/100<=$B$51,Go!J22=copy!$D$3,Go!K22=copy!$D$3,Go!L22=copy!$F$3),1,IF(AND(Go!J22=copy!$D$3,Go!K22=copy!$D$3,Go!L22=copy!$F$3),\"%\",\"\"))","v":""},{"$f":"IF(AND(ROW(M67)+COLUMN(M67)/100<=$B$51,Go!K22=copy!$D$3,Go!L22=copy!$D$3,Go!M22=copy!$F$3),1,IF(AND(Go!K22=copy!$D$3,Go!L22=copy!$D$3,Go!M22=copy!$F$3),\"%\",\"\"))","v":""},{"$f":"IF(AND(ROW(N67)+COLUMN(N67)/100<=$B$51,Go!L22=copy!$D$3,Go!M22=copy!$D$3,Go!N22=copy!$F$3),1,IF(AND(Go!L22=copy!$D$3,Go!M22=copy!$D$3,Go!N22=copy!$F$3),\"%\",\"\"))","v":""},{"$f":"IF(AND(ROW(O67)+COLUMN(O67)/100<=$B$51,Go!M22=copy!$D$3,Go!N22=copy!$D$3,Go!O22=copy!$F$3),1,IF(AND(Go!M22=copy!$D$3,Go!N22=copy!$D$3,Go!O22=copy!$F$3),\"%\",\"\"))","v":""},{"$f":"IF(AND(ROW(P67)+COLUMN(P67)/100<=$B$51,Go!N22=copy!$D$3,Go!O22=copy!$D$3,Go!P22=copy!$F$3),1,IF(AND(Go!N22=copy!$D$3,Go!O22=copy!$D$3,Go!P22=copy!$F$3),\"%\",\"\"))","v":""},{"$f":"IF(AND(ROW(Q67)+COLUMN(Q67)/100<=$B$51,Go!O22=copy!$D$3,Go!P22=copy!$D$3,Go!Q22=copy!$F$3),1,IF(AND(Go!O22=copy!$D$3,Go!P22=copy!$D$3,Go!Q22=copy!$F$3),\"%\",\"\"))","v":""},{"$f":"IF(AND(ROW(R67)+COLUMN(R67)/100<=$B$51,Go!P22=copy!$D$3,Go!Q22=copy!$D$3,Go!R22=copy!$F$3),1,IF(AND(Go!P22=copy!$D$3,Go!Q22=copy!$D$3,Go!R22=copy!$F$3),\"%\",\"\"))","v":""},{"$f":"IF(AND(ROW(S67)+COLUMN(S67)/100<=$B$51,Go!Q22=copy!$D$3,Go!R22=copy!$D$3,Go!S22=copy!$F$3),1,IF(AND(Go!Q22=copy!$D$3,Go!R22=copy!$D$3,Go!S22=copy!$F$3),\"%\",\"\"))","v":""},{"$f":"IF(AND(ROW(T67)+COLUMN(T67)/100<=$B$51,Go!R22=copy!$D$3,Go!S22=copy!$D$3,Go!T22=copy!$F$3),1,IF(AND(Go!R22=copy!$D$3,Go!S22=copy!$D$3,Go!T22=copy!$F$3),\"%\",\"\"))","v":""},{"$f":"IF(AND(ROW(U67)+COLUMN(U67)/100<=$B$51,Go!S22=copy!$D$3,Go!T22=copy!$D$3,Go!U22=copy!$F$3),1,IF(AND(Go!S22=copy!$D$3,Go!T22=copy!$D$3,Go!U22=copy!$F$3),\"%\",\"\"))","v":""},{"$f":"IF(AND(ROW(V67)+COLUMN(V67)/100<=$B$51,Go!T22=copy!$D$3,Go!U22=copy!$D$3,Go!V22=copy!$F$3),1,IF(AND(Go!T22=copy!$D$3,Go!U22=copy!$D$3,Go!V22=copy!$F$3),\"%\",\"\"))","v":""},{"$f":"IF(AND(ROW(W67)+COLUMN(W67)/100<=$B$51,Go!U22=copy!$D$3,Go!V22=copy!$D$3,Go!W22=copy!$F$3),1,IF(AND(Go!U22=copy!$D$3,Go!V22=copy!$D$3,Go!W22=copy!$F$3),\"%\",\"\"))","v":""},{"$f":"IF(AND(ROW(X67)+COLUMN(X67)/100<=$B$51,Go!V22=copy!$D$3,Go!W22=copy!$D$3,Go!X22=copy!$F$3),1,IF(AND(Go!V22=copy!$D$3,Go!W22=copy!$D$3,Go!X22=copy!$F$3),\"%\",\"\"))","v":""},{"$f":"IF(AND(ROW(Y67)+COLUMN(Y67)/100<=$B$51,Go!W22=copy!$D$3,Go!X22=copy!$D$3,Go!Y22=copy!$F$3),1,IF(AND(Go!W22=copy!$D$3,Go!X22=copy!$D$3,Go!Y22=copy!$F$3),\"%\",\"\"))","v":""},{"$f":"IF(AND(ROW(Z67)+COLUMN(Z67)/100<=$B$51,Go!X22=copy!$D$3,Go!Y22=copy!$D$3,Go!Z22=copy!$F$3),1,IF(AND(Go!X22=copy!$D$3,Go!Y22=copy!$D$3,Go!Z22=copy!$F$3),\"%\",\"\"))","v":""},{"$f":"IF(AND(ROW(AA67)+COLUMN(AA67)/100<=$B$51,Go!Y22=copy!$D$3,Go!Z22=copy!$D$3,Go!AA22=copy!$F$3),1,IF(AND(Go!Y22=copy!$D$3,Go!Z22=copy!$D$3,Go!AA22=copy!$F$3),\"%\",\"\"))","v":""},{"$f":"IF(AND(ROW(AB67)+COLUMN(AB67)/100<=$B$51,Go!Z22=copy!$D$3,Go!AA22=copy!$D$3,Go!AB22=copy!$F$3),1,IF(AND(Go!Z22=copy!$D$3,Go!AA22=copy!$D$3,Go!AB22=copy!$F$3),\"%\",\"\"))","v":""},{"$f":"IF(AND(ROW(AC67)+COLUMN(AC67)/100<=$B$51,Go!AA22=copy!$D$3,Go!AB22=copy!$D$3,Go!AC22=copy!$F$3),1,IF(AND(Go!AA22=copy!$D$3,Go!AB22=copy!$D$3,Go!AC22=copy!$F$3),\"%\",\"\"))","v":""},{"$f":"IF(AND(ROW(AD67)+COLUMN(AD67)/100<=$B$51,Go!AB22=copy!$D$3,Go!AC22=copy!$D$3,Go!AD22=copy!$F$3),1,IF(AND(Go!AB22=copy!$D$3,Go!AC22=copy!$D$3,Go!AD22=copy!$F$3),\"%\",\"\"))","v":""},{"$f":"IF(AND(ROW(AE67)+COLUMN(AE67)/100<=$B$51,Go!AC22=copy!$D$3,Go!AD22=copy!$D$3,Go!AE22=copy!$F$3),1,IF(AND(Go!AC22=copy!$D$3,Go!AD22=copy!$D$3,Go!AE22=copy!$F$3),\"%\",\"\"))","v":""},{"$f":"IF(AND(ROW(AF67)+COLUMN(AF67)/100<=$B$51,Go!AD22=copy!$D$3,Go!AE22=copy!$D$3,Go!AF22=copy!$F$3),1,IF(AND(Go!AD22=copy!$D$3,Go!AE22=copy!$D$3,Go!AF22=copy!$F$3),\"%\",\"\"))","v":""},{"$f":"IF(AND(ROW(AG67)+COLUMN(AG67)/100<=$B$51,Go!AE22=copy!$D$3,Go!AF22=copy!$D$3,Go!AG22=copy!$F$3),1,IF(AND(Go!AE22=copy!$D$3,Go!AF22=copy!$D$3,Go!AG22=copy!$F$3),\"%\",\"\"))","v":""},{"$f":"IF(AND(ROW(AH67)+COLUMN(AH67)/100<=$B$51,Go!AF22=copy!$D$3,Go!AG22=copy!$D$3,Go!AH22=copy!$F$3),1,IF(AND(Go!AF22=copy!$D$3,Go!AG22=copy!$D$3,Go!AH22=copy!$F$3),\"%\",\"\"))","v":""},{"$f":"Go!AI113","v":0}]
[null,null,null,{"$f":"Go!D114","v":0},{"$f":"IF(AND(ROW(E68)+COLUMN(E68)/100<=$B$51,Go!AG22=copy!$D$3,Go!AH22=copy!$D$3,Go!E23=copy!$F$3),1,\"\")","v":""},{"$f":"IF(AND(ROW(F68)+COLUMN(F68)/100<=$B$51,Go!AH22=copy!$D$3,Go!E23=copy!$D$3,Go!F23=copy!$F$3),1,\"\")","v":""},{"$f":"IF(AND(ROW(G68)+COLUMN(G68)/100<=$B$51,Go!E23=copy!$D$3,Go!F23=copy!$D$3,Go!G23=copy!$F$3),1,IF(AND(Go!E23=copy!$D$3,Go!F23=copy!$D$3,Go!G23=copy!$F$3),\"%\",\"\"))","v":""},{"$f":"IF(AND(ROW(H68)+COLUMN(H68)/100<=$B$51,Go!F23=copy!$D$3,Go!G23=copy!$D$3,Go!H23=copy!$F$3),1,IF(AND(Go!F23=copy!$D$3,Go!G23=copy!$D$3,Go!H23=copy!$F$3),\"%\",\"\"))","v":""},{"$f":"IF(AND(ROW(I68)+COLUMN(I68)/100<=$B$51,Go!G23=copy!$D$3,Go!H23=copy!$D$3,Go!I23=copy!$F$3),1,IF(AND(Go!G23=copy!$D$3,Go!H23=copy!$D$3,Go!I23=copy!$F$3),\"%\",\"\"))","v":""},{"$f":"IF(AND(ROW(J68)+COLUMN(J68)/100<=$B$51,Go!H23=copy!$D$3,Go!I23=copy!$D$3,Go!J23=copy!$F$3),1,IF(AND(Go!H23=copy!$D$3,Go!I23=copy!$D$3,Go!J23=copy!$F$3),\"%\",\"\"))","v":""},{"$f":"IF(AND(ROW(K68)+COLUMN(K68)/100<=$B$51,Go!I23=copy!$D$3,Go!J23=copy!$D$3,Go!K23=copy!$F$3),1,IF(AND(Go!I23=copy!$D$3,Go!J23=copy!$D$3,Go!K23=copy!$F$3),\"%\",\"\"))","v":""},{"$f":"IF(AND(ROW(L68)+COLUMN(L68)/100<=$B$51,Go!J23=copy!$D$3,Go!K23=copy!$D$3,Go!L23=copy!$F$3),1,IF(AND(Go!J23=copy!$D$3,Go!K23=copy!$D$3,Go!L23=copy!$F$3),\"%\",\"\"))","v":""},{"$f":"IF(AND(ROW(M68)+COLUMN(M68)/100<=$B$51,Go!K23=copy!$D$3,Go!L23=copy!$D$3,Go!M23=copy!$F$3),1,IF(AND(Go!K23=copy!$D$3,Go!L23=copy!$D$3,Go!M23=copy!$F$3),\"%\",\"\"))","v":""},{"$f":"IF(AND(ROW(N68)+COLUMN(N68)/100<=$B$51,Go!L23=copy!$D$3,Go!M23=copy!$D$3,Go!N23=copy!$F$3),1,IF(AND(Go!L23=copy!$D$3,Go!M23=copy!$D$3,Go!N23=copy!$F$3),\"%\",\"\"))","v":""},{"$f":"IF(AND(ROW(O68)+COLUMN(O68)/100<=$B$51,Go!M23=copy!$D$3,Go!N23=copy!$D$3,Go!O23=copy!$F$3),1,IF(AND(Go!M23=copy!$D$3,Go!N23=copy!$D$3,Go!O23=copy!$F$3),\"%\",\"\"))","v":""},{"$f":"IF(AND(ROW(P68)+COLUMN(P68)/100<=$B$51,Go!N23=copy!$D$3,Go!O23=copy!$D$3,Go!P23=copy!$F$3),1,IF(AND(Go!N23=copy!$D$3,Go!O23=copy!$D$3,Go!P23=copy!$F$3),\"%\",\"\"))","v":""},{"$f":"IF(AND(ROW(Q68)+COLUMN(Q68)/100<=$B$51,Go!O23=copy!$D$3,Go!P23=copy!$D$3,Go!Q23=copy!$F$3),1,IF(AND(Go!O23=copy!$D$3,Go!P23=copy!$D$3,Go!Q23=copy!$F$3),\"%\",\"\"))","v":""},{"$f":"IF(AND(ROW(R68)+COLUMN(R68)/100<=$B$51,Go!P23=copy!$D$3,Go!Q23=copy!$D$3,Go!R23=copy!$F$3),1,IF(AND(Go!P23=copy!$D$3,Go!Q23=copy!$D$3,Go!R23=copy!$F$3),\"%\",\"\"))","v":""},{"$f":"IF(AND(ROW(S68)+COLUMN(S68)/100<=$B$51,Go!Q23=copy!$D$3,Go!R23=copy!$D$3,Go!S23=copy!$F$3),1,IF(AND(Go!Q23=copy!$D$3,Go!R23=copy!$D$3,Go!S23=copy!$F$3),\"%\",\"\"))","v":""},{"$f":"IF(AND(ROW(T68)+COLUMN(T68)/100<=$B$51,Go!R23=copy!$D$3,Go!S23=copy!$D$3,Go!T23=copy!$F$3),1,IF(AND(Go!R23=copy!$D$3,Go!S23=copy!$D$3,Go!T23=copy!$F$3),\"%\",\"\"))","v":""},{"$f":"IF(AND(ROW(U68)+COLUMN(U68)/100<=$B$51,Go!S23=copy!$D$3,Go!T23=copy!$D$3,Go!U23=copy!$F$3),1,IF(AND(Go!S23=copy!$D$3,Go!T23=copy!$D$3,Go!U23=copy!$F$3),\"%\",\"\"))","v":""},{"$f":"IF(AND(ROW(V68)+COLUMN(V68)/100<=$B$51,Go!T23=copy!$D$3,Go!U23=copy!$D$3,Go!V23=copy!$F$3),1,IF(AND(Go!T23=copy!$D$3,Go!U23=copy!$D$3,Go!V23=copy!$F$3),\"%\",\"\"))","v":""},{"$f":"IF(AND(ROW(W68)+COLUMN(W68)/100<=$B$51,Go!U23=copy!$D$3,Go!V23=copy!$D$3,Go!W23=copy!$F$3),1,IF(AND(Go!U23=copy!$D$3,Go!V23=copy!$D$3,Go!W23=copy!$F$3),\"%\",\"\"))","v":""},{"$f":"IF(AND(ROW(X68)+COLUMN(X68)/100<=$B$51,Go!V23=copy!$D$3,Go!W23=copy!$D$3,Go!X23=copy!$F$3),1,IF(AND(Go!V23=copy!$D$3,Go!W23=copy!$D$3,Go!X23=copy!$F$3),\"%\",\"\"))","v":""},{"$f":"IF(AND(ROW(Y68)+COLUMN(Y68)/100<=$B$51,Go!W23=copy!$D$3,Go!X23=copy!$D$3,Go!Y23=copy!$F$3),1,IF(AND(Go!W23=copy!$D$3,Go!X23=copy!$D$3,Go!Y23=copy!$F$3),\"%\",\"\"))","v":""},{"$f":"IF(AND(ROW(Z68)+COLUMN(Z68)/100<=$B$51,Go!X23=copy!$D$3,Go!Y23=copy!$D$3,Go!Z23=copy!$F$3),1,IF(AND(Go!X23=copy!$D$3,Go!Y23=copy!$D$3,Go!Z23=copy!$F$3),\"%\",\"\"))","v":""},{"$f":"IF(AND(ROW(AA68)+COLUMN(AA68)/100<=$B$51,Go!Y23=copy!$D$3,Go!Z23=copy!$D$3,Go!AA23=copy!$F$3),1,IF(AND(Go!Y23=copy!$D$3,Go!Z23=copy!$D$3,Go!AA23=copy!$F$3),\"%\",\"\"))","v":""},{"$f":"IF(AND(ROW(AB68)+COLUMN(AB68)/100<=$B$51,Go!Z23=copy!$D$3,Go!AA23=copy!$D$3,Go!AB23=copy!$F$3),1,IF(AND(Go!Z23=copy!$D$3,Go!AA23=copy!$D$3,Go!AB23=copy!$F$3),\"%\",\"\"))","v":""},{"$f":"IF(AND(ROW(AC68)+COLUMN(AC68)/100<=$B$51,Go!AA23=copy!$D$3,Go!AB23=copy!$D$3,Go!AC23=copy!$F$3),1,IF(AND(Go!AA23=copy!$D$3,Go!AB23=copy!$D$3,Go!AC23=copy!$F$3),\"%\",\"\"))","v":""},{"$f":"IF(AND(ROW(AD68)+COLUMN(AD68)/100<=$B$51,Go!AB23=copy!$D$3,Go!AC23=copy!$D$3,Go!AD23=copy!$F$3),1,IF(AND(Go!AB23=copy!$D$3,Go!AC23=copy!$D$3,Go!AD23=copy!$F$3),\"%\",\"\"))","v":""},{"$f":"IF(AND(ROW(AE68)+COLUMN(AE68)/100<=$B$51,Go!AC23=copy!$D$3,Go!AD23=copy!$D$3,Go!AE23=copy!$F$3),1,IF(AND(Go!AC23=copy!$D$3,Go!AD23=copy!$D$3,Go!AE23=copy!$F$3),\"%\",\"\"))","v":""},{"$f":"IF(AND(ROW(AF68)+COLUMN(AF68)/100<=$B$51,Go!AD23=copy!$D$3,Go!AE23=copy!$D$3,Go!AF23=copy!$F$3),1,IF(AND(Go!AD23=copy!$D$3,Go!AE23=copy!$D$3,Go!AF23=copy!$F$3),\"%\",\"\"))","v":""},{"$f":"IF(AND(ROW(AG68)+COLUMN(AG68)/100<=$B$51,Go!AE23=copy!$D$3,Go!AF23=copy!$D$3,Go!AG23=copy!$F$3),1,IF(AND(Go!AE23=copy!$D$3,Go!AF23=copy!$D$3,Go!AG23=copy!$F$3),\"%\",\"\"))","v":""},{"$f":"IF(AND(ROW(AH68)+COLUMN(AH68)/100<=$B$51,Go!AF23=copy!$D$3,Go!AG23=copy!$D$3,Go!AH23=copy!$F$3),1,IF(AND(Go!AF23=copy!$D$3,Go!AG23=copy!$D$3,Go!AH23=copy!$F$3),\"%\",\"\"))","v":""},{"$f":"Go!AI114","v":0}]
[null,null,null,{"$f":"Go!D115","v":0},{"$f":"IF(AND(ROW(E69)+COLUMN(E69)/100<=$B$51,Go!AG23=copy!$D$3,Go!AH23=copy!$D$3,Go!E24=copy!$F$3),1,\"\")","v":""},{"$f":"IF(AND(ROW(F69)+COLUMN(F69)/100<=$B$51,Go!AH23=copy!$D$3,Go!E24=copy!$D$3,Go!F24=copy!$F$3),1,\"\")","v":""},{"$f":"IF(AND(ROW(G69)+COLUMN(G69)/100<=$B$51,Go!E24=copy!$D$3,Go!F24=copy!$D$3,Go!G24=copy!$F$3),1,IF(AND(Go!E24=copy!$D$3,Go!F24=copy!$D$3,Go!G24=copy!$F$3),\"%\",\"\"))","v":""},{"$f":"IF(AND(ROW(H69)+COLUMN(H69)/100<=$B$51,Go!F24=copy!$D$3,Go!G24=copy!$D$3,Go!H24=copy!$F$3),1,IF(AND(Go!F24=copy!$D$3,Go!G24=copy!$D$3,Go!H24=copy!$F$3),\"%\",\"\"))","v":""},{"$f":"IF(AND(ROW(I69)+COLUMN(I69)/100<=$B$51,Go!G24=copy!$D$3,Go!H24=copy!$D$3,Go!I24=copy!$F$3),1,IF(AND(Go!G24=copy!$D$3,Go!H24=copy!$D$3,Go!I24=copy!$F$3),\"%\",\"\"))","v":""},{"$f":"IF(AND(ROW(J69)+COLUMN(J69)/100<=$B$51,Go!H24=copy!$D$3,Go!I24=copy!$D$3,Go!J24=copy!$F$3),1,IF(AND(Go!H24=copy!$D$3,Go!I24=copy!$D$3,Go!J24=copy!$F$3),\"%\",\"\"))","v":""},{"$f":"IF(AND(ROW(K69)+COLUMN(K69)/100<=$B$51,Go!I24=copy!$D$3,Go!J24=copy!$D$3,Go!K24=copy!$F$3),1,IF(AND(Go!I24=copy!$D$3,Go!J24=copy!$D$3,Go!K24=copy!$F$3),\"%\",\"\"))","v":""},{"$f":"IF(AND(ROW(L69)+COLUMN(L69)/100<=$B$51,Go!J24=copy!$D$3,Go!K24=copy!$D$3,Go!L24=copy!$F$3),1,IF(AND(Go!J24=copy!$D$3,Go!K24=copy!$D$3,Go!L24=copy!$F$3),\"%\",\"\"))","v":""},{"$f":"IF(AND(ROW(M69)+COLUMN(M69)/100<=$B$51,Go!K24=copy!$D$3,Go!L24=copy!$D$3,Go!M24=copy!$F$3),1,IF(AND(Go!K24=copy!$D$3,Go!L24=copy!$D$3,Go!M24=copy!$F$3),\"%\",\"\"))","v":""},{"$f":"IF(AND(ROW(N69)+COLUMN(N69)/100<=$B$51,Go!L24=copy!$D$3,Go!M24=copy!$D$3,Go!N24=copy!$F$3),1,IF(AND(Go!L24=copy!$D$3,Go!M24=copy!$D$3,Go!N24=copy!$F$3),\"%\",\"\"))","v":""},{"$f":"IF(AND(ROW(O69)+COLUMN(O69)/100<=$B$51,Go!M24=copy!$D$3,Go!N24=copy!$D$3,Go!O24=copy!$F$3),1,IF(AND(Go!M24=copy!$D$3,Go!N24=copy!$D$3,Go!O24=copy!$F$3),\"%\",\"\"))","v":""},{"$f":"IF(AND(ROW(P69)+COLUMN(P69)/100<=$B$51,Go!N24=copy!$D$3,Go!O24=copy!$D$3,Go!P24=copy!$F$3),1,IF(AND(Go!N24=copy!$D$3,Go!O24=copy!$D$3,Go!P24=copy!$F$3),\"%\",\"\"))","v":""},{"$f":"IF(AND(ROW(Q69)+COLUMN(Q69)/100<=$B$51,Go!O24=copy!$D$3,Go!P24=copy!$D$3,Go!Q24=copy!$F$3),1,IF(AND(Go!O24=copy!$D$3,Go!P24=copy!$D$3,Go!Q24=copy!$F$3),\"%\",\"\"))","v":""},{"$f":"IF(AND(ROW(R69)+COLUMN(R69)/100<=$B$51,Go!P24=copy!$D$3,Go!Q24=copy!$D$3,Go!R24=copy!$F$3),1,IF(AND(Go!P24=copy!$D$3,Go!Q24=copy!$D$3,Go!R24=copy!$F$3),\"%\",\"\"))","v":""},{"$f":"IF(AND(ROW(S69)+COLUMN(S69)/100<=$B$51,Go!Q24=copy!$D$3,Go!R24=copy!$D$3,Go!S24=copy!$F$3),1,IF(AND(Go!Q24=copy!$D$3,Go!R24=copy!$D$3,Go!S24=copy!$F$3),\"%\",\"\"))","v":""},{"$f":"IF(AND(ROW(T69)+COLUMN(T69)/100<=$B$51,Go!R24=copy!$D$3,Go!S24=copy!$D$3,Go!T24=copy!$F$3),1,IF(AND(Go!R24=copy!$D$3,Go!S24=copy!$D$3,Go!T24=copy!$F$3),\"%\",\"\"))","v":""},{"$f":"IF(AND(ROW(U69)+COLUMN(U69)/100<=$B$51,Go!S24=copy!$D$3,Go!T24=copy!$D$3,Go!U24=copy!$F$3),1,IF(AND(Go!S24=copy!$D$3,Go!T24=copy!$D$3,Go!U24=copy!$F$3),\"%\",\"\"))","v":""},{"$f":"IF(AND(ROW(V69)+COLUMN(V69)/100<=$B$51,Go!T24=copy!$D$3,Go!U24=copy!$D$3,Go!V24=copy!$F$3),1,IF(AND(Go!T24=copy!$D$3,Go!U24=copy!$D$3,Go!V24=copy!$F$3),\"%\",\"\"))","v":""},{"$f":"IF(AND(ROW(W69)+COLUMN(W69)/100<=$B$51,Go!U24=copy!$D$3,Go!V24=copy!$D$3,Go!W24=copy!$F$3),1,IF(AND(Go!U24=copy!$D$3,Go!V24=copy!$D$3,Go!W24=copy!$F$3),\"%\",\"\"))","v":""},{"$f":"IF(AND(ROW(X69)+COLUMN(X69)/100<=$B$51,Go!V24=copy!$D$3,Go!W24=copy!$D$3,Go!X24=copy!$F$3),1,IF(AND(Go!V24=copy!$D$3,Go!W24=copy!$D$3,Go!X24=copy!$F$3),\"%\",\"\"))","v":""},{"$f":"IF(AND(ROW(Y69)+COLUMN(Y69)/100<=$B$51,Go!W24=copy!$D$3,Go!X24=copy!$D$3,Go!Y24=copy!$F$3),1,IF(AND(Go!W24=copy!$D$3,Go!X24=copy!$D$3,Go!Y24=copy!$F$3),\"%\",\"\"))","v":""},{"$f":"IF(AND(ROW(Z69)+COLUMN(Z69)/100<=$B$51,Go!X24=copy!$D$3,Go!Y24=copy!$D$3,Go!Z24=copy!$F$3),1,IF(AND(Go!X24=copy!$D$3,Go!Y24=copy!$D$3,Go!Z24=copy!$F$3),\"%\",\"\"))","v":""},{"$f":"IF(AND(ROW(AA69)+COLUMN(AA69)/100<=$B$51,Go!Y24=copy!$D$3,Go!Z24=copy!$D$3,Go!AA24=copy!$F$3),1,IF(AND(Go!Y24=copy!$D$3,Go!Z24=copy!$D$3,Go!AA24=copy!$F$3),\"%\",\"\"))","v":""},{"$f":"IF(AND(ROW(AB69)+COLUMN(AB69)/100<=$B$51,Go!Z24=copy!$D$3,Go!AA24=copy!$D$3,Go!AB24=copy!$F$3),1,IF(AND(Go!Z24=copy!$D$3,Go!AA24=copy!$D$3,Go!AB24=copy!$F$3),\"%\",\"\"))","v":""},{"$f":"IF(AND(ROW(AC69)+COLUMN(AC69)/100<=$B$51,Go!AA24=copy!$D$3,Go!AB24=copy!$D$3,Go!AC24=copy!$F$3),1,IF(AND(Go!AA24=copy!$D$3,Go!AB24=copy!$D$3,Go!AC24=copy!$F$3),\"%\",\"\"))","v":""},{"$f":"IF(AND(ROW(AD69)+COLUMN(AD69)/100<=$B$51,Go!AB24=copy!$D$3,Go!AC24=copy!$D$3,Go!AD24=copy!$F$3),1,IF(AND(Go!AB24=copy!$D$3,Go!AC24=copy!$D$3,Go!AD24=copy!$F$3),\"%\",\"\"))","v":""},{"$f":"IF(AND(ROW(AE69)+COLUMN(AE69)/100<=$B$51,Go!AC24=copy!$D$3,Go!AD24=copy!$D$3,Go!AE24=copy!$F$3),1,IF(AND(Go!AC24=copy!$D$3,Go!AD24=copy!$D$3,Go!AE24=copy!$F$3),\"%\",\"\"))","v":""},{"$f":"IF(AND(ROW(AF69)+COLUMN(AF69)/100<=$B$51,Go!AD24=copy!$D$3,Go!AE24=copy!$D$3,Go!AF24=copy!$F$3),1,IF(AND(Go!AD24=copy!$D$3,Go!AE24=copy!$D$3,Go!AF24=copy!$F$3),\"%\",\"\"))","v":""},{"$f":"IF(AND(ROW(AG69)+COLUMN(AG69)/100<=$B$51,Go!AE24=copy!$D$3,Go!AF24=copy!$D$3,Go!AG24=copy!$F$3),1,IF(AND(Go!AE24=copy!$D$3,Go!AF24=copy!$D$3,Go!AG24=copy!$F$3),\"%\",\"\"))","v":""},{"$f":"IF(AND(ROW(AH69)+COLUMN(AH69)/100<=$B$51,Go!AF24=copy!$D$3,Go!AG24=copy!$D$3,Go!AH24=copy!$F$3),1,IF(AND(Go!AF24=copy!$D$3,Go!AG24=copy!$D$3,Go!AH24=copy!$F$3),\"%\",\"\"))","v":""},{"$f":"Go!AI115","v":0}]
[null,null,null,{"$f":"Go!D116","v":0},{"$f":"IF(AND(ROW(E70)+COLUMN(E70)/100<=$B$51,Go!AG24=copy!$D$3,Go!AH24=copy!$D$3,Go!E25=copy!$F$3),1,\"\")","v":""},{"$f":"IF(AND(ROW(F70)+COLUMN(F70)/100<=$B$51,Go!AH24=copy!$D$3,Go!E25=copy!$D$3,Go!F25=copy!$F$3),1,\"\")","v":""},{"$f":"IF(AND(ROW(G70)+COLUMN(G70)/100<=$B$51,Go!E25=copy!$D$3,Go!F25=copy!$D$3,Go!G25=copy!$F$3),1,IF(AND(Go!E25=copy!$D$3,Go!F25=copy!$D$3,Go!G25=copy!$F$3),\"%\",\"\"))","v":""},{"$f":"IF(AND(ROW(H70)+COLUMN(H70)/100<=$B$51,Go!F25=copy!$D$3,Go!G25=copy!$D$3,Go!H25=copy!$F$3),1,IF(AND(Go!F25=copy!$D$3,Go!G25=copy!$D$3,Go!H25=copy!$F$3),\"%\",\"\"))","v":""},{"$f":"IF(AND(ROW(I70)+COLUMN(I70)/100<=$B$51,Go!G25=copy!$D$3,Go!H25=copy!$D$3,Go!I25=copy!$F$3),1,IF(AND(Go!G25=copy!$D$3,Go!H25=copy!$D$3,Go!I25=copy!$F$3),\"%\",\"\"))","v":""},{"$f":"IF(AND(ROW(J70)+COLUMN(J70)/100<=$B$51,Go!H25=copy!$D$3,Go!I25=copy!$D$3,Go!J25=copy!$F$3),1,IF(AND(Go!H25=copy!$D$3,Go!I25=copy!$D$3,Go!J25=copy!$F$3),\"%\",\"\"))","v":""},{"$f":"IF(AND(ROW(K70)+COLUMN(K70)/100<=$B$51,Go!I25=copy!$D$3,Go!J25=copy!$D$3,Go!K25=copy!$F$3),1,IF(AND(Go!I25=copy!$D$3,Go!J25=copy!$D$3,Go!K25=copy!$F$3),\"%\",\"\"))","v":""},{"$f":"IF(AND(ROW(L70)+COLUMN(L70)/100<=$B$51,Go!J25=copy!$D$3,Go!K25=copy!$D$3,Go!L25=copy!$F$3),1,IF(AND(Go!J25=copy!$D$3,Go!K25=copy!$D$3,Go!L25=copy!$F$3),\"%\",\"\"))","v":""},{"$f":"IF(AND(ROW(M70)+COLUMN(M70)/100<=$B$51,Go!K25=copy!$D$3,Go!L25=copy!$D$3,Go!M25=copy!$F$3),1,IF(AND(Go!K25=copy!$D$3,Go!L25=copy!$D$3,Go!M25=copy!$F$3),\"%\",\"\"))","v":""},{"$f":"IF(AND(ROW(N70)+COLUMN(N70)/100<=$B$51,Go!L25=copy!$D$3,Go!M25=copy!$D$3,Go!N25=copy!$F$3),1,IF(AND(Go!L25=copy!$D$3,Go!M25=copy!$D$3,Go!N25=copy!$F$3),\"%\",\"\"))","v":""},{"$f":"IF(AND(ROW(O70)+COLUMN(O70)/100<=$B$51,Go!M25=copy!$D$3,Go!N25=copy!$D$3,Go!O25=copy!$F$3),1,IF(AND(Go!M25=copy!$D$3,Go!N25=copy!$D$3,Go!O25=copy!$F$3),\"%\",\"\"))","v":""},{"$f":"IF(AND(ROW(P70)+COLUMN(P70)/100<=$B$51,Go!N25=copy!$D$3,Go!O25=copy!$D$3,Go!P25=copy!$F$3),1,IF(AND(Go!N25=copy!$D$3,Go!O25=copy!$D$3,Go!P25=copy!$F$3),\"%\",\"\"))","v":""},{"$f":"IF(AND(ROW(Q70)+COLUMN(Q70)/100<=$B$51,Go!O25=copy!$D$3,Go!P25=copy!$D$3,Go!Q25=copy!$F$3),1,IF(AND(Go!O25=copy!$D$3,Go!P25=copy!$D$3,Go!Q25=copy!$F$3),\"%\",\"\"))","v":""},{"$f":"IF(AND(ROW(R70)+COLUMN(R70)/100<=$B$51,Go!P25=copy!$D$3,Go!Q25=copy!$D$3,Go!R25=copy!$F$3),1,IF(AND(Go!P25=copy!$D$3,Go!Q25=copy!$D$3,Go!R25=copy!$F$3),\"%\",\"\"))","v":""},{"$f":"IF(AND(ROW(S70)+COLUMN(S70)/100<=$B$51,Go!Q25=copy!$D$3,Go!R25=copy!$D$3,Go!S25=copy!$F$3),1,IF(AND(Go!Q25=copy!$D$3,Go!R25=copy!$D$3,Go!S25=copy!$F$3),\"%\",\"\"))","v":""},{"$f":"IF(AND(ROW(T70)+COLUMN(T70)/100<=$B$51,Go!R25=copy!$D$3,Go!S25=copy!$D$3,Go!T25=copy!$F$3),1,IF(AND(Go!R25=copy!$D$3,Go!S25=copy!$D$3,Go!T25=copy!$F$3),\"%\",\"\"))","v":""},{"$f":"IF(AND(ROW(U70)+COLUMN(U70)/100<=$B$51,Go!S25=copy!$D$3,Go!T25=copy!$D$3,Go!U25=copy!$F$3),1,IF(AND(Go!S25=copy!$D$3,Go!T25=copy!$D$3,Go!U25=copy!$F$3),\"%\",\"\"))","v":""},{"$f":"IF(AND(ROW(V70)+COLUMN(V70)/100<=$B$51,Go!T25=copy!$D$3,Go!U25=copy!$D$3,Go!V25=copy!$F$3),1,IF(AND(Go!T25=copy!$D$3,Go!U25=copy!$D$3,Go!V25=copy!$F$3),\"%\",\"\"))","v":""},{"$f":"IF(AND(ROW(W70)+COLUMN(W70)/100<=$B$51,Go!U25=copy!$D$3,Go!V25=copy!$D$3,Go!W25=copy!$F$3),1,IF(AND(Go!U25=copy!$D$3,Go!V25=copy!$D$3,Go!W25=copy!$F$3),\"%\",\"\"))","v":""},{"$f":"IF(AND(ROW(X70)+COLUMN(X70)/100<=$B$51,Go!V25=copy!$D$3,Go!W25=copy!$D$3,Go!X25=copy!$F$3),1,IF(AND(Go!V25=copy!$D$3,Go!W25=copy!$D$3,Go!X25=copy!$F$3),\"%\",\"\"))","v":""},{"$f":"IF(AND(ROW(Y70)+COLUMN(Y70)/100<=$B$51,Go!W25=copy!$D$3,Go!X25=copy!$D$3,Go!Y25=copy!$F$3),1,IF(AND(Go!W25=copy!$D$3,Go!X25=copy!$D$3,Go!Y25=copy!$F$3),\"%\",\"\"))","v":""},{"$f":"IF(AND(ROW(Z70)+COLUMN(Z70)/100<=$B$51,Go!X25=copy!$D$3,Go!Y25=copy!$D$3,Go!Z25=copy!$F$3),1,IF(AND(Go!X25=copy!$D$3,Go!Y25=copy!$D$3,Go!Z25=copy!$F$3),\"%\",\"\"))","v":""},{"$f":"IF(AND(ROW(AA70)+COLUMN(AA70)/100<=$B$51,Go!Y25=copy!$D$3,Go!Z25=copy!$D$3,Go!AA25=copy!$F$3),1,IF(AND(Go!Y25=copy!$D$3,Go!Z25=copy!$D$3,Go!AA25=copy!$F$3),\"%\",\"\"))","v":""},{"$f":"IF(AND(ROW(AB70)+COLUMN(AB70)/100<=$B$51,Go!Z25=copy!$D$3,Go!AA25=copy!$D$3,Go!AB25=copy!$F$3),1,IF(AND(Go!Z25=copy!$D$3,Go!AA25=copy!$D$3,Go!AB25=copy!$F$3),\"%\",\"\"))","v":""},{"$f":"IF(AND(ROW(AC70)+COLUMN(AC70)/100<=$B$51,Go!AA25=copy!$D$3,Go!AB25=copy!$D$3,Go!AC25=copy!$F$3),1,IF(AND(Go!AA25=copy!$D$3,Go!AB25=copy!$D$3,Go!AC25=copy!$F$3),\"%\",\"\"))","v":""},{"$f":"IF(AND(ROW(AD70)+COLUMN(AD70)/100<=$B$51,Go!AB25=copy!$D$3,Go!AC25=copy!$D$3,Go!AD25=copy!$F$3),1,IF(AND(Go!AB25=copy!$D$3,Go!AC25=copy!$D$3,Go!AD25=copy!$F$3),\"%\",\"\"))","v":""},{"$f":"IF(AND(ROW(AE70)+COLUMN(AE70)/100<=$B$51,Go!AC25=copy!$D$3,Go!AD25=copy!$D$3,Go!AE25=copy!$F$3),1,IF(AND(Go!AC25=copy!$D$3,Go!AD25=copy!$D$3,Go!AE25=copy!$F$3),\"%\",\"\"))","v":""},{"$f":"IF(AND(ROW(AF70)+COLUMN(AF70)/100<=$B$51,Go!AD25=copy!$D$3,Go!AE25=copy!$D$3,Go!AF25=copy!$F$3),1,IF(AND(Go!AD25=copy!$D$3,Go!AE25=copy!$D$3,Go!AF25=copy!$F$3),\"%\",\"\"))","v":""},{"$f":"IF(AND(ROW(AG70)+COLUMN(AG70)/100<=$B$51,Go!AE25=copy!$D$3,Go!AF25=copy!$D$3,Go!AG25=copy!$F$3),1,IF(AND(Go!AE25=copy!$D$3,Go!AF25=copy!$D$3,Go!AG25=copy!$F$3),\"%\",\"\"))","v":""},{"$f":"IF(AND(ROW(AH70)+COLUMN(AH70)/100<=$B$51,Go!AF25=copy!$D$3,Go!AG25=copy!$D$3,Go!AH25=copy!$F$3),1,IF(AND(Go!AF25=copy!$D$3,Go!AG25=copy!$D$3,Go!AH25=copy!$F$3),\"%\",\"\"))","v":""},{"$f":"Go!AI116","v":0}]
[null,null,null,{"$f":"Go!D117","v":0},{"$f":"IF(AND(ROW(E71)+COLUMN(E71)/100<=$B$51,Go!AG25=copy!$D$3,Go!AH25=copy!$D$3,Go!E26=copy!$F$3),1,\"\")","v":""},{"$f":"IF(AND(ROW(F71)+COLUMN(F71)/100<=$B$51,Go!AH25=copy!$D$3,Go!E26=copy!$D$3,Go!F26=copy!$F$3),1,\"\")","v":""},{"$f":"IF(AND(ROW(G71)+COLUMN(G71)/100<=$B$51,Go!E26=copy!$D$3,Go!F26=copy!$D$3,Go!G26=copy!$F$3),1,IF(AND(Go!E26=copy!$D$3,Go!F26=copy!$D$3,Go!G26=copy!$F$3),\"%\",\"\"))","v":""},{"$f":"IF(AND(ROW(H71)+COLUMN(H71)/100<=$B$51,Go!F26=copy!$D$3,Go!G26=copy!$D$3,Go!H26=copy!$F$3),1,IF(AND(Go!F26=copy!$D$3,Go!G26=copy!$D$3,Go!H26=copy!$F$3),\"%\",\"\"))","v":""},{"$f":"IF(AND(ROW(I71)+COLUMN(I71)/100<=$B$51,Go!G26=copy!$D$3,Go!H26=copy!$D$3,Go!I26=copy!$F$3),1,IF(AND(Go!G26=copy!$D$3,Go!H26=copy!$D$3,Go!I26=copy!$F$3),\"%\",\"\"))","v":""},{"$f":"IF(AND(ROW(J71)+COLUMN(J71)/100<=$B$51,Go!H26=copy!$D$3,Go!I26=copy!$D$3,Go!J26=copy!$F$3),1,IF(AND(Go!H26=copy!$D$3,Go!I26=copy!$D$3,Go!J26=copy!$F$3),\"%\",\"\"))","v":""},{"$f":"IF(AND(ROW(K71)+COLUMN(K71)/100<=$B$51,Go!I26=copy!$D$3,Go!J26=copy!$D$3,Go!K26=copy!$F$3),1,IF(AND(Go!I26=copy!$D$3,Go!J26=copy!$D$3,Go!K26=copy!$F$3),\"%\",\"\"))","v":""},{"$f":"IF(AND(ROW(L71)+COLUMN(L71)/100<=$B$51,Go!J26=copy!$D$3,Go!K26=copy!$D$3,Go!L26=copy!$F$3),1,IF(AND(Go!J26=copy!$D$3,Go!K26=copy!$D$3,Go!L26=copy!$F$3),\"%\",\"\"))","v":""},{"$f":"IF(AND(ROW(M71)+COLUMN(M71)/100<=$B$51,Go!K26=copy!$D$3,Go!L26=copy!$D$3,Go!M26=copy!$F$3),1,IF(AND(Go!K26=copy!$D$3,Go!L26=copy!$D$3,Go!M26=copy!$F$3),\"%\",\"\"))","v":""},{"$f":"IF(AND(ROW(N71)+COLUMN(N71)/100<=$B$51,Go!L26=copy!$D$3,Go!M26=copy!$D$3,Go!N26=copy!$F$3),1,IF(AND(Go!L26=copy!$D$3,Go!M26=copy!$D$3,Go!N26=copy!$F$3),\"%\",\"\"))","v":""},{"$f":"IF(AND(ROW(O71)+COLUMN(O71)/100<=$B$51,Go!M26=copy!$D$3,Go!N26=copy!$D$3,Go!O26=copy!$F$3),1,IF(AND(Go!M26=copy!$D$3,Go!N26=copy!$D$3,Go!O26=copy!$F$3),\"%\",\"\"))","v":""},{"$f":"IF(AND(ROW(P71)+COLUMN(P71)/100<=$B$51,Go!N26=copy!$D$3,Go!O26=copy!$D$3,Go!P26=copy!$F$3),1,IF(AND(Go!N26=copy!$D$3,Go!O26=copy!$D$3,Go!P26=copy!$F$3),\"%\",\"\"))","v":""},{"$f":"IF(AND(ROW(Q71)+COLUMN(Q71)/100<=$B$51,Go!O26=copy!$D$3,Go!P26=copy!$D$3,Go!Q26=copy!$F$3),1,IF(AND(Go!O26=copy!$D$3,Go!P26=copy!$D$3,Go!Q26=copy!$F$3),\"%\",\"\"))","v":""},{"$f":"IF(AND(ROW(R71)+COLUMN(R71)/100<=$B$51,Go!P26=copy!$D$3,Go!Q26=copy!$D$3,Go!R26=copy!$F$3),1,IF(AND(Go!P26=copy!$D$3,Go!Q26=copy!$D$3,Go!R26=copy!$F$3),\"%\",\"\"))","v":""},{"$f":"IF(AND(ROW(S71)+COLUMN(S71)/100<=$B$51,Go!Q26=copy!$D$3,Go!R26=copy!$D$3,Go!S26=copy!$F$3),1,IF(AND(Go!Q26=copy!$D$3,Go!R26=copy!$D$3,Go!S26=copy!$F$3),\"%\",\"\"))","v":""},{"$f":"IF(AND(ROW(T71)+COLUMN(T71)/100<=$B$51,Go!R26=copy!$D$3,Go!S26=copy!$D$3,Go!T26=copy!$F$3),1,IF(AND(Go!R26=copy!$D$3,Go!S26=copy!$D$3,Go!T26=copy!$F$3),\"%\",\"\"))","v":""},{"$f":"IF(AND(ROW(U71)+COLUMN(U71)/100<=$B$51,Go!S26=copy!$D$3,Go!T26=copy!$D$3,Go!U26=copy!$F$3),1,IF(AND(Go!S26=copy!$D$3,Go!T26=copy!$D$3,Go!U26=copy!$F$3),\"%\",\"\"))","v":""},{"$f":"IF(AND(ROW(V71)+COLUMN(V71)/100<=$B$51,Go!T26=copy!$D$3,Go!U26=copy!$D$3,Go!V26=copy!$F$3),1,IF(AND(Go!T26=copy!$D$3,Go!U26=copy!$D$3,Go!V26=copy!$F$3),\"%\",\"\"))","v":""},{"$f":"IF(AND(ROW(W71)+COLUMN(W71)/100<=$B$51,Go!U26=copy!$D$3,Go!V26=copy!$D$3,Go!W26=copy!$F$3),1,IF(AND(Go!U26=copy!$D$3,Go!V26=copy!$D$3,Go!W26=copy!$F$3),\"%\",\"\"))","v":""},{"$f":"IF(AND(ROW(X71)+COLUMN(X71)/100<=$B$51,Go!V26=copy!$D$3,Go!W26=copy!$D$3,Go!X26=copy!$F$3),1,IF(AND(Go!V26=copy!$D$3,Go!W26=copy!$D$3,Go!X26=copy!$F$3),\"%\",\"\"))","v":""},{"$f":"IF(AND(ROW(Y71)+COLUMN(Y71)/100<=$B$51,Go!W26=copy!$D$3,Go!X26=copy!$D$3,Go!Y26=copy!$F$3),1,IF(AND(Go!W26=copy!$D$3,Go!X26=copy!$D$3,Go!Y26=copy!$F$3),\"%\",\"\"))","v":""},{"$f":"IF(AND(ROW(Z71)+COLUMN(Z71)/100<=$B$51,Go!X26=copy!$D$3,Go!Y26=copy!$D$3,Go!Z26=copy!$F$3),1,IF(AND(Go!X26=copy!$D$3,Go!Y26=copy!$D$3,Go!Z26=copy!$F$3),\"%\",\"\"))","v":""},{"$f":"IF(AND(ROW(AA71)+COLUMN(AA71)/100<=$B$51,Go!Y26=copy!$D$3,Go!Z26=copy!$D$3,Go!AA26=copy!$F$3),1,IF(AND(Go!Y26=copy!$D$3,Go!Z26=copy!$D$3,Go!AA26=copy!$F$3),\"%\",\"\"))","v":""},{"$f":"IF(AND(ROW(AB71)+COLUMN(AB71)/100<=$B$51,Go!Z26=copy!$D$3,Go!AA26=copy!$D$3,Go!AB26=copy!$F$3),1,IF(AND(Go!Z26=copy!$D$3,Go!AA26=copy!$D$3,Go!AB26=copy!$F$3),\"%\",\"\"))","v":""},{"$f":"IF(AND(ROW(AC71)+COLUMN(AC71)/100<=$B$51,Go!AA26=copy!$D$3,Go!AB26=copy!$D$3,Go!AC26=copy!$F$3),1,IF(AND(Go!AA26=copy!$D$3,Go!AB26=copy!$D$3,Go!AC26=copy!$F$3),\"%\",\"\"))","v":""},{"$f":"IF(AND(ROW(AD71)+COLUMN(AD71)/100<=$B$51,Go!AB26=copy!$D$3,Go!AC26=copy!$D$3,Go!AD26=copy!$F$3),1,IF(AND(Go!AB26=copy!$D$3,Go!AC26=copy!$D$3,Go!AD26=copy!$F$3),\"%\",\"\"))","v":""},{"$f":"IF(AND(ROW(AE71)+COLUMN(AE71)/100<=$B$51,Go!AC26=copy!$D$3,Go!AD26=copy!$D$3,Go!AE26=copy!$F$3),1,IF(AND(Go!AC26=copy!$D$3,Go!AD26=copy!$D$3,Go!AE26=copy!$F$3),\"%\",\"\"))","v":""},{"$f":"IF(AND(ROW(AF71)+COLUMN(AF71)/100<=$B$51,Go!AD26=copy!$D$3,Go!AE26=copy!$D$3,Go!AF26=copy!$F$3),1,IF(AND(Go!AD26=copy!$D$3,Go!AE26=copy!$D$3,Go!AF26=copy!$F$3),\"%\",\"\"))","v":""},{"$f":"IF(AND(ROW(AG71)+COLUMN(AG71)/100<=$B$51,Go!AE26=copy!$D$3,Go!AF26=copy!$D$3,Go!AG26=copy!$F$3),1,IF(AND(Go!AE26=copy!$D$3,Go!AF26=copy!$D$3,Go!AG26=copy!$F$3),\"%\",\"\"))","v":""},{"$f":"IF(AND(ROW(AH71)+COLUMN(AH71)/100<=$B$51,Go!AF26=copy!$D$3,Go!AG26=copy!$D$3,Go!AH26=copy!$F$3),1,IF(AND(Go!AF26=copy!$D$3,Go!AG26=copy!$D$3,Go!AH26=copy!$F$3),\"%\",\"\"))","v":""},{"$f":"Go!AI117","v":0}]
[null,null,null,{"$f":"Go!D118","v":0},{"$f":"IF(AND(ROW(E72)+COLUMN(E72)/100<=$B$51,Go!AG26=copy!$D$3,Go!AH26=copy!$D$3,Go!E27=copy!$F$3),1,\"\")","v":""},{"$f":"IF(AND(ROW(F72)+COLUMN(F72)/100<=$B$51,Go!AH26=copy!$D$3,Go!E27=copy!$D$3,Go!F27=copy!$F$3),1,\"\")","v":""},{"$f":"IF(AND(ROW(G72)+COLUMN(G72)/100<=$B$51,Go!E27=copy!$D$3,Go!F27=copy!$D$3,Go!G27=copy!$F$3),1,IF(AND(Go!E27=copy!$D$3,Go!F27=copy!$D$3,Go!G27=copy!$F$3),\"%\",\"\"))","v":""},{"$f":"IF(AND(ROW(H72)+COLUMN(H72)/100<=$B$51,Go!F27=copy!$D$3,Go!G27=copy!$D$3,Go!H27=copy!$F$3),1,IF(AND(Go!F27=copy!$D$3,Go!G27=copy!$D$3,Go!H27=copy!$F$3),\"%\",\"\"))","v":""},{"$f":"IF(AND(ROW(I72)+COLUMN(I72)/100<=$B$51,Go!G27=copy!$D$3,Go!H27=copy!$D$3,Go!I27=copy!$F$3),1,IF(AND(Go!G27=copy!$D$3,Go!H27=copy!$D$3,Go!I27=copy!$F$3),\"%\",\"\"))","v":""},{"$f":"IF(AND(ROW(J72)+COLUMN(J72)/100<=$B$51,Go!H27=copy!$D$3,Go!I27=copy!$D$3,Go!J27=copy!$F$3),1,IF(AND(Go!H27=copy!$D$3,Go!I27=copy!$D$3,Go!J27=copy!$F$3),\"%\",\"\"))","v":""},{"$f":"IF(AND(ROW(K72)+COLUMN(K72)/100<=$B$51,Go!I27=copy!$D$3,Go!J27=copy!$D$3,Go!K27=copy!$F$3),1,IF(AND(Go!I27=copy!$D$3,Go!J27=copy!$D$3,Go!K27=copy!$F$3),\"%\",\"\"))","v":""},{"$f":"IF(AND(ROW(L72)+COLUMN(L72)/100<=$B$51,Go!J27=copy!$D$3,Go!K27=copy!$D$3,Go!L27=copy!$F$3),1,IF(AND(Go!J27=copy!$D$3,Go!K27=copy!$D$3,Go!L27=copy!$F$3),\"%\",\"\"))","v":""},{"$f":"IF(AND(ROW(M72)+COLUMN(M72)/100<=$B$51,Go!K27=copy!$D$3,Go!L27=copy!$D$3,Go!M27=copy!$F$3),1,IF(AND(Go!K27=copy!$D$3,Go!L27=copy!$D$3,Go!M27=copy!$F$3),\"%\",\"\"))","v":""},{"$f":"IF(AND(ROW(N72)+COLUMN(N72)/100<=$B$51,Go!L27=copy!$D$3,Go!M27=copy!$D$3,Go!N27=copy!$F$3),1,IF(AND(Go!L27=copy!$D$3,Go!M27=copy!$D$3,Go!N27=copy!$F$3),\"%\",\"\"))","v":""},{"$f":"IF(AND(ROW(O72)+COLUMN(O72)/100<=$B$51,Go!M27=copy!$D$3,Go!N27=copy!$D$3,Go!O27=copy!$F$3),1,IF(AND(Go!M27=copy!$D$3,Go!N27=copy!$D$3,Go!O27=copy!$F$3),\"%\",\"\"))","v":""},{"$f":"IF(AND(ROW(P72)+COLUMN(P72)/100<=$B$51,Go!N27=copy!$D$3,Go!O27=copy!$D$3,Go!P27=copy!$F$3),1,IF(AND(Go!N27=copy!$D$3,Go!O27=copy!$D$3,Go!P27=copy!$F$3),\"%\",\"\"))","v":""},{"$f":"IF(AND(ROW(Q72)+COLUMN(Q72)/100<=$B$51,Go!O27=copy!$D$3,Go!P27=copy!$D$3,Go!Q27=copy!$F$3),1,IF(AND(Go!O27=copy!$D$3,Go!P27=copy!$D$3,Go!Q27=copy!$F$3),\"%\",\"\"))","v":""},{"$f":"IF(AND(ROW(R72)+COLUMN(R72)/100<=$B$51,Go!P27=copy!$D$3,Go!Q27=copy!$D$3,Go!R27=copy!$F$3),1,IF(AND(Go!P27=copy!$D$3,Go!Q27=copy!$D$3,Go!R27=copy!$F$3),\"%\",\"\"))","v":""},{"$f":"IF(AND(ROW(S72)+COLUMN(S72)/100<=$B$51,Go!Q27=copy!$D$3,Go!R27=copy!$D$3,Go!S27=copy!$F$3),1,IF(AND(Go!Q27=copy!$D$3,Go!R27=copy!$D$3,Go!S27=copy!$F$3),\"%\",\"\"))","v":""},{"$f":"IF(AND(ROW(T72)+COLUMN(T72)/100<=$B$51,Go!R27=copy!$D$3,Go!S27=copy!$D$3,Go!T27=copy!$F$3),1,IF(AND(Go!R27=copy!$D$3,Go!S27=copy!$D$3,Go!T27=copy!$F$3),\"%\",\"\"))","v":""},{"$f":"IF(AND(ROW(U72)+COLUMN(U72)/100<=$B$51,Go!S27=copy!$D$3,Go!T27=copy!$D$3,Go!U27=copy!$F$3),1,IF(AND(Go!S27=copy!$D$3,Go!T27=copy!$D$3,Go!U27=copy!$F$3),\"%\",\"\"))","v":""},{"$f":"IF(AND(ROW(V72)+COLUMN(V72)/100<=$B$51,Go!T27=copy!$D$3,Go!U27=copy!$D$3,Go!V27=copy!$F$3),1,IF(AND(Go!T27=copy!$D$3,Go!U27=copy!$D$3,Go!V27=copy!$F$3),\"%\",\"\"))","v":""},{"$f":"IF(AND(ROW(W72)+COLUMN(W72)/100<=$B$51,Go!U27=copy!$D$3,Go!V27=copy!$D$3,Go!W27=copy!$F$3),1,IF(AND(Go!U27=copy!$D$3,Go!V27=copy!$D$3,Go!W27=copy!$F$3),\"%\",\"\"))","v":""},{"$f":"IF(AND(ROW(X72)+COLUMN(X72)/100<=$B$51,Go!V27=copy!$D$3,Go!W27=copy!$D$3,Go!X27=copy!$F$3),1,IF(AND(Go!V27=copy!$D$3,Go!W27=copy!$D$3,Go!X27=copy!$F$3),\"%\",\"\"))","v":""},{"$f":"IF(AND(ROW(Y72)+COLUMN(Y72)/100<=$B$51,Go!W27=copy!$D$3,Go!X27=copy!$D$3,Go!Y27=copy!$F$3),1,IF(AND(Go!W27=copy!$D$3,Go!X27=copy!$D$3,Go!Y27=copy!$F$3),\"%\",\"\"))","v":""},{"$f":"IF(AND(ROW(Z72)+COLUMN(Z72)/100<=$B$51,Go!X27=copy!$D$3,Go!Y27=copy!$D$3,Go!Z27=copy!$F$3),1,IF(AND(Go!X27=copy!$D$3,Go!Y27=copy!$D$3,Go!Z27=copy!$F$3),\"%\",\"\"))","v":""},{"$f":"IF(AND(ROW(AA72)+COLUMN(AA72)/100<=$B$51,Go!Y27=copy!$D$3,Go!Z27=copy!$D$3,Go!AA27=copy!$F$3),1,IF(AND(Go!Y27=copy!$D$3,Go!Z27=copy!$D$3,Go!AA27=copy!$F$3),\"%\",\"\"))","v":""},{"$f":"IF(AND(ROW(AB72)+COLUMN(AB72)/100<=$B$51,Go!Z27=copy!$D$3,Go!AA27=copy!$D$3,Go!AB27=copy!$F$3),1,IF(AND(Go!Z27=copy!$D$3,Go!AA27=copy!$D$3,Go!AB27=copy!$F$3),\"%\",\"\"))","v":""},{"$f":"IF(AND(ROW(AC72)+COLUMN(AC72)/100<=$B$51,Go!AA27=copy!$D$3,Go!AB27=copy!$D$3,Go!AC27=copy!$F$3),1,IF(AND(Go!AA27=copy!$D$3,Go!AB27=copy!$D$3,Go!AC27=copy!$F$3),\"%\",\"\"))","v":""},{"$f":"IF(AND(ROW(AD72)+COLUMN(AD72)/100<=$B$51,Go!AB27=copy!$D$3,Go!AC27=copy!$D$3,Go!AD27=copy!$F$3),1,IF(AND(Go!AB27=copy!$D$3,Go!AC27=copy!$D$3,Go!AD27=copy!$F$3),\"%\",\"\"))","v":""},{"$f":"IF(AND(ROW(AE72)+COLUMN(AE72)/100<=$B$51,Go!AC27=copy!$D$3,Go!AD27=copy!$D$3,Go!AE27=copy!$F$3),1,IF(AND(Go!AC27=copy!$D$3,Go!AD27=copy!$D$3,Go!AE27=copy!$F$3),\"%\",\"\"))","v":""},{"$f":"IF(AND(ROW(AF72)+COLUMN(AF72)/100<=$B$51,Go!AD27=copy!$D$3,Go!AE27=copy!$D$3,Go!AF27=copy!$F$3),1,IF(AND(Go!AD27=copy!$D$3,Go!AE27=copy!$D$3,Go!AF27=copy!$F$3),\"%\",\"\"))","v":""},{"$f":"IF(AND(ROW(AG72)+COLUMN(AG72)/100<=$B$51,Go!AE27=copy!$D$3,Go!AF27=copy!$D$3,Go!AG27=copy!$F$3),1,IF(AND(Go!AE27=copy!$D$3,Go!AF27=copy!$D$3,Go!AG27=copy!$F$3),\"%\",\"\"))","v":""},{"$f":"IF(AND(ROW(AH72)+COLUMN(AH72)/100<=$B$51,Go!AF27=copy!$D$3,Go!AG27=copy!$D$3,Go!AH27=copy!$F$3),1,IF(AND(Go!AF27=copy!$D$3,Go!AG27=copy!$D$3,Go!AH27=copy!$F$3),\"%\",\"\"))","v":""},{"$f":"Go!AI118","v":0}]
[null,null,null,{"$f":"Go!D119","v":0},{"$f":"IF(AND(ROW(E73)+COLUMN(E73)/100<=$B$51,Go!AG27=copy!$D$3,Go!AH27=copy!$D$3,Go!E28=copy!$F$3),1,\"\")","v":""},{"$f":"IF(AND(ROW(F73)+COLUMN(F73)/100<=$B$51,Go!AH27=copy!$D$3,Go!E28=copy!$D$3,Go!F28=copy!$F$3),1,\"\")","v":""},{"$f":"IF(AND(ROW(G73)+COLUMN(G73)/100<=$B$51,Go!E28=copy!$D$3,Go!F28=copy!$D$3,Go!G28=copy!$F$3),1,IF(AND(Go!E28=copy!$D$3,Go!F28=copy!$D$3,Go!G28=copy!$F$3),\"%\",\"\"))","v":""},{"$f":"IF(AND(ROW(H73)+COLUMN(H73)/100<=$B$51,Go!F28=copy!$D$3,Go!G28=copy!$D$3,Go!H28=copy!$F$3),1,IF(AND(Go!F28=copy!$D$3,Go!G28=copy!$D$3,Go!H28=copy!$F$3),\"%\",\"\"))","v":""},{"$f":"IF(AND(ROW(I73)+COLUMN(I73)/100<=$B$51,Go!G28=copy!$D$3,Go!H28=copy!$D$3,Go!I28=copy!$F$3),1,IF(AND(Go!G28=copy!$D$3,Go!H28=copy!$D$3,Go!I28=copy!$F$3),\"%\",\"\"))","v":""},{"$f":"IF(AND(ROW(J73)+COLUMN(J73)/100<=$B$51,Go!H28=copy!$D$3,Go!I28=copy!$D$3,Go!J28=copy!$F$3),1,IF(AND(Go!H28=copy!$D$3,Go!I28=copy!$D$3,Go!J28=copy!$F$3),\"%\",\"\"))","v":""},{"$f":"IF(AND(ROW(K73)+COLUMN(K73)/100<=$B$51,Go!I28=copy!$D$3,Go!J28=copy!$D$3,Go!K28=copy!$F$3),1,IF(AND(Go!I28=copy!$D$3,Go!J28=copy!$D$3,Go!K28=copy!$F$3),\"%\",\"\"))","v":""},{"$f":"IF(AND(ROW(L73)+COLUMN(L73)/100<=$B$51,Go!J28=copy!$D$3,Go!K28=copy!$D$3,Go!L28=copy!$F$3),1,IF(AND(Go!J28=copy!$D$3,Go!K28=copy!$D$3,Go!L28=copy!$F$3),\"%\",\"\"))","v":""},{"$f":"IF(AND(ROW(M73)+COLUMN(M73)/100<=$B$51,Go!K28=copy!$D$3,Go!L28=copy!$D$3,Go!M28=copy!$F$3),1,IF(AND(Go!K28=copy!$D$3,Go!L28=copy!$D$3,Go!M28=copy!$F$3),\"%\",\"\"))","v":""},{"$f":"IF(AND(ROW(N73)+COLUMN(N73)/100<=$B$51,Go!L28=copy!$D$3,Go!M28=copy!$D$3,Go!N28=copy!$F$3),1,IF(AND(Go!L28=copy!$D$3,Go!M28=copy!$D$3,Go!N28=copy!$F$3),\"%\",\"\"))","v":""},{"$f":"IF(AND(ROW(O73)+COLUMN(O73)/100<=$B$51,Go!M28=copy!$D$3,Go!N28=copy!$D$3,Go!O28=copy!$F$3),1,IF(AND(Go!M28=copy!$D$3,Go!N28=copy!$D$3,Go!O28=copy!$F$3),\"%\",\"\"))","v":""},{"$f":"IF(AND(ROW(P73)+COLUMN(P73)/100<=$B$51,Go!N28=copy!$D$3,Go!O28=copy!$D$3,Go!P28=copy!$F$3),1,IF(AND(Go!N28=copy!$D$3,Go!O28=copy!$D$3,Go!P28=copy!$F$3),\"%\",\"\"))","v":""},{"$f":"IF(AND(ROW(Q73)+COLUMN(Q73)/100<=$B$51,Go!O28=copy!$D$3,Go!P28=copy!$D$3,Go!Q28=copy!$F$3),1,IF(AND(Go!O28=copy!$D$3,Go!P28=copy!$D$3,Go!Q28=copy!$F$3),\"%\",\"\"))","v":""},{"$f":"IF(AND(ROW(R73)+COLUMN(R73)/100<=$B$51,Go!P28=copy!$D$3,Go!Q28=copy!$D$3,Go!R28=copy!$F$3),1,IF(AND(Go!P28=copy!$D$3,Go!Q28=copy!$D$3,Go!R28=copy!$F$3),\"%\",\"\"))","v":""},{"$f":"IF(AND(ROW(S73)+COLUMN(S73)/100<=$B$51,Go!Q28=copy!$D$3,Go!R28=copy!$D$3,Go!S28=copy!$F$3),1,IF(AND(Go!Q28=copy!$D$3,Go!R28=copy!$D$3,Go!S28=copy!$F$3),\"%\",\"\"))","v":""},{"$f":"IF(AND(ROW(T73)+COLUMN(T73)/100<=$B$51,Go!R28=copy!$D$3,Go!S28=copy!$D$3,Go!T28=copy!$F$3),1,IF(AND(Go!R28=copy!$D$3,Go!S28=copy!$D$3,Go!T28=copy!$F$3),\"%\",\"\"))","v":""},{"$f":"IF(AND(ROW(U73)+COLUMN(U73)/100<=$B$51,Go!S28=copy!$D$3,Go!T28=copy!$D$3,Go!U28=copy!$F$3),1,IF(AND(Go!S28=copy!$D$3,Go!T28=copy!$D$3,Go!U28=copy!$F$3),\"%\",\"\"))","v":""},{"$f":"IF(AND(ROW(V73)+COLUMN(V73)/100<=$B$51,Go!T28=copy!$D$3,Go!U28=copy!$D$3,Go!V28=copy!$F$3),1,IF(AND(Go!T28=copy!$D$3,Go!U28=copy!$D$3,Go!V28=copy!$F$3),\"%\",\"\"))","v":""},{"$f":"IF(AND(ROW(W73)+COLUMN(W73)/100<=$B$51,Go!U28=copy!$D$3,Go!V28=copy!$D$3,Go!W28=copy!$F$3),1,IF(AND(Go!U28=copy!$D$3,Go!V28=copy!$D$3,Go!W28=copy!$F$3),\"%\",\"\"))","v":""},{"$f":"IF(AND(ROW(X73)+COLUMN(X73)/100<=$B$51,Go!V28=copy!$D$3,Go!W28=copy!$D$3,Go!X28=copy!$F$3),1,IF(AND(Go!V28=copy!$D$3,Go!W28=copy!$D$3,Go!X28=copy!$F$3),\"%\",\"\"))","v":""},{"$f":"IF(AND(ROW(Y73)+COLUMN(Y73)/100<=$B$51,Go!W28=copy!$D$3,Go!X28=copy!$D$3,Go!Y28=copy!$F$3),1,IF(AND(Go!W28=copy!$D$3,Go!X28=copy!$D$3,Go!Y28=copy!$F$3),\"%\",\"\"))","v":""},{"$f":"IF(AND(ROW(Z73)+COLUMN(Z73)/100<=$B$51,Go!X28=copy!$D$3,Go!Y28=copy!$D$3,Go!Z28=copy!$F$3),1,IF(AND(Go!X28=copy!$D$3,Go!Y28=copy!$D$3,Go!Z28=copy!$F$3),\"%\",\"\"))","v":""},{"$f":"IF(AND(ROW(AA73)+COLUMN(AA73)/100<=$B$51,Go!Y28=copy!$D$3,Go!Z28=copy!$D$3,Go!AA28=copy!$F$3),1,IF(AND(Go!Y28=copy!$D$3,Go!Z28=copy!$D$3,Go!AA28=copy!$F$3),\"%\",\"\"))","v":""},{"$f":"IF(AND(ROW(AB73)+COLUMN(AB73)/100<=$B$51,Go!Z28=copy!$D$3,Go!AA28=copy!$D$3,Go!AB28=copy!$F$3),1,IF(AND(Go!Z28=copy!$D$3,Go!AA28=copy!$D$3,Go!AB28=copy!$F$3),\"%\",\"\"))","v":""},{"$f":"IF(AND(ROW(AC73)+COLUMN(AC73)/100<=$B$51,Go!AA28=copy!$D$3,Go!AB28=copy!$D$3,Go!AC28=copy!$F$3),1,IF(AND(Go!AA28=copy!$D$3,Go!AB28=copy!$D$3,Go!AC28=copy!$F$3),\"%\",\"\"))","v":""},{"$f":"IF(AND(ROW(AD73)+COLUMN(AD73)/100<=$B$51,Go!AB28=copy!$D$3,Go!AC28=copy!$D$3,Go!AD28=copy!$F$3),1,IF(AND(Go!AB28=copy!$D$3,Go!AC28=copy!$D$3,Go!AD28=copy!$F$3),\"%\",\"\"))","v":""},{"$f":"IF(AND(ROW(AE73)+COLUMN(AE73)/100<=$B$51,Go!AC28=copy!$D$3,Go!AD28=copy!$D$3,Go!AE28=copy!$F$3),1,IF(AND(Go!AC28=copy!$D$3,Go!AD28=copy!$D$3,Go!AE28=copy!$F$3),\"%\",\"\"))","v":""},{"$f":"IF(AND(ROW(AF73)+COLUMN(AF73)/100<=$B$51,Go!AD28=copy!$D$3,Go!AE28=copy!$D$3,Go!AF28=copy!$F$3),1,IF(AND(Go!AD28=copy!$D$3,Go!AE28=copy!$D$3,Go!AF28=copy!$F$3),\"%\",\"\"))","v":""},{"$f":"IF(AND(ROW(AG73)+COLUMN(AG73)/100<=$B$51,Go!AE28=copy!$D$3,Go!AF28=copy!$D$3,Go!AG28=copy!$F$3),1,IF(AND(Go!AE28=copy!$D$3,Go!AF28=copy!$D$3,Go!AG28=copy!$F$3),\"%\",\"\"))","v":""},{"$f":"IF(AND(ROW(AH73)+COLUMN(AH73)/100<=$B$51,Go!AF28=copy!$D$3,Go!AG28=copy!$D$3,Go!AH28=copy!$F$3),1,IF(AND(Go!AF28=copy!$D$3,Go!AG28=copy!$D$3,Go!AH28=copy!$F$3),\"%\",\"\"))","v":""},{"$f":"Go!AI119","v":0}]
[null,null,null,{"$f":"Go!D120","v":0},{"$f":"IF(AND(ROW(E74)+COLUMN(E74)/100<=$B$51,Go!AG28=copy!$D$3,Go!AH28=copy!$D$3,Go!E29=copy!$F$3),1,\"\")","v":""},{"$f":"IF(AND(ROW(F74)+COLUMN(F74)/100<=$B$51,Go!AH28=copy!$D$3,Go!E29=copy!$D$3,Go!F29=copy!$F$3),1,\"\")","v":""},{"$f":"IF(AND(ROW(G74)+COLUMN(G74)/100<=$B$51,Go!E29=copy!$D$3,Go!F29=copy!$D$3,Go!G29=copy!$F$3),1,IF(AND(Go!E29=copy!$D$3,Go!F29=copy!$D$3,Go!G29=copy!$F$3),\"%\",\"\"))","v":""},{"$f":"IF(AND(ROW(H74)+COLUMN(H74)/100<=$B$51,Go!F29=copy!$D$3,Go!G29=copy!$D$3,Go!H29=copy!$F$3),1,IF(AND(Go!F29=copy!$D$3,Go!G29=copy!$D$3,Go!H29=copy!$F$3),\"%\",\"\"))","v":""},{"$f":"IF(AND(ROW(I74)+COLUMN(I74)/100<=$B$51,Go!G29=copy!$D$3,Go!H29=copy!$D$3,Go!I29=copy!$F$3),1,IF(AND(Go!G29=copy!$D$3,Go!H29=copy!$D$3,Go!I29=copy!$F$3),\"%\",\"\"))","v":""},{"$f":"IF(AND(ROW(J74)+COLUMN(J74)/100<=$B$51,Go!H29=copy!$D$3,Go!I29=copy!$D$3,Go!J29=copy!$F$3),1,IF(AND(Go!H29=copy!$D$3,Go!I29=copy!$D$3,Go!J29=copy!$F$3),\"%\",\"\"))","v":""},{"$f":"IF(AND(ROW(K74)+COLUMN(K74)/100<=$B$51,Go!I29=copy!$D$3,Go!J29=copy!$D$3,Go!K29=copy!$F$3),1,IF(AND(Go!I29=copy!$D$3,Go!J29=copy!$D$3,Go!K29=copy!$F$3),\"%\",\"\"))","v":""},{"$f":"IF(AND(ROW(L74)+COLUMN(L74)/100<=$B$51,Go!J29=copy!$D$3,Go!K29=copy!$D$3,Go!L29=copy!$F$3),1,IF(AND(Go!J29=copy!$D$3,Go!K29=copy!$D$3,Go!L29=copy!$F$3),\"%\",\"\"))","v":""},{"$f":"IF(AND(ROW(M74)+COLUMN(M74)/100<=$B$51,Go!K29=copy!$D$3,Go!L29=copy!$D$3,Go!M29=copy!$F$3),1,IF(AND(Go!K29=copy!$D$3,Go!L29=copy!$D$3,Go!M29=copy!$F$3),\"%\",\"\"))","v":""},{"$f":"IF(AND(ROW(N74)+COLUMN(N74)/100<=$B$51,Go!L29=copy!$D$3,Go!M29=copy!$D$3,Go!N29=copy!$F$3),1,IF(AND(Go!L29=copy!$D$3,Go!M29=copy!$D$3,Go!N29=copy!$F$3),\"%\",\"\"))","v":""},{"$f":"IF(AND(ROW(O74)+COLUMN(O74)/100<=$B$51,Go!M29=copy!$D$3,Go!N29=copy!$D$3,Go!O29=copy!$F$3),1,IF(AND(Go!M29=copy!$D$3,Go!N29=copy!$D$3,Go!O29=copy!$F$3),\"%\",\"\"))","v":""},{"$f":"IF(AND(ROW(P74)+COLUMN(P74)/100<=$B$51,Go!N29=copy!$D$3,Go!O29=copy!$D$3,Go!P29=copy!$F$3),1,IF(AND(Go!N29=copy!$D$3,Go!O29=copy!$D$3,Go!P29=copy!$F$3),\"%\",\"\"))","v":""},{"$f":"IF(AND(ROW(Q74)+COLUMN(Q74)/100<=$B$51,Go!O29=copy!$D$3,Go!P29=copy!$D$3,Go!Q29=copy!$F$3),1,IF(AND(Go!O29=copy!$D$3,Go!P29=copy!$D$3,Go!Q29=copy!$F$3),\"%\",\"\"))","v":""},{"$f":"IF(AND(ROW(R74)+COLUMN(R74)/100<=$B$51,Go!P29=copy!$D$3,Go!Q29=copy!$D$3,Go!R29=copy!$F$3),1,IF(AND(Go!P29=copy!$D$3,Go!Q29=copy!$D$3,Go!R29=copy!$F$3),\"%\",\"\"))","v":""},{"$f":"IF(AND(ROW(S74)+COLUMN(S74)/100<=$B$51,Go!Q29=copy!$D$3,Go!R29=copy!$D$3,Go!S29=copy!$F$3),1,IF(AND(Go!Q29=copy!$D$3,Go!R29=copy!$D$3,Go!S29=copy!$F$3),\"%\",\"\"))","v":""},{"$f":"IF(AND(ROW(T74)+COLUMN(T74)/100<=$B$51,Go!R29=copy!$D$3,Go!S29=copy!$D$3,Go!T29=copy!$F$3),1,IF(AND(Go!R29=copy!$D$3,Go!S29=copy!$D$3,Go!T29=copy!$F$3),\"%\",\"\"))","v":""},{"$f":"IF(AND(ROW(U74)+COLUMN(U74)/100<=$B$51,Go!S29=copy!$D$3,Go!T29=copy!$D$3,Go!U29=copy!$F$3),1,IF(AND(Go!S29=copy!$D$3,Go!T29=copy!$D$3,Go!U29=copy!$F$3),\"%\",\"\"))","v":""},{"$f":"IF(AND(ROW(V74)+COLUMN(V74)/100<=$B$51,Go!T29=copy!$D$3,Go!U29=copy!$D$3,Go!V29=copy!$F$3),1,IF(AND(Go!T29=copy!$D$3,Go!U29=copy!$D$3,Go!V29=copy!$F$3),\"%\",\"\"))","v":""},{"$f":"IF(AND(ROW(W74)+COLUMN(W74)/100<=$B$51,Go!U29=copy!$D$3,Go!V29=copy!$D$3,Go!W29=copy!$F$3),1,IF(AND(Go!U29=copy!$D$3,Go!V29=copy!$D$3,Go!W29=copy!$F$3),\"%\",\"\"))","v":""},{"$f":"IF(AND(ROW(X74)+COLUMN(X74)/100<=$B$51,Go!V29=copy!$D$3,Go!W29=copy!$D$3,Go!X29=copy!$F$3),1,IF(AND(Go!V29=copy!$D$3,Go!W29=copy!$D$3,Go!X29=copy!$F$3),\"%\",\"\"))","v":""},{"$f":"IF(AND(ROW(Y74)+COLUMN(Y74)/100<=$B$51,Go!W29=copy!$D$3,Go!X29=copy!$D$3,Go!Y29=copy!$F$3),1,IF(AND(Go!W29=copy!$D$3,Go!X29=copy!$D$3,Go!Y29=copy!$F$3),\"%\",\"\"))","v":""},{"$f":"IF(AND(ROW(Z74)+COLUMN(Z74)/100<=$B$51,Go!X29=copy!$D$3,Go!Y29=copy!$D$3,Go!Z29=copy!$F$3),1,IF(AND(Go!X29=copy!$D$3,Go!Y29=copy!$D$3,Go!Z29=copy!$F$3),\"%\",\"\"))","v":""},{"$f":"IF(AND(ROW(AA74)+COLUMN(AA74)/100<=$B$51,Go!Y29=copy!$D$3,Go!Z29=copy!$D$3,Go!AA29=copy!$F$3),1,IF(AND(Go!Y29=copy!$D$3,Go!Z29=copy!$D$3,Go!AA29=copy!$F$3),\"%\",\"\"))","v":""},{"$f":"IF(AND(ROW(AB74)+COLUMN(AB74)/100<=$B$51,Go!Z29=copy!$D$3,Go!AA29=copy!$D$3,Go!AB29=copy!$F$3),1,IF(AND(Go!Z29=copy!$D$3,Go!AA29=copy!$D$3,Go!AB29=copy!$F$3),\"%\",\"\"))","v":""},{"$f":"IF(AND(ROW(AC74)+COLUMN(AC74)/100<=$B$51,Go!AA29=copy!$D$3,Go!AB29=copy!$D$3,Go!AC29=copy!$F$3),1,IF(AND(Go!AA29=copy!$D$3,Go!AB29=copy!$D$3,Go!AC29=copy!$F$3),\"%\",\"\"))","v":""},{"$f":"IF(AND(ROW(AD74)+COLUMN(AD74)/100<=$B$51,Go!AB29=copy!$D$3,Go!AC29=copy!$D$3,Go!AD29=copy!$F$3),1,IF(AND(Go!AB29=copy!$D$3,Go!AC29=copy!$D$3,Go!AD29=copy!$F$3),\"%\",\"\"))","v":""},{"$f":"IF(AND(ROW(AE74)+COLUMN(AE74)/100<=$B$51,Go!AC29=copy!$D$3,Go!AD29=copy!$D$3,Go!AE29=copy!$F$3),1,IF(AND(Go!AC29=copy!$D$3,Go!AD29=copy!$D$3,Go!AE29=copy!$F$3),\"%\",\"\"))","v":""},{"$f":"IF(AND(ROW(AF74)+COLUMN(AF74)/100<=$B$51,Go!AD29=copy!$D$3,Go!AE29=copy!$D$3,Go!AF29=copy!$F$3),1,IF(AND(Go!AD29=copy!$D$3,Go!AE29=copy!$D$3,Go!AF29=copy!$F$3),\"%\",\"\"))","v":""},{"$f":"IF(AND(ROW(AG74)+COLUMN(AG74)/100<=$B$51,Go!AE29=copy!$D$3,Go!AF29=copy!$D$3,Go!AG29=copy!$F$3),1,IF(AND(Go!AE29=copy!$D$3,Go!AF29=copy!$D$3,Go!AG29=copy!$F$3),\"%\",\"\"))","v":""},{"$f":"IF(AND(ROW(AH74)+COLUMN(AH74)/100<=$B$51,Go!AF29=copy!$D$3,Go!AG29=copy!$D$3,Go!AH29=copy!$F$3),1,IF(AND(Go!AF29=copy!$D$3,Go!AG29=copy!$D$3,Go!AH29=copy!$F$3),\"%\",\"\"))","v":""},{"$f":"Go!AI120","v":0}]
[null,null,null,{"$f":"Go!D121","v":0},{"$f":"IF(AND(ROW(E75)+COLUMN(E75)/100<=$B$51,Go!AG29=copy!$D$3,Go!AH29=copy!$D$3,Go!E30=copy!$F$3),1,\"\")","v":""},{"$f":"IF(AND(ROW(F75)+COLUMN(F75)/100<=$B$51,Go!AH29=copy!$D$3,Go!E30=copy!$D$3,Go!F30=copy!$F$3),1,\"\")","v":""},{"$f":"IF(AND(ROW(G75)+COLUMN(G75)/100<=$B$51,Go!E30=copy!$D$3,Go!F30=copy!$D$3,Go!G30=copy!$F$3),1,IF(AND(Go!E30=copy!$D$3,Go!F30=copy!$D$3,Go!G30=copy!$F$3),\"%\",\"\"))","v":""},{"$f":"IF(AND(ROW(H75)+COLUMN(H75)/100<=$B$51,Go!F30=copy!$D$3,Go!G30=copy!$D$3,Go!H30=copy!$F$3),1,IF(AND(Go!F30=copy!$D$3,Go!G30=copy!$D$3,Go!H30=copy!$F$3),\"%\",\"\"))","v":""},{"$f":"IF(AND(ROW(I75)+COLUMN(I75)/100<=$B$51,Go!G30=copy!$D$3,Go!H30=copy!$D$3,Go!I30=copy!$F$3),1,IF(AND(Go!G30=copy!$D$3,Go!H30=copy!$D$3,Go!I30=copy!$F$3),\"%\",\"\"))","v":""},{"$f":"IF(AND(ROW(J75)+COLUMN(J75)/100<=$B$51,Go!H30=copy!$D$3,Go!I30=copy!$D$3,Go!J30=copy!$F$3),1,IF(AND(Go!H30=copy!$D$3,Go!I30=copy!$D$3,Go!J30=copy!$F$3),\"%\",\"\"))","v":""},{"$f":"IF(AND(ROW(K75)+COLUMN(K75)/100<=$B$51,Go!I30=copy!$D$3,Go!J30=copy!$D$3,Go!K30=copy!$F$3),1,IF(AND(Go!I30=copy!$D$3,Go!J30=copy!$D$3,Go!K30=copy!$F$3),\"%\",\"\"))","v":""},{"$f":"IF(AND(ROW(L75)+COLUMN(L75)/100<=$B$51,Go!J30=copy!$D$3,Go!K30=copy!$D$3,Go!L30=copy!$F$3),1,IF(AND(Go!J30=copy!$D$3,Go!K30=copy!$D$3,Go!L30=copy!$F$3),\"%\",\"\"))","v":""},{"$f":"IF(AND(ROW(M75)+COLUMN(M75)/100<=$B$51,Go!K30=copy!$D$3,Go!L30=copy!$D$3,Go!M30=copy!$F$3),1,IF(AND(Go!K30=copy!$D$3,Go!L30=copy!$D$3,Go!M30=copy!$F$3),\"%\",\"\"))","v":""},{"$f":"IF(AND(ROW(N75)+COLUMN(N75)/100<=$B$51,Go!L30=copy!$D$3,Go!M30=copy!$D$3,Go!N30=copy!$F$3),1,IF(AND(Go!L30=copy!$D$3,Go!M30=copy!$D$3,Go!N30=copy!$F$3),\"%\",\"\"))","v":""},{"$f":"IF(AND(ROW(O75)+COLUMN(O75)/100<=$B$51,Go!M30=copy!$D$3,Go!N30=copy!$D$3,Go!O30=copy!$F$3),1,IF(AND(Go!M30=copy!$D$3,Go!N30=copy!$D$3,Go!O30=copy!$F$3),\"%\",\"\"))","v":""},{"$f":"IF(AND(ROW(P75)+COLUMN(P75)/100<=$B$51,Go!N30=copy!$D$3,Go!O30=copy!$D$3,Go!P30=copy!$F$3),1,IF(AND(Go!N30=copy!$D$3,Go!O30=copy!$D$3,Go!P30=copy!$F$3),\"%\",\"\"))","v":""},{"$f":"IF(AND(ROW(Q75)+COLUMN(Q75)/100<=$B$51,Go!O30=copy!$D$3,Go!P30=copy!$D$3,Go!Q30=copy!$F$3),1,IF(AND(Go!O30=copy!$D$3,Go!P30=copy!$D$3,Go!Q30=copy!$F$3),\"%\",\"\"))","v":""},{"$f":"IF(AND(ROW(R75)+COLUMN(R75)/100<=$B$51,Go!P30=copy!$D$3,Go!Q30=copy!$D$3,Go!R30=copy!$F$3),1,IF(AND(Go!P30=copy!$D$3,Go!Q30=copy!$D$3,Go!R30=copy!$F$3),\"%\",\"\"))","v":""},{"$f":"IF(AND(ROW(S75)+COLUMN(S75)/100<=$B$51,Go!Q30=copy!$D$3,Go!R30=copy!$D$3,Go!S30=copy!$F$3),1,IF(AND(Go!Q30=copy!$D$3,Go!R30=copy!$D$3,Go!S30=copy!$F$3),\"%\",\"\"))","v":""},{"$f":"IF(AND(ROW(T75)+COLUMN(T75)/100<=$B$51,Go!R30=copy!$D$3,Go!S30=copy!$D$3,Go!T30=copy!$F$3),1,IF(AND(Go!R30=copy!$D$3,Go!S30=copy!$D$3,Go!T30=copy!$F$3),\"%\",\"\"))","v":""},{"$f":"IF(AND(ROW(U75)+COLUMN(U75)/100<=$B$51,Go!S30=copy!$D$3,Go!T30=copy!$D$3,Go!U30=copy!$F$3),1,IF(AND(Go!S30=copy!$D$3,Go!T30=copy!$D$3,Go!U30=copy!$F$3),\"%\",\"\"))","v":""},{"$f":"IF(AND(ROW(V75)+COLUMN(V75)/100<=$B$51,Go!T30=copy!$D$3,Go!U30=copy!$D$3,Go!V30=copy!$F$3),1,IF(AND(Go!T30=copy!$D$3,Go!U30=copy!$D$3,Go!V30=copy!$F$3),\"%\",\"\"))","v":""},{"$f":"IF(AND(ROW(W75)+COLUMN(W75)/100<=$B$51,Go!U30=copy!$D$3,Go!V30=copy!$D$3,Go!W30=copy!$F$3),1,IF(AND(Go!U30=copy!$D$3,Go!V30=copy!$D$3,Go!W30=copy!$F$3),\"%\",\"\"))","v":""},{"$f":"IF(AND(ROW(X75)+COLUMN(X75)/100<=$B$51,Go!V30=copy!$D$3,Go!W30=copy!$D$3,Go!X30=copy!$F$3),1,IF(AND(Go!V30=copy!$D$3,Go!W30=copy!$D$3,Go!X30=copy!$F$3),\"%\",\"\"))","v":""},{"$f":"IF(AND(ROW(Y75)+COLUMN(Y75)/100<=$B$51,Go!W30=copy!$D$3,Go!X30=copy!$D$3,Go!Y30=copy!$F$3),1,IF(AND(Go!W30=copy!$D$3,Go!X30=copy!$D$3,Go!Y30=copy!$F$3),\"%\",\"\"))","v":""},{"$f":"IF(AND(ROW(Z75)+COLUMN(Z75)/100<=$B$51,Go!X30=copy!$D$3,Go!Y30=copy!$D$3,Go!Z30=copy!$F$3),1,IF(AND(Go!X30=copy!$D$3,Go!Y30=copy!$D$3,Go!Z30=copy!$F$3),\"%\",\"\"))","v":""},{"$f":"IF(AND(ROW(AA75)+COLUMN(AA75)/100<=$B$51,Go!Y30=copy!$D$3,Go!Z30=copy!$D$3,Go!AA30=copy!$F$3),1,IF(AND(Go!Y30=copy!$D$3,Go!Z30=copy!$D$3,Go!AA30=copy!$F$3),\"%\",\"\"))","v":""},{"$f":"IF(AND(ROW(AB75)+COLUMN(AB75)/100<=$B$51,Go!Z30=copy!$D$3,Go!AA30=copy!$D$3,Go!AB30=copy!$F$3),1,IF(AND(Go!Z30=copy!$D$3,Go!AA30=copy!$D$3,Go!AB30=copy!$F$3),\"%\",\"\"))","v":""},{"$f":"IF(AND(ROW(AC75)+COLUMN(AC75)/100<=$B$51,Go!AA30=copy!$D$3,Go!AB30=copy!$D$3,Go!AC30=copy!$F$3),1,IF(AND(Go!AA30=copy!$D$3,Go!AB30=copy!$D$3,Go!AC30=copy!$F$3),\"%\",\"\"))","v":""},{"$f":"IF(AND(ROW(AD75)+COLUMN(AD75)/100<=$B$51,Go!AB30=copy!$D$3,Go!AC30=copy!$D$3,Go!AD30=copy!$F$3),1,IF(AND(Go!AB30=copy!$D$3,Go!AC30=copy!$D$3,Go!AD30=copy!$F$3),\"%\",\"\"))","v":""},{"$f":"IF(AND(ROW(AE75)+COLUMN(AE75)/100<=$B$51,Go!AC30=copy!$D$3,Go!AD30=copy!$D$3,Go!AE30=copy!$F$3),1,IF(AND(Go!AC30=copy!$D$3,Go!AD30=copy!$D$3,Go!AE30=copy!$F$3),\"%\",\"\"))","v":""},{"$f":"IF(AND(ROW(AF75)+COLUMN(AF75)/100<=$B$51,Go!AD30=copy!$D$3,Go!AE30=copy!$D$3,Go!AF30=copy!$F$3),1,IF(AND(Go!AD30=copy!$D$3,Go!AE30=copy!$D$3,Go!AF30=copy!$F$3),\"%\",\"\"))","v":""},{"$f":"IF(AND(ROW(AG75)+COLUMN(AG75)/100<=$B$51,Go!AE30=copy!$D$3,Go!AF30=copy!$D$3,Go!AG30=copy!$F$3),1,IF(AND(Go!AE30=copy!$D$3,Go!AF30=copy!$D$3,Go!AG30=copy!$F$3),\"%\",\"\"))","v":""},{"$f":"IF(AND(ROW(AH75)+COLUMN(AH75)/100<=$B$51,Go!AF30=copy!$D$3,Go!AG30=copy!$D$3,Go!AH30=copy!$F$3),1,IF(AND(Go!AF30=copy!$D$3,Go!AG30=copy!$D$3,Go!AH30=copy!$F$3),\"%\",\"\"))","v":""},{"$f":"Go!AI121","v":0}]
[null,null,null,{"$f":"Go!D122","v":0},{"$f":"IF(AND(ROW(E76)+COLUMN(E76)/100<=$B$51,Go!AG30=copy!$D$3,Go!AH30=copy!$D$3,Go!E31=copy!$F$3),1,\"\")","v":""},{"$f":"IF(AND(ROW(F76)+COLUMN(F76)/100<=$B$51,Go!AH30=copy!$D$3,Go!E31=copy!$D$3,Go!F31=copy!$F$3),1,\"\")","v":""},{"$f":"IF(AND(ROW(G76)+COLUMN(G76)/100<=$B$51,Go!E31=copy!$D$3,Go!F31=copy!$D$3,Go!G31=copy!$F$3),1,IF(AND(Go!E31=copy!$D$3,Go!F31=copy!$D$3,Go!G31=copy!$F$3),\"%\",\"\"))","v":""},{"$f":"IF(AND(ROW(H76)+COLUMN(H76)/100<=$B$51,Go!F31=copy!$D$3,Go!G31=copy!$D$3,Go!H31=copy!$F$3),1,IF(AND(Go!F31=copy!$D$3,Go!G31=copy!$D$3,Go!H31=copy!$F$3),\"%\",\"\"))","v":""},{"$f":"IF(AND(ROW(I76)+COLUMN(I76)/100<=$B$51,Go!G31=copy!$D$3,Go!H31=copy!$D$3,Go!I31=copy!$F$3),1,IF(AND(Go!G31=copy!$D$3,Go!H31=copy!$D$3,Go!I31=copy!$F$3),\"%\",\"\"))","v":""},{"$f":"IF(AND(ROW(J76)+COLUMN(J76)/100<=$B$51,Go!H31=copy!$D$3,Go!I31=copy!$D$3,Go!J31=copy!$F$3),1,IF(AND(Go!H31=copy!$D$3,Go!I31=copy!$D$3,Go!J31=copy!$F$3),\"%\",\"\"))","v":""},{"$f":"IF(AND(ROW(K76)+COLUMN(K76)/100<=$B$51,Go!I31=copy!$D$3,Go!J31=copy!$D$3,Go!K31=copy!$F$3),1,IF(AND(Go!I31=copy!$D$3,Go!J31=copy!$D$3,Go!K31=copy!$F$3),\"%\",\"\"))","v":""},{"$f":"IF(AND(ROW(L76)+COLUMN(L76)/100<=$B$51,Go!J31=copy!$D$3,Go!K31=copy!$D$3,Go!L31=copy!$F$3),1,IF(AND(Go!J31=copy!$D$3,Go!K31=copy!$D$3,Go!L31=copy!$F$3),\"%\",\"\"))","v":""},{"$f":"IF(AND(ROW(M76)+COLUMN(M76)/100<=$B$51,Go!K31=copy!$D$3,Go!L31=copy!$D$3,Go!M31=copy!$F$3),1,IF(AND(Go!K31=copy!$D$3,Go!L31=copy!$D$3,Go!M31=copy!$F$3),\"%\",\"\"))","v":""},{"$f":"IF(AND(ROW(N76)+COLUMN(N76)/100<=$B$51,Go!L31=copy!$D$3,Go!M31=copy!$D$3,Go!N31=copy!$F$3),1,IF(AND(Go!L31=copy!$D$3,Go!M31=copy!$D$3,Go!N31=copy!$F$3),\"%\",\"\"))","v":""},{"$f":"IF(AND(ROW(O76)+COLUMN(O76)/100<=$B$51,Go!M31=copy!$D$3,Go!N31=copy!$D$3,Go!O31=copy!$F$3),1,IF(AND(Go!M31=copy!$D$3,Go!N31=copy!$D$3,Go!O31=copy!$F$3),\"%\",\"\"))","v":""},{"$f":"IF(AND(ROW(P76)+COLUMN(P76)/100<=$B$51,Go!N31=copy!$D$3,Go!O31=copy!$D$3,Go!P31=copy!$F$3),1,IF(AND(Go!N31=copy!$D$3,Go!O31=copy!$D$3,Go!P31=copy!$F$3),\"%\",\"\"))","v":""},{"$f":"IF(AND(ROW(Q76)+COLUMN(Q76)/100<=$B$51,Go!O31=copy!$D$3,Go!P31=copy!$D$3,Go!Q31=copy!$F$3),1,IF(AND(Go!O31=copy!$D$3,Go!P31=copy!$D$3,Go!Q31=copy!$F$3),\"%\",\"\"))","v":""},{"$f":"IF(AND(ROW(R76)+COLUMN(R76)/100<=$B$51,Go!P31=copy!$D$3,Go!Q31=copy!$D$3,Go!R31=copy!$F$3),1,IF(AND(Go!P31=copy!$D$3,Go!Q31=copy!$D$3,Go!R31=copy!$F$3),\"%\",\"\"))","v":""},{"$f":"IF(AND(ROW(S76)+COLUMN(S76)/100<=$B$51,Go!Q31=copy!$D$3,Go!R31=copy!$D$3,Go!S31=copy!$F$3),1,IF(AND(Go!Q31=copy!$D$3,Go!R31=copy!$D$3,Go!S31=copy!$F$3),\"%\",\"\"))","v":""},{"$f":"IF(AND(ROW(T76)+COLUMN(T76)/100<=$B$51,Go!R31=copy!$D$3,Go!S31=copy!$D$3,Go!T31=copy!$F$3),1,IF(AND(Go!R31=copy!$D$3,Go!S31=copy!$D$3,Go!T31=copy!$F$3),\"%\",\"\"))","v":""},{"$f":"IF(AND(ROW(U76)+COLUMN(U76)/100<=$B$51,Go!S31=copy!$D$3,Go!T31=copy!$D$3,Go!U31=copy!$F$3),1,IF(AND(Go!S31=copy!$D$3,Go!T31=copy!$D$3,Go!U31=copy!$F$3),\"%\",\"\"))","v":""},{"$f":"IF(AND(ROW(V76)+COLUMN(V76)/100<=$B$51,Go!T31=copy!$D$3,Go!U31=copy!$D$3,Go!V31=copy!$F$3),1,IF(AND(Go!T31=copy!$D$3,Go!U31=copy!$D$3,Go!V31=copy!$F$3),\"%\",\"\"))","v":""},{"$f":"IF(AND(ROW(W76)+COLUMN(W76)/100<=$B$51,Go!U31=copy!$D$3,Go!V31=copy!$D$3,Go!W31=copy!$F$3),1,IF(AND(Go!U31=copy!$D$3,Go!V31=copy!$D$3,Go!W31=copy!$F$3),\"%\",\"\"))","v":""},{"$f":"IF(AND(ROW(X76)+COLUMN(X76)/100<=$B$51,Go!V31=copy!$D$3,Go!W31=copy!$D$3,Go!X31=copy!$F$3),1,IF(AND(Go!V31=copy!$D$3,Go!W31=copy!$D$3,Go!X31=copy!$F$3),\"%\",\"\"))","v":""},{"$f":"IF(AND(ROW(Y76)+COLUMN(Y76)/100<=$B$51,Go!W31=copy!$D$3,Go!X31=copy!$D$3,Go!Y31=copy!$F$3),1,IF(AND(Go!W31=copy!$D$3,Go!X31=copy!$D$3,Go!Y31=copy!$F$3),\"%\",\"\"))","v":""},{"$f":"IF(AND(ROW(Z76)+COLUMN(Z76)/100<=$B$51,Go!X31=copy!$D$3,Go!Y31=copy!$D$3,Go!Z31=copy!$F$3),1,IF(AND(Go!X31=copy!$D$3,Go!Y31=copy!$D$3,Go!Z31=copy!$F$3),\"%\",\"\"))","v":""},{"$f":"IF(AND(ROW(AA76)+COLUMN(AA76)/100<=$B$51,Go!Y31=copy!$D$3,Go!Z31=copy!$D$3,Go!AA31=copy!$F$3),1,IF(AND(Go!Y31=copy!$D$3,Go!Z31=copy!$D$3,Go!AA31=copy!$F$3),\"%\",\"\"))","v":""},{"$f":"IF(AND(ROW(AB76)+COLUMN(AB76)/100<=$B$51,Go!Z31=copy!$D$3,Go!AA31=copy!$D$3,Go!AB31=copy!$F$3),1,IF(AND(Go!Z31=copy!$D$3,Go!AA31=copy!$D$3,Go!AB31=copy!$F$3),\"%\",\"\"))","v":""},{"$f":"IF(AND(ROW(AC76)+COLUMN(AC76)/100<=$B$51,Go!AA31=copy!$D$3,Go!AB31=copy!$D$3,Go!AC31=copy!$F$3),1,IF(AND(Go!AA31=copy!$D$3,Go!AB31=copy!$D$3,Go!AC31=copy!$F$3),\"%\",\"\"))","v":""},{"$f":"IF(AND(ROW(AD76)+COLUMN(AD76)/100<=$B$51,Go!AB31=copy!$D$3,Go!AC31=copy!$D$3,Go!AD31=copy!$F$3),1,IF(AND(Go!AB31=copy!$D$3,Go!AC31=copy!$D$3,Go!AD31=copy!$F$3),\"%\",\"\"))","v":""},{"$f":"IF(AND(ROW(AE76)+COLUMN(AE76)/100<=$B$51,Go!AC31=copy!$D$3,Go!AD31=copy!$D$3,Go!AE31=copy!$F$3),1,IF(AND(Go!AC31=copy!$D$3,Go!AD31=copy!$D$3,Go!AE31=copy!$F$3),\"%\",\"\"))","v":""},{"$f":"IF(AND(ROW(AF76)+COLUMN(AF76)/100<=$B$51,Go!AD31=copy!$D$3,Go!AE31=copy!$D$3,Go!AF31=copy!$F$3),1,IF(AND(Go!AD31=copy!$D$3,Go!AE31=copy!$D$3,Go!AF31=copy!$F$3),\"%\",\"\"))","v":""},{"$f":"IF(AND(ROW(AG76)+COLUMN(AG76)/100<=$B$51,Go!AE31=copy!$D$3,Go!AF31=copy!$D$3,Go!AG31=copy!$F$3),1,IF(AND(Go!AE31=copy!$D$3,Go!AF31=copy!$D$3,Go!AG31=copy!$F$3),\"%\",\"\"))","v":""},{"$f":"IF(AND(ROW(AH76)+COLUMN(AH76)/100<=$B$51,Go!AF31=copy!$D$3,Go!AG31=copy!$D$3,Go!AH31=copy!$F$3),1,IF(AND(Go!AF31=copy!$D$3,Go!AG31=copy!$D$3,Go!AH31=copy!$F$3),\"%\",\"\"))","v":""},{"$f":"Go!AI122","v":0}]
[null,null,null,{"$f":"Go!D123","v":0},{"$f":"IF(AND(ROW(E77)+COLUMN(E77)/100<=$B$51,Go!AG31=copy!$D$3,Go!AH31=copy!$D$3,Go!E32=copy!$F$3),1,\"\")","v":""},{"$f":"IF(AND(ROW(F77)+COLUMN(F77)/100<=$B$51,Go!AH31=copy!$D$3,Go!E32=copy!$D$3,Go!F32=copy!$F$3),1,\"\")","v":""},{"$f":"IF(AND(ROW(G77)+COLUMN(G77)/100<=$B$51,Go!E32=copy!$D$3,Go!F32=copy!$D$3,Go!G32=copy!$F$3),1,IF(AND(Go!E32=copy!$D$3,Go!F32=copy!$D$3,Go!G32=copy!$F$3),\"%\",\"\"))","v":""},{"$f":"IF(AND(ROW(H77)+COLUMN(H77)/100<=$B$51,Go!F32=copy!$D$3,Go!G32=copy!$D$3,Go!H32=copy!$F$3),1,IF(AND(Go!F32=copy!$D$3,Go!G32=copy!$D$3,Go!H32=copy!$F$3),\"%\",\"\"))","v":""},{"$f":"IF(AND(ROW(I77)+COLUMN(I77)/100<=$B$51,Go!G32=copy!$D$3,Go!H32=copy!$D$3,Go!I32=copy!$F$3),1,IF(AND(Go!G32=copy!$D$3,Go!H32=copy!$D$3,Go!I32=copy!$F$3),\"%\",\"\"))","v":""},{"$f":"IF(AND(ROW(J77)+COLUMN(J77)/100<=$B$51,Go!H32=copy!$D$3,Go!I32=copy!$D$3,Go!J32=copy!$F$3),1,IF(AND(Go!H32=copy!$D$3,Go!I32=copy!$D$3,Go!J32=copy!$F$3),\"%\",\"\"))","v":""},{"$f":"IF(AND(ROW(K77)+COLUMN(K77)/100<=$B$51,Go!I32=copy!$D$3,Go!J32=copy!$D$3,Go!K32=copy!$F$3),1,IF(AND(Go!I32=copy!$D$3,Go!J32=copy!$D$3,Go!K32=copy!$F$3),\"%\",\"\"))","v":""},{"$f":"IF(AND(ROW(L77)+COLUMN(L77)/100<=$B$51,Go!J32=copy!$D$3,Go!K32=copy!$D$3,Go!L32=copy!$F$3),1,IF(AND(Go!J32=copy!$D$3,Go!K32=copy!$D$3,Go!L32=copy!$F$3),\"%\",\"\"))","v":""},{"$f":"IF(AND(ROW(M77)+COLUMN(M77)/100<=$B$51,Go!K32=copy!$D$3,Go!L32=copy!$D$3,Go!M32=copy!$F$3),1,IF(AND(Go!K32=copy!$D$3,Go!L32=copy!$D$3,Go!M32=copy!$F$3),\"%\",\"\"))","v":""},{"$f":"IF(AND(ROW(N77)+COLUMN(N77)/100<=$B$51,Go!L32=copy!$D$3,Go!M32=copy!$D$3,Go!N32=copy!$F$3),1,IF(AND(Go!L32=copy!$D$3,Go!M32=copy!$D$3,Go!N32=copy!$F$3),\"%\",\"\"))","v":""},{"$f":"IF(AND(ROW(O77)+COLUMN(O77)/100<=$B$51,Go!M32=copy!$D$3,Go!N32=copy!$D$3,Go!O32=copy!$F$3),1,IF(AND(Go!M32=copy!$D$3,Go!N32=copy!$D$3,Go!O32=copy!$F$3),\"%\",\"\"))","v":""},{"$f":"IF(AND(ROW(P77)+COLUMN(P77)/100<=$B$51,Go!N32=copy!$D$3,Go!O32=copy!$D$3,Go!P32=copy!$F$3),1,IF(AND(Go!N32=copy!$D$3,Go!O32=copy!$D$3,Go!P32=copy!$F$3),\"%\",\"\"))","v":""},{"$f":"IF(AND(ROW(Q77)+COLUMN(Q77)/100<=$B$51,Go!O32=copy!$D$3,Go!P32=copy!$D$3,Go!Q32=copy!$F$3),1,IF(AND(Go!O32=copy!$D$3,Go!P32=copy!$D$3,Go!Q32=copy!$F$3),\"%\",\"\"))","v":""},{"$f":"IF(AND(ROW(R77)+COLUMN(R77)/100<=$B$51,Go!P32=copy!$D$3,Go!Q32=copy!$D$3,Go!R32=copy!$F$3),1,IF(AND(Go!P32=copy!$D$3,Go!Q32=copy!$D$3,Go!R32=copy!$F$3),\"%\",\"\"))","v":""},{"$f":"IF(AND(ROW(S77)+COLUMN(S77)/100<=$B$51,Go!Q32=copy!$D$3,Go!R32=copy!$D$3,Go!S32=copy!$F$3),1,IF(AND(Go!Q32=copy!$D$3,Go!R32=copy!$D$3,Go!S32=copy!$F$3),\"%\",\"\"))","v":""},{"$f":"IF(AND(ROW(T77)+COLUMN(T77)/100<=$B$51,Go!R32=copy!$D$3,Go!S32=copy!$D$3,Go!T32=copy!$F$3),1,IF(AND(Go!R32=copy!$D$3,Go!S32=copy!$D$3,Go!T32=copy!$F$3),\"%\",\"\"))","v":""},{"$f":"IF(AND(ROW(U77)+COLUMN(U77)/100<=$B$51,Go!S32=copy!$D$3,Go!T32=copy!$D$3,Go!U32=copy!$F$3),1,IF(AND(Go!S32=copy!$D$3,Go!T32=copy!$D$3,Go!U32=copy!$F$3),\"%\",\"\"))","v":""},{"$f":"IF(AND(ROW(V77)+COLUMN(V77)/100<=$B$51,Go!T32=copy!$D$3,Go!U32=copy!$D$3,Go!V32=copy!$F$3),1,IF(AND(Go!T32=copy!$D$3,Go!U32=copy!$D$3,Go!V32=copy!$F$3),\"%\",\"\"))","v":""},{"$f":"IF(AND(ROW(W77)+COLUMN(W77)/100<=$B$51,Go!U32=copy!$D$3,Go!V32=copy!$D$3,Go!W32=copy!$F$3),1,IF(AND(Go!U32=copy!$D$3,Go!V32=copy!$D$3,Go!W32=copy!$F$3),\"%\",\"\"))","v":""},{"$f":"IF(AND(ROW(X77)+COLUMN(X77)/100<=$B$51,Go!V32=copy!$D$3,Go!W32=copy!$D$3,Go!X32=copy!$F$3),1,IF(AND(Go!V32=copy!$D$3,Go!W32=copy!$D$3,Go!X32=copy!$F$3),\"%\",\"\"))","v":""},{"$f":"IF(AND(ROW(Y77)+COLUMN(Y77)/100<=$B$51,Go!W32=copy!$D$3,Go!X32=copy!$D$3,Go!Y32=copy!$F$3),1,IF(AND(Go!W32=copy!$D$3,Go!X32=copy!$D$3,Go!Y32=copy!$F$3),\"%\",\"\"))","v":""},{"$f":"IF(AND(ROW(Z77)+COLUMN(Z77)/100<=$B$51,Go!X32=copy!$D$3,Go!Y32=copy!$D$3,Go!Z32=copy!$F$3),1,IF(AND(Go!X32=copy!$D$3,Go!Y32=copy!$D$3,Go!Z32=copy!$F$3),\"%\",\"\"))","v":""},{"$f":"IF(AND(ROW(AA77)+COLUMN(AA77)/100<=$B$51,Go!Y32=copy!$D$3,Go!Z32=copy!$D$3,Go!AA32=copy!$F$3),1,IF(AND(Go!Y32=copy!$D$3,Go!Z32=copy!$D$3,Go!AA32=copy!$F$3),\"%\",\"\"))","v":""},{"$f":"IF(AND(ROW(AB77)+COLUMN(AB77)/100<=$B$51,Go!Z32=copy!$D$3,Go!AA32=copy!$D$3,Go!AB32=copy!$F$3),1,IF(AND(Go!Z32=copy!$D$3,Go!AA32=copy!$D$3,Go!AB32=copy!$F$3),\"%\",\"\"))","v":""},{"$f":"IF(AND(ROW(AC77)+COLUMN(AC77)/100<=$B$51,Go!AA32=copy!$D$3,Go!AB32=copy!$D$3,Go!AC32=copy!$F$3),1,IF(AND(Go!AA32=copy!$D$3,Go!AB32=copy!$D$3,Go!AC32=copy!$F$3),\"%\",\"\"))","v":""},{"$f":"IF(AND(ROW(AD77)+COLUMN(AD77)/100<=$B$51,Go!AB32=copy!$D$3,Go!AC32=copy!$D$3,Go!AD32=copy!$F$3),1,IF(AND(Go!AB32=copy!$D$3,Go!AC32=copy!$D$3,Go!AD32=copy!$F$3),\"%\",\"\"))","v":""},{"$f":"IF(AND(ROW(AE77)+COLUMN(AE77)/100<=$B$51,Go!AC32=copy!$D$3,Go!AD32=copy!$D$3,Go!AE32=copy!$F$3),1,IF(AND(Go!AC32=copy!$D$3,Go!AD32=copy!$D$3,Go!AE32=copy!$F$3),\"%\",\"\"))","v":""},{"$f":"IF(AND(ROW(AF77)+COLUMN(AF77)/100<=$B$51,Go!AD32=copy!$D$3,Go!AE32=copy!$D$3,Go!AF32=copy!$F$3),1,IF(AND(Go!AD32=copy!$D$3,Go!AE32=copy!$D$3,Go!AF32=copy!$F$3),\"%\",\"\"))","v":""},{"$f":"IF(AND(ROW(AG77)+COLUMN(AG77)/100<=$B$51,Go!AE32=copy!$D$3,Go!AF32=copy!$D$3,Go!AG32=copy!$F$3),1,IF(AND(Go!AE32=copy!$D$3,Go!AF32=copy!$D$3,Go!AG32=copy!$F$3),\"%\",\"\"))","v":""},{"$f":"IF(AND(ROW(AH77)+COLUMN(AH77)/100<=$B$51,Go!AF32=copy!$D$3,Go!AG32=copy!$D$3,Go!AH32=copy!$F$3),1,IF(AND(Go!AF32=copy!$D$3,Go!AG32=copy!$D$3,Go!AH32=copy!$F$3),\"%\",\"\"))","v":""},{"$f":"Go!AI123","v":0}]
[null,null,null,{"$f":"Go!D124","v":0},{"$f":"IF(AND(ROW(E78)+COLUMN(E78)/100<=$B$51,Go!AG32=copy!$D$3,Go!AH32=copy!$D$3,Go!E33=copy!$F$3),1,\"\")","v":""},{"$f":"IF(AND(ROW(F78)+COLUMN(F78)/100<=$B$51,Go!AH32=copy!$D$3,Go!E33=copy!$D$3,Go!F33=copy!$F$3),1,\"\")","v":""},{"$f":"IF(AND(ROW(G78)+COLUMN(G78)/100<=$B$51,Go!E33=copy!$D$3,Go!F33=copy!$D$3,Go!G33=copy!$F$3),1,IF(AND(Go!E33=copy!$D$3,Go!F33=copy!$D$3,Go!G33=copy!$F$3),\"%\",\"\"))","v":""},{"$f":"IF(AND(ROW(H78)+COLUMN(H78)/100<=$B$51,Go!F33=copy!$D$3,Go!G33=copy!$D$3,Go!H33=copy!$F$3),1,IF(AND(Go!F33=copy!$D$3,Go!G33=copy!$D$3,Go!H33=copy!$F$3),\"%\",\"\"))","v":""},{"$f":"IF(AND(ROW(I78)+COLUMN(I78)/100<=$B$51,Go!G33=copy!$D$3,Go!H33=copy!$D$3,Go!I33=copy!$F$3),1,IF(AND(Go!G33=copy!$D$3,Go!H33=copy!$D$3,Go!I33=copy!$F$3),\"%\",\"\"))","v":""},{"$f":"IF(AND(ROW(J78)+COLUMN(J78)/100<=$B$51,Go!H33=copy!$D$3,Go!I33=copy!$D$3,Go!J33=copy!$F$3),1,IF(AND(Go!H33=copy!$D$3,Go!I33=copy!$D$3,Go!J33=copy!$F$3),\"%\",\"\"))","v":""},{"$f":"IF(AND(ROW(K78)+COLUMN(K78)/100<=$B$51,Go!I33=copy!$D$3,Go!J33=copy!$D$3,Go!K33=copy!$F$3),1,IF(AND(Go!I33=copy!$D$3,Go!J33=copy!$D$3,Go!K33=copy!$F$3),\"%\",\"\"))","v":""},{"$f":"IF(AND(ROW(L78)+COLUMN(L78)/100<=$B$51,Go!J33=copy!$D$3,Go!K33=copy!$D$3,Go!L33=copy!$F$3),1,IF(AND(Go!J33=copy!$D$3,Go!K33=copy!$D$3,Go!L33=copy!$F$3),\"%\",\"\"))","v":""},{"$f":"IF(AND(ROW(M78)+COLUMN(M78)/100<=$B$51,Go!K33=copy!$D$3,Go!L33=copy!$D$3,Go!M33=copy!$F$3),1,IF(AND(Go!K33=copy!$D$3,Go!L33=copy!$D$3,Go!M33=copy!$F$3),\"%\",\"\"))","v":""},{"$f":"IF(AND(ROW(N78)+COLUMN(N78)/100<=$B$51,Go!L33=copy!$D$3,Go!M33=copy!$D$3,Go!N33=copy!$F$3),1,IF(AND(Go!L33=copy!$D$3,Go!M33=copy!$D$3,Go!N33=copy!$F$3),\"%\",\"\"))","v":""},{"$f":"IF(AND(ROW(O78)+COLUMN(O78)/100<=$B$51,Go!M33=copy!$D$3,Go!N33=copy!$D$3,Go!O33=copy!$F$3),1,IF(AND(Go!M33=copy!$D$3,Go!N33=copy!$D$3,Go!O33=copy!$F$3),\"%\",\"\"))","v":""},{"$f":"IF(AND(ROW(P78)+COLUMN(P78)/100<=$B$51,Go!N33=copy!$D$3,Go!O33=copy!$D$3,Go!P33=copy!$F$3),1,IF(AND(Go!N33=copy!$D$3,Go!O33=copy!$D$3,Go!P33=copy!$F$3),\"%\",\"\"))","v":""},{"$f":"IF(AND(ROW(Q78)+COLUMN(Q78)/100<=$B$51,Go!O33=copy!$D$3,Go!P33=copy!$D$3,Go!Q33=copy!$F$3),1,IF(AND(Go!O33=copy!$D$3,Go!P33=copy!$D$3,Go!Q33=copy!$F$3),\"%\",\"\"))","v":""},{"$f":"IF(AND(ROW(R78)+COLUMN(R78)/100<=$B$51,Go!P33=copy!$D$3,Go!Q33=copy!$D$3,Go!R33=copy!$F$3),1,IF(AND(Go!P33=copy!$D$3,Go!Q33=copy!$D$3,Go!R33=copy!$F$3),\"%\",\"\"))","v":""},{"$f":"IF(AND(ROW(S78)+COLUMN(S78)/100<=$B$51,Go!Q33=copy!$D$3,Go!R33=copy!$D$3,Go!S33=copy!$F$3),1,IF(AND(Go!Q33=copy!$D$3,Go!R33=copy!$D$3,Go!S33=copy!$F$3),\"%\",\"\"))","v":""},{"$f":"IF(AND(ROW(T78)+COLUMN(T78)/100<=$B$51,Go!R33=copy!$D$3,Go!S33=copy!$D$3,Go!T33=copy!$F$3),1,IF(AND(Go!R33=copy!$D$3,Go!S33=copy!$D$3,Go!T33=copy!$F$3),\"%\",\"\"))","v":""},{"$f":"IF(AND(ROW(U78)+COLUMN(U78)/100<=$B$51,Go!S33=copy!$D$3,Go!T33=copy!$D$3,Go!U33=copy!$F$3),1,IF(AND(Go!S33=copy!$D$3,Go!T33=copy!$D$3,Go!U33=copy!$F$3),\"%\",\"\"))","v":""},{"$f":"IF(AND(ROW(V78)+COLUMN(V78)/100<=$B$51,Go!T33=copy!$D$3,Go!U33=copy!$D$3,Go!V33=copy!$F$3),1,IF(AND(Go!T33=copy!$D$3,Go!U33=copy!$D$3,Go!V33=copy!$F$3),\"%\",\"\"))","v":""},{"$f":"IF(AND(ROW(W78)+COLUMN(W78)/100<=$B$51,Go!U33=copy!$D$3,Go!V33=copy!$D$3,Go!W33=copy!$F$3),1,IF(AND(Go!U33=copy!$D$3,Go!V33=copy!$D$3,Go!W33=copy!$F$3),\"%\",\"\"))","v":""},{"$f":"IF(AND(ROW(X78)+COLUMN(X78)/100<=$B$51,Go!V33=copy!$D$3,Go!W33=copy!$D$3,Go!X33=copy!$F$3),1,IF(AND(Go!V33=copy!$D$3,Go!W33=copy!$D$3,Go!X33=copy!$F$3),\"%\",\"\"))","v":""},{"$f":"IF(AND(ROW(Y78)+COLUMN(Y78)/100<=$B$51,Go!W33=copy!$D$3,Go!X33=copy!$D$3,Go!Y33=copy!$F$3),1,IF(AND(Go!W33=copy!$D$3,Go!X33=copy!$D$3,Go!Y33=copy!$F$3),\"%\",\"\"))","v":""},{"$f":"IF(AND(ROW(Z78)+COLUMN(Z78)/100<=$B$51,Go!X33=copy!$D$3,Go!Y33=copy!$D$3,Go!Z33=copy!$F$3),1,IF(AND(Go!X33=copy!$D$3,Go!Y33=copy!$D$3,Go!Z33=copy!$F$3),\"%\",\"\"))","v":""},{"$f":"IF(AND(ROW(AA78)+COLUMN(AA78)/100<=$B$51,Go!Y33=copy!$D$3,Go!Z33=copy!$D$3,Go!AA33=copy!$F$3),1,IF(AND(Go!Y33=copy!$D$3,Go!Z33=copy!$D$3,Go!AA33=copy!$F$3),\"%\",\"\"))","v":""},{"$f":"IF(AND(ROW(AB78)+COLUMN(AB78)/100<=$B$51,Go!Z33=copy!$D$3,Go!AA33=copy!$D$3,Go!AB33=copy!$F$3),1,IF(AND(Go!Z33=copy!$D$3,Go!AA33=copy!$D$3,Go!AB33=copy!$F$3),\"%\",\"\"))","v":""},{"$f":"IF(AND(ROW(AC78)+COLUMN(AC78)/100<=$B$51,Go!AA33=copy!$D$3,Go!AB33=copy!$D$3,Go!AC33=copy!$F$3),1,IF(AND(Go!AA33=copy!$D$3,Go!AB33=copy!$D$3,Go!AC33=copy!$F$3),\"%\",\"\"))","v":""},{"$f":"IF(AND(ROW(AD78)+COLUMN(AD78)/100<=$B$51,Go!AB33=copy!$D$3,Go!AC33=copy!$D$3,Go!AD33=copy!$F$3),1,IF(AND(Go!AB33=copy!$D$3,Go!AC33=copy!$D$3,Go!AD33=copy!$F$3),\"%\",\"\"))","v":""},{"$f":"IF(AND(ROW(AE78)+COLUMN(AE78)/100<=$B$51,Go!AC33=copy!$D$3,Go!AD33=copy!$D$3,Go!AE33=copy!$F$3),1,IF(AND(Go!AC33=copy!$D$3,Go!AD33=copy!$D$3,Go!AE33=copy!$F$3),\"%\",\"\"))","v":""},{"$f":"IF(AND(ROW(AF78)+COLUMN(AF78)/100<=$B$51,Go!AD33=copy!$D$3,Go!AE33=copy!$D$3,Go!AF33=copy!$F$3),1,IF(AND(Go!AD33=copy!$D$3,Go!AE33=copy!$D$3,Go!AF33=copy!$F$3),\"%\",\"\"))","v":""},{"$f":"IF(AND(ROW(AG78)+COLUMN(AG78)/100<=$B$51,Go!AE33=copy!$D$3,Go!AF33=copy!$D$3,Go!AG33=copy!$F$3),1,IF(AND(Go!AE33=copy!$D$3,Go!AF33=copy!$D$3,Go!AG33=copy!$F$3),\"%\",\"\"))","v":""},{"$f":"IF(AND(ROW(AH78)+COLUMN(AH78)/100<=$B$51,Go!AF33=copy!$D$3,Go!AG33=copy!$D$3,Go!AH33=copy!$F$3),1,IF(AND(Go!AF33=copy!$D$3,Go!AG33=copy!$D$3,Go!AH33=copy!$F$3),\"%\",\"\"))","v":""},{"$f":"Go!AI124","v":0}]
[null,null,null,{"$f":"Go!D125","v":0},{"$f":"IF(AND(ROW(E79)+COLUMN(E79)/100<=$B$51,Go!AG33=copy!$D$3,Go!AH33=copy!$D$3,Go!E34=copy!$F$3),1,\"\")","v":""},{"$f":"IF(AND(ROW(F79)+COLUMN(F79)/100<=$B$51,Go!AH33=copy!$D$3,Go!E34=copy!$D$3,Go!F34=copy!$F$3),1,\"\")","v":""},{"$f":"IF(AND(ROW(G79)+COLUMN(G79)/100<=$B$51,Go!E34=copy!$D$3,Go!F34=copy!$D$3,Go!G34=copy!$F$3),1,IF(AND(Go!E34=copy!$D$3,Go!F34=copy!$D$3,Go!G34=copy!$F$3),\"%\",\"\"))","v":""},{"$f":"IF(AND(ROW(H79)+COLUMN(H79)/100<=$B$51,Go!F34=copy!$D$3,Go!G34=copy!$D$3,Go!H34=copy!$F$3),1,IF(AND(Go!F34=copy!$D$3,Go!G34=copy!$D$3,Go!H34=copy!$F$3),\"%\",\"\"))","v":""},{"$f":"IF(AND(ROW(I79)+COLUMN(I79)/100<=$B$51,Go!G34=copy!$D$3,Go!H34=copy!$D$3,Go!I34=copy!$F$3),1,IF(AND(Go!G34=copy!$D$3,Go!H34=copy!$D$3,Go!I34=copy!$F$3),\"%\",\"\"))","v":""},{"$f":"IF(AND(ROW(J79)+COLUMN(J79)/100<=$B$51,Go!H34=copy!$D$3,Go!I34=copy!$D$3,Go!J34=copy!$F$3),1,IF(AND(Go!H34=copy!$D$3,Go!I34=copy!$D$3,Go!J34=copy!$F$3),\"%\",\"\"))","v":""},{"$f":"IF(AND(ROW(K79)+COLUMN(K79)/100<=$B$51,Go!I34=copy!$D$3,Go!J34=copy!$D$3,Go!K34=copy!$F$3),1,IF(AND(Go!I34=copy!$D$3,Go!J34=copy!$D$3,Go!K34=copy!$F$3),\"%\",\"\"))","v":""},{"$f":"IF(AND(ROW(L79)+COLUMN(L79)/100<=$B$51,Go!J34=copy!$D$3,Go!K34=copy!$D$3,Go!L34=copy!$F$3),1,IF(AND(Go!J34=copy!$D$3,Go!K34=copy!$D$3,Go!L34=copy!$F$3),\"%\",\"\"))","v":""},{"$f":"IF(AND(ROW(M79)+COLUMN(M79)/100<=$B$51,Go!K34=copy!$D$3,Go!L34=copy!$D$3,Go!M34=copy!$F$3),1,IF(AND(Go!K34=copy!$D$3,Go!L34=copy!$D$3,Go!M34=copy!$F$3),\"%\",\"\"))","v":""},{"$f":"IF(AND(ROW(N79)+COLUMN(N79)/100<=$B$51,Go!L34=copy!$D$3,Go!M34=copy!$D$3,Go!N34=copy!$F$3),1,IF(AND(Go!L34=copy!$D$3,Go!M34=copy!$D$3,Go!N34=copy!$F$3),\"%\",\"\"))","v":""},{"$f":"IF(AND(ROW(O79)+COLUMN(O79)/100<=$B$51,Go!M34=copy!$D$3,Go!N34=copy!$D$3,Go!O34=copy!$F$3),1,IF(AND(Go!M34=copy!$D$3,Go!N34=copy!$D$3,Go!O34=copy!$F$3),\"%\",\"\"))","v":""},{"$f":"IF(AND(ROW(P79)+COLUMN(P79)/100<=$B$51,Go!N34=copy!$D$3,Go!O34=copy!$D$3,Go!P34=copy!$F$3),1,IF(AND(Go!N34=copy!$D$3,Go!O34=copy!$D$3,Go!P34=copy!$F$3),\"%\",\"\"))","v":""},{"$f":"IF(AND(ROW(Q79)+COLUMN(Q79)/100<=$B$51,Go!O34=copy!$D$3,Go!P34=copy!$D$3,Go!Q34=copy!$F$3),1,IF(AND(Go!O34=copy!$D$3,Go!P34=copy!$D$3,Go!Q34=copy!$F$3),\"%\",\"\"))","v":""},{"$f":"IF(AND(ROW(R79)+COLUMN(R79)/100<=$B$51,Go!P34=copy!$D$3,Go!Q34=copy!$D$3,Go!R34=copy!$F$3),1,IF(AND(Go!P34=copy!$D$3,Go!Q34=copy!$D$3,Go!R34=copy!$F$3),\"%\",\"\"))","v":""},{"$f":"IF(AND(ROW(S79)+COLUMN(S79)/100<=$B$51,Go!Q34=copy!$D$3,Go!R34=copy!$D$3,Go!S34=copy!$F$3),1,IF(AND(Go!Q34=copy!$D$3,Go!R34=copy!$D$3,Go!S34=copy!$F$3),\"%\",\"\"))","v":""},{"$f":"IF(AND(ROW(T79)+COLUMN(T79)/100<=$B$51,Go!R34=copy!$D$3,Go!S34=copy!$D$3,Go!T34=copy!$F$3),1,IF(AND(Go!R34=copy!$D$3,Go!S34=copy!$D$3,Go!T34=copy!$F$3),\"%\",\"\"))","v":""},{"$f":"IF(AND(ROW(U79)+COLUMN(U79)/100<=$B$51,Go!S34=copy!$D$3,Go!T34=copy!$D$3,Go!U34=copy!$F$3),1,IF(AND(Go!S34=copy!$D$3,Go!T34=copy!$D$3,Go!U34=copy!$F$3),\"%\",\"\"))","v":""},{"$f":"IF(AND(ROW(V79)+COLUMN(V79)/100<=$B$51,Go!T34=copy!$D$3,Go!U34=copy!$D$3,Go!V34=copy!$F$3),1,IF(AND(Go!T34=copy!$D$3,Go!U34=copy!$D$3,Go!V34=copy!$F$3),\"%\",\"\"))","v":""},{"$f":"IF(AND(ROW(W79)+COLUMN(W79)/100<=$B$51,Go!U34=copy!$D$3,Go!V34=copy!$D$3,Go!W34=copy!$F$3),1,IF(AND(Go!U34=copy!$D$3,Go!V34=copy!$D$3,Go!W34=copy!$F$3),\"%\",\"\"))","v":""},{"$f":"IF(AND(ROW(X79)+COLUMN(X79)/100<=$B$51,Go!V34=copy!$D$3,Go!W34=copy!$D$3,Go!X34=copy!$F$3),1,IF(AND(Go!V34=copy!$D$3,Go!W34=copy!$D$3,Go!X34=copy!$F$3),\"%\",\"\"))","v":""},{"$f":"IF(AND(ROW(Y79)+COLUMN(Y79)/100<=$B$51,Go!W34=copy!$D$3,Go!X34=copy!$D$3,Go!Y34=copy!$F$3),1,IF(AND(Go!W34=copy!$D$3,Go!X34=copy!$D$3,Go!Y34=copy!$F$3),\"%\",\"\"))","v":""},{"$f":"IF(AND(ROW(Z79)+COLUMN(Z79)/100<=$B$51,Go!X34=copy!$D$3,Go!Y34=copy!$D$3,Go!Z34=copy!$F$3),1,IF(AND(Go!X34=copy!$D$3,Go!Y34=copy!$D$3,Go!Z34=copy!$F$3),\"%\",\"\"))","v":""},{"$f":"IF(AND(ROW(AA79)+COLUMN(AA79)/100<=$B$51,Go!Y34=copy!$D$3,Go!Z34=copy!$D$3,Go!AA34=copy!$F$3),1,IF(AND(Go!Y34=copy!$D$3,Go!Z34=copy!$D$3,Go!AA34=copy!$F$3),\"%\",\"\"))","v":""},{"$f":"IF(AND(ROW(AB79)+COLUMN(AB79)/100<=$B$51,Go!Z34=copy!$D$3,Go!AA34=copy!$D$3,Go!AB34=copy!$F$3),1,IF(AND(Go!Z34=copy!$D$3,Go!AA34=copy!$D$3,Go!AB34=copy!$F$3),\"%\",\"\"))","v":""},{"$f":"IF(AND(ROW(AC79)+COLUMN(AC79)/100<=$B$51,Go!AA34=copy!$D$3,Go!AB34=copy!$D$3,Go!AC34=copy!$F$3),1,IF(AND(Go!AA34=copy!$D$3,Go!AB34=copy!$D$3,Go!AC34=copy!$F$3),\"%\",\"\"))","v":""},{"$f":"IF(AND(ROW(AD79)+COLUMN(AD79)/100<=$B$51,Go!AB34=copy!$D$3,Go!AC34=copy!$D$3,Go!AD34=copy!$F$3),1,IF(AND(Go!AB34=copy!$D$3,Go!AC34=copy!$D$3,Go!AD34=copy!$F$3),\"%\",\"\"))","v":""},{"$f":"IF(AND(ROW(AE79)+COLUMN(AE79)/100<=$B$51,Go!AC34=copy!$D$3,Go!AD34=copy!$D$3,Go!AE34=copy!$F$3),1,IF(AND(Go!AC34=copy!$D$3,Go!AD34=copy!$D$3,Go!AE34=copy!$F$3),\"%\",\"\"))","v":""},{"$f":"IF(AND(ROW(AF79)+COLUMN(AF79)/100<=$B$51,Go!AD34=copy!$D$3,Go!AE34=copy!$D$3,Go!AF34=copy!$F$3),1,IF(AND(Go!AD34=copy!$D$3,Go!AE34=copy!$D$3,Go!AF34=copy!$F$3),\"%\",\"\"))","v":""},{"$f":"IF(AND(ROW(AG79)+COLUMN(AG79)/100<=$B$51,Go!AE34=copy!$D$3,Go!AF34=copy!$D$3,Go!AG34=copy!$F$3),1,IF(AND(Go!AE34=copy!$D$3,Go!AF34=copy!$D$3,Go!AG34=copy!$F$3),\"%\",\"\"))","v":""},{"$f":"IF(AND(ROW(AH79)+COLUMN(AH79)/100<=$B$51,Go!AF34=copy!$D$3,Go!AG34=copy!$D$3,Go!AH34=copy!$F$3),1,IF(AND(Go!AF34=copy!$D$3,Go!AG34=copy!$D$3,Go!AH34=copy!$F$3),\"%\",\"\"))","v":""},{"$f":"Go!AI125","v":0}]
[null,null,null,{"$f":"Go!D126","v":0},{"$f":"IF(AND(ROW(E80)+COLUMN(E80)/100<=$B$51,Go!AG34=copy!$D$3,Go!AH34=copy!$D$3,Go!E35=copy!$F$3),1,\"\")","v":""},{"$f":"IF(AND(ROW(F80)+COLUMN(F80)/100<=$B$51,Go!AH34=copy!$D$3,Go!E35=copy!$D$3,Go!F35=copy!$F$3),1,\"\")","v":""},{"$f":"IF(AND(ROW(G80)+COLUMN(G80)/100<=$B$51,Go!E35=copy!$D$3,Go!F35=copy!$D$3,Go!G35=copy!$F$3),1,IF(AND(Go!E35=copy!$D$3,Go!F35=copy!$D$3,Go!G35=copy!$F$3),\"%\",\"\"))","v":""},{"$f":"IF(AND(ROW(H80)+COLUMN(H80)/100<=$B$51,Go!F35=copy!$D$3,Go!G35=copy!$D$3,Go!H35=copy!$F$3),1,IF(AND(Go!F35=copy!$D$3,Go!G35=copy!$D$3,Go!H35=copy!$F$3),\"%\",\"\"))","v":""},{"$f":"IF(AND(ROW(I80)+COLUMN(I80)/100<=$B$51,Go!G35=copy!$D$3,Go!H35=copy!$D$3,Go!I35=copy!$F$3),1,IF(AND(Go!G35=copy!$D$3,Go!H35=copy!$D$3,Go!I35=copy!$F$3),\"%\",\"\"))","v":""},{"$f":"IF(AND(ROW(J80)+COLUMN(J80)/100<=$B$51,Go!H35=copy!$D$3,Go!I35=copy!$D$3,Go!J35=copy!$F$3),1,IF(AND(Go!H35=copy!$D$3,Go!I35=copy!$D$3,Go!J35=copy!$F$3),\"%\",\"\"))","v":""},{"$f":"IF(AND(ROW(K80)+COLUMN(K80)/100<=$B$51,Go!I35=copy!$D$3,Go!J35=copy!$D$3,Go!K35=copy!$F$3),1,IF(AND(Go!I35=copy!$D$3,Go!J35=copy!$D$3,Go!K35=copy!$F$3),\"%\",\"\"))","v":""},{"$f":"IF(AND(ROW(L80)+COLUMN(L80)/100<=$B$51,Go!J35=copy!$D$3,Go!K35=copy!$D$3,Go!L35=copy!$F$3),1,IF(AND(Go!J35=copy!$D$3,Go!K35=copy!$D$3,Go!L35=copy!$F$3),\"%\",\"\"))","v":""},{"$f":"IF(AND(ROW(M80)+COLUMN(M80)/100<=$B$51,Go!K35=copy!$D$3,Go!L35=copy!$D$3,Go!M35=copy!$F$3),1,IF(AND(Go!K35=copy!$D$3,Go!L35=copy!$D$3,Go!M35=copy!$F$3),\"%\",\"\"))","v":""},{"$f":"IF(AND(ROW(N80)+COLUMN(N80)/100<=$B$51,Go!L35=copy!$D$3,Go!M35=copy!$D$3,Go!N35=copy!$F$3),1,IF(AND(Go!L35=copy!$D$3,Go!M35=copy!$D$3,Go!N35=copy!$F$3),\"%\",\"\"))","v":""},{"$f":"IF(AND(ROW(O80)+COLUMN(O80)/100<=$B$51,Go!M35=copy!$D$3,Go!N35=copy!$D$3,Go!O35=copy!$F$3),1,IF(AND(Go!M35=copy!$D$3,Go!N35=copy!$D$3,Go!O35=copy!$F$3),\"%\",\"\"))","v":""},{"$f":"IF(AND(ROW(P80)+COLUMN(P80)/100<=$B$51,Go!N35=copy!$D$3,Go!O35=copy!$D$3,Go!P35=copy!$F$3),1,IF(AND(Go!N35=copy!$D$3,Go!O35=copy!$D$3,Go!P35=copy!$F$3),\"%\",\"\"))","v":""},{"$f":"IF(AND(ROW(Q80)+COLUMN(Q80)/100<=$B$51,Go!O35=copy!$D$3,Go!P35=copy!$D$3,Go!Q35=copy!$F$3),1,IF(AND(Go!O35=copy!$D$3,Go!P35=copy!$D$3,Go!Q35=copy!$F$3),\"%\",\"\"))","v":""},{"$f":"IF(AND(ROW(R80)+COLUMN(R80)/100<=$B$51,Go!P35=copy!$D$3,Go!Q35=copy!$D$3,Go!R35=copy!$F$3),1,IF(AND(Go!P35=copy!$D$3,Go!Q35=copy!$D$3,Go!R35=copy!$F$3),\"%\",\"\"))","v":""},{"$f":"IF(AND(ROW(S80)+COLUMN(S80)/100<=$B$51,Go!Q35=copy!$D$3,Go!R35=copy!$D$3,Go!S35=copy!$F$3),1,IF(AND(Go!Q35=copy!$D$3,Go!R35=copy!$D$3,Go!S35=copy!$F$3),\"%\",\"\"))","v":""},{"$f":"IF(AND(ROW(T80)+COLUMN(T80)/100<=$B$51,Go!R35=copy!$D$3,Go!S35=copy!$D$3,Go!T35=copy!$F$3),1,IF(AND(Go!R35=copy!$D$3,Go!S35=copy!$D$3,Go!T35=copy!$F$3),\"%\",\"\"))","v":""},{"$f":"IF(AND(ROW(U80)+COLUMN(U80)/100<=$B$51,Go!S35=copy!$D$3,Go!T35=copy!$D$3,Go!U35=copy!$F$3),1,IF(AND(Go!S35=copy!$D$3,Go!T35=copy!$D$3,Go!U35=copy!$F$3),\"%\",\"\"))","v":""},{"$f":"IF(AND(ROW(V80)+COLUMN(V80)/100<=$B$51,Go!T35=copy!$D$3,Go!U35=copy!$D$3,Go!V35=copy!$F$3),1,IF(AND(Go!T35=copy!$D$3,Go!U35=copy!$D$3,Go!V35=copy!$F$3),\"%\",\"\"))","v":""},{"$f":"IF(AND(ROW(W80)+COLUMN(W80)/100<=$B$51,Go!U35=copy!$D$3,Go!V35=copy!$D$3,Go!W35=copy!$F$3),1,IF(AND(Go!U35=copy!$D$3,Go!V35=copy!$D$3,Go!W35=copy!$F$3),\"%\",\"\"))","v":""},{"$f":"IF(AND(ROW(X80)+COLUMN(X80)/100<=$B$51,Go!V35=copy!$D$3,Go!W35=copy!$D$3,Go!X35=copy!$F$3),1,IF(AND(Go!V35=copy!$D$3,Go!W35=copy!$D$3,Go!X35=copy!$F$3),\"%\",\"\"))","v":""},{"$f":"IF(AND(ROW(Y80)+COLUMN(Y80)/100<=$B$51,Go!W35=copy!$D$3,Go!X35=copy!$D$3,Go!Y35=copy!$F$3),1,IF(AND(Go!W35=copy!$D$3,Go!X35=copy!$D$3,Go!Y35=copy!$F$3),\"%\",\"\"))","v":""},{"$f":"IF(AND(ROW(Z80)+COLUMN(Z80)/100<=$B$51,Go!X35=copy!$D$3,Go!Y35=copy!$D$3,Go!Z35=copy!$F$3),1,IF(AND(Go!X35=copy!$D$3,Go!Y35=copy!$D$3,Go!Z35=copy!$F$3),\"%\",\"\"))","v":""},{"$f":"IF(AND(ROW(AA80)+COLUMN(AA80)/100<=$B$51,Go!Y35=copy!$D$3,Go!Z35=copy!$D$3,Go!AA35=copy!$F$3),1,IF(AND(Go!Y35=copy!$D$3,Go!Z35=copy!$D$3,Go!AA35=copy!$F$3),\"%\",\"\"))","v":""},{"$f":"IF(AND(ROW(AB80)+COLUMN(AB80)/100<=$B$51,Go!Z35=copy!$D$3,Go!AA35=copy!$D$3,Go!AB35=copy!$F$3),1,IF(AND(Go!Z35=copy!$D$3,Go!AA35=copy!$D$3,Go!AB35=copy!$F$3),\"%\",\"\"))","v":""},{"$f":"IF(AND(ROW(AC80)+COLUMN(AC80)/100<=$B$51,Go!AA35=copy!$D$3,Go!AB35=copy!$D$3,Go!AC35=copy!$F$3),1,IF(AND(Go!AA35=copy!$D$3,Go!AB35=copy!$D$3,Go!AC35=copy!$F$3),\"%\",\"\"))","v":""},{"$f":"IF(AND(ROW(AD80)+COLUMN(AD80)/100<=$B$51,Go!AB35=copy!$D$3,Go!AC35=copy!$D$3,Go!AD35=copy!$F$3),1,IF(AND(Go!AB35=copy!$D$3,Go!AC35=copy!$D$3,Go!AD35=copy!$F$3),\"%\",\"\"))","v":""},{"$f":"IF(AND(ROW(AE80)+COLUMN(AE80)/100<=$B$51,Go!AC35=copy!$D$3,Go!AD35=copy!$D$3,Go!AE35=copy!$F$3),1,IF(AND(Go!AC35=copy!$D$3,Go!AD35=copy!$D$3,Go!AE35=copy!$F$3),\"%\",\"\"))","v":""},{"$f":"IF(AND(ROW(AF80)+COLUMN(AF80)/100<=$B$51,Go!AD35=copy!$D$3,Go!AE35=copy!$D$3,Go!AF35=copy!$F$3),1,IF(AND(Go!AD35=copy!$D$3,Go!AE35=copy!$D$3,Go!AF35=copy!$F$3),\"%\",\"\"))","v":""},{"$f":"IF(AND(ROW(AG80)+COLUMN(AG80)/100<=$B$51,Go!AE35=copy!$D$3,Go!AF35=copy!$D$3,Go!AG35=copy!$F$3),1,IF(AND(Go!AE35=copy!$D$3,Go!AF35=copy!$D$3,Go!AG35=copy!$F$3),\"%\",\"\"))","v":""},{"$f":"IF(AND(ROW(AH80)+COLUMN(AH80)/100<=$B$51,Go!AF35=copy!$D$3,Go!AG35=copy!$D$3,Go!AH35=copy!$F$3),1,IF(AND(Go!AF35=copy!$D$3,Go!AG35=copy!$D$3,Go!AH35=copy!$F$3),\"%\",\"\"))","v":""},{"$f":"Go!AI126","v":0}]
[null,null,null,{"$f":"Go!D127","v":0},{"$f":"IF(AND(ROW(E81)+COLUMN(E81)/100<=$B$51,Go!AG35=copy!$D$3,Go!AH35=copy!$D$3,Go!E36=copy!$F$3),1,\"\")","v":""},{"$f":"IF(AND(ROW(F81)+COLUMN(F81)/100<=$B$51,Go!AH35=copy!$D$3,Go!E36=copy!$D$3,Go!F36=copy!$F$3),1,\"\")","v":""},{"$f":"IF(AND(ROW(G81)+COLUMN(G81)/100<=$B$51,Go!E36=copy!$D$3,Go!F36=copy!$D$3,Go!G36=copy!$F$3),1,IF(AND(Go!E36=copy!$D$3,Go!F36=copy!$D$3,Go!G36=copy!$F$3),\"%\",\"\"))","v":""},{"$f":"IF(AND(ROW(H81)+COLUMN(H81)/100<=$B$51,Go!F36=copy!$D$3,Go!G36=copy!$D$3,Go!H36=copy!$F$3),1,IF(AND(Go!F36=copy!$D$3,Go!G36=copy!$D$3,Go!H36=copy!$F$3),\"%\",\"\"))","v":""},{"$f":"IF(AND(ROW(I81)+COLUMN(I81)/100<=$B$51,Go!G36=copy!$D$3,Go!H36=copy!$D$3,Go!I36=copy!$F$3),1,IF(AND(Go!G36=copy!$D$3,Go!H36=copy!$D$3,Go!I36=copy!$F$3),\"%\",\"\"))","v":""},{"$f":"IF(AND(ROW(J81)+COLUMN(J81)/100<=$B$51,Go!H36=copy!$D$3,Go!I36=copy!$D$3,Go!J36=copy!$F$3),1,IF(AND(Go!H36=copy!$D$3,Go!I36=copy!$D$3,Go!J36=copy!$F$3),\"%\",\"\"))","v":""},{"$f":"IF(AND(ROW(K81)+COLUMN(K81)/100<=$B$51,Go!I36=copy!$D$3,Go!J36=copy!$D$3,Go!K36=copy!$F$3),1,IF(AND(Go!I36=copy!$D$3,Go!J36=copy!$D$3,Go!K36=copy!$F$3),\"%\",\"\"))","v":""},{"$f":"IF(AND(ROW(L81)+COLUMN(L81)/100<=$B$51,Go!J36=copy!$D$3,Go!K36=copy!$D$3,Go!L36=copy!$F$3),1,IF(AND(Go!J36=copy!$D$3,Go!K36=copy!$D$3,Go!L36=copy!$F$3),\"%\",\"\"))","v":""},{"$f":"IF(AND(ROW(M81)+COLUMN(M81)/100<=$B$51,Go!K36=copy!$D$3,Go!L36=copy!$D$3,Go!M36=copy!$F$3),1,IF(AND(Go!K36=copy!$D$3,Go!L36=copy!$D$3,Go!M36=copy!$F$3),\"%\",\"\"))","v":""},{"$f":"IF(AND(ROW(N81)+COLUMN(N81)/100<=$B$51,Go!L36=copy!$D$3,Go!M36=copy!$D$3,Go!N36=copy!$F$3),1,IF(AND(Go!L36=copy!$D$3,Go!M36=copy!$D$3,Go!N36=copy!$F$3),\"%\",\"\"))","v":""},{"$f":"IF(AND(ROW(O81)+COLUMN(O81)/100<=$B$51,Go!M36=copy!$D$3,Go!N36=copy!$D$3,Go!O36=copy!$F$3),1,IF(AND(Go!M36=copy!$D$3,Go!N36=copy!$D$3,Go!O36=copy!$F$3),\"%\",\"\"))","v":""},{"$f":"IF(AND(ROW(P81)+COLUMN(P81)/100<=$B$51,Go!N36=copy!$D$3,Go!O36=copy!$D$3,Go!P36=copy!$F$3),1,IF(AND(Go!N36=copy!$D$3,Go!O36=copy!$D$3,Go!P36=copy!$F$3),\"%\",\"\"))","v":""},{"$f":"IF(AND(ROW(Q81)+COLUMN(Q81)/100<=$B$51,Go!O36=copy!$D$3,Go!P36=copy!$D$3,Go!Q36=copy!$F$3),1,IF(AND(Go!O36=copy!$D$3,Go!P36=copy!$D$3,Go!Q36=copy!$F$3),\"%\",\"\"))","v":""},{"$f":"IF(AND(ROW(R81)+COLUMN(R81)/100<=$B$51,Go!P36=copy!$D$3,Go!Q36=copy!$D$3,Go!R36=copy!$F$3),1,IF(AND(Go!P36=copy!$D$3,Go!Q36=copy!$D$3,Go!R36=copy!$F$3),\"%\",\"\"))","v":""},{"$f":"IF(AND(ROW(S81)+COLUMN(S81)/100<=$B$51,Go!Q36=copy!$D$3,Go!R36=copy!$D$3,Go!S36=copy!$F$3),1,IF(AND(Go!Q36=copy!$D$3,Go!R36=copy!$D$3,Go!S36=copy!$F$3),\"%\",\"\"))","v":""},{"$f":"IF(AND(ROW(T81)+COLUMN(T81)/100<=$B$51,Go!R36=copy!$D$3,Go!S36=copy!$D$3,Go!T36=copy!$F$3),1,IF(AND(Go!R36=copy!$D$3,Go!S36=copy!$D$3,Go!T36=copy!$F$3),\"%\",\"\"))","v":""},{"$f":"IF(AND(ROW(U81)+COLUMN(U81)/100<=$B$51,Go!S36=copy!$D$3,Go!T36=copy!$D$3,Go!U36=copy!$F$3),1,IF(AND(Go!S36=copy!$D$3,Go!T36=copy!$D$3,Go!U36=copy!$F$3),\"%\",\"\"))","v":""},{"$f":"IF(AND(ROW(V81)+COLUMN(V81)/100<=$B$51,Go!T36=copy!$D$3,Go!U36=copy!$D$3,Go!V36=copy!$F$3),1,IF(AND(Go!T36=copy!$D$3,Go!U36=copy!$D$3,Go!V36=copy!$F$3),\"%\",\"\"))","v":""},{"$f":"IF(AND(ROW(W81)+COLUMN(W81)/100<=$B$51,Go!U36=copy!$D$3,Go!V36=copy!$D$3,Go!W36=copy!$F$3),1,IF(AND(Go!U36=copy!$D$3,Go!V36=copy!$D$3,Go!W36=copy!$F$3),\"%\",\"\"))","v":""},{"$f":"IF(AND(ROW(X81)+COLUMN(X81)/100<=$B$51,Go!V36=copy!$D$3,Go!W36=copy!$D$3,Go!X36=copy!$F$3),1,IF(AND(Go!V36=copy!$D$3,Go!W36=copy!$D$3,Go!X36=copy!$F$3),\"%\",\"\"))","v":""},{"$f":"IF(AND(ROW(Y81)+COLUMN(Y81)/100<=$B$51,Go!W36=copy!$D$3,Go!X36=copy!$D$3,Go!Y36=copy!$F$3),1,IF(AND(Go!W36=copy!$D$3,Go!X36=copy!$D$3,Go!Y36=copy!$F$3),\"%\",\"\"))","v":""},{"$f":"IF(AND(ROW(Z81)+COLUMN(Z81)/100<=$B$51,Go!X36=copy!$D$3,Go!Y36=copy!$D$3,Go!Z36=copy!$F$3),1,IF(AND(Go!X36=copy!$D$3,Go!Y36=copy!$D$3,Go!Z36=copy!$F$3),\"%\",\"\"))","v":""},{"$f":"IF(AND(ROW(AA81)+COLUMN(AA81)/100<=$B$51,Go!Y36=copy!$D$3,Go!Z36=copy!$D$3,Go!AA36=copy!$F$3),1,IF(AND(Go!Y36=copy!$D$3,Go!Z36=copy!$D$3,Go!AA36=copy!$F$3),\"%\",\"\"))","v":""},{"$f":"IF(AND(ROW(AB81)+COLUMN(AB81)/100<=$B$51,Go!Z36=copy!$D$3,Go!AA36=copy!$D$3,Go!AB36=copy!$F$3),1,IF(AND(Go!Z36=copy!$D$3,Go!AA36=copy!$D$3,Go!AB36=copy!$F$3),\"%\",\"\"))","v":""},{"$f":"IF(AND(ROW(AC81)+COLUMN(AC81)/100<=$B$51,Go!AA36=copy!$D$3,Go!AB36=copy!$D$3,Go!AC36=copy!$F$3),1,IF(AND(Go!AA36=copy!$D$3,Go!AB36=copy!$D$3,Go!AC36=copy!$F$3),\"%\",\"\"))","v":""},{"$f":"IF(AND(ROW(AD81)+COLUMN(AD81)/100<=$B$51,Go!AB36=copy!$D$3,Go!AC36=copy!$D$3,Go!AD36=copy!$F$3),1,IF(AND(Go!AB36=copy!$D$3,Go!AC36=copy!$D$3,Go!AD36=copy!$F$3),\"%\",\"\"))","v":""},{"$f":"IF(AND(ROW(AE81)+COLUMN(AE81)/100<=$B$51,Go!AC36=copy!$D$3,Go!AD36=copy!$D$3,Go!AE36=copy!$F$3),1,IF(AND(Go!AC36=copy!$D$3,Go!AD36=copy!$D$3,Go!AE36=copy!$F$3),\"%\",\"\"))","v":""},{"$f":"IF(AND(ROW(AF81)+COLUMN(AF81)/100<=$B$51,Go!AD36=copy!$D$3,Go!AE36=copy!$D$3,Go!AF36=copy!$F$3),1,IF(AND(Go!AD36=copy!$D$3,Go!AE36=copy!$D$3,Go!AF36=copy!$F$3),\"%\",\"\"))","v":""},{"$f":"IF(AND(ROW(AG81)+COLUMN(AG81)/100<=$B$51,Go!AE36=copy!$D$3,Go!AF36=copy!$D$3,Go!AG36=copy!$F$3),1,IF(AND(Go!AE36=copy!$D$3,Go!AF36=copy!$D$3,Go!AG36=copy!$F$3),\"%\",\"\"))","v":""},{"$f":"IF(AND(ROW(AH81)+COLUMN(AH81)/100<=$B$51,Go!AF36=copy!$D$3,Go!AG36=copy!$D$3,Go!AH36=copy!$F$3),1,IF(AND(Go!AF36=copy!$D$3,Go!AG36=copy!$D$3,Go!AH36=copy!$F$3),\"%\",\"\"))","v":""},{"$f":"Go!AI127","v":0}]
[null,null,null,{"$f":"Go!D128","v":0},{"$f":"IF(AND(ROW(E82)+COLUMN(E82)/100<=$B$51,Go!AG36=copy!$D$3,Go!AH36=copy!$D$3,Go!E37=copy!$F$3),1,\"\")","v":""},{"$f":"IF(AND(ROW(F82)+COLUMN(F82)/100<=$B$51,Go!AH36=copy!$D$3,Go!E37=copy!$D$3,Go!F37=copy!$F$3),1,\"\")","v":""},{"$f":"IF(AND(ROW(G82)+COLUMN(G82)/100<=$B$51,Go!E37=copy!$D$3,Go!F37=copy!$D$3,Go!G37=copy!$F$3),1,IF(AND(Go!E37=copy!$D$3,Go!F37=copy!$D$3,Go!G37=copy!$F$3),\"%\",\"\"))","v":""},{"$f":"IF(AND(ROW(H82)+COLUMN(H82)/100<=$B$51,Go!F37=copy!$D$3,Go!G37=copy!$D$3,Go!H37=copy!$F$3),1,IF(AND(Go!F37=copy!$D$3,Go!G37=copy!$D$3,Go!H37=copy!$F$3),\"%\",\"\"))","v":""},{"$f":"IF(AND(ROW(I82)+COLUMN(I82)/100<=$B$51,Go!G37=copy!$D$3,Go!H37=copy!$D$3,Go!I37=copy!$F$3),1,IF(AND(Go!G37=copy!$D$3,Go!H37=copy!$D$3,Go!I37=copy!$F$3),\"%\",\"\"))","v":""},{"$f":"IF(AND(ROW(J82)+COLUMN(J82)/100<=$B$51,Go!H37=copy!$D$3,Go!I37=copy!$D$3,Go!J37=copy!$F$3),1,IF(AND(Go!H37=copy!$D$3,Go!I37=copy!$D$3,Go!J37=copy!$F$3),\"%\",\"\"))","v":""},{"$f":"IF(AND(ROW(K82)+COLUMN(K82)/100<=$B$51,Go!I37=copy!$D$3,Go!J37=copy!$D$3,Go!K37=copy!$F$3),1,IF(AND(Go!I37=copy!$D$3,Go!J37=copy!$D$3,Go!K37=copy!$F$3),\"%\",\"\"))","v":""},{"$f":"IF(AND(ROW(L82)+COLUMN(L82)/100<=$B$51,Go!J37=copy!$D$3,Go!K37=copy!$D$3,Go!L37=copy!$F$3),1,IF(AND(Go!J37=copy!$D$3,Go!K37=copy!$D$3,Go!L37=copy!$F$3),\"%\",\"\"))","v":""},{"$f":"IF(AND(ROW(M82)+COLUMN(M82)/100<=$B$51,Go!K37=copy!$D$3,Go!L37=copy!$D$3,Go!M37=copy!$F$3),1,IF(AND(Go!K37=copy!$D$3,Go!L37=copy!$D$3,Go!M37=copy!$F$3),\"%\",\"\"))","v":""},{"$f":"IF(AND(ROW(N82)+COLUMN(N82)/100<=$B$51,Go!L37=copy!$D$3,Go!M37=copy!$D$3,Go!N37=copy!$F$3),1,IF(AND(Go!L37=copy!$D$3,Go!M37=copy!$D$3,Go!N37=copy!$F$3),\"%\",\"\"))","v":""},{"$f":"IF(AND(ROW(O82)+COLUMN(O82)/100<=$B$51,Go!M37=copy!$D$3,Go!N37=copy!$D$3,Go!O37=copy!$F$3),1,IF(AND(Go!M37=copy!$D$3,Go!N37=copy!$D$3,Go!O37=copy!$F$3),\"%\",\"\"))","v":""},{"$f":"IF(AND(ROW(P82)+COLUMN(P82)/100<=$B$51,Go!N37=copy!$D$3,Go!O37=copy!$D$3,Go!P37=copy!$F$3),1,IF(AND(Go!N37=copy!$D$3,Go!O37=copy!$D$3,Go!P37=copy!$F$3),\"%\",\"\"))","v":""},{"$f":"IF(AND(ROW(Q82)+COLUMN(Q82)/100<=$B$51,Go!O37=copy!$D$3,Go!P37=copy!$D$3,Go!Q37=copy!$F$3),1,IF(AND(Go!O37=copy!$D$3,Go!P37=copy!$D$3,Go!Q37=copy!$F$3),\"%\",\"\"))","v":""},{"$f":"IF(AND(ROW(R82)+COLUMN(R82)/100<=$B$51,Go!P37=copy!$D$3,Go!Q37=copy!$D$3,Go!R37=copy!$F$3),1,IF(AND(Go!P37=copy!$D$3,Go!Q37=copy!$D$3,Go!R37=copy!$F$3),\"%\",\"\"))","v":""},{"$f":"IF(AND(ROW(S82)+COLUMN(S82)/100<=$B$51,Go!Q37=copy!$D$3,Go!R37=copy!$D$3,Go!S37=copy!$F$3),1,IF(AND(Go!Q37=copy!$D$3,Go!R37=copy!$D$3,Go!S37=copy!$F$3),\"%\",\"\"))","v":""},{"$f":"IF(AND(ROW(T82)+COLUMN(T82)/100<=$B$51,Go!R37=copy!$D$3,Go!S37=copy!$D$3,Go!T37=copy!$F$3),1,IF(AND(Go!R37=copy!$D$3,Go!S37=copy!$D$3,Go!T37=copy!$F$3),\"%\",\"\"))","v":""},{"$f":"IF(AND(ROW(U82)+COLUMN(U82)/100<=$B$51,Go!S37=copy!$D$3,Go!T37=copy!$D$3,Go!U37=copy!$F$3),1,IF(AND(Go!S37=copy!$D$3,Go!T37=copy!$D$3,Go!U37=copy!$F$3),\"%\",\"\"))","v":""},{"$f":"IF(AND(ROW(V82)+COLUMN(V82)/100<=$B$51,Go!T37=copy!$D$3,Go!U37=copy!$D$3,Go!V37=copy!$F$3),1,IF(AND(Go!T37=copy!$D$3,Go!U37=copy!$D$3,Go!V37=copy!$F$3),\"%\",\"\"))","v":""},{"$f":"IF(AND(ROW(W82)+COLUMN(W82)/100<=$B$51,Go!U37=copy!$D$3,Go!V37=copy!$D$3,Go!W37=copy!$F$3),1,IF(AND(Go!U37=copy!$D$3,Go!V37=copy!$D$3,Go!W37=copy!$F$3),\"%\",\"\"))","v":""},{"$f":"IF(AND(ROW(X82)+COLUMN(X82)/100<=$B$51,Go!V37=copy!$D$3,Go!W37=copy!$D$3,Go!X37=copy!$F$3),1,IF(AND(Go!V37=copy!$D$3,Go!W37=copy!$D$3,Go!X37=copy!$F$3),\"%\",\"\"))","v":""},{"$f":"IF(AND(ROW(Y82)+COLUMN(Y82)/100<=$B$51,Go!W37=copy!$D$3,Go!X37=copy!$D$3,Go!Y37=copy!$F$3),1,IF(AND(Go!W37=copy!$D$3,Go!X37=copy!$D$3,Go!Y37=copy!$F$3),\"%\",\"\"))","v":""},{"$f":"IF(AND(ROW(Z82)+COLUMN(Z82)/100<=$B$51,Go!X37=copy!$D$3,Go!Y37=copy!$D$3,Go!Z37=copy!$F$3),1,IF(AND(Go!X37=copy!$D$3,Go!Y37=copy!$D$3,Go!Z37=copy!$F$3),\"%\",\"\"))","v":""},{"$f":"IF(AND(ROW(AA82)+COLUMN(AA82)/100<=$B$51,Go!Y37=copy!$D$3,Go!Z37=copy!$D$3,Go!AA37=copy!$F$3),1,IF(AND(Go!Y37=copy!$D$3,Go!Z37=copy!$D$3,Go!AA37=copy!$F$3),\"%\",\"\"))","v":""},{"$f":"IF(AND(ROW(AB82)+COLUMN(AB82)/100<=$B$51,Go!Z37=copy!$D$3,Go!AA37=copy!$D$3,Go!AB37=copy!$F$3),1,IF(AND(Go!Z37=copy!$D$3,Go!AA37=copy!$D$3,Go!AB37=copy!$F$3),\"%\",\"\"))","v":""},{"$f":"IF(AND(ROW(AC82)+COLUMN(AC82)/100<=$B$51,Go!AA37=copy!$D$3,Go!AB37=copy!$D$3,Go!AC37=copy!$F$3),1,IF(AND(Go!AA37=copy!$D$3,Go!AB37=copy!$D$3,Go!AC37=copy!$F$3),\"%\",\"\"))","v":""},{"$f":"IF(AND(ROW(AD82)+COLUMN(AD82)/100<=$B$51,Go!AB37=copy!$D$3,Go!AC37=copy!$D$3,Go!AD37=copy!$F$3),1,IF(AND(Go!AB37=copy!$D$3,Go!AC37=copy!$D$3,Go!AD37=copy!$F$3),\"%\",\"\"))","v":""},{"$f":"IF(AND(ROW(AE82)+COLUMN(AE82)/100<=$B$51,Go!AC37=copy!$D$3,Go!AD37=copy!$D$3,Go!AE37=copy!$F$3),1,IF(AND(Go!AC37=copy!$D$3,Go!AD37=copy!$D$3,Go!AE37=copy!$F$3),\"%\",\"\"))","v":""},{"$f":"IF(AND(ROW(AF82)+COLUMN(AF82)/100<=$B$51,Go!AD37=copy!$D$3,Go!AE37=copy!$D$3,Go!AF37=copy!$F$3),1,IF(AND(Go!AD37=copy!$D$3,Go!AE37=copy!$D$3,Go!AF37=copy!$F$3),\"%\",\"\"))","v":""},{"$f":"IF(AND(ROW(AG82)+COLUMN(AG82)/100<=$B$51,Go!AE37=copy!$D$3,Go!AF37=copy!$D$3,Go!AG37=copy!$F$3),1,IF(AND(Go!AE37=copy!$D$3,Go!AF37=copy!$D$3,Go!AG37=copy!$F$3),\"%\",\"\"))","v":""},{"$f":"IF(AND(ROW(AH82)+COLUMN(AH82)/100<=$B$51,Go!AF37=copy!$D$3,Go!AG37=copy!$D$3,Go!AH37=copy!$F$3),1,IF(AND(Go!AF37=copy!$D$3,Go!AG37=copy!$D$3,Go!AH37=copy!$F$3),\"%\",\"\"))","v":""},{"$f":"Go!AI128","v":0}]
[null,null,null,{"$f":"Go!D129","v":0},{"$f":"IF(AND(ROW(E83)+COLUMN(E83)/100<=$B$51,Go!AG37=copy!$D$3,Go!AH37=copy!$D$3,Go!E38=copy!$F$3),1,\"\")","v":""},{"$f":"IF(AND(ROW(F83)+COLUMN(F83)/100<=$B$51,Go!AH37=copy!$D$3,Go!E38=copy!$D$3,Go!F38=copy!$F$3),1,\"\")","v":""},{"$f":"IF(AND(ROW(G83)+COLUMN(G83)/100<=$B$51,Go!E38=copy!$D$3,Go!F38=copy!$D$3,Go!G38=copy!$F$3),1,IF(AND(Go!E38=copy!$D$3,Go!F38=copy!$D$3,Go!G38=copy!$F$3),\"%\",\"\"))","v":""},{"$f":"IF(AND(ROW(H83)+COLUMN(H83)/100<=$B$51,Go!F38=copy!$D$3,Go!G38=copy!$D$3,Go!H38=copy!$F$3),1,IF(AND(Go!F38=copy!$D$3,Go!G38=copy!$D$3,Go!H38=copy!$F$3),\"%\",\"\"))","v":""},{"$f":"IF(AND(ROW(I83)+COLUMN(I83)/100<=$B$51,Go!G38=copy!$D$3,Go!H38=copy!$D$3,Go!I38=copy!$F$3),1,IF(AND(Go!G38=copy!$D$3,Go!H38=copy!$D$3,Go!I38=copy!$F$3),\"%\",\"\"))","v":""},{"$f":"IF(AND(ROW(J83)+COLUMN(J83)/100<=$B$51,Go!H38=copy!$D$3,Go!I38=copy!$D$3,Go!J38=copy!$F$3),1,IF(AND(Go!H38=copy!$D$3,Go!I38=copy!$D$3,Go!J38=copy!$F$3),\"%\",\"\"))","v":""},{"$f":"IF(AND(ROW(K83)+COLUMN(K83)/100<=$B$51,Go!I38=copy!$D$3,Go!J38=copy!$D$3,Go!K38=copy!$F$3),1,IF(AND(Go!I38=copy!$D$3,Go!J38=copy!$D$3,Go!K38=copy!$F$3),\"%\",\"\"))","v":""},{"$f":"IF(AND(ROW(L83)+COLUMN(L83)/100<=$B$51,Go!J38=copy!$D$3,Go!K38=copy!$D$3,Go!L38=copy!$F$3),1,IF(AND(Go!J38=copy!$D$3,Go!K38=copy!$D$3,Go!L38=copy!$F$3),\"%\",\"\"))","v":""},{"$f":"IF(AND(ROW(M83)+COLUMN(M83)/100<=$B$51,Go!K38=copy!$D$3,Go!L38=copy!$D$3,Go!M38=copy!$F$3),1,IF(AND(Go!K38=copy!$D$3,Go!L38=copy!$D$3,Go!M38=copy!$F$3),\"%\",\"\"))","v":""},{"$f":"IF(AND(ROW(N83)+COLUMN(N83)/100<=$B$51,Go!L38=copy!$D$3,Go!M38=copy!$D$3,Go!N38=copy!$F$3),1,IF(AND(Go!L38=copy!$D$3,Go!M38=copy!$D$3,Go!N38=copy!$F$3),\"%\",\"\"))","v":""},{"$f":"IF(AND(ROW(O83)+COLUMN(O83)/100<=$B$51,Go!M38=copy!$D$3,Go!N38=copy!$D$3,Go!O38=copy!$F$3),1,IF(AND(Go!M38=copy!$D$3,Go!N38=copy!$D$3,Go!O38=copy!$F$3),\"%\",\"\"))","v":""},{"$f":"IF(AND(ROW(P83)+COLUMN(P83)/100<=$B$51,Go!N38=copy!$D$3,Go!O38=copy!$D$3,Go!P38=copy!$F$3),1,IF(AND(Go!N38=copy!$D$3,Go!O38=copy!$D$3,Go!P38=copy!$F$3),\"%\",\"\"))","v":""},{"$f":"IF(AND(ROW(Q83)+COLUMN(Q83)/100<=$B$51,Go!O38=copy!$D$3,Go!P38=copy!$D$3,Go!Q38=copy!$F$3),1,IF(AND(Go!O38=copy!$D$3,Go!P38=copy!$D$3,Go!Q38=copy!$F$3),\"%\",\"\"))","v":""},{"$f":"IF(AND(ROW(R83)+COLUMN(R83)/100<=$B$51,Go!P38=copy!$D$3,Go!Q38=copy!$D$3,Go!R38=copy!$F$3),1,IF(AND(Go!P38=copy!$D$3,Go!Q38=copy!$D$3,Go!R38=copy!$F$3),\"%\",\"\"))","v":""},{"$f":"IF(AND(ROW(S83)+COLUMN(S83)/100<=$B$51,Go!Q38=copy!$D$3,Go!R38=copy!$D$3,Go!S38=copy!$F$3),1,IF(AND(Go!Q38=copy!$D$3,Go!R38=copy!$D$3,Go!S38=copy!$F$3),\"%\",\"\"))","v":""},{"$f":"IF(AND(ROW(T83)+COLUMN(T83)/100<=$B$51,Go!R38=copy!$D$3,Go!S38=copy!$D$3,Go!T38=copy!$F$3),1,IF(AND(Go!R38=copy!$D$3,Go!S38=copy!$D$3,Go!T38=copy!$F$3),\"%\",\"\"))","v":""},{"$f":"IF(AND(ROW(U83)+COLUMN(U83)/100<=$B$51,Go!S38=copy!$D$3,Go!T38=copy!$D$3,Go!U38=copy!$F$3),1,IF(AND(Go!S38=copy!$D$3,Go!T38=copy!$D$3,Go!U38=copy!$F$3),\"%\",\"\"))","v":""},{"$f":"IF(AND(ROW(V83)+COLUMN(V83)/100<=$B$51,Go!T38=copy!$D$3,Go!U38=copy!$D$3,Go!V38=copy!$F$3),1,IF(AND(Go!T38=copy!$D$3,Go!U38=copy!$D$3,Go!V38=copy!$F$3),\"%\",\"\"))","v":""},{"$f":"IF(AND(ROW(W83)+COLUMN(W83)/100<=$B$51,Go!U38=copy!$D$3,Go!V38=copy!$D$3,Go!W38=copy!$F$3),1,IF(AND(Go!U38=copy!$D$3,Go!V38=copy!$D$3,Go!W38=copy!$F$3),\"%\",\"\"))","v":""},{"$f":"IF(AND(ROW(X83)+COLUMN(X83)/100<=$B$51,Go!V38=copy!$D$3,Go!W38=copy!$D$3,Go!X38=copy!$F$3),1,IF(AND(Go!V38=copy!$D$3,Go!W38=copy!$D$3,Go!X38=copy!$F$3),\"%\",\"\"))","v":""},{"$f":"IF(AND(ROW(Y83)+COLUMN(Y83)/100<=$B$51,Go!W38=copy!$D$3,Go!X38=copy!$D$3,Go!Y38=copy!$F$3),1,IF(AND(Go!W38=copy!$D$3,Go!X38=copy!$D$3,Go!Y38=copy!$F$3),\"%\",\"\"))","v":""},{"$f":"IF(AND(ROW(Z83)+COLUMN(Z83)/100<=$B$51,Go!X38=copy!$D$3,Go!Y38=copy!$D$3,Go!Z38=copy!$F$3),1,IF(AND(Go!X38=copy!$D$3,Go!Y38=copy!$D$3,Go!Z38=copy!$F$3),\"%\",\"\"))","v":""},{"$f":"IF(AND(ROW(AA83)+COLUMN(AA83)/100<=$B$51,Go!Y38=copy!$D$3,Go!Z38=copy!$D$3,Go!AA38=copy!$F$3),1,IF(AND(Go!Y38=copy!$D$3,Go!Z38=copy!$D$3,Go!AA38=copy!$F$3),\"%\",\"\"))","v":""},{"$f":"IF(AND(ROW(AB83)+COLUMN(AB83)/100<=$B$51,Go!Z38=copy!$D$3,Go!AA38=copy!$D$3,Go!AB38=copy!$F$3),1,IF(AND(Go!Z38=copy!$D$3,Go!AA38=copy!$D$3,Go!AB38=copy!$F$3),\"%\",\"\"))","v":""},{"$f":"IF(AND(ROW(AC83)+COLUMN(AC83)/100<=$B$51,Go!AA38=copy!$D$3,Go!AB38=copy!$D$3,Go!AC38=copy!$F$3),1,IF(AND(Go!AA38=copy!$D$3,Go!AB38=copy!$D$3,Go!AC38=copy!$F$3),\"%\",\"\"))","v":""},{"$f":"IF(AND(ROW(AD83)+COLUMN(AD83)/100<=$B$51,Go!AB38=copy!$D$3,Go!AC38=copy!$D$3,Go!AD38=copy!$F$3),1,IF(AND(Go!AB38=copy!$D$3,Go!AC38=copy!$D$3,Go!AD38=copy!$F$3),\"%\",\"\"))","v":""},{"$f":"IF(AND(ROW(AE83)+COLUMN(AE83)/100<=$B$51,Go!AC38=copy!$D$3,Go!AD38=copy!$D$3,Go!AE38=copy!$F$3),1,IF(AND(Go!AC38=copy!$D$3,Go!AD38=copy!$D$3,Go!AE38=copy!$F$3),\"%\",\"\"))","v":""},{"$f":"IF(AND(ROW(AF83)+COLUMN(AF83)/100<=$B$51,Go!AD38=copy!$D$3,Go!AE38=copy!$D$3,Go!AF38=copy!$F$3),1,IF(AND(Go!AD38=copy!$D$3,Go!AE38=copy!$D$3,Go!AF38=copy!$F$3),\"%\",\"\"))","v":""},{"$f":"IF(AND(ROW(AG83)+COLUMN(AG83)/100<=$B$51,Go!AE38=copy!$D$3,Go!AF38=copy!$D$3,Go!AG38=copy!$F$3),1,IF(AND(Go!AE38=copy!$D$3,Go!AF38=copy!$D$3,Go!AG38=copy!$F$3),\"%\",\"\"))","v":""},{"$f":"IF(AND(ROW(AH83)+COLUMN(AH83)/100<=$B$51,Go!AF38=copy!$D$3,Go!AG38=copy!$D$3,Go!AH38=copy!$F$3),1,IF(AND(Go!AF38=copy!$D$3,Go!AG38=copy!$D$3,Go!AH38=copy!$F$3),\"%\",\"\"))","v":""},{"$f":"Go!AI129","v":0}]
[null,null,null,{"$f":"Go!D130","v":0},{"$f":"IF(AND(ROW(E84)+COLUMN(E84)/100<=$B$51,Go!AG38=copy!$D$3,Go!AH38=copy!$D$3,Go!E39=copy!$F$3),1,\"\")","v":""},{"$f":"IF(AND(ROW(F84)+COLUMN(F84)/100<=$B$51,Go!AH38=copy!$D$3,Go!E39=copy!$D$3,Go!F39=copy!$F$3),1,\"\")","v":""},{"$f":"IF(AND(ROW(G84)+COLUMN(G84)/100<=$B$51,Go!E39=copy!$D$3,Go!F39=copy!$D$3,Go!G39=copy!$F$3),1,IF(AND(Go!E39=copy!$D$3,Go!F39=copy!$D$3,Go!G39=copy!$F$3),\"%\",\"\"))","v":""},{"$f":"IF(AND(ROW(H84)+COLUMN(H84)/100<=$B$51,Go!F39=copy!$D$3,Go!G39=copy!$D$3,Go!H39=copy!$F$3),1,IF(AND(Go!F39=copy!$D$3,Go!G39=copy!$D$3,Go!H39=copy!$F$3),\"%\",\"\"))","v":""},{"$f":"IF(AND(ROW(I84)+COLUMN(I84)/100<=$B$51,Go!G39=copy!$D$3,Go!H39=copy!$D$3,Go!I39=copy!$F$3),1,IF(AND(Go!G39=copy!$D$3,Go!H39=copy!$D$3,Go!I39=copy!$F$3),\"%\",\"\"))","v":""},{"$f":"IF(AND(ROW(J84)+COLUMN(J84)/100<=$B$51,Go!H39=copy!$D$3,Go!I39=copy!$D$3,Go!J39=copy!$F$3),1,IF(AND(Go!H39=copy!$D$3,Go!I39=copy!$D$3,Go!J39=copy!$F$3),\"%\",\"\"))","v":""},{"$f":"IF(AND(ROW(K84)+COLUMN(K84)/100<=$B$51,Go!I39=copy!$D$3,Go!J39=copy!$D$3,Go!K39=copy!$F$3),1,IF(AND(Go!I39=copy!$D$3,Go!J39=copy!$D$3,Go!K39=copy!$F$3),\"%\",\"\"))","v":""},{"$f":"IF(AND(ROW(L84)+COLUMN(L84)/100<=$B$51,Go!J39=copy!$D$3,Go!K39=copy!$D$3,Go!L39=copy!$F$3),1,IF(AND(Go!J39=copy!$D$3,Go!K39=copy!$D$3,Go!L39=copy!$F$3),\"%\",\"\"))","v":""},{"$f":"IF(AND(ROW(M84)+COLUMN(M84)/100<=$B$51,Go!K39=copy!$D$3,Go!L39=copy!$D$3,Go!M39=copy!$F$3),1,IF(AND(Go!K39=copy!$D$3,Go!L39=copy!$D$3,Go!M39=copy!$F$3),\"%\",\"\"))","v":""},{"$f":"IF(AND(ROW(N84)+COLUMN(N84)/100<=$B$51,Go!L39=copy!$D$3,Go!M39=copy!$D$3,Go!N39=copy!$F$3),1,IF(AND(Go!L39=copy!$D$3,Go!M39=copy!$D$3,Go!N39=copy!$F$3),\"%\",\"\"))","v":""},{"$f":"IF(AND(ROW(O84)+COLUMN(O84)/100<=$B$51,Go!M39=copy!$D$3,Go!N39=copy!$D$3,Go!O39=copy!$F$3),1,IF(AND(Go!M39=copy!$D$3,Go!N39=copy!$D$3,Go!O39=copy!$F$3),\"%\",\"\"))","v":""},{"$f":"IF(AND(ROW(P84)+COLUMN(P84)/100<=$B$51,Go!N39=copy!$D$3,Go!O39=copy!$D$3,Go!P39=copy!$F$3),1,IF(AND(Go!N39=copy!$D$3,Go!O39=copy!$D$3,Go!P39=copy!$F$3),\"%\",\"\"))","v":""},{"$f":"IF(AND(ROW(Q84)+COLUMN(Q84)/100<=$B$51,Go!O39=copy!$D$3,Go!P39=copy!$D$3,Go!Q39=copy!$F$3),1,IF(AND(Go!O39=copy!$D$3,Go!P39=copy!$D$3,Go!Q39=copy!$F$3),\"%\",\"\"))","v":""},{"$f":"IF(AND(ROW(R84)+COLUMN(R84)/100<=$B$51,Go!P39=copy!$D$3,Go!Q39=copy!$D$3,Go!R39=copy!$F$3),1,IF(AND(Go!P39=copy!$D$3,Go!Q39=copy!$D$3,Go!R39=copy!$F$3),\"%\",\"\"))","v":""},{"$f":"IF(AND(ROW(S84)+COLUMN(S84)/100<=$B$51,Go!Q39=copy!$D$3,Go!R39=copy!$D$3,Go!S39=copy!$F$3),1,IF(AND(Go!Q39=copy!$D$3,Go!R39=copy!$D$3,Go!S39=copy!$F$3),\"%\",\"\"))","v":""},{"$f":"IF(AND(ROW(T84)+COLUMN(T84)/100<=$B$51,Go!R39=copy!$D$3,Go!S39=copy!$D$3,Go!T39=copy!$F$3),1,IF(AND(Go!R39=copy!$D$3,Go!S39=copy!$D$3,Go!T39=copy!$F$3),\"%\",\"\"))","v":""},{"$f":"IF(AND(ROW(U84)+COLUMN(U84)/100<=$B$51,Go!S39=copy!$D$3,Go!T39=copy!$D$3,Go!U39=copy!$F$3),1,IF(AND(Go!S39=copy!$D$3,Go!T39=copy!$D$3,Go!U39=copy!$F$3),\"%\",\"\"))","v":""},{"$f":"IF(AND(ROW(V84)+COLUMN(V84)/100<=$B$51,Go!T39=copy!$D$3,Go!U39=copy!$D$3,Go!V39=copy!$F$3),1,IF(AND(Go!T39=copy!$D$3,Go!U39=copy!$D$3,Go!V39=copy!$F$3),\"%\",\"\"))","v":""},{"$f":"IF(AND(ROW(W84)+COLUMN(W84)/100<=$B$51,Go!U39=copy!$D$3,Go!V39=copy!$D$3,Go!W39=copy!$F$3),1,IF(AND(Go!U39=copy!$D$3,Go!V39=copy!$D$3,Go!W39=copy!$F$3),\"%\",\"\"))","v":""},{"$f":"IF(AND(ROW(X84)+COLUMN(X84)/100<=$B$51,Go!V39=copy!$D$3,Go!W39=copy!$D$3,Go!X39=copy!$F$3),1,IF(AND(Go!V39=copy!$D$3,Go!W39=copy!$D$3,Go!X39=copy!$F$3),\"%\",\"\"))","v":""},{"$f":"IF(AND(ROW(Y84)+COLUMN(Y84)/100<=$B$51,Go!W39=copy!$D$3,Go!X39=copy!$D$3,Go!Y39=copy!$F$3),1,IF(AND(Go!W39=copy!$D$3,Go!X39=copy!$D$3,Go!Y39=copy!$F$3),\"%\",\"\"))","v":""},{"$f":"IF(AND(ROW(Z84)+COLUMN(Z84)/100<=$B$51,Go!X39=copy!$D$3,Go!Y39=copy!$D$3,Go!Z39=copy!$F$3),1,IF(AND(Go!X39=copy!$D$3,Go!Y39=copy!$D$3,Go!Z39=copy!$F$3),\"%\",\"\"))","v":""},{"$f":"IF(AND(ROW(AA84)+COLUMN(AA84)/100<=$B$51,Go!Y39=copy!$D$3,Go!Z39=copy!$D$3,Go!AA39=copy!$F$3),1,IF(AND(Go!Y39=copy!$D$3,Go!Z39=copy!$D$3,Go!AA39=copy!$F$3),\"%\",\"\"))","v":""},{"$f":"IF(AND(ROW(AB84)+COLUMN(AB84)/100<=$B$51,Go!Z39=copy!$D$3,Go!AA39=copy!$D$3,Go!AB39=copy!$F$3),1,IF(AND(Go!Z39=copy!$D$3,Go!AA39=copy!$D$3,Go!AB39=copy!$F$3),\"%\",\"\"))","v":""},{"$f":"IF(AND(ROW(AC84)+COLUMN(AC84)/100<=$B$51,Go!AA39=copy!$D$3,Go!AB39=copy!$D$3,Go!AC39=copy!$F$3),1,IF(AND(Go!AA39=copy!$D$3,Go!AB39=copy!$D$3,Go!AC39=copy!$F$3),\"%\",\"\"))","v":""},{"$f":"IF(AND(ROW(AD84)+COLUMN(AD84)/100<=$B$51,Go!AB39=copy!$D$3,Go!AC39=copy!$D$3,Go!AD39=copy!$F$3),1,IF(AND(Go!AB39=copy!$D$3,Go!AC39=copy!$D$3,Go!AD39=copy!$F$3),\"%\",\"\"))","v":""},{"$f":"IF(AND(ROW(AE84)+COLUMN(AE84)/100<=$B$51,Go!AC39=copy!$D$3,Go!AD39=copy!$D$3,Go!AE39=copy!$F$3),1,IF(AND(Go!AC39=copy!$D$3,Go!AD39=copy!$D$3,Go!AE39=copy!$F$3),\"%\",\"\"))","v":""},{"$f":"IF(AND(ROW(AF84)+COLUMN(AF84)/100<=$B$51,Go!AD39=copy!$D$3,Go!AE39=copy!$D$3,Go!AF39=copy!$F$3),1,IF(AND(Go!AD39=copy!$D$3,Go!AE39=copy!$D$3,Go!AF39=copy!$F$3),\"%\",\"\"))","v":""},{"$f":"IF(AND(ROW(AG84)+COLUMN(AG84)/100<=$B$51,Go!AE39=copy!$D$3,Go!AF39=copy!$D$3,Go!AG39=copy!$F$3),1,IF(AND(Go!AE39=copy!$D$3,Go!AF39=copy!$D$3,Go!AG39=copy!$F$3),\"%\",\"\"))","v":""},{"$f":"IF(AND(ROW(AH84)+COLUMN(AH84)/100<=$B$51,Go!AF39=copy!$D$3,Go!AG39=copy!$D$3,Go!AH39=copy!$F$3),1,IF(AND(Go!AF39=copy!$D$3,Go!AG39=copy!$D$3,Go!AH39=copy!$F$3),\"%\",\"\"))","v":""},{"$f":"Go!AI130","v":0}]
[null,null,null,{"$f":"Go!D131","v":0},{"$f":"IF(AND(ROW(E85)+COLUMN(E85)/100<=$B$51,Go!AG39=copy!$D$3,Go!AH39=copy!$D$3,Go!E40=copy!$F$3),1,\"\")","v":""},{"$f":"IF(AND(ROW(F85)+COLUMN(F85)/100<=$B$51,Go!AH39=copy!$D$3,Go!E40=copy!$D$3,Go!F40=copy!$F$3),1,\"\")","v":""},{"$f":"IF(AND(ROW(G85)+COLUMN(G85)/100<=$B$51,Go!E40=copy!$D$3,Go!F40=copy!$D$3,Go!G40=copy!$F$3),1,IF(AND(Go!E40=copy!$D$3,Go!F40=copy!$D$3,Go!G40=copy!$F$3),\"%\",\"\"))","v":""},{"$f":"IF(AND(ROW(H85)+COLUMN(H85)/100<=$B$51,Go!F40=copy!$D$3,Go!G40=copy!$D$3,Go!H40=copy!$F$3),1,IF(AND(Go!F40=copy!$D$3,Go!G40=copy!$D$3,Go!H40=copy!$F$3),\"%\",\"\"))","v":""},{"$f":"IF(AND(ROW(I85)+COLUMN(I85)/100<=$B$51,Go!G40=copy!$D$3,Go!H40=copy!$D$3,Go!I40=copy!$F$3),1,IF(AND(Go!G40=copy!$D$3,Go!H40=copy!$D$3,Go!I40=copy!$F$3),\"%\",\"\"))","v":""},{"$f":"IF(AND(ROW(J85)+COLUMN(J85)/100<=$B$51,Go!H40=copy!$D$3,Go!I40=copy!$D$3,Go!J40=copy!$F$3),1,IF(AND(Go!H40=copy!$D$3,Go!I40=copy!$D$3,Go!J40=copy!$F$3),\"%\",\"\"))","v":""},{"$f":"IF(AND(ROW(K85)+COLUMN(K85)/100<=$B$51,Go!I40=copy!$D$3,Go!J40=copy!$D$3,Go!K40=copy!$F$3),1,IF(AND(Go!I40=copy!$D$3,Go!J40=copy!$D$3,Go!K40=copy!$F$3),\"%\",\"\"))","v":""},{"$f":"IF(AND(ROW(L85)+COLUMN(L85)/100<=$B$51,Go!J40=copy!$D$3,Go!K40=copy!$D$3,Go!L40=copy!$F$3),1,IF(AND(Go!J40=copy!$D$3,Go!K40=copy!$D$3,Go!L40=copy!$F$3),\"%\",\"\"))","v":""},{"$f":"IF(AND(ROW(M85)+COLUMN(M85)/100<=$B$51,Go!K40=copy!$D$3,Go!L40=copy!$D$3,Go!M40=copy!$F$3),1,IF(AND(Go!K40=copy!$D$3,Go!L40=copy!$D$3,Go!M40=copy!$F$3),\"%\",\"\"))","v":""},{"$f":"IF(AND(ROW(N85)+COLUMN(N85)/100<=$B$51,Go!L40=copy!$D$3,Go!M40=copy!$D$3,Go!N40=copy!$F$3),1,IF(AND(Go!L40=copy!$D$3,Go!M40=copy!$D$3,Go!N40=copy!$F$3),\"%\",\"\"))","v":""},{"$f":"IF(AND(ROW(O85)+COLUMN(O85)/100<=$B$51,Go!M40=copy!$D$3,Go!N40=copy!$D$3,Go!O40=copy!$F$3),1,IF(AND(Go!M40=copy!$D$3,Go!N40=copy!$D$3,Go!O40=copy!$F$3),\"%\",\"\"))","v":""},{"$f":"IF(AND(ROW(P85)+COLUMN(P85)/100<=$B$51,Go!N40=copy!$D$3,Go!O40=copy!$D$3,Go!P40=copy!$F$3),1,IF(AND(Go!N40=copy!$D$3,Go!O40=copy!$D$3,Go!P40=copy!$F$3),\"%\",\"\"))","v":""},{"$f":"IF(AND(ROW(Q85)+COLUMN(Q85)/100<=$B$51,Go!O40=copy!$D$3,Go!P40=copy!$D$3,Go!Q40=copy!$F$3),1,IF(AND(Go!O40=copy!$D$3,Go!P40=copy!$D$3,Go!Q40=copy!$F$3),\"%\",\"\"))","v":""},{"$f":"IF(AND(ROW(R85)+COLUMN(R85)/100<=$B$51,Go!P40=copy!$D$3,Go!Q40=copy!$D$3,Go!R40=copy!$F$3),1,IF(AND(Go!P40=copy!$D$3,Go!Q40=copy!$D$3,Go!R40=copy!$F$3),\"%\",\"\"))","v":""},{"$f":"IF(AND(ROW(S85)+COLUMN(S85)/100<=$B$51,Go!Q40=copy!$D$3,Go!R40=copy!$D$3,Go!S40=copy!$F$3),1,IF(AND(Go!Q40=copy!$D$3,Go!R40=copy!$D$3,Go!S40=copy!$F$3),\"%\",\"\"))","v":""},{"$f":"IF(AND(ROW(T85)+COLUMN(T85)/100<=$B$51,Go!R40=copy!$D$3,Go!S40=copy!$D$3,Go!T40=copy!$F$3),1,IF(AND(Go!R40=copy!$D$3,Go!S40=copy!$D$3,Go!T40=copy!$F$3),\"%\",\"\"))","v":""},{"$f":"IF(AND(ROW(U85)+COLUMN(U85)/100<=$B$51,Go!S40=copy!$D$3,Go!T40=copy!$D$3,Go!U40=copy!$F$3),1,IF(AND(Go!S40=copy!$D$3,Go!T40=copy!$D$3,Go!U40=copy!$F$3),\"%\",\"\"))","v":""},{"$f":"IF(AND(ROW(V85)+COLUMN(V85)/100<=$B$51,Go!T40=copy!$D$3,Go!U40=copy!$D$3,Go!V40=copy!$F$3),1,IF(AND(Go!T40=copy!$D$3,Go!U40=copy!$D$3,Go!V40=copy!$F$3),\"%\",\"\"))","v":""},{"$f":"IF(AND(ROW(W85)+COLUMN(W85)/100<=$B$51,Go!U40=copy!$D$3,Go!V40=copy!$D$3,Go!W40=copy!$F$3),1,IF(AND(Go!U40=copy!$D$3,Go!V40=copy!$D$3,Go!W40=copy!$F$3),\"%\",\"\"))","v":""},{"$f":"IF(AND(ROW(X85)+COLUMN(X85)/100<=$B$51,Go!V40=copy!$D$3,Go!W40=copy!$D$3,Go!X40=copy!$F$3),1,IF(AND(Go!V40=copy!$D$3,Go!W40=copy!$D$3,Go!X40=copy!$F$3),\"%\",\"\"))","v":""},{"$f":"IF(AND(ROW(Y85)+COLUMN(Y85)/100<=$B$51,Go!W40=copy!$D$3,Go!X40=copy!$D$3,Go!Y40=copy!$F$3),1,IF(AND(Go!W40=copy!$D$3,Go!X40=copy!$D$3,Go!Y40=copy!$F$3),\"%\",\"\"))","v":""},{"$f":"IF(AND(ROW(Z85)+COLUMN(Z85)/100<=$B$51,Go!X40=copy!$D$3,Go!Y40=copy!$D$3,Go!Z40=copy!$F$3),1,IF(AND(Go!X40=copy!$D$3,Go!Y40=copy!$D$3,Go!Z40=copy!$F$3),\"%\",\"\"))","v":""},{"$f":"IF(AND(ROW(AA85)+COLUMN(AA85)/100<=$B$51,Go!Y40=copy!$D$3,Go!Z40=copy!$D$3,Go!AA40=copy!$F$3),1,IF(AND(Go!Y40=copy!$D$3,Go!Z40=copy!$D$3,Go!AA40=copy!$F$3),\"%\",\"\"))","v":""},{"$f":"IF(AND(ROW(AB85)+COLUMN(AB85)/100<=$B$51,Go!Z40=copy!$D$3,Go!AA40=copy!$D$3,Go!AB40=copy!$F$3),1,IF(AND(Go!Z40=copy!$D$3,Go!AA40=copy!$D$3,Go!AB40=copy!$F$3),\"%\",\"\"))","v":""},{"$f":"IF(AND(ROW(AC85)+COLUMN(AC85)/100<=$B$51,Go!AA40=copy!$D$3,Go!AB40=copy!$D$3,Go!AC40=copy!$F$3),1,IF(AND(Go!AA40=copy!$D$3,Go!AB40=copy!$D$3,Go!AC40=copy!$F$3),\"%\",\"\"))","v":""},{"$f":"IF(AND(ROW(AD85)+COLUMN(AD85)/100<=$B$51,Go!AB40=copy!$D$3,Go!AC40=copy!$D$3,Go!AD40=copy!$F$3),1,IF(AND(Go!AB40=copy!$D$3,Go!AC40=copy!$D$3,Go!AD40=copy!$F$3),\"%\",\"\"))","v":""},{"$f":"IF(AND(ROW(AE85)+COLUMN(AE85)/100<=$B$51,Go!AC40=copy!$D$3,Go!AD40=copy!$D$3,Go!AE40=copy!$F$3),1,IF(AND(Go!AC40=copy!$D$3,Go!AD40=copy!$D$3,Go!AE40=copy!$F$3),\"%\",\"\"))","v":""},{"$f":"IF(AND(ROW(AF85)+COLUMN(AF85)/100<=$B$51,Go!AD40=copy!$D$3,Go!AE40=copy!$D$3,Go!AF40=copy!$F$3),1,IF(AND(Go!AD40=copy!$D$3,Go!AE40=copy!$D$3,Go!AF40=copy!$F$3),\"%\",\"\"))","v":""},{"$f":"IF(AND(ROW(AG85)+COLUMN(AG85)/100<=$B$51,Go!AE40=copy!$D$3,Go!AF40=copy!$D$3,Go!AG40=copy!$F$3),1,IF(AND(Go!AE40=copy!$D$3,Go!AF40=copy!$D$3,Go!AG40=copy!$F$3),\"%\",\"\"))","v":""},{"$f":"IF(AND(ROW(AH85)+COLUMN(AH85)/100<=$B$51,Go!AF40=copy!$D$3,Go!AG40=copy!$D$3,Go!AH40=copy!$F$3),1,IF(AND(Go!AF40=copy!$D$3,Go!AG40=copy!$D$3,Go!AH40=copy!$F$3),\"%\",\"\"))","v":""},{"$f":"Go!AI131","v":0}]
[null,null,null,{"$f":"Go!D132","v":0},{"$f":"IF(AND(ROW(E86)+COLUMN(E86)/100<=$B$51,Go!AG40=copy!$D$3,Go!AH40=copy!$D$3,Go!E41=copy!$F$3),1,\"\")","v":""},{"$f":"IF(AND(ROW(F86)+COLUMN(F86)/100<=$B$51,Go!AH40=copy!$D$3,Go!E41=copy!$D$3,Go!F41=copy!$F$3),1,\"\")","v":""},{"$f":"IF(AND(ROW(G86)+COLUMN(G86)/100<=$B$51,Go!E41=copy!$D$3,Go!F41=copy!$D$3,Go!G41=copy!$F$3),1,IF(AND(Go!E41=copy!$D$3,Go!F41=copy!$D$3,Go!G41=copy!$F$3),\"%\",\"\"))","v":""},{"$f":"IF(AND(ROW(H86)+COLUMN(H86)/100<=$B$51,Go!F41=copy!$D$3,Go!G41=copy!$D$3,Go!H41=copy!$F$3),1,IF(AND(Go!F41=copy!$D$3,Go!G41=copy!$D$3,Go!H41=copy!$F$3),\"%\",\"\"))","v":""},{"$f":"IF(AND(ROW(I86)+COLUMN(I86)/100<=$B$51,Go!G41=copy!$D$3,Go!H41=copy!$D$3,Go!I41=copy!$F$3),1,IF(AND(Go!G41=copy!$D$3,Go!H41=copy!$D$3,Go!I41=copy!$F$3),\"%\",\"\"))","v":""},{"$f":"IF(AND(ROW(J86)+COLUMN(J86)/100<=$B$51,Go!H41=copy!$D$3,Go!I41=copy!$D$3,Go!J41=copy!$F$3),1,IF(AND(Go!H41=copy!$D$3,Go!I41=copy!$D$3,Go!J41=copy!$F$3),\"%\",\"\"))","v":""},{"$f":"IF(AND(ROW(K86)+COLUMN(K86)/100<=$B$51,Go!I41=copy!$D$3,Go!J41=copy!$D$3,Go!K41=copy!$F$3),1,IF(AND(Go!I41=copy!$D$3,Go!J41=copy!$D$3,Go!K41=copy!$F$3),\"%\",\"\"))","v":""},{"$f":"IF(AND(ROW(L86)+COLUMN(L86)/100<=$B$51,Go!J41=copy!$D$3,Go!K41=copy!$D$3,Go!L41=copy!$F$3),1,IF(AND(Go!J41=copy!$D$3,Go!K41=copy!$D$3,Go!L41=copy!$F$3),\"%\",\"\"))","v":""},{"$f":"IF(AND(ROW(M86)+COLUMN(M86)/100<=$B$51,Go!K41=copy!$D$3,Go!L41=copy!$D$3,Go!M41=copy!$F$3),1,IF(AND(Go!K41=copy!$D$3,Go!L41=copy!$D$3,Go!M41=copy!$F$3),\"%\",\"\"))","v":""},{"$f":"IF(AND(ROW(N86)+COLUMN(N86)/100<=$B$51,Go!L41=copy!$D$3,Go!M41=copy!$D$3,Go!N41=copy!$F$3),1,IF(AND(Go!L41=copy!$D$3,Go!M41=copy!$D$3,Go!N41=copy!$F$3),\"%\",\"\"))","v":""},{"$f":"IF(AND(ROW(O86)+COLUMN(O86)/100<=$B$51,Go!M41=copy!$D$3,Go!N41=copy!$D$3,Go!O41=copy!$F$3),1,IF(AND(Go!M41=copy!$D$3,Go!N41=copy!$D$3,Go!O41=copy!$F$3),\"%\",\"\"))","v":""},{"$f":"IF(AND(ROW(P86)+COLUMN(P86)/100<=$B$51,Go!N41=copy!$D$3,Go!O41=copy!$D$3,Go!P41=copy!$F$3),1,IF(AND(Go!N41=copy!$D$3,Go!O41=copy!$D$3,Go!P41=copy!$F$3),\"%\",\"\"))","v":""},{"$f":"IF(AND(ROW(Q86)+COLUMN(Q86)/100<=$B$51,Go!O41=copy!$D$3,Go!P41=copy!$D$3,Go!Q41=copy!$F$3),1,IF(AND(Go!O41=copy!$D$3,Go!P41=copy!$D$3,Go!Q41=copy!$F$3),\"%\",\"\"))","v":""},{"$f":"IF(AND(ROW(R86)+COLUMN(R86)/100<=$B$51,Go!P41=copy!$D$3,Go!Q41=copy!$D$3,Go!R41=copy!$F$3),1,IF(AND(Go!P41=copy!$D$3,Go!Q41=copy!$D$3,Go!R41=copy!$F$3),\"%\",\"\"))","v":""},{"$f":"IF(AND(ROW(S86)+COLUMN(S86)/100<=$B$51,Go!Q41=copy!$D$3,Go!R41=copy!$D$3,Go!S41=copy!$F$3),1,IF(AND(Go!Q41=copy!$D$3,Go!R41=copy!$D$3,Go!S41=copy!$F$3),\"%\",\"\"))","v":""},{"$f":"IF(AND(ROW(T86)+COLUMN(T86)/100<=$B$51,Go!R41=copy!$D$3,Go!S41=copy!$D$3,Go!T41=copy!$F$3),1,IF(AND(Go!R41=copy!$D$3,Go!S41=copy!$D$3,Go!T41=copy!$F$3),\"%\",\"\"))","v":""},{"$f":"IF(AND(ROW(U86)+COLUMN(U86)/100<=$B$51,Go!S41=copy!$D$3,Go!T41=copy!$D$3,Go!U41=copy!$F$3),1,IF(AND(Go!S41=copy!$D$3,Go!T41=copy!$D$3,Go!U41=copy!$F$3),\"%\",\"\"))","v":""},{"$f":"IF(AND(ROW(V86)+COLUMN(V86)/100<=$B$51,Go!T41=copy!$D$3,Go!U41=copy!$D$3,Go!V41=copy!$F$3),1,IF(AND(Go!T41=copy!$D$3,Go!U41=copy!$D$3,Go!V41=copy!$F$3),\"%\",\"\"))","v":""},{"$f":"IF(AND(ROW(W86)+COLUMN(W86)/100<=$B$51,Go!U41=copy!$D$3,Go!V41=copy!$D$3,Go!W41=copy!$F$3),1,IF(AND(Go!U41=copy!$D$3,Go!V41=copy!$D$3,Go!W41=copy!$F$3),\"%\",\"\"))","v":""},{"$f":"IF(AND(ROW(X86)+COLUMN(X86)/100<=$B$51,Go!V41=copy!$D$3,Go!W41=copy!$D$3,Go!X41=copy!$F$3),1,IF(AND(Go!V41=copy!$D$3,Go!W41=copy!$D$3,Go!X41=copy!$F$3),\"%\",\"\"))","v":""},{"$f":"IF(AND(ROW(Y86)+COLUMN(Y86)/100<=$B$51,Go!W41=copy!$D$3,Go!X41=copy!$D$3,Go!Y41=copy!$F$3),1,IF(AND(Go!W41=copy!$D$3,Go!X41=copy!$D$3,Go!Y41=copy!$F$3),\"%\",\"\"))","v":""},{"$f":"IF(AND(ROW(Z86)+COLUMN(Z86)/100<=$B$51,Go!X41=copy!$D$3,Go!Y41=copy!$D$3,Go!Z41=copy!$F$3),1,IF(AND(Go!X41=copy!$D$3,Go!Y41=copy!$D$3,Go!Z41=copy!$F$3),\"%\",\"\"))","v":""},{"$f":"IF(AND(ROW(AA86)+COLUMN(AA86)/100<=$B$51,Go!Y41=copy!$D$3,Go!Z41=copy!$D$3,Go!AA41=copy!$F$3),1,IF(AND(Go!Y41=copy!$D$3,Go!Z41=copy!$D$3,Go!AA41=copy!$F$3),\"%\",\"\"))","v":""},{"$f":"IF(AND(ROW(AB86)+COLUMN(AB86)/100<=$B$51,Go!Z41=copy!$D$3,Go!AA41=copy!$D$3,Go!AB41=copy!$F$3),1,IF(AND(Go!Z41=copy!$D$3,Go!AA41=copy!$D$3,Go!AB41=copy!$F$3),\"%\",\"\"))","v":""},{"$f":"IF(AND(ROW(AC86)+COLUMN(AC86)/100<=$B$51,Go!AA41=copy!$D$3,Go!AB41=copy!$D$3,Go!AC41=copy!$F$3),1,IF(AND(Go!AA41=copy!$D$3,Go!AB41=copy!$D$3,Go!AC41=copy!$F$3),\"%\",\"\"))","v":""},{"$f":"IF(AND(ROW(AD86)+COLUMN(AD86)/100<=$B$51,Go!AB41=copy!$D$3,Go!AC41=copy!$D$3,Go!AD41=copy!$F$3),1,IF(AND(Go!AB41=copy!$D$3,Go!AC41=copy!$D$3,Go!AD41=copy!$F$3),\"%\",\"\"))","v":""},{"$f":"IF(AND(ROW(AE86)+COLUMN(AE86)/100<=$B$51,Go!AC41=copy!$D$3,Go!AD41=copy!$D$3,Go!AE41=copy!$F$3),1,IF(AND(Go!AC41=copy!$D$3,Go!AD41=copy!$D$3,Go!AE41=copy!$F$3),\"%\",\"\"))","v":""},{"$f":"IF(AND(ROW(AF86)+COLUMN(AF86)/100<=$B$51,Go!AD41=copy!$D$3,Go!AE41=copy!$D$3,Go!AF41=copy!$F$3),1,IF(AND(Go!AD41=copy!$D$3,Go!AE41=copy!$D$3,Go!AF41=copy!$F$3),\"%\",\"\"))","v":""},{"$f":"IF(AND(ROW(AG86)+COLUMN(AG86)/100<=$B$51,Go!AE41=copy!$D$3,Go!AF41=copy!$D$3,Go!AG41=copy!$F$3),1,IF(AND(Go!AE41=copy!$D$3,Go!AF41=copy!$D$3,Go!AG41=copy!$F$3),\"%\",\"\"))","v":""},{"$f":"IF(AND(ROW(AH86)+COLUMN(AH86)/100<=$B$51,Go!AF41=copy!$D$3,Go!AG41=copy!$D$3,Go!AH41=copy!$F$3),1,IF(AND(Go!AF41=copy!$D$3,Go!AG41=copy!$D$3,Go!AH41=copy!$F$3),\"%\",\"\"))","v":""},{"$f":"Go!AI132","v":0}]
[null,null,null,{"$f":"Go!D133","v":0},{"$f":"IF(AND(ROW(E87)+COLUMN(E87)/100<=$B$51,Go!AG41=copy!$D$3,Go!AH41=copy!$D$3,Go!E42=copy!$F$3),1,\"\")","v":""},{"$f":"IF(AND(ROW(F87)+COLUMN(F87)/100<=$B$51,Go!AH41=copy!$D$3,Go!E42=copy!$D$3,Go!F42=copy!$F$3),1,\"\")","v":""},{"$f":"IF(AND(ROW(G87)+COLUMN(G87)/100<=$B$51,Go!E42=copy!$D$3,Go!F42=copy!$D$3,Go!G42=copy!$F$3),1,IF(AND(Go!E42=copy!$D$3,Go!F42=copy!$D$3,Go!G42=copy!$F$3),\"%\",\"\"))","v":""},{"$f":"IF(AND(ROW(H87)+COLUMN(H87)/100<=$B$51,Go!F42=copy!$D$3,Go!G42=copy!$D$3,Go!H42=copy!$F$3),1,IF(AND(Go!F42=copy!$D$3,Go!G42=copy!$D$3,Go!H42=copy!$F$3),\"%\",\"\"))","v":""},{"$f":"IF(AND(ROW(I87)+COLUMN(I87)/100<=$B$51,Go!G42=copy!$D$3,Go!H42=copy!$D$3,Go!I42=copy!$F$3),1,IF(AND(Go!G42=copy!$D$3,Go!H42=copy!$D$3,Go!I42=copy!$F$3),\"%\",\"\"))","v":""},{"$f":"IF(AND(ROW(J87)+COLUMN(J87)/100<=$B$51,Go!H42=copy!$D$3,Go!I42=copy!$D$3,Go!J42=copy!$F$3),1,IF(AND(Go!H42=copy!$D$3,Go!I42=copy!$D$3,Go!J42=copy!$F$3),\"%\",\"\"))","v":""},{"$f":"IF(AND(ROW(K87)+COLUMN(K87)/100<=$B$51,Go!I42=copy!$D$3,Go!J42=copy!$D$3,Go!K42=copy!$F$3),1,IF(AND(Go!I42=copy!$D$3,Go!J42=copy!$D$3,Go!K42=copy!$F$3),\"%\",\"\"))","v":""},{"$f":"IF(AND(ROW(L87)+COLUMN(L87)/100<=$B$51,Go!J42=copy!$D$3,Go!K42=copy!$D$3,Go!L42=copy!$F$3),1,IF(AND(Go!J42=copy!$D$3,Go!K42=copy!$D$3,Go!L42=copy!$F$3),\"%\",\"\"))","v":""},{"$f":"IF(AND(ROW(M87)+COLUMN(M87)/100<=$B$51,Go!K42=copy!$D$3,Go!L42=copy!$D$3,Go!M42=copy!$F$3),1,IF(AND(Go!K42=copy!$D$3,Go!L42=copy!$D$3,Go!M42=copy!$F$3),\"%\",\"\"))","v":""},{"$f":"IF(AND(ROW(N87)+COLUMN(N87)/100<=$B$51,Go!L42=copy!$D$3,Go!M42=copy!$D$3,Go!N42=copy!$F$3),1,IF(AND(Go!L42=copy!$D$3,Go!M42=copy!$D$3,Go!N42=copy!$F$3),\"%\",\"\"))","v":""},{"$f":"IF(AND(ROW(O87)+COLUMN(O87)/100<=$B$51,Go!M42=copy!$D$3,Go!N42=copy!$D$3,Go!O42=copy!$F$3),1,IF(AND(Go!M42=copy!$D$3,Go!N42=copy!$D$3,Go!O42=copy!$F$3),\"%\",\"\"))","v":""},{"$f":"IF(AND(ROW(P87)+COLUMN(P87)/100<=$B$51,Go!N42=copy!$D$3,Go!O42=copy!$D$3,Go!P42=copy!$F$3),1,IF(AND(Go!N42=copy!$D$3,Go!O42=copy!$D$3,Go!P42=copy!$F$3),\"%\",\"\"))","v":""},{"$f":"IF(AND(ROW(Q87)+COLUMN(Q87)/100<=$B$51,Go!O42=copy!$D$3,Go!P42=copy!$D$3,Go!Q42=copy!$F$3),1,IF(AND(Go!O42=copy!$D$3,Go!P42=copy!$D$3,Go!Q42=copy!$F$3),\"%\",\"\"))","v":""},{"$f":"IF(AND(ROW(R87)+COLUMN(R87)/100<=$B$51,Go!P42=copy!$D$3,Go!Q42=copy!$D$3,Go!R42=copy!$F$3),1,IF(AND(Go!P42=copy!$D$3,Go!Q42=copy!$D$3,Go!R42=copy!$F$3),\"%\",\"\"))","v":""},{"$f":"IF(AND(ROW(S87)+COLUMN(S87)/100<=$B$51,Go!Q42=copy!$D$3,Go!R42=copy!$D$3,Go!S42=copy!$F$3),1,IF(AND(Go!Q42=copy!$D$3,Go!R42=copy!$D$3,Go!S42=copy!$F$3),\"%\",\"\"))","v":""},{"$f":"IF(AND(ROW(T87)+COLUMN(T87)/100<=$B$51,Go!R42=copy!$D$3,Go!S42=copy!$D$3,Go!T42=copy!$F$3),1,IF(AND(Go!R42=copy!$D$3,Go!S42=copy!$D$3,Go!T42=copy!$F$3),\"%\",\"\"))","v":""},{"$f":"IF(AND(ROW(U87)+COLUMN(U87)/100<=$B$51,Go!S42=copy!$D$3,Go!T42=copy!$D$3,Go!U42=copy!$F$3),1,IF(AND(Go!S42=copy!$D$3,Go!T42=copy!$D$3,Go!U42=copy!$F$3),\"%\",\"\"))","v":""},{"$f":"IF(AND(ROW(V87)+COLUMN(V87)/100<=$B$51,Go!T42=copy!$D$3,Go!U42=copy!$D$3,Go!V42=copy!$F$3),1,IF(AND(Go!T42=copy!$D$3,Go!U42=copy!$D$3,Go!V42=copy!$F$3),\"%\",\"\"))","v":""},{"$f":"IF(AND(ROW(W87)+COLUMN(W87)/100<=$B$51,Go!U42=copy!$D$3,Go!V42=copy!$D$3,Go!W42=copy!$F$3),1,IF(AND(Go!U42=copy!$D$3,Go!V42=copy!$D$3,Go!W42=copy!$F$3),\"%\",\"\"))","v":""},{"$f":"IF(AND(ROW(X87)+COLUMN(X87)/100<=$B$51,Go!V42=copy!$D$3,Go!W42=copy!$D$3,Go!X42=copy!$F$3),1,IF(AND(Go!V42=copy!$D$3,Go!W42=copy!$D$3,Go!X42=copy!$F$3),\"%\",\"\"))","v":""},{"$f":"IF(AND(ROW(Y87)+COLUMN(Y87)/100<=$B$51,Go!W42=copy!$D$3,Go!X42=copy!$D$3,Go!Y42=copy!$F$3),1,IF(AND(Go!W42=copy!$D$3,Go!X42=copy!$D$3,Go!Y42=copy!$F$3),\"%\",\"\"))","v":""},{"$f":"IF(AND(ROW(Z87)+COLUMN(Z87)/100<=$B$51,Go!X42=copy!$D$3,Go!Y42=copy!$D$3,Go!Z42=copy!$F$3),1,IF(AND(Go!X42=copy!$D$3,Go!Y42=copy!$D$3,Go!Z42=copy!$F$3),\"%\",\"\"))","v":""},{"$f":"IF(AND(ROW(AA87)+COLUMN(AA87)/100<=$B$51,Go!Y42=copy!$D$3,Go!Z42=copy!$D$3,Go!AA42=copy!$F$3),1,IF(AND(Go!Y42=copy!$D$3,Go!Z42=copy!$D$3,Go!AA42=copy!$F$3),\"%\",\"\"))","v":""},{"$f":"IF(AND(ROW(AB87)+COLUMN(AB87)/100<=$B$51,Go!Z42=copy!$D$3,Go!AA42=copy!$D$3,Go!AB42=copy!$F$3),1,IF(AND(Go!Z42=copy!$D$3,Go!AA42=copy!$D$3,Go!AB42=copy!$F$3),\"%\",\"\"))","v":""},{"$f":"IF(AND(ROW(AC87)+COLUMN(AC87)/100<=$B$51,Go!AA42=copy!$D$3,Go!AB42=copy!$D$3,Go!AC42=copy!$F$3),1,IF(AND(Go!AA42=copy!$D$3,Go!AB42=copy!$D$3,Go!AC42=copy!$F$3),\"%\",\"\"))","v":""},{"$f":"IF(AND(ROW(AD87)+COLUMN(AD87)/100<=$B$51,Go!AB42=copy!$D$3,Go!AC42=copy!$D$3,Go!AD42=copy!$F$3),1,IF(AND(Go!AB42=copy!$D$3,Go!AC42=copy!$D$3,Go!AD42=copy!$F$3),\"%\",\"\"))","v":""},{"$f":"IF(AND(ROW(AE87)+COLUMN(AE87)/100<=$B$51,Go!AC42=copy!$D$3,Go!AD42=copy!$D$3,Go!AE42=copy!$F$3),1,IF(AND(Go!AC42=copy!$D$3,Go!AD42=copy!$D$3,Go!AE42=copy!$F$3),\"%\",\"\"))","v":""},{"$f":"IF(AND(ROW(AF87)+COLUMN(AF87)/100<=$B$51,Go!AD42=copy!$D$3,Go!AE42=copy!$D$3,Go!AF42=copy!$F$3),1,IF(AND(Go!AD42=copy!$D$3,Go!AE42=copy!$D$3,Go!AF42=copy!$F$3),\"%\",\"\"))","v":""},{"$f":"IF(AND(ROW(AG87)+COLUMN(AG87)/100<=$B$51,Go!AE42=copy!$D$3,Go!AF42=copy!$D$3,Go!AG42=copy!$F$3),1,IF(AND(Go!AE42=copy!$D$3,Go!AF42=copy!$D$3,Go!AG42=copy!$F$3),\"%\",\"\"))","v":""},{"$f":"IF(AND(ROW(AH87)+COLUMN(AH87)/100<=$B$51,Go!AF42=copy!$D$3,Go!AG42=copy!$D$3,Go!AH42=copy!$F$3),1,IF(AND(Go!AF42=copy!$D$3,Go!AG42=copy!$D$3,Go!AH42=copy!$F$3),\"%\",\"\"))","v":""},{"$f":"Go!AI133","v":0}]
[null,null,null,{"$f":"Go!D134","v":0},{"$f":"IF(AND(ROW(E88)+COLUMN(E88)/100<=$B$51,Go!AG42=copy!$D$3,Go!AH42=copy!$D$3,Go!E43=copy!$F$3),1,\"\")","v":""},{"$f":"IF(AND(ROW(F88)+COLUMN(F88)/100<=$B$51,Go!AH42=copy!$D$3,Go!E43=copy!$D$3,Go!F43=copy!$F$3),1,\"\")","v":""},{"$f":"IF(AND(ROW(G88)+COLUMN(G88)/100<=$B$51,Go!E43=copy!$D$3,Go!F43=copy!$D$3,Go!G43=copy!$F$3),1,IF(AND(Go!E43=copy!$D$3,Go!F43=copy!$D$3,Go!G43=copy!$F$3),\"%\",\"\"))","v":""},{"$f":"IF(AND(ROW(H88)+COLUMN(H88)/100<=$B$51,Go!F43=copy!$D$3,Go!G43=copy!$D$3,Go!H43=copy!$F$3),1,IF(AND(Go!F43=copy!$D$3,Go!G43=copy!$D$3,Go!H43=copy!$F$3),\"%\",\"\"))","v":""},{"$f":"IF(AND(ROW(I88)+COLUMN(I88)/100<=$B$51,Go!G43=copy!$D$3,Go!H43=copy!$D$3,Go!I43=copy!$F$3),1,IF(AND(Go!G43=copy!$D$3,Go!H43=copy!$D$3,Go!I43=copy!$F$3),\"%\",\"\"))","v":""},{"$f":"IF(AND(ROW(J88)+COLUMN(J88)/100<=$B$51,Go!H43=copy!$D$3,Go!I43=copy!$D$3,Go!J43=copy!$F$3),1,IF(AND(Go!H43=copy!$D$3,Go!I43=copy!$D$3,Go!J43=copy!$F$3),\"%\",\"\"))","v":""},{"$f":"IF(AND(ROW(K88)+COLUMN(K88)/100<=$B$51,Go!I43=copy!$D$3,Go!J43=copy!$D$3,Go!K43=copy!$F$3),1,IF(AND(Go!I43=copy!$D$3,Go!J43=copy!$D$3,Go!K43=copy!$F$3),\"%\",\"\"))","v":""},{"$f":"IF(AND(ROW(L88)+COLUMN(L88)/100<=$B$51,Go!J43=copy!$D$3,Go!K43=copy!$D$3,Go!L43=copy!$F$3),1,IF(AND(Go!J43=copy!$D$3,Go!K43=copy!$D$3,Go!L43=copy!$F$3),\"%\",\"\"))","v":""},{"$f":"IF(AND(ROW(M88)+COLUMN(M88)/100<=$B$51,Go!K43=copy!$D$3,Go!L43=copy!$D$3,Go!M43=copy!$F$3),1,IF(AND(Go!K43=copy!$D$3,Go!L43=copy!$D$3,Go!M43=copy!$F$3),\"%\",\"\"))","v":""},{"$f":"IF(AND(ROW(N88)+COLUMN(N88)/100<=$B$51,Go!L43=copy!$D$3,Go!M43=copy!$D$3,Go!N43=copy!$F$3),1,IF(AND(Go!L43=copy!$D$3,Go!M43=copy!$D$3,Go!N43=copy!$F$3),\"%\",\"\"))","v":""},{"$f":"IF(AND(ROW(O88)+COLUMN(O88)/100<=$B$51,Go!M43=copy!$D$3,Go!N43=copy!$D$3,Go!O43=copy!$F$3),1,IF(AND(Go!M43=copy!$D$3,Go!N43=copy!$D$3,Go!O43=copy!$F$3),\"%\",\"\"))","v":""},{"$f":"IF(AND(ROW(P88)+COLUMN(P88)/100<=$B$51,Go!N43=copy!$D$3,Go!O43=copy!$D$3,Go!P43=copy!$F$3),1,IF(AND(Go!N43=copy!$D$3,Go!O43=copy!$D$3,Go!P43=copy!$F$3),\"%\",\"\"))","v":""},{"$f":"IF(AND(ROW(Q88)+COLUMN(Q88)/100<=$B$51,Go!O43=copy!$D$3,Go!P43=copy!$D$3,Go!Q43=copy!$F$3),1,IF(AND(Go!O43=copy!$D$3,Go!P43=copy!$D$3,Go!Q43=copy!$F$3),\"%\",\"\"))","v":""},{"$f":"IF(AND(ROW(R88)+COLUMN(R88)/100<=$B$51,Go!P43=copy!$D$3,Go!Q43=copy!$D$3,Go!R43=copy!$F$3),1,IF(AND(Go!P43=copy!$D$3,Go!Q43=copy!$D$3,Go!R43=copy!$F$3),\"%\",\"\"))","v":""},{"$f":"IF(AND(ROW(S88)+COLUMN(S88)/100<=$B$51,Go!Q43=copy!$D$3,Go!R43=copy!$D$3,Go!S43=copy!$F$3),1,IF(AND(Go!Q43=copy!$D$3,Go!R43=copy!$D$3,Go!S43=copy!$F$3),\"%\",\"\"))","v":""},{"$f":"IF(AND(ROW(T88)+COLUMN(T88)/100<=$B$51,Go!R43=copy!$D$3,Go!S43=copy!$D$3,Go!T43=copy!$F$3),1,IF(AND(Go!R43=copy!$D$3,Go!S43=copy!$D$3,Go!T43=copy!$F$3),\"%\",\"\"))","v":""},{"$f":"IF(AND(ROW(U88)+COLUMN(U88)/100<=$B$51,Go!S43=copy!$D$3,Go!T43=copy!$D$3,Go!U43=copy!$F$3),1,IF(AND(Go!S43=copy!$D$3,Go!T43=copy!$D$3,Go!U43=copy!$F$3),\"%\",\"\"))","v":""},{"$f":"IF(AND(ROW(V88)+COLUMN(V88)/100<=$B$51,Go!T43=copy!$D$3,Go!U43=copy!$D$3,Go!V43=copy!$F$3),1,IF(AND(Go!T43=copy!$D$3,Go!U43=copy!$D$3,Go!V43=copy!$F$3),\"%\",\"\"))","v":""},{"$f":"IF(AND(ROW(W88)+COLUMN(W88)/100<=$B$51,Go!U43=copy!$D$3,Go!V43=copy!$D$3,Go!W43=copy!$F$3),1,IF(AND(Go!U43=copy!$D$3,Go!V43=copy!$D$3,Go!W43=copy!$F$3),\"%\",\"\"))","v":""},{"$f":"IF(AND(ROW(X88)+COLUMN(X88)/100<=$B$51,Go!V43=copy!$D$3,Go!W43=copy!$D$3,Go!X43=copy!$F$3),1,IF(AND(Go!V43=copy!$D$3,Go!W43=copy!$D$3,Go!X43=copy!$F$3),\"%\",\"\"))","v":""},{"$f":"IF(AND(ROW(Y88)+COLUMN(Y88)/100<=$B$51,Go!W43=copy!$D$3,Go!X43=copy!$D$3,Go!Y43=copy!$F$3),1,IF(AND(Go!W43=copy!$D$3,Go!X43=copy!$D$3,Go!Y43=copy!$F$3),\"%\",\"\"))","v":""},{"$f":"IF(AND(ROW(Z88)+COLUMN(Z88)/100<=$B$51,Go!X43=copy!$D$3,Go!Y43=copy!$D$3,Go!Z43=copy!$F$3),1,IF(AND(Go!X43=copy!$D$3,Go!Y43=copy!$D$3,Go!Z43=copy!$F$3),\"%\",\"\"))","v":""},{"$f":"IF(AND(ROW(AA88)+COLUMN(AA88)/100<=$B$51,Go!Y43=copy!$D$3,Go!Z43=copy!$D$3,Go!AA43=copy!$F$3),1,IF(AND(Go!Y43=copy!$D$3,Go!Z43=copy!$D$3,Go!AA43=copy!$F$3),\"%\",\"\"))","v":""},{"$f":"IF(AND(ROW(AB88)+COLUMN(AB88)/100<=$B$51,Go!Z43=copy!$D$3,Go!AA43=copy!$D$3,Go!AB43=copy!$F$3),1,IF(AND(Go!Z43=copy!$D$3,Go!AA43=copy!$D$3,Go!AB43=copy!$F$3),\"%\",\"\"))","v":""},{"$f":"IF(AND(ROW(AC88)+COLUMN(AC88)/100<=$B$51,Go!AA43=copy!$D$3,Go!AB43=copy!$D$3,Go!AC43=copy!$F$3),1,IF(AND(Go!AA43=copy!$D$3,Go!AB43=copy!$D$3,Go!AC43=copy!$F$3),\"%\",\"\"))","v":""},{"$f":"IF(AND(ROW(AD88)+COLUMN(AD88)/100<=$B$51,Go!AB43=copy!$D$3,Go!AC43=copy!$D$3,Go!AD43=copy!$F$3),1,IF(AND(Go!AB43=copy!$D$3,Go!AC43=copy!$D$3,Go!AD43=copy!$F$3),\"%\",\"\"))","v":""},{"$f":"IF(AND(ROW(AE88)+COLUMN(AE88)/100<=$B$51,Go!AC43=copy!$D$3,Go!AD43=copy!$D$3,Go!AE43=copy!$F$3),1,IF(AND(Go!AC43=copy!$D$3,Go!AD43=copy!$D$3,Go!AE43=copy!$F$3),\"%\",\"\"))","v":""},{"$f":"IF(AND(ROW(AF88)+COLUMN(AF88)/100<=$B$51,Go!AD43=copy!$D$3,Go!AE43=copy!$D$3,Go!AF43=copy!$F$3),1,IF(AND(Go!AD43=copy!$D$3,Go!AE43=copy!$D$3,Go!AF43=copy!$F$3),\"%\",\"\"))","v":""},{"$f":"IF(AND(ROW(AG88)+COLUMN(AG88)/100<=$B$51,Go!AE43=copy!$D$3,Go!AF43=copy!$D$3,Go!AG43=copy!$F$3),1,IF(AND(Go!AE43=copy!$D$3,Go!AF43=copy!$D$3,Go!AG43=copy!$F$3),\"%\",\"\"))","v":""},{"$f":"IF(AND(ROW(AH88)+COLUMN(AH88)/100<=$B$51,Go!AF43=copy!$D$3,Go!AG43=copy!$D$3,Go!AH43=copy!$F$3),1,IF(AND(Go!AF43=copy!$D$3,Go!AG43=copy!$D$3,Go!AH43=copy!$F$3),\"%\",\"\"))","v":""},{"$f":"Go!AI134","v":0}]
[null,null,null,{"$f":"Go!D135","v":0},{"$f":"IF(AND(ROW(E89)+COLUMN(E89)/100<=$B$51,Go!AG43=copy!$D$3,Go!AH43=copy!$D$3,Go!E44=copy!$F$3),1,\"\")","v":""},{"$f":"IF(AND(ROW(F89)+COLUMN(F89)/100<=$B$51,Go!AH43=copy!$D$3,Go!E44=copy!$D$3,Go!F44=copy!$F$3),1,\"\")","v":""},{"$f":"IF(AND(ROW(G89)+COLUMN(G89)/100<=$B$51,Go!E44=copy!$D$3,Go!F44=copy!$D$3,Go!G44=copy!$F$3),1,IF(AND(Go!E44=copy!$D$3,Go!F44=copy!$D$3,Go!G44=copy!$F$3),\"%\",\"\"))","v":""},{"$f":"IF(AND(ROW(H89)+COLUMN(H89)/100<=$B$51,Go!F44=copy!$D$3,Go!G44=copy!$D$3,Go!H44=copy!$F$3),1,IF(AND(Go!F44=copy!$D$3,Go!G44=copy!$D$3,Go!H44=copy!$F$3),\"%\",\"\"))","v":""},{"$f":"IF(AND(ROW(I89)+COLUMN(I89)/100<=$B$51,Go!G44=copy!$D$3,Go!H44=copy!$D$3,Go!I44=copy!$F$3),1,IF(AND(Go!G44=copy!$D$3,Go!H44=copy!$D$3,Go!I44=copy!$F$3),\"%\",\"\"))","v":""},{"$f":"IF(AND(ROW(J89)+COLUMN(J89)/100<=$B$51,Go!H44=copy!$D$3,Go!I44=copy!$D$3,Go!J44=copy!$F$3),1,IF(AND(Go!H44=copy!$D$3,Go!I44=copy!$D$3,Go!J44=copy!$F$3),\"%\",\"\"))","v":""},{"$f":"IF(AND(ROW(K89)+COLUMN(K89)/100<=$B$51,Go!I44=copy!$D$3,Go!J44=copy!$D$3,Go!K44=copy!$F$3),1,IF(AND(Go!I44=copy!$D$3,Go!J44=copy!$D$3,Go!K44=copy!$F$3),\"%\",\"\"))","v":""},{"$f":"IF(AND(ROW(L89)+COLUMN(L89)/100<=$B$51,Go!J44=copy!$D$3,Go!K44=copy!$D$3,Go!L44=copy!$F$3),1,IF(AND(Go!J44=copy!$D$3,Go!K44=copy!$D$3,Go!L44=copy!$F$3),\"%\",\"\"))","v":""},{"$f":"IF(AND(ROW(M89)+COLUMN(M89)/100<=$B$51,Go!K44=copy!$D$3,Go!L44=copy!$D$3,Go!M44=copy!$F$3),1,IF(AND(Go!K44=copy!$D$3,Go!L44=copy!$D$3,Go!M44=copy!$F$3),\"%\",\"\"))","v":""},{"$f":"IF(AND(ROW(N89)+COLUMN(N89)/100<=$B$51,Go!L44=copy!$D$3,Go!M44=copy!$D$3,Go!N44=copy!$F$3),1,IF(AND(Go!L44=copy!$D$3,Go!M44=copy!$D$3,Go!N44=copy!$F$3),\"%\",\"\"))","v":""},{"$f":"IF(AND(ROW(O89)+COLUMN(O89)/100<=$B$51,Go!M44=copy!$D$3,Go!N44=copy!$D$3,Go!O44=copy!$F$3),1,IF(AND(Go!M44=copy!$D$3,Go!N44=copy!$D$3,Go!O44=copy!$F$3),\"%\",\"\"))","v":""},{"$f":"IF(AND(ROW(P89)+COLUMN(P89)/100<=$B$51,Go!N44=copy!$D$3,Go!O44=copy!$D$3,Go!P44=copy!$F$3),1,IF(AND(Go!N44=copy!$D$3,Go!O44=copy!$D$3,Go!P44=copy!$F$3),\"%\",\"\"))","v":""},{"$f":"IF(AND(ROW(Q89)+COLUMN(Q89)/100<=$B$51,Go!O44=copy!$D$3,Go!P44=copy!$D$3,Go!Q44=copy!$F$3),1,IF(AND(Go!O44=copy!$D$3,Go!P44=copy!$D$3,Go!Q44=copy!$F$3),\"%\",\"\"))","v":""},{"$f":"IF(AND(ROW(R89)+COLUMN(R89)/100<=$B$51,Go!P44=copy!$D$3,Go!Q44=copy!$D$3,Go!R44=copy!$F$3),1,IF(AND(Go!P44=copy!$D$3,Go!Q44=copy!$D$3,Go!R44=copy!$F$3),\"%\",\"\"))","v":""},{"$f":"IF(AND(ROW(S89)+COLUMN(S89)/100<=$B$51,Go!Q44=copy!$D$3,Go!R44=copy!$D$3,Go!S44=copy!$F$3),1,IF(AND(Go!Q44=copy!$D$3,Go!R44=copy!$D$3,Go!S44=copy!$F$3),\"%\",\"\"))","v":""},{"$f":"IF(AND(ROW(T89)+COLUMN(T89)/100<=$B$51,Go!R44=copy!$D$3,Go!S44=copy!$D$3,Go!T44=copy!$F$3),1,IF(AND(Go!R44=copy!$D$3,Go!S44=copy!$D$3,Go!T44=copy!$F$3),\"%\",\"\"))","v":""},{"$f":"IF(AND(ROW(U89)+COLUMN(U89)/100<=$B$51,Go!S44=copy!$D$3,Go!T44=copy!$D$3,Go!U44=copy!$F$3),1,IF(AND(Go!S44=copy!$D$3,Go!T44=copy!$D$3,Go!U44=copy!$F$3),\"%\",\"\"))","v":""},{"$f":"IF(AND(ROW(V89)+COLUMN(V89)/100<=$B$51,Go!T44=copy!$D$3,Go!U44=copy!$D$3,Go!V44=copy!$F$3),1,IF(AND(Go!T44=copy!$D$3,Go!U44=copy!$D$3,Go!V44=copy!$F$3),\"%\",\"\"))","v":""},{"$f":"IF(AND(ROW(W89)+COLUMN(W89)/100<=$B$51,Go!U44=copy!$D$3,Go!V44=copy!$D$3,Go!W44=copy!$F$3),1,IF(AND(Go!U44=copy!$D$3,Go!V44=copy!$D$3,Go!W44=copy!$F$3),\"%\",\"\"))","v":""},{"$f":"IF(AND(ROW(X89)+COLUMN(X89)/100<=$B$51,Go!V44=copy!$D$3,Go!W44=copy!$D$3,Go!X44=copy!$F$3),1,IF(AND(Go!V44=copy!$D$3,Go!W44=copy!$D$3,Go!X44=copy!$F$3),\"%\",\"\"))","v":""},{"$f":"IF(AND(ROW(Y89)+COLUMN(Y89)/100<=$B$51,Go!W44=copy!$D$3,Go!X44=copy!$D$3,Go!Y44=copy!$F$3),1,IF(AND(Go!W44=copy!$D$3,Go!X44=copy!$D$3,Go!Y44=copy!$F$3),\"%\",\"\"))","v":""},{"$f":"IF(AND(ROW(Z89)+COLUMN(Z89)/100<=$B$51,Go!X44=copy!$D$3,Go!Y44=copy!$D$3,Go!Z44=copy!$F$3),1,IF(AND(Go!X44=copy!$D$3,Go!Y44=copy!$D$3,Go!Z44=copy!$F$3),\"%\",\"\"))","v":""},{"$f":"IF(AND(ROW(AA89)+COLUMN(AA89)/100<=$B$51,Go!Y44=copy!$D$3,Go!Z44=copy!$D$3,Go!AA44=copy!$F$3),1,IF(AND(Go!Y44=copy!$D$3,Go!Z44=copy!$D$3,Go!AA44=copy!$F$3),\"%\",\"\"))","v":""},{"$f":"IF(AND(ROW(AB89)+COLUMN(AB89)/100<=$B$51,Go!Z44=copy!$D$3,Go!AA44=copy!$D$3,Go!AB44=copy!$F$3),1,IF(AND(Go!Z44=copy!$D$3,Go!AA44=copy!$D$3,Go!AB44=copy!$F$3),\"%\",\"\"))","v":""},{"$f":"IF(AND(ROW(AC89)+COLUMN(AC89)/100<=$B$51,Go!AA44=copy!$D$3,Go!AB44=copy!$D$3,Go!AC44=copy!$F$3),1,IF(AND(Go!AA44=copy!$D$3,Go!AB44=copy!$D$3,Go!AC44=copy!$F$3),\"%\",\"\"))","v":""},{"$f":"IF(AND(ROW(AD89)+COLUMN(AD89)/100<=$B$51,Go!AB44=copy!$D$3,Go!AC44=copy!$D$3,Go!AD44=copy!$F$3),1,IF(AND(Go!AB44=copy!$D$3,Go!AC44=copy!$D$3,Go!AD44=copy!$F$3),\"%\",\"\"))","v":""},{"$f":"IF(AND(ROW(AE89)+COLUMN(AE89)/100<=$B$51,Go!AC44=copy!$D$3,Go!AD44=copy!$D$3,Go!AE44=copy!$F$3),1,IF(AND(Go!AC44=copy!$D$3,Go!AD44=copy!$D$3,Go!AE44=copy!$F$3),\"%\",\"\"))","v":""},{"$f":"IF(AND(ROW(AF89)+COLUMN(AF89)/100<=$B$51,Go!AD44=copy!$D$3,Go!AE44=copy!$D$3,Go!AF44=copy!$F$3),1,IF(AND(Go!AD44=copy!$D$3,Go!AE44=copy!$D$3,Go!AF44=copy!$F$3),\"%\",\"\"))","v":""},{"$f":"IF(AND(ROW(AG89)+COLUMN(AG89)/100<=$B$51,Go!AE44=copy!$D$3,Go!AF44=copy!$D$3,Go!AG44=copy!$F$3),1,IF(AND(Go!AE44=copy!$D$3,Go!AF44=copy!$D$3,Go!AG44=copy!$F$3),\"%\",\"\"))","v":""},{"$f":"IF(AND(ROW(AH89)+COLUMN(AH89)/100<=$B$51,Go!AF44=copy!$D$3,Go!AG44=copy!$D$3,Go!AH44=copy!$F$3),1,IF(AND(Go!AF44=copy!$D$3,Go!AG44=copy!$D$3,Go!AH44=copy!$F$3),\"%\",\"\"))","v":""},{"$f":"Go!AI135","v":0}]
[null,null,null,{"$f":"Go!D136","v":0},{"$f":"IF(AND(ROW(E90)+COLUMN(E90)/100<=$B$51,Go!AG44=copy!$D$3,Go!AH44=copy!$D$3,Go!E45=copy!$F$3),1,\"\")","v":""},{"$f":"IF(AND(ROW(F90)+COLUMN(F90)/100<=$B$51,Go!AH44=copy!$D$3,Go!E45=copy!$D$3,Go!F45=copy!$F$3),1,\"\")","v":""},{"$f":"IF(AND(ROW(G90)+COLUMN(G90)/100<=$B$51,Go!E45=copy!$D$3,Go!F45=copy!$D$3,Go!G45=copy!$F$3),1,IF(AND(Go!E45=copy!$D$3,Go!F45=copy!$D$3,Go!G45=copy!$F$3),\"%\",\"\"))","v":""},{"$f":"IF(AND(ROW(H90)+COLUMN(H90)/100<=$B$51,Go!F45=copy!$D$3,Go!G45=copy!$D$3,Go!H45=copy!$F$3),1,IF(AND(Go!F45=copy!$D$3,Go!G45=copy!$D$3,Go!H45=copy!$F$3),\"%\",\"\"))","v":""},{"$f":"IF(AND(ROW(I90)+COLUMN(I90)/100<=$B$51,Go!G45=copy!$D$3,Go!H45=copy!$D$3,Go!I45=copy!$F$3),1,IF(AND(Go!G45=copy!$D$3,Go!H45=copy!$D$3,Go!I45=copy!$F$3),\"%\",\"\"))","v":""},{"$f":"IF(AND(ROW(J90)+COLUMN(J90)/100<=$B$51,Go!H45=copy!$D$3,Go!I45=copy!$D$3,Go!J45=copy!$F$3),1,IF(AND(Go!H45=copy!$D$3,Go!I45=copy!$D$3,Go!J45=copy!$F$3),\"%\",\"\"))","v":""},{"$f":"IF(AND(ROW(K90)+COLUMN(K90)/100<=$B$51,Go!I45=copy!$D$3,Go!J45=copy!$D$3,Go!K45=copy!$F$3),1,IF(AND(Go!I45=copy!$D$3,Go!J45=copy!$D$3,Go!K45=copy!$F$3),\"%\",\"\"))","v":""},{"$f":"IF(AND(ROW(L90)+COLUMN(L90)/100<=$B$51,Go!J45=copy!$D$3,Go!K45=copy!$D$3,Go!L45=copy!$F$3),1,IF(AND(Go!J45=copy!$D$3,Go!K45=copy!$D$3,Go!L45=copy!$F$3),\"%\",\"\"))","v":""},{"$f":"IF(AND(ROW(M90)+COLUMN(M90)/100<=$B$51,Go!K45=copy!$D$3,Go!L45=copy!$D$3,Go!M45=copy!$F$3),1,IF(AND(Go!K45=copy!$D$3,Go!L45=copy!$D$3,Go!M45=copy!$F$3),\"%\",\"\"))","v":""},{"$f":"IF(AND(ROW(N90)+COLUMN(N90)/100<=$B$51,Go!L45=copy!$D$3,Go!M45=copy!$D$3,Go!N45=copy!$F$3),1,IF(AND(Go!L45=copy!$D$3,Go!M45=copy!$D$3,Go!N45=copy!$F$3),\"%\",\"\"))","v":""},{"$f":"IF(AND(ROW(O90)+COLUMN(O90)/100<=$B$51,Go!M45=copy!$D$3,Go!N45=copy!$D$3,Go!O45=copy!$F$3),1,IF(AND(Go!M45=copy!$D$3,Go!N45=copy!$D$3,Go!O45=copy!$F$3),\"%\",\"\"))","v":""},{"$f":"IF(AND(ROW(P90)+COLUMN(P90)/100<=$B$51,Go!N45=copy!$D$3,Go!O45=copy!$D$3,Go!P45=copy!$F$3),1,IF(AND(Go!N45=copy!$D$3,Go!O45=copy!$D$3,Go!P45=copy!$F$3),\"%\",\"\"))","v":""},{"$f":"IF(AND(ROW(Q90)+COLUMN(Q90)/100<=$B$51,Go!O45=copy!$D$3,Go!P45=copy!$D$3,Go!Q45=copy!$F$3),1,IF(AND(Go!O45=copy!$D$3,Go!P45=copy!$D$3,Go!Q45=copy!$F$3),\"%\",\"\"))","v":""},{"$f":"IF(AND(ROW(R90)+COLUMN(R90)/100<=$B$51,Go!P45=copy!$D$3,Go!Q45=copy!$D$3,Go!R45=copy!$F$3),1,IF(AND(Go!P45=copy!$D$3,Go!Q45=copy!$D$3,Go!R45=copy!$F$3),\"%\",\"\"))","v":""},{"$f":"IF(AND(ROW(S90)+COLUMN(S90)/100<=$B$51,Go!Q45=copy!$D$3,Go!R45=copy!$D$3,Go!S45=copy!$F$3),1,IF(AND(Go!Q45=copy!$D$3,Go!R45=copy!$D$3,Go!S45=copy!$F$3),\"%\",\"\"))","v":""},{"$f":"IF(AND(ROW(T90)+COLUMN(T90)/100<=$B$51,Go!R45=copy!$D$3,Go!S45=copy!$D$3,Go!T45=copy!$F$3),1,IF(AND(Go!R45=copy!$D$3,Go!S45=copy!$D$3,Go!T45=copy!$F$3),\"%\",\"\"))","v":""},{"$f":"IF(AND(ROW(U90)+COLUMN(U90)/100<=$B$51,Go!S45=copy!$D$3,Go!T45=copy!$D$3,Go!U45=copy!$F$3),1,IF(AND(Go!S45=copy!$D$3,Go!T45=copy!$D$3,Go!U45=copy!$F$3),\"%\",\"\"))","v":""},{"$f":"IF(AND(ROW(V90)+COLUMN(V90)/100<=$B$51,Go!T45=copy!$D$3,Go!U45=copy!$D$3,Go!V45=copy!$F$3),1,IF(AND(Go!T45=copy!$D$3,Go!U45=copy!$D$3,Go!V45=copy!$F$3),\"%\",\"\"))","v":""},{"$f":"IF(AND(ROW(W90)+COLUMN(W90)/100<=$B$51,Go!U45=copy!$D$3,Go!V45=copy!$D$3,Go!W45=copy!$F$3),1,IF(AND(Go!U45=copy!$D$3,Go!V45=copy!$D$3,Go!W45=copy!$F$3),\"%\",\"\"))","v":""},{"$f":"IF(AND(ROW(X90)+COLUMN(X90)/100<=$B$51,Go!V45=copy!$D$3,Go!W45=copy!$D$3,Go!X45=copy!$F$3),1,IF(AND(Go!V45=copy!$D$3,Go!W45=copy!$D$3,Go!X45=copy!$F$3),\"%\",\"\"))","v":""},{"$f":"IF(AND(ROW(Y90)+COLUMN(Y90)/100<=$B$51,Go!W45=copy!$D$3,Go!X45=copy!$D$3,Go!Y45=copy!$F$3),1,IF(AND(Go!W45=copy!$D$3,Go!X45=copy!$D$3,Go!Y45=copy!$F$3),\"%\",\"\"))","v":""},{"$f":"IF(AND(ROW(Z90)+COLUMN(Z90)/100<=$B$51,Go!X45=copy!$D$3,Go!Y45=copy!$D$3,Go!Z45=copy!$F$3),1,IF(AND(Go!X45=copy!$D$3,Go!Y45=copy!$D$3,Go!Z45=copy!$F$3),\"%\",\"\"))","v":""},{"$f":"IF(AND(ROW(AA90)+COLUMN(AA90)/100<=$B$51,Go!Y45=copy!$D$3,Go!Z45=copy!$D$3,Go!AA45=copy!$F$3),1,IF(AND(Go!Y45=copy!$D$3,Go!Z45=copy!$D$3,Go!AA45=copy!$F$3),\"%\",\"\"))","v":""},{"$f":"IF(AND(ROW(AB90)+COLUMN(AB90)/100<=$B$51,Go!Z45=copy!$D$3,Go!AA45=copy!$D$3,Go!AB45=copy!$F$3),1,IF(AND(Go!Z45=copy!$D$3,Go!AA45=copy!$D$3,Go!AB45=copy!$F$3),\"%\",\"\"))","v":""},{"$f":"IF(AND(ROW(AC90)+COLUMN(AC90)/100<=$B$51,Go!AA45=copy!$D$3,Go!AB45=copy!$D$3,Go!AC45=copy!$F$3),1,IF(AND(Go!AA45=copy!$D$3,Go!AB45=copy!$D$3,Go!AC45=copy!$F$3),\"%\",\"\"))","v":""},{"$f":"IF(AND(ROW(AD90)+COLUMN(AD90)/100<=$B$51,Go!AB45=copy!$D$3,Go!AC45=copy!$D$3,Go!AD45=copy!$F$3),1,IF(AND(Go!AB45=copy!$D$3,Go!AC45=copy!$D$3,Go!AD45=copy!$F$3),\"%\",\"\"))","v":""},{"$f":"IF(AND(ROW(AE90)+COLUMN(AE90)/100<=$B$51,Go!AC45=copy!$D$3,Go!AD45=copy!$D$3,Go!AE45=copy!$F$3),1,IF(AND(Go!AC45=copy!$D$3,Go!AD45=copy!$D$3,Go!AE45=copy!$F$3),\"%\",\"\"))","v":""},{"$f":"IF(AND(ROW(AF90)+COLUMN(AF90)/100<=$B$51,Go!AD45=copy!$D$3,Go!AE45=copy!$D$3,Go!AF45=copy!$F$3),1,IF(AND(Go!AD45=copy!$D$3,Go!AE45=copy!$D$3,Go!AF45=copy!$F$3),\"%\",\"\"))","v":""},{"$f":"IF(AND(ROW(AG90)+COLUMN(AG90)/100<=$B$51,Go!AE45=copy!$D$3,Go!AF45=copy!$D$3,Go!AG45=copy!$F$3),1,IF(AND(Go!AE45=copy!$D$3,Go!AF45=copy!$D$3,Go!AG45=copy!$F$3),\"%\",\"\"))","v":""},{"$f":"IF(AND(ROW(AH90)+COLUMN(AH90)/100<=$B$51,Go!AF45=copy!$D$3,Go!AG45=copy!$D$3,Go!AH45=copy!$F$3),1,IF(AND(Go!AF45=copy!$D$3,Go!AG45=copy!$D$3,Go!AH45=copy!$F$3),\"%\",\"\"))","v":""},{"$f":"Go!AI136","v":0}]
[null,null,null,{"$f":"Go!D137","v":0},{"$f":"IF(AND(ROW(E91)+COLUMN(E91)/100<=$B$51,Go!AG45=copy!$D$3,Go!AH45=copy!$D$3,Go!E46=copy!$F$3),1,\"\")","v":""},{"$f":"IF(AND(ROW(F91)+COLUMN(F91)/100<=$B$51,Go!AH45=copy!$D$3,Go!E46=copy!$D$3,Go!F46=copy!$F$3),1,\"\")","v":""},{"$f":"IF(AND(ROW(G91)+COLUMN(G91)/100<=$B$51,Go!E46=copy!$D$3,Go!F46=copy!$D$3,Go!G46=copy!$F$3),1,IF(AND(Go!E46=copy!$D$3,Go!F46=copy!$D$3,Go!G46=copy!$F$3),\"%\",\"\"))","v":""},{"$f":"IF(AND(ROW(H91)+COLUMN(H91)/100<=$B$51,Go!F46=copy!$D$3,Go!G46=copy!$D$3,Go!H46=copy!$F$3),1,IF(AND(Go!F46=copy!$D$3,Go!G46=copy!$D$3,Go!H46=copy!$F$3),\"%\",\"\"))","v":""},{"$f":"IF(AND(ROW(I91)+COLUMN(I91)/100<=$B$51,Go!G46=copy!$D$3,Go!H46=copy!$D$3,Go!I46=copy!$F$3),1,IF(AND(Go!G46=copy!$D$3,Go!H46=copy!$D$3,Go!I46=copy!$F$3),\"%\",\"\"))","v":""},{"$f":"IF(AND(ROW(J91)+COLUMN(J91)/100<=$B$51,Go!H46=copy!$D$3,Go!I46=copy!$D$3,Go!J46=copy!$F$3),1,IF(AND(Go!H46=copy!$D$3,Go!I46=copy!$D$3,Go!J46=copy!$F$3),\"%\",\"\"))","v":""},{"$f":"IF(AND(ROW(K91)+COLUMN(K91)/100<=$B$51,Go!I46=copy!$D$3,Go!J46=copy!$D$3,Go!K46=copy!$F$3),1,IF(AND(Go!I46=copy!$D$3,Go!J46=copy!$D$3,Go!K46=copy!$F$3),\"%\",\"\"))","v":""},{"$f":"IF(AND(ROW(L91)+COLUMN(L91)/100<=$B$51,Go!J46=copy!$D$3,Go!K46=copy!$D$3,Go!L46=copy!$F$3),1,IF(AND(Go!J46=copy!$D$3,Go!K46=copy!$D$3,Go!L46=copy!$F$3),\"%\",\"\"))","v":""},{"$f":"IF(AND(ROW(M91)+COLUMN(M91)/100<=$B$51,Go!K46=copy!$D$3,Go!L46=copy!$D$3,Go!M46=copy!$F$3),1,IF(AND(Go!K46=copy!$D$3,Go!L46=copy!$D$3,Go!M46=copy!$F$3),\"%\",\"\"))","v":""},{"$f":"IF(AND(ROW(N91)+COLUMN(N91)/100<=$B$51,Go!L46=copy!$D$3,Go!M46=copy!$D$3,Go!N46=copy!$F$3),1,IF(AND(Go!L46=copy!$D$3,Go!M46=copy!$D$3,Go!N46=copy!$F$3),\"%\",\"\"))","v":""},{"$f":"IF(AND(ROW(O91)+COLUMN(O91)/100<=$B$51,Go!M46=copy!$D$3,Go!N46=copy!$D$3,Go!O46=copy!$F$3),1,IF(AND(Go!M46=copy!$D$3,Go!N46=copy!$D$3,Go!O46=copy!$F$3),\"%\",\"\"))","v":""},{"$f":"IF(AND(ROW(P91)+COLUMN(P91)/100<=$B$51,Go!N46=copy!$D$3,Go!O46=copy!$D$3,Go!P46=copy!$F$3),1,IF(AND(Go!N46=copy!$D$3,Go!O46=copy!$D$3,Go!P46=copy!$F$3),\"%\",\"\"))","v":""},{"$f":"IF(AND(ROW(Q91)+COLUMN(Q91)/100<=$B$51,Go!O46=copy!$D$3,Go!P46=copy!$D$3,Go!Q46=copy!$F$3),1,IF(AND(Go!O46=copy!$D$3,Go!P46=copy!$D$3,Go!Q46=copy!$F$3),\"%\",\"\"))","v":""},{"$f":"IF(AND(ROW(R91)+COLUMN(R91)/100<=$B$51,Go!P46=copy!$D$3,Go!Q46=copy!$D$3,Go!R46=copy!$F$3),1,IF(AND(Go!P46=copy!$D$3,Go!Q46=copy!$D$3,Go!R46=copy!$F$3),\"%\",\"\"))","v":""},{"$f":"IF(AND(ROW(S91)+COLUMN(S91)/100<=$B$51,Go!Q46=copy!$D$3,Go!R46=copy!$D$3,Go!S46=copy!$F$3),1,IF(AND(Go!Q46=copy!$D$3,Go!R46=copy!$D$3,Go!S46=copy!$F$3),\"%\",\"\"))","v":""},{"$f":"IF(AND(ROW(T91)+COLUMN(T91)/100<=$B$51,Go!R46=copy!$D$3,Go!S46=copy!$D$3,Go!T46=copy!$F$3),1,IF(AND(Go!R46=copy!$D$3,Go!S46=copy!$D$3,Go!T46=copy!$F$3),\"%\",\"\"))","v":""},{"$f":"IF(AND(ROW(U91)+COLUMN(U91)/100<=$B$51,Go!S46=copy!$D$3,Go!T46=copy!$D$3,Go!U46=copy!$F$3),1,IF(AND(Go!S46=copy!$D$3,Go!T46=copy!$D$3,Go!U46=copy!$F$3),\"%\",\"\"))","v":""},{"$f":"IF(AND(ROW(V91)+COLUMN(V91)/100<=$B$51,Go!T46=copy!$D$3,Go!U46=copy!$D$3,Go!V46=copy!$F$3),1,IF(AND(Go!T46=copy!$D$3,Go!U46=copy!$D$3,Go!V46=copy!$F$3),\"%\",\"\"))","v":""},{"$f":"IF(AND(ROW(W91)+COLUMN(W91)/100<=$B$51,Go!U46=copy!$D$3,Go!V46=copy!$D$3,Go!W46=copy!$F$3),1,IF(AND(Go!U46=copy!$D$3,Go!V46=copy!$D$3,Go!W46=copy!$F$3),\"%\",\"\"))","v":""},{"$f":"IF(AND(ROW(X91)+COLUMN(X91)/100<=$B$51,Go!V46=copy!$D$3,Go!W46=copy!$D$3,Go!X46=copy!$F$3),1,IF(AND(Go!V46=copy!$D$3,Go!W46=copy!$D$3,Go!X46=copy!$F$3),\"%\",\"\"))","v":""},{"$f":"IF(AND(ROW(Y91)+COLUMN(Y91)/100<=$B$51,Go!W46=copy!$D$3,Go!X46=copy!$D$3,Go!Y46=copy!$F$3),1,IF(AND(Go!W46=copy!$D$3,Go!X46=copy!$D$3,Go!Y46=copy!$F$3),\"%\",\"\"))","v":""},{"$f":"IF(AND(ROW(Z91)+COLUMN(Z91)/100<=$B$51,Go!X46=copy!$D$3,Go!Y46=copy!$D$3,Go!Z46=copy!$F$3),1,IF(AND(Go!X46=copy!$D$3,Go!Y46=copy!$D$3,Go!Z46=copy!$F$3),\"%\",\"\"))","v":""},{"$f":"IF(AND(ROW(AA91)+COLUMN(AA91)/100<=$B$51,Go!Y46=copy!$D$3,Go!Z46=copy!$D$3,Go!AA46=copy!$F$3),1,IF(AND(Go!Y46=copy!$D$3,Go!Z46=copy!$D$3,Go!AA46=copy!$F$3),\"%\",\"\"))","v":""},{"$f":"IF(AND(ROW(AB91)+COLUMN(AB91)/100<=$B$51,Go!Z46=copy!$D$3,Go!AA46=copy!$D$3,Go!AB46=copy!$F$3),1,IF(AND(Go!Z46=copy!$D$3,Go!AA46=copy!$D$3,Go!AB46=copy!$F$3),\"%\",\"\"))","v":""},{"$f":"IF(AND(ROW(AC91)+COLUMN(AC91)/100<=$B$51,Go!AA46=copy!$D$3,Go!AB46=copy!$D$3,Go!AC46=copy!$F$3),1,IF(AND(Go!AA46=copy!$D$3,Go!AB46=copy!$D$3,Go!AC46=copy!$F$3),\"%\",\"\"))","v":""},{"$f":"IF(AND(ROW(AD91)+COLUMN(AD91)/100<=$B$51,Go!AB46=copy!$D$3,Go!AC46=copy!$D$3,Go!AD46=copy!$F$3),1,IF(AND(Go!AB46=copy!$D$3,Go!AC46=copy!$D$3,Go!AD46=copy!$F$3),\"%\",\"\"))","v":""},{"$f":"IF(AND(ROW(AE91)+COLUMN(AE91)/100<=$B$51,Go!AC46=copy!$D$3,Go!AD46=copy!$D$3,Go!AE46=copy!$F$3),1,IF(AND(Go!AC46=copy!$D$3,Go!AD46=copy!$D$3,Go!AE46=copy!$F$3),\"%\",\"\"))","v":""},{"$f":"IF(AND(ROW(AF91)+COLUMN(AF91)/100<=$B$51,Go!AD46=copy!$D$3,Go!AE46=copy!$D$3,Go!AF46=copy!$F$3),1,IF(AND(Go!AD46=copy!$D$3,Go!AE46=copy!$D$3,Go!AF46=copy!$F$3),\"%\",\"\"))","v":""},{"$f":"IF(AND(ROW(AG91)+COLUMN(AG91)/100<=$B$51,Go!AE46=copy!$D$3,Go!AF46=copy!$D$3,Go!AG46=copy!$F$3),1,IF(AND(Go!AE46=copy!$D$3,Go!AF46=copy!$D$3,Go!AG46=copy!$F$3),\"%\",\"\"))","v":""},{"$f":"IF(AND(ROW(AH91)+COLUMN(AH91)/100<=$B$51,Go!AF46=copy!$D$3,Go!AG46=copy!$D$3,Go!AH46=copy!$F$3),1,IF(AND(Go!AF46=copy!$D$3,Go!AG46=copy!$D$3,Go!AH46=copy!$F$3),\"%\",\"\"))","v":""},{"$f":"Go!AI137","v":0}]
[null,null,null,{"$f":"Go!D138","v":0},1,2,3,4,5,6,7,8,9,10,11,12,13,14,15,16,17,18,19,20,21,22,23,24,25,26,27,28,29,30,{"$f":"Go!AI138","v":0}]

{"sheet":"copy","index":2,"n_rows":47,"n_cols":39,"rows_kept":47,"cut":false,"hidden":true,"merged":[]}
[]
[]
[null,null,null,{"$f":"VLOOKUP(Go!K2,copy!AK6:AM13,2,FALSE)","v":"Ͼ"},null,{"$f":"VLOOKUP(Go!K2,copy!AK6:AM13,3,FALSE)","v":"Ͽ"}]
[]
[null,null,null,null,"c","d","e","f","g","h","i","j","k","l","m","n","o","p","q","r","s","t","u","v","w","x","y","z","aa","ab","ac","ad","ae","af",null,null,"Choise","1","2"]
[null,null,null,"x",1,2,3,4,5,6,7,8,9,10,11,12,13,14,15,16,17,18,19,20,21,22,23,24,25,26,27,28,29,30,"x",null,"Ͼ Ͽ","Ͼ","Ͽ"]
[null,"status",null,1,{"$f":"IF(INDIRECT(\"'\"&Go!$G$2&\"'!\"&E$5&$AJ7)=1,$D$3,$F$3)","v":"Ͼ"},{"$f":"IF(INDIRECT(\"'\"&Go!$G$2&\"'!\"&F$5&$AJ7)=1,$D$3,$F$3)","v":"Ͼ"},{"$f":"IF(INDIRECT(\"'\"&Go!$G$2&\"'!\"&G$5&$AJ7)=1,$D$3,$F$3)","v":"Ͼ"},{"$f":"IF(INDIRECT(\"'\"&Go!$G$2&\"'!\"&H$5&$AJ7)=1,$D$3,$F$3)","v":"Ͼ"},{"$f":"IF(INDIRECT(\"'\"&Go!$G$2&\"'!\"&I$5&$AJ7)=1,$D$3,$F$3)","v":"Ͼ"},{"$f":"IF(INDIRECT(\"'\"&Go!$G$2&\"'!\"&J$5&$AJ7)=1,$D$3,$F$3)","v":"Ͼ"},{"$f":"IF(INDIRECT(\"'\"&Go!$G$2&\"'!\"&K$5&$AJ7)=1,$D$3,$F$3)","v":"Ͽ"},{"$f":"IF(INDIRECT(\"'\"&Go!$G$2&\"'!\"&L$5&$AJ7)=1,$D$3,$F$3)","v":"Ͼ"},{"$f":"IF(INDIRECT(\"'\"&Go!$G$2&\"'!\"&M$5&$AJ7)=1,$D$3,$F$3)","v":"Ͽ"},{"$f":"IF(INDIRECT(\"'\"&Go!$G$2&\"'!\"&N$5&$AJ7)=1,$D$3,$F$3)","v":"Ͽ"},{"$f":"IF(INDIRECT(\"'\"&Go!$G$2&\"'!\"&O$5&$AJ7)=1,$D$3,$F$3)","v":"Ͽ"},{"$f":"IF(INDIRECT(\"'\"&Go!$G$2&\"'!\"&P$5&$AJ7)=1,$D$3,$F$3)","v":"Ͼ"},{"$f":"IF(INDIRECT(\"'\"&Go!$G$2&\"'!\"&Q$5&$AJ7)=1,$D$3,$F$3)","v":"Ͽ"},{"$f":"IF(INDIRECT(\"'\"&Go!$G$2&\"'!\"&R$5&$AJ7)=1,$D$3,$F$3)","v":"Ͽ"},{"$f":"IF(INDIRECT(\"'\"&Go!$G$2&\"'!\"&S$5&$AJ7)=1,$D$3,$F$3)","v":"Ͼ"},{"$f":"IF(INDIRECT(\"'\"&Go!$G$2&\"'!\"&T$5&$AJ7)=1,$D$3,$F$3)","v":"Ͼ"},{"$f":"IF(INDIRECT(\"'\"&Go!$G$2&\"'!\"&U$5&$AJ7)=1,$D$3,$F$3)","v":"Ͽ"},{"$f":"IF(INDIRECT(\"'\"&Go!$G$2&\"'!\"&V$5&$AJ7)=1,$D$3,$F$3)","v":"Ͼ"},{"$f":"IF(INDIRECT(\"'\"&Go!$G$2&\"'!\"&W$5&$AJ7)=1,$D$3,$F$3)","v":"Ͽ"},{"$f":"IF(INDIRECT(\"'\"&Go!$G$2&\"'!\"&X$5&$AJ7)=1,$D$3,$F$3)","v":"Ͼ"},{"$f":"IF(INDIRECT(\"'\"&Go!$G$2&\"'!\"&Y$5&$AJ7)=1,$D$3,$F$3)","v":"Ͼ"},{"$f":"IF(INDIRECT(\"'\"&Go!$G$2&\"'!\"&Z$5&$AJ7)=1,$D$3,$F$3)","v":"Ͼ"},{"$f":"IF(INDIRECT(\"'\"&Go!$G$2&\"'!\"&AA$5&$AJ7)=1,$D$3,$F$3)","v":"Ͼ"},{"$f":"IF(INDIRECT(\"'\"&Go!$G$2&\"'!\"&AB$5&$AJ7)=1,$D$3,$F$3)","v":"Ͽ"},{"$f":"IF(INDIRECT(\"'\"&Go!$G$2&\"'!\"&AC$5&$AJ7)=1,$D$3,$F$3)","v":"Ͼ"},{"$f":"IF(INDIRECT(\"'\"&Go!$G$2&\"'!\"&AD$5&$AJ7)=1,$D$3,$F$3)","v":"Ͼ"},{"$f":"IF(INDIRECT(\"'\"&Go!$G$2&\"'!\"&AE$5&$AJ7)=1,$D$3,$F$3)","v":"Ͼ"},{"$f":"IF(INDIRECT(\"'\"&Go!$G$2&\"'!\"&AF$5&$AJ7)=1,$D$3,$F$3)","v":"Ͽ"},{"$f":"IF(INDIRECT(\"'\"&Go!$G$2&\"'!\"&AG$5&$AJ7)=1,$D$3,$F$3)","v":"Ͼ"},{"$f":"IF(INDIRECT(\"'\"&Go!$G$2&\"'!\"&AH$5&$AJ7)=1,$D$3,$F$3)","v":"Ͼ"},1,3,"x +","x","+"]
[null,"GO!",null,2,{"$f":"IF(INDIRECT(\"'\"&Go!$G$2&\"'!\"&E$5&$AJ8)=1,$D$3,$F$3)","v":"Ͼ"},{"$f":"IF(INDIRECT(\"'\"&Go!$G$2&\"'!\"&F$5&$AJ8)=1,$D$3,$F$3)","v":"Ͼ"},{"$f":"IF(INDIRECT(\"'\"&Go!$G$2&\"'!\"&G$5&$AJ8)=1,$D$3,$F$3)","v":"Ͽ"},{"$f":"IF(INDIRECT(\"'\"&Go!$G$2&\"'!\"&H$5&$AJ8)=1,$D$3,$F$3)","v":"Ͽ"},{"$f":"IF(INDIRECT(\"'\"&Go!$G$2&\"'!\"&I$5&$AJ8)=1,$D$3,$F$3)","v":"Ͼ"},{"$f":"IF(INDIRECT(\"'\"&Go!$G$2&\"'!\"&J$5&$AJ8)=1,$D$3,$F$3)","v":"Ͽ"},{"$f":"IF(INDIRECT(\"'\"&Go!$G$2&\"'!\"&K$5&$AJ8)=1,$D$3,$F$3)","v":"Ͼ"},{"$f":"IF(INDIRECT(\"'\"&Go!$G$2&\"'!\"&L$5&$AJ8)=1,$D$3,$F$3)","v":"Ͽ"},{"$f":"IF(INDIRECT(\"'\"&Go!$G$2&\"'!\"&M$5&$AJ8)=1,$D$3,$F$3)","v":"Ͽ"},{"$f":"IF(INDIRECT(\"'\"&Go!$G$2&\"'!\"&N$5&$AJ8)=1,$D$3,$F$3)","v":"Ͼ"},{"$f":"IF(INDIRECT(\"'\"&Go!$G$2&\"'!\"&O$5&$AJ8)=1,$D$3,$F$3)","v":"Ͽ"},{"$f":"IF(INDIRECT(\"'\"&Go!$G$2&\"'!\"&P$5&$AJ8)=1,$D$3,$F$3)","v":"Ͼ"},{"$f":"IF(INDIRECT(\"'\"&Go!$G$2&\"'!\"&Q$5&$AJ8)=1,$D$3,$F$3)","v":"Ͼ"},{"$f":"IF(INDIRECT(\"'\"&Go!$G$2&\"'!\"&R$5&$AJ8)=1,$D$3,$F$3)","v":"Ͼ"},{"$f":"IF(INDIRECT(\"'\"&Go!$G$2&\"'!\"&S$5&$AJ8)=1,$D$3,$F$3)","v":"Ͼ"},{"$f":"IF(INDIRECT(\"'\"&Go!$G$2&\"'!\"&T$5&$AJ8)=1,$D$3,$F$3)","v":"Ͼ"},{"$f":"IF(INDIRECT(\"'\"&Go!$G$2&\"'!\"&U$5&$AJ8)=1,$D$3,$F$3)","v":"Ͽ"},{"$f":"IF(INDIRECT(\"'\"&Go!$G$2&\"'!\"&V$5&$AJ8)=1,$D$3,$F$3)","v":"Ͼ"},{"$f":"IF(INDIRECT(\"'\"&Go!$G$2&\"'!\"&W$5&$AJ8)=1,$D$3,$F$3)","v":"Ͽ"},{"$f":"IF(INDIRECT(\"'\"&Go!$G$2&\"'!\"&X$5&$AJ8)=1,$D$3,$F$3)","v":"Ͼ"},{"$f":"IF(INDIRECT(\"'\"&Go!$G$2&\"'!\"&Y$5&$AJ8)=1,$D$3,$F$3)","v":"Ͼ"},{"$f":"IF(INDIRECT(\"'\"&Go!$G$2&\"'!\"&Z$5&$AJ8)=1,$D$3,$F$3)","v":"Ͼ"},{"$f":"IF(INDIRECT(\"'\"&Go!$G$2&\"'!\"&AA$5&$AJ8)=1,$D$3,$F$3)","v":"Ͽ"},{"$f":"IF(INDIRECT(\"'\"&Go!$G$2&\"'!\"&AB$5&$AJ8)=1,$D$3,$F$3)","v":"Ͽ"},{"$f":"IF(INDIRECT(\"'\"&Go!$G$2&\"'!\"&AC$5&$AJ8)=1,$D$3,$F$3)","v":"Ͽ"},{"$f":"IF(INDIRECT(\"'\"&Go!$G$2&\"'!\"&AD$5&$AJ8)=1,$D$3,$F$3)","v":"Ͽ"},{"$f":"IF(INDIRECT(\"'\"&Go!$G$2&\"'!\"&AE$5&$AJ8)=1,$D$3,$F$3)","v":"Ͽ"},{"$f":"IF(INDIRECT(\"'\"&Go!$G$2&\"'!\"&AF$5&$AJ8)=1,$D$3,$F$3)","v":"Ͽ"},{"$f":"IF(INDIRECT(\"'\"&Go!$G$2&\"'!\"&AG$5&$AJ8)=1,$D$3,$F$3)","v":"Ͼ"},{"$f":"IF(INDIRECT(\"'\"&Go!$G$2&\"'!\"&AH$5&$AJ8)=1,$D$3,$F$3)","v":"Ͼ"},2,4,": ;",":",";"]
[null,"starttime",null,3,{"$f":"IF(INDIRECT(\"'\"&Go!$G$2&\"'!\"&E$5&$AJ9)=1,$D$3,$F$3)","v":"Ͼ"},{"$f":"IF(INDIRECT(\"'\"&Go!$G$2&\"'!\"&F$5&$AJ9)=1,$D$3,$F$3)","v":"Ͽ"},{"$f":"IF(INDIRECT(\"'\"&Go!$G$2&\"'!\"&G$5&$AJ9)=1,$D$3,$F$3)","v":"Ͼ"},{"$f":"IF(INDIRECT(\"'\"&Go!$G$2&\"'!\"&H$5&$AJ9)=1,$D$3,$F$3)","v":"Ͽ"},{"$f":"IF(INDIRECT(\"'\"&Go!$G$2&\"'!\"&I$5&$AJ9)=1,$D$3,$F$3)","v":"Ͼ"},{"$f":"IF(INDIRECT(\"'\"&Go!$G$2&\"'!\"&J$5&$AJ9)=1,$D$3,$F$3)","v":"Ͽ"},{"$f":"IF(INDIRECT(\"'\"&Go!$G$2&\"'!\"&K$5&$AJ9)=1,$D$3,$F$3)","v":"Ͽ"},{"$f":"IF(INDIRECT(\"'\"&Go!$G$2&\"'!\"&L$5&$AJ9)=1,$D$3,$F$3)","v":"Ͽ"},{"$f":"IF(INDIRECT(\"'\"&Go!$G$2&\"'!\"&M$5&$AJ9)=1,$D$3,$F$3)","v":"Ͽ"},{"$f":"IF(INDIRECT(\"'\"&Go!$G$2&\"'!\"&N$5&$AJ9)=1,$D$3,$F$3)","v":"Ͽ"},{"$f":"IF(INDIRECT(\"'\"&Go!$G$2&\"'!\"&O$5&$AJ9)=1,$D$3,$F$3)","v":"Ͼ"},{"$f":"IF(INDIRECT(\"'\"&Go!$G$2&\"'!\"&P$5&$AJ9)=1,$D$3,$F$3)","v":"Ͽ"},{"$f":"IF(INDIRECT(\"'\"&Go!$G$2&\"'!\"&Q$5&$AJ9)=1,$D$3,$F$3)","v":"Ͽ"},{"$f":"IF(INDIRECT(\"'\"&Go!$G$2&\"'!\"&R$5&$AJ9)=1,$D$3,$F$3)","v":"Ͼ"},{"$f":"IF(INDIRECT(\"'\"&Go!$G$2&\"'!\"&S$5&$AJ9)=1,$D$3,$F$3)","v":"Ͽ"},{"$f":"IF(INDIRECT(\"'\"&Go!$G$2&\"'!\"&T$5&$AJ9)=1,$D$3,$F$3)","v":"Ͼ"},{"$f":"IF(INDIRECT(\"'\"&Go!$G$2&\"'!\"&U$5&$AJ9)=1,$D$3,$F$3)","v":"Ͽ"},{"$f":"IF(INDIRECT(\"'\"&Go!$G$2&\"'!\"&V$5&$AJ9)=1,$D$3,$F$3)","v":"Ͽ"},{"$f":"IF(INDIRECT(\"'\"&Go!$G$2&\"'!\"&W$5&$AJ9)=1,$D$3,$F$3)","v":"Ͼ"},{"$f":"IF(INDIRECT(\"'\"&Go!$G$2&\"'!\"&X$5&$AJ9)=1,$D$3,$F$3)","v":"Ͽ"},{"$f":"IF(INDIRECT(\"'\"&Go!$G$2&\"'!\"&Y$5&$AJ9)=1,$D$3,$F$3)","v":"Ͼ"},{"$f":"IF(INDIRECT(\"'\"&Go!$G$2&\"'!\"&Z$5&$AJ9)=1,$D$3,$F$3)","v":"Ͼ"},{"$f":"IF(INDIRECT(\"'\"&Go!$G$2&\"'!\"&AA$5&$AJ9)=1,$D$3,$F$3)","v":"Ͽ"},{"$f":"IF(INDIRECT(\"'\"&Go!$G$2&\"'!\"&AB$5&$AJ9)=1,$D$3,$F$3)","v":"Ͽ"},{"$f":"IF(INDIRECT(\"'\"&Go!$G$2&\"'!\"&AC$5&$AJ9)=1,$D$3,$F$3)","v":"Ͼ"},{"$f":"IF(INDIRECT(\"'\"&Go!$G$2&\"'!\"&AD$5&$AJ9)=1,$D$3,$F$3)","v":"Ͼ"},{"$f":"IF(INDIRECT(\"'\"&Go!$G$2&\"'!\"&AE$5&$AJ9)=1,$D$3,$F$3)","v":"Ͽ"},{"$f":"IF(INDIRECT(\"'\"&Go!$G$2&\"'!\"&AF$5&$AJ9)=1,$D$3,$F$3)","v":"Ͽ"},{"$f":"IF(INDIRECT(\"'\"&Go!$G$2&\"'!\"&AG$5&$AJ9)=1,$D$3,$F$3)","v":"Ͽ"},{"$f":"IF(INDIRECT(\"'\"&Go!$G$2&\"'!\"&AH$5&$AJ9)=1,$D$3,$F$3)","v":"Ͽ"},3,5,"$ §","$","§"]
[null,{"$f":"NOW()","v":43944.757890046298},null,4,{"$f":"IF(INDIRECT(\"'\"&Go!$G$2&\"'!\"&E$5&$AJ10)=1,$D$3,$F$3)","v":"Ͽ"},{"$f":"IF(INDIRECT(\"'\"&Go!$G$2&\"'!\"&F$5&$AJ10)=1,$D$3,$F$3)","v":"Ͽ"},{"$f":"IF(INDIRECT(\"'\"&Go!$G$2&\"'!\"&G$5&$AJ10)=1,$D$3,$F$3)","v":"Ͽ"},{"$f":"IF(INDIRECT(\"'\"&Go!$G$2&\"'!\"&H$5&$AJ10)=1,$D$3,$F$3)","v":"Ͽ"},{"$f":"IF(INDIRECT(\"'\"&Go!$G$2&\"'!\"&I$5&$AJ10)=1,$D$3,$F$3)","v":"Ͼ"},{"$f":"IF(INDIRECT(\"'\"&Go!$G$2&\"'!\"&J$5&$AJ10)=1,$D$3,$F$3)","v":"Ͼ"},{"$f":"IF(INDIRECT(\"'\"&Go!$G$2&\"'!\"&K$5&$AJ10)=1,$D$3,$F$3)","v":"Ͼ"},{"$f":"IF(INDIRECT(\"'\"&Go!$G$2&\"'!\"&L$5&$AJ10)=1,$D$3,$F$3)","v":"Ͽ"},{"$f":"IF(INDIRECT(\"'\"&Go!$G$2&\"'!\"&M$5&$AJ10)=1,$D$3,$F$3)","v":"Ͼ"},{"$f":"IF(INDIRECT(\"'\"&Go!$G$2&\"'!\"&N$5&$AJ10)=1,$D$3,$F$3)","v":"Ͽ"},{"$f":"IF(INDIRECT(\"'\"&Go!$G$2&\"'!\"&O$5&$AJ10)=1,$D$3,$F$3)","v":"Ͼ"},{"$f":"IF(INDIRECT(\"'\"&Go!$G$2&\"'!\"&P$5&$AJ10)=1,$D$3,$F$3)","v":"Ͽ"},{"$f":"IF(INDIRECT(\"'\"&Go!$G$2&\"'!\"&Q$5&$AJ10)=1,$D$3,$F$3)","v":"Ͼ"},{"$f":"IF(INDIRECT(\"'\"&Go!$G$2&\"'!\"&R$5&$AJ10)=1,$D$3,$F$3)","v":"Ͽ"},{"$f":"IF(INDIRECT(\"'\"&Go!$G$2&\"'!\"&S$5&$AJ10)=1,$D$3,$F$3)","v":"Ͽ"},{"$f":"IF(INDIRECT(\"'\"&Go!$G$2&\"'!\"&T$5&$AJ10)=1,$D$3,$F$3)","v":"Ͽ"},{"$f":"IF(INDIRECT(\"'\"&Go!$G$2&\"'!\"&U$5&$AJ10)=1,$D$3,$F$3)","v":"Ͽ"},{"$f":"IF(INDIRECT(\"'\"&Go!$G$2&\"'!\"&V$5&$AJ10)=1,$D$3,$F$3)","v":"Ͼ"},{"$f":"IF(INDIRECT(\"'\"&Go!$G$2&\"'!\"&W$5&$AJ10)=1,$D$3,$F$3)","v":"Ͼ"},{"$f":"IF(INDIRECT(\"'\"&Go!$G$2&\"'!\"&X$5&$AJ10)=1,$D$3,$F$3)","v":"Ͼ"},{"$f":"IF(INDIRECT(\"'\"&Go!$G$2&\"'!\"&Y$5&$AJ10)=1,$D$3,$F$3)","v":"Ͼ"},{"$f":"IF(INDIRECT(\"'\"&Go!$G$2&\"'!\"&Z$5&$AJ10)=1,$D$3,$F$3)","v":"Ͼ"},{"$f":"IF(INDIRECT(\"'\"&Go!$G$2&\"'!\"&AA$5&$AJ10)=1,$D$3,$F$3)","v":"Ͽ"},{"$f":"IF(INDIRECT(\"'\"&Go!$G$2&\"'!\"&AB$5&$AJ10)=1,$D$3,$F$3)","v":"Ͼ"},{"$f":"IF(INDIRECT(\"'\"&Go!$G$2&\"'!\"&AC$5&$AJ10)=1,$D$3,$F$3)","v":"Ͼ"},{"$f":"IF(INDIRECT(\"'\"&Go!$G$2&\"'!\"&AD$5&$AJ10)=1,$D$3,$F$3)","v":"Ͽ"},{"$f":"IF(INDIRECT(\"'\"&Go!$G$2&\"'!\"&AE$5&$AJ10)=1,$D$3,$F$3)","v":"Ͽ"},{"$f":"IF(INDIRECT(\"'\"&Go!$G$2&\"'!\"&AF$5&$AJ10)=1,$D$3,$F$3)","v":"Ͼ"},{"$f":"IF(INDIRECT(\"'\"&Go!$G$2&\"'!\"&AG$5&$AJ10)=1,$D$3,$F$3)","v":"Ͽ"},{"$f":"IF(INDIRECT(\"'\"&Go!$G$2&\"'!\"&AH$5&$AJ10)=1,$D$3,$F$3)","v":"Ͽ"},4,6,"Ʒ Ƹ","Ʒ","Ƹ"]
[null,"past time",null,5,{"$f":"IF(INDIRECT(\"'\"&Go!$G$2&\"'!\"&E$5&$AJ11)=1,$D$3,$F$3)","v":"Ͼ"},{"$f":"IF(INDIRECT(\"'\"&Go!$G$2&\"'!\"&F$5&$AJ11)=1,$D$3,$F$3)","v":"Ͽ"},{"$f":"IF(INDIRECT(\"'\"&Go!$G$2&\"'!\"&G$5&$AJ11)=1,$D$3,$F$3)","v":"Ͼ"},{"$f":"IF(INDIRECT(\"'\"&Go!$G$2&\"'!\"&H$5&$AJ11)=1,$D$3,$F$3)","v":"Ͼ"},{"$f":"IF(INDIRECT(\"'\"&Go!$G$2&\"'!\"&I$5&$AJ11)=1,$D$3,$F$3)","v":"Ͼ"},{"$f":"IF(INDIRECT(\"'\"&Go!$G$2&\"'!\"&J$5&$AJ11)=1,$D$3,$F$3)","v":"Ͽ"},{"$f":"IF(INDIRECT(\"'\"&Go!$G$2&\"'!\"&K$5&$AJ11)=1,$D$3,$F$3)","v":"Ͽ"},{"$f":"IF(INDIRECT(\"'\"&Go!$G$2&\"'!\"&L$5&$AJ11)=1,$D$3,$F$3)","v":"Ͽ"},{"$f":"IF(INDIRECT(\"'\"&Go!$G$2&\"'!\"&M$5&$AJ11)=1,$D$3,$F$3)","v":"Ͼ"},{"$f":"IF(INDIRECT(\"'\"&Go!$G$2&\"'!\"&N$5&$AJ11)=1,$D$3,$F$3)","v":"Ͼ"},{"$f":"IF(INDIRECT(\"'\"&Go!$G$2&\"'!\"&O$5&$AJ11)=1,$D$3,$F$3)","v":"Ͽ"},{"$f":"IF(INDIRECT(\"'\"&Go!$G$2&\"'!\"&P$5&$AJ11)=1,$D$3,$F$3)","v":"Ͼ"},{"$f":"IF(INDIRECT(\"'\"&Go!$G$2&\"'!\"&Q$5&$AJ11)=1,$D$3,$F$3)","v":"Ͼ"},{"$f":"IF(INDIRECT(\"'\"&Go!$G$2&\"'!\"&R$5&$AJ11)=1,$D$3,$F$3)","v":"Ͼ"},{"$f":"IF(INDIRECT(\"'\"&Go!$G$2&\"'!\"&S$5&$AJ11)=1,$D$3,$F$3)","v":"Ͽ"},{"$f":"IF(INDIRECT(\"'\"&Go!$G$2&\"'!\"&T$5&$AJ11)=1,$D$3,$F$3)","v":"Ͽ"},{"$f":"IF(INDIRECT(\"'\"&Go!$G$2&\"'!\"&U$5&$AJ11)=1,$D$3,$F$3)","v":"Ͼ"},{"$f":"IF(INDIRECT(\"'\"&Go!$G$2&\"'!\"&V$5&$AJ11)=1,$D$3,$F$3)","v":"Ͽ"},{"$f":"IF(INDIRECT(\"'\"&Go!$G$2&\"'!\"&W$5&$AJ11)=1,$D$3,$F$3)","v":"Ͽ"},{"$f":"IF(INDIRECT(\"'\"&Go!$G$2&\"'!\"&X$5&$AJ11)=1,$D$3,$F$3)","v":"Ͽ"},{"$f":"IF(INDIRECT(\"'\"&Go!$G$2&\"'!\"&Y$5&$AJ11)=1,$D$3,$F$3)","v":"Ͼ"},{"$f":"IF(INDIRECT(\"'\"&Go!$G$2&\"'!\"&Z$5&$AJ11)=1,$D$3,$F$3)","v":"Ͽ"},{"$f":"IF(INDIRECT(\"'\"&Go!$G$2&\"'!\"&AA$5&$AJ11)=1,$D$3,$F$3)","v":"Ͽ"},{"$f":"IF(INDIRECT(\"'\"&Go!$G$2&\"'!\"&AB$5&$AJ11)=1,$D$3,$F$3)","v":"Ͼ"},{"$f":"IF(INDIRECT(\"'\"&Go!$G$2&\"'!\"&AC$5&$AJ11)=1,$D$3,$F$3)","v":"Ͽ"},{"$f":"IF(INDIRECT(\"'\"&Go!$G$2&\"'!\"&AD$5&$AJ11)=1,$D$3,$F$3)","v":"Ͽ"},{"$f":"IF(INDIRECT(\"'\"&Go!$G$2&\"'!\"&AE$5&$AJ11)=1,$D$3,$F$3)","v":"Ͼ"},{"$f":"IF(INDIRECT(\"'\"&Go!$G$2&\"'!\"&AF$5&$AJ11)=1,$D$3,$F$3)","v":"Ͼ"},{"$f":"IF(INDIRECT(\"'\"&Go!$G$2&\"'!\"&AG$5&$AJ11)=1,$D$3,$F$3)","v":"Ͼ"},{"$f":"IF(INDIRECT(\"'\"&Go!$G$2&\"'!\"&AH$5&$AJ11)=1,$D$3,$F$3)","v":"Ͽ"},5,7,"y ʎ","y","ʎ"]
[null,{"$f":"B14-B10","v":"00:00:00"},null,6,{"$f":"IF(INDIRECT(\"'\"&Go!$G$2&\"'!\"&E$5&$AJ12)=1,$D$3,$F$3)","v":"Ͼ"},{"$f":"IF(INDIRECT(\"'\"&Go!$G$2&\"'!\"&F$5&$AJ12)=1,$D$3,$F$3)","v":"Ͽ"},{"$f":"IF(INDIRECT(\"'\"&Go!$G$2&\"'!\"&G$5&$AJ12)=1,$D$3,$F$3)","v":"Ͽ"},{"$f":"IF(INDIRECT(\"'\"&Go!$G$2&\"'!\"&H$5&$AJ12)=1,$D$3,$F$3)","v":"Ͼ"},{"$f":"IF(INDIRECT(\"'\"&Go!$G$2&\"'!\"&I$5&$AJ12)=1,$D$3,$F$3)","v":"Ͼ"},{"$f":"IF(INDIRECT(\"'\"&Go!$G$2&\"'!\"&J$5&$AJ12)=1,$D$3,$F$3)","v":"Ͼ"},{"$f":"IF(INDIRECT(\"'\"&Go!$G$2&\"'!\"&K$5&$AJ12)=1,$D$3,$F$3)","v":"Ͼ"},{"$f":"IF(INDIRECT(\"'\"&Go!$G$2&\"'!\"&L$5&$AJ12)=1,$D$3,$F$3)","v":"Ͼ"},{"$f":"IF(INDIRECT(\"'\"&Go!$G$2&\"'!\"&M$5&$AJ12)=1,$D$3,$F$3)","v":"Ͽ"},{"$f":"IF(INDIRECT(\"'\"&Go!$G$2&\"'!\"&N$5&$AJ12)=1,$D$3,$F$3)","v":"Ͽ"},{"$f":"IF(INDIRECT(\"'\"&Go!$G$2&\"'!\"&O$5&$AJ12)=1,$D$3,$F$3)","v":"Ͽ"},{"$f":"IF(INDIRECT(\"'\"&Go!$G$2&\"'!\"&P$5&$AJ12)=1,$D$3,$F$3)","v":"Ͽ"},{"$f":"IF(INDIRECT(\"'\"&Go!$G$2&\"'!\"&Q$5&$AJ12)=1,$D$3,$F$3)","v":"Ͼ"},{"$f":"IF(INDIRECT(\"'\"&Go!$G$2&\"'!\"&R$5&$AJ12)=1,$D$3,$F$3)","v":"Ͽ"},{"$f":"IF(INDIRECT(\"'\"&Go!$G$2&\"'!\"&S$5&$AJ12)=1,$D$3,$F$3)","v":"Ͽ"},{"$f":"IF(INDIRECT(\"'\"&Go!$G$2&\"'!\"&T$5&$AJ12)=1,$D$3,$F$3)","v":"Ͽ"},{"$f":"IF(INDIRECT(\"'\"&Go!$G$2&\"'!\"&U$5&$AJ12)=1,$D$3,$F$3)","v":"Ͼ"},{"$f":"IF(INDIRECT(\"'\"&Go!$G$2&\"'!\"&V$5&$AJ12)=1,$D$3,$F$3)","v":"Ͽ"},{"$f":"IF(INDIRECT(\"'\"&Go!$G$2&\"'!\"&W$5&$AJ12)=1,$D$3,$F$3)","v":"Ͼ"},{"$f":"IF(INDIRECT(\"'\"&Go!$G$2&\"'!\"&X$5&$AJ12)=1,$D$3,$F$3)","v":"Ͼ"},{"$f":"IF(INDIRECT(\"'\"&Go!$G$2&\"'!\"&Y$5&$AJ12)=1,$D$3,$F$3)","v":"Ͼ"},{"$f":"IF(INDIRECT(\"'\"&Go!$G$2&\"'!\"&Z$5&$AJ12)=1,$D$3,$F$3)","v":"Ͽ"},{"$f":"IF(INDIRECT(\"'\"&Go!$G$2&\"'!\"&AA$5&$AJ12)=1,$D$3,$F$3)","v":"Ͼ"},{"$f":"IF(INDIRECT(\"'\"&Go!$G$2&\"'!\"&AB$5&$AJ12)=1,$D$3,$F$3)","v":"Ͽ"},{"$f":"IF(INDIRECT(\"'\"&Go!$G$2&\"'!\"&AC$5&$AJ12)=1,$D$3,$F$3)","v":"Ͽ"},{"$f":"IF(INDIRECT(\"'\"&Go!$G$2&\"'!\"&AD$5&$AJ12)=1,$D$3,$F$3)","v":"Ͽ"},{"$f":"IF(INDIRECT(\"'\"&Go!$G$2&\"'!\"&AE$5&$AJ12)=1,$D$3,$F$3)","v":"Ͼ"},{"$f":"IF(INDIRECT(\"'\"&Go!$G$2&\"'!\"&AF$5&$AJ12)=1,$D$3,$F$3)","v":"Ͽ"},{"$f":"IF(INDIRECT(\"'\"&Go!$G$2&\"'!\"&AG$5&$AJ12)=1,$D$3,$F$3)","v":"Ͽ"},{"$f":"IF(INDIRECT(\"'\"&Go!$G$2&\"'!\"&AH$5&$AJ12)=1,$D$3,$F$3)","v":"Ͽ"},6,8,"Λ V","Λ","V"]
[null,"update",null,7,{"$f":"IF(INDIRECT(\"'\"&Go!$G$2&\"'!\"&E$5&$AJ13)=1,$D$3,$F$3)","v":"Ͼ"},{"$f":"IF(INDIRECT(\"'\"&Go!$G$2&\"'!\"&F$5&$AJ13)=1,$D$3,$F$3)","v":"Ͼ"},{"$f":"IF(INDIRECT(\"'\"&Go!$G$2&\"'!\"&G$5&$AJ13)=1,$D$3,$F$3)","v":"Ͽ"},{"$f":"IF(INDIRECT(\"'\"&Go!$G$2&\"'!\"&H$5&$AJ13)=1,$D$3,$F$3)","v":"Ͼ"},{"$f":"IF(INDIRECT(\"'\"&Go!$G$2&\"'!\"&I$5&$AJ13)=1,$D$3,$F$3)","v":"Ͽ"},{"$f":"IF(INDIRECT(\"'\"&Go!$G$2&\"'!\"&J$5&$AJ13)=1,$D$3,$F$3)","v":"Ͽ"},{"$f":"IF(INDIRECT(\"'\"&Go!$G$2&\"'!\"&K$5&$AJ13)=1,$D$3,$F$3)","v":"Ͽ"},{"$f":"IF(INDIRECT(\"'\"&Go!$G$2&\"'!\"&L$5&$AJ13)=1,$D$3,$F$3)","v":"Ͽ"},{"$f":"IF(INDIRECT(\"'\"&Go!$G$2&\"'!\"&M$5&$AJ13)=1,$D$3,$F$3)","v":"Ͼ"},{"$f":"IF(INDIRECT(\"'\"&Go!$G$2&\"'!\"&N$5&$AJ13)=1,$D$3,$F$3)","v":"Ͼ"},{"$f":"IF(INDIRECT(\"'\"&Go!$G$2&\"'!\"&O$5&$AJ13)=1,$D$3,$F$3)","v":"Ͽ"},{"$f":"IF(INDIRECT(\"'\"&Go!$G$2&\"'!\"&P$5&$AJ13)=1,$D$3,$F$3)","v":"Ͼ"},{"$f":"IF(INDIRECT(\"'\"&Go!$G$2&\"'!\"&Q$5&$AJ13)=1,$D$3,$F$3)","v":"Ͼ"},{"$f":"IF(INDIRECT(\"'\"&Go!$G$2&\"'!\"&R$5&$AJ13)=1,$D$3,$F$3)","v":"Ͽ"},{"$f":"IF(INDIRECT(\"'\"&Go!$G$2&\"'!\"&S$5&$AJ13)=1,$D$3,$F$3)","v":"Ͼ"},{"$f":"IF(INDIRECT(\"'\"&Go!$G$2&\"'!\"&T$5&$AJ13)=1,$D$3,$F$3)","v":"Ͼ"},{"$f":"IF(INDIRECT(\"'\"&Go!$G$2&\"'!\"&U$5&$AJ13)=1,$D$3,$F$3)","v":"Ͼ"},{"$f":"IF(INDIRECT(\"'\"&Go!$G$2&\"'!\"&V$5&$AJ13)=1,$D$3,$F$3)","v":"Ͼ"},{"$f":"IF(INDIRECT(\"'\"&Go!$G$2&\"'!\"&W$5&$AJ13)=1,$D$3,$F$3)","v":"Ͽ"},{"$f":"IF(INDIRECT(\"'\"&Go!$G$2&\"'!\"&X$5&$AJ13)=1,$D$3,$F$3)","v":"Ͼ"},{"$f":"IF(INDIRECT(\"'\"&Go!$G$2&\"'!\"&Y$5&$AJ13)=1,$D$3,$F$3)","v":"Ͼ"},{"$f":"IF(INDIRECT(\"'\"&Go!$G$2&\"'!\"&Z$5&$AJ13)=1,$D$3,$F$3)","v":"Ͼ"},{"$f":"IF(INDIRECT(\"'\"&Go!$G$2&\"'!\"&AA$5&$AJ13)=1,$D$3,$F$3)","v":"Ͽ"},{"$f":"IF(INDIRECT(\"'\"&Go!$G$2&\"'!\"&AB$5&$AJ13)=1,$D$3,$F$3)","v":"Ͼ"},{"$f":"IF(INDIRECT(\"'\"&Go!$G$2&\"'!\"&AC$5&$AJ13)=1,$D$3,$F$3)","v":"Ͼ"},{"$f":"IF(INDIRECT(\"'\"&Go!$G$2&\"'!\"&AD$5&$AJ13)=1,$D$3,$F$3)","v":"Ͽ"},{"$f":"IF(INDIRECT(\"'\"&Go!$G$2&\"'!\"&AE$5&$AJ13)=1,$D$3,$F$3)","v":"Ͽ"},{"$f":"IF(INDIRECT(\"'\"&Go!$G$2&\"'!\"&AF$5&$AJ13)=1,$D$3,$F$3)","v":"Ͼ"},{"$f":"IF(INDIRECT(\"'\"&Go!$G$2&\"'!\"&AG$5&$AJ13)=1,$D$3,$F$3)","v":"Ͼ"},{"$f":"IF(INDIRECT(\"'\"&Go!$G$2&\"'!\"&AH$5&$AJ13)=1,$D$3,$F$3)","v":"Ͽ"},7,9,"M W","M","W"]
[null,{"$f":"NOW()","v":43944.757890046298},null,8,{"$f":"IF(INDIRECT(\"'\"&Go!$G$2&\"'!\"&E$5&$AJ14)=1,$D$3,$F$3)","v":"Ͽ"},{"$f":"IF(INDIRECT(\"'\"&Go!$G$2&\"'!\"&F$5&$AJ14)=1,$D$3,$F$3)","v":"Ͽ"},{"$f":"IF(INDIRECT(\"'\"&Go!$G$2&\"'!\"&G$5&$AJ14)=1,$D$3,$F$3)","v":"Ͽ"},{"$f":"IF(INDIRECT(\"'\"&Go!$G$2&\"'!\"&H$5&$AJ14)=1,$D$3,$F$3)","v":"Ͼ"},{"$f":"IF(INDIRECT(\"'\"&Go!$G$2&\"'!\"&I$5&$AJ14)=1,$D$3,$F$3)","v":"Ͽ"},{"$f":"IF(INDIRECT(\"'\"&Go!$G$2&\"'!\"&J$5&$AJ14)=1,$D$3,$F$3)","v":"Ͽ"},{"$f":"IF(INDIRECT(\"'\"&Go!$G$2&\"'!\"&K$5&$AJ14)=1,$D$3,$F$3)","v":"Ͽ"},{"$f":"IF(INDIRECT(\"'\"&Go!$G$2&\"'!\"&L$5&$AJ14)=1,$D$3,$F$3)","v":"Ͽ"},{"$f":"IF(INDIRECT(\"'\"&Go!$G$2&\"'!\"&M$5&$AJ14)=1,$D$3,$F$3)","v":"Ͽ"},{"$f":"IF(INDIRECT(\"'\"&Go!$G$2&\"'!\"&N$5&$AJ14)=1,$D$3,$F$3)","v":"Ͼ"},{"$f":"IF(INDIRECT(\"'\"&Go!$G$2&\"'!\"&O$5&$AJ14)=1,$D$3,$F$3)","v":"Ͼ"},{"$f":"IF(INDIRECT(\"'\"&Go!$G$2&\"'!\"&P$5&$AJ14)=1,$D$3,$F$3)","v":"Ͼ"},{"$f":"IF(INDIRECT(\"'\"&Go!$G$2&\"'!\"&Q$5&$AJ14)=1,$D$3,$F$3)","v":"Ͽ"},{"$f":"IF(INDIRECT(\"'\"&Go!$G$2&\"'!\"&R$5&$AJ14)=1,$D$3,$F$3)","v":"Ͽ"},{"$f":"IF(INDIRECT(\"'\"&Go!$G$2&\"'!\"&S$5&$AJ14)=1,$D$3,$F$3)","v":"Ͽ"},{"$f":"IF(INDIRECT(\"'\"&Go!$G$2&\"'!\"&T$5&$AJ14)=1,$D$3,$F$3)","v":"Ͽ"},{"$f":"IF(INDIRECT(\"'\"&Go!$G$2&\"'!\"&U$5&$AJ14)=1,$D$3,$F$3)","v":"Ͼ"},{"$f":"IF(INDIRECT(\"'\"&Go!$G$2&\"'!\"&V$5&$AJ14)=1,$D$3,$F$3)","v":"Ͼ"},{"$f":"IF(INDIRECT(\"'\"&Go!$G$2&\"'!\"&W$5&$AJ14)=1,$D$3,$F$3)","v":"Ͼ"},{"$f":"IF(INDIRECT(\"'\"&Go!$G$2&\"'!\"&X$5&$AJ14)=1,$D$3,$F$3)","v":"Ͼ"},{"$f":"IF(INDIRECT(\"'\"&Go!$G$2&\"'!\"&Y$5&$AJ14)=1,$D$3,$F$3)","v":"Ͽ"},{"$f":"IF(INDIRECT(\"'\"&Go!$G$2&\"'!\"&Z$5&$AJ14)=1,$D$3,$F$3)","v":"Ͽ"},{"$f":"IF(INDIRECT(\"'\"&Go!$G$2&\"'!\"&AA$5&$AJ14)=1,$D$3,$F$3)","v":"Ͼ"},{"$f":"IF(INDIRECT(\"'\"&Go!$G$2&\"'!\"&AB$5&$AJ14)=1,$D$3,$F$3)","v":"Ͽ"},{"$f":"IF(INDIRECT(\"'\"&Go!$G$2&\"'!\"&AC$5&$AJ14)=1,$D$3,$F$3)","v":"Ͽ"},{"$f":"IF(INDIRECT(\"'\"&Go!$G$2&\"'!\"&AD$5&$AJ14)=1,$D$3,$F$3)","v":"Ͼ"},{"$f":"IF(INDIRECT(\"'\"&Go!$G$2&\"'!\"&AE$5&$AJ14)=1,$D$3,$F$3)","v":"Ͽ"},{"$f":"IF(INDIRECT(\"'\"&Go!$G$2&\"'!\"&AF$5&$AJ14)=1,$D$3,$F$3)","v":"Ͽ"},{"$f":"IF(INDIRECT(\"'\"&Go!$G$2&\"'!\"&AG$5&$AJ14)=1,$D$3,$F$3)","v":"Ͼ"},{"$f":"IF(INDIRECT(\"'\"&Go!$G$2&\"'!\"&AH$5&$AJ14)=1,$D$3,$F$3)","v":"Ͽ"},8,10]
[null,null,null,9,{"$f":"IF(INDIRECT(\"'\"&Go!$G$2&\"'!\"&E$5&$AJ15)=1,$D$3,$F$3)","v":"Ͼ"},{"$f":"IF(INDIRECT(\"'\"&Go!$G$2&\"'!\"&F$5&$AJ15)=1,$D$3,$F$3)","v":"Ͽ"},{"$f":"IF(INDIRECT(\"'\"&Go!$G$2&\"'!\"&G$5&$AJ15)=1,$D$3,$F$3)","v":"Ͼ"},{"$f":"IF(INDIRECT(\"'\"&Go!$G$2&\"'!\"&H$5&$AJ15)=1,$D$3,$F$3)","v":"Ͼ"},{"$f":"IF(INDIRECT(\"'\"&Go!$G$2&\"'!\"&I$5&$AJ15)=1,$D$3,$F$3)","v":"Ͽ"},{"$f":"IF(INDIRECT(\"'\"&Go!$G$2&\"'!\"&J$5&$AJ15)=1,$D$3,$F$3)","v":"Ͼ"},{"$f":"IF(INDIRECT(\"'\"&Go!$G$2&\"'!\"&K$5&$AJ15)=1,$D$3,$F$3)","v":"Ͽ"},{"$f":"IF(INDIRECT(\"'\"&Go!$G$2&\"'!\"&L$5&$AJ15)=1,$D$3,$F$3)","v":"Ͽ"},{"$f":"IF(INDIRECT(\"'\"&Go!$G$2&\"'!\"&M$5&$AJ15)=1,$D$3,$F$3)","v":"Ͽ"},{"$f":"IF(INDIRECT(\"'\"&Go!$G$2&\"'!\"&N$5&$AJ15)=1,$D$3,$F$3)","v":"Ͼ"},{"$f":"IF(INDIRECT(\"'\"&Go!$G$2&\"'!\"&O$5&$AJ15)=1,$D$3,$F$3)","v":"Ͼ"},{"$f":"IF(INDIRECT(\"'\"&Go!$G$2&\"'!\"&P$5&$AJ15)=1,$D$3,$F$3)","v":"Ͼ"},{"$f":"IF(INDIRECT(\"'\"&Go!$G$2&\"'!\"&Q$5&$AJ15)=1,$D$3,$F$3)","v":"Ͽ"},{"$f":"IF(INDIRECT(\"'\"&Go!$G$2&\"'!\"&R$5&$AJ15)=1,$D$3,$F$3)","v":"Ͼ"},{"$f":"IF(INDIRECT(\"'\"&Go!$G$2&\"'!\"&S$5&$AJ15)=1,$D$3,$F$3)","v":"Ͼ"},{"$f":"IF(INDIRECT(\"'\"&Go!$G$2&\"'!\"&T$5&$AJ15)=1,$D$3,$F$3)","v":"Ͼ"},{"$f":"IF(INDIRECT(\"'\"&Go!$G$2&\"'!\"&U$5&$AJ15)=1,$D$3,$F$3)","v":"Ͽ"},{"$f":"IF(INDIRECT(\"'\"&Go!$G$2&\"'!\"&V$5&$AJ15)=1,$D$3,$F$3)","v":"Ͽ"},{"$f":"IF(INDIRECT(\"'\"&Go!$G$2&\"'!\"&W$5&$AJ15)=1,$D$3,$F$3)","v":"Ͽ"},{"$f":"IF(INDIRECT(\"'\"&Go!$G$2&\"'!\"&X$5&$AJ15)=1,$D$3,$F$3)","v":"Ͽ"},{"$f":"IF(INDIRECT(\"'\"&Go!$G$2&\"'!\"&Y$5&$AJ15)=1,$D$3,$F$3)","v":"Ͼ"},{"$f":"IF(INDIRECT(\"'\"&Go!$G$2&\"'!\"&Z$5&$AJ15)=1,$D$3,$F$3)","v":"Ͽ"},{"$f":"IF(INDIRECT(\"'\"&Go!$G$2&\"'!\"&AA$5&$AJ15)=1,$D$3,$F$3)","v":"Ͼ"},{"$f":"IF(INDIRECT(\"'\"&Go!$G$2&\"'!\"&AB$5&$AJ15)=1,$D$3,$F$3)","v":"Ͽ"},{"$f":"IF(INDIRECT(\"'\"&Go!$G$2&\"'!\"&AC$5&$AJ15)=1,$D$3,$F$3)","v":"Ͼ"},{"$f":"IF(INDIRECT(\"'\"&Go!$G$2&\"'!\"&AD$5&$AJ15)=1,$D$3,$F$3)","v":"Ͽ"},{"$f":"IF(INDIRECT(\"'\"&Go!$G$2&\"'!\"&AE$5&$AJ15)=1,$D$3,$F$3)","v":"Ͽ"},{"$f":"IF(INDIRECT(\"'\"&Go!$G$2&\"'!\"&AF$5&$AJ15)=1,$D$3,$F$3)","v":"Ͽ"},{"$f":"IF(INDIRECT(\"'\"&Go!$G$2&\"'!\"&AG$5&$AJ15)=1,$D$3,$F$3)","v":"Ͼ"},{"$f":"IF(INDIRECT(\"'\"&Go!$G$2&\"'!\"&AH$5&$AJ15)=1,$D$3,$F$3)","v":"Ͼ"},9,11]
[null,null,null,10,{"$f":"IF(INDIRECT(\"'\"&Go!$G$2&\"'!\"&E$5&$AJ16)=1,$D$3,$F$3)","v":"Ͽ"},{"$f":"IF(INDIRECT(\"'\"&Go!$G$2&\"'!\"&F$5&$AJ16)=1,$D$3,$F$3)","v":"Ͼ"},{"$f":"IF(INDIRECT(\"'\"&Go!$G$2&\"'!\"&G$5&$AJ16)=1,$D$3,$F$3)","v":"Ͽ"},{"$f":"IF(INDIRECT(\"'\"&Go!$G$2&\"'!\"&H$5&$AJ16)=1,$D$3,$F$3)","v":"Ͽ"},{"$f":"IF(INDIRECT(\"'\"&Go!$G$2&\"'!\"&I$5&$AJ16)=1,$D$3,$F$3)","v":"Ͼ"},{"$f":"IF(INDIRECT(\"'\"&Go!$G$2&\"'!\"&J$5&$AJ16)=1,$D$3,$F$3)","v":"Ͽ"},{"$f":"IF(INDIRECT(\"'\"&Go!$G$2&\"'!\"&K$5&$AJ16)=1,$D$3,$F$3)","v":"Ͼ"},{"$f":"IF(INDIRECT(\"'\"&Go!$G$2&\"'!\"&L$5&$AJ16)=1,$D$3,$F$3)","v":"Ͽ"},{"$f":"IF(INDIRECT(\"'\"&Go!$G$2&\"'!\"&M$5&$AJ16)=1,$D$3,$F$3)","v":"Ͼ"},{"$f":"IF(INDIRECT(\"'\"&Go!$G$2&\"'!\"&N$5&$AJ16)=1,$D$3,$F$3)","v":"Ͼ"},{"$f":"IF(INDIRECT(\"'\"&Go!$G$2&\"'!\"&O$5&$AJ16)=1,$D$3,$F$3)","v":"Ͼ"},{"$f":"IF(INDIRECT(\"'\"&Go!$G$2&\"'!\"&P$5&$AJ16)=1,$D$3,$F$3)","v":"Ͽ"},{"$f":"IF(INDIRECT(\"'\"&Go!$G$2&\"'!\"&Q$5&$AJ16)=1,$D$3,$F$3)","v":"Ͽ"},{"$f":"IF(INDIRECT(\"'\"&Go!$G$2&\"'!\"&R$5&$AJ16)=1,$D$3,$F$3)","v":"Ͼ"},{"$f":"IF(INDIRECT(\"'\"&Go!$G$2&\"'!\"&S$5&$AJ16)=1,$D$3,$F$3)","v":"Ͽ"},{"$f":"IF(INDIRECT(\"'\"&Go!$G$2&\"'!\"&T$5&$AJ16)=1,$D$3,$F$3)","v":"Ͽ"},{"$f":"IF(INDIRECT(\"'\"&Go!$G$2&\"'!\"&U$5&$AJ16)=1,$D$3,$F$3)","v":"Ͽ"},{"$f":"IF(INDIRECT(\"'\"&Go!$G$2&\"'!\"&V$5&$AJ16)=1,$D$3,$F$3)","v":"Ͽ"},{"$f":"IF(INDIRECT(\"'\"&Go!$G$2&\"'!\"&W$5&$AJ16)=1,$D$3,$F$3)","v":"Ͽ"},{"$f":"IF(INDIRECT(\"'\"&Go!$G$2&\"'!\"&X$5&$AJ16)=1,$D$3,$F$3)","v":"Ͼ"},{"$f":"IF(INDIRECT(\"'\"&Go!$G$2&\"'!\"&Y$5&$AJ16)=1,$D$3,$F$3)","v":"Ͽ"},{"$f":"IF(INDIRECT(\"'\"&Go!$G$2&\"'!\"&Z$5&$AJ16)=1,$D$3,$F$3)","v":"Ͽ"},{"$f":"IF(INDIRECT(\"'\"&Go!$G$2&\"'!\"&AA$5&$AJ16)=1,$D$3,$F$3)","v":"Ͼ"},{"$f":"IF(INDIRECT(\"'\"&Go!$G$2&\"'!\"&AB$5&$AJ16)=1,$D$3,$F$3)","v":"Ͽ"},{"$f":"IF(INDIRECT(\"'\"&Go!$G$2&\"'!\"&AC$5&$AJ16)=1,$D$3,$F$3)","v":"Ͽ"},{"$f":"IF(INDIRECT(\"'\"&Go!$G$2&\"'!\"&AD$5&$AJ16)=1,$D$3,$F$3)","v":"Ͼ"},{"$f":"IF(INDIRECT(\"'\"&Go!$G$2&\"'!\"&AE$5&$AJ16)=1,$D$3,$F$3)","v":"Ͽ"},{"$f":"IF(INDIRECT(\"'\"&Go!$G$2&\"'!\"&AF$5&$AJ16)=1,$D$3,$F$3)","v":"Ͽ"},{"$f":"IF(INDIRECT(\"'\"&Go!$G$2&\"'!\"&AG$5&$AJ16)=1,$D$3,$F$3)","v":"Ͼ"},{"$f":"IF(INDIRECT(\"'\"&Go!$G$2&\"'!\"&AH$5&$AJ16)=1,$D$3,$F$3)","v":"Ͼ"},10,12]
[null,null,null,11,{"$f":"IF(INDIRECT(\"'\"&Go!$G$2&\"'!\"&E$5&$AJ17)=1,$D$3,$F$3)","v":"Ͽ"},{"$f":"IF(INDIRECT(\"'\"&Go!$G$2&\"'!\"&F$5&$AJ17)=1,$D$3,$F$3)","v":"Ͼ"},{"$f":"IF(INDIRECT(\"'\"&Go!$G$2&\"'!\"&G$5&$AJ17)=1,$D$3,$F$3)","v":"Ͽ"},{"$f":"IF(INDIRECT(\"'\"&Go!$G$2&\"'!\"&H$5&$AJ17)=1,$D$3,$F$3)","v":"Ͼ"},{"$f":"IF(INDIRECT(\"'\"&Go!$G$2&\"'!\"&I$5&$AJ17)=1,$D$3,$F$3)","v":"Ͼ"},{"$f":"IF(INDIRECT(\"'\"&Go!$G$2&\"'!\"&J$5&$AJ17)=1,$D$3,$F$3)","v":"Ͼ"},{"$f":"IF(INDIRECT(\"'\"&Go!$G$2&\"'!\"&K$5&$AJ17)=1,$D$3,$F$3)","v":"Ͼ"},{"$f":"IF(INDIRECT(\"'\"&Go!$G$2&\"'!\"&L$5&$AJ17)=1,$D$3,$F$3)","v":"Ͼ"},{"$f":"IF(INDIRECT(\"'\"&Go!$G$2&\"'!\"&M$5&$AJ17)=1,$D$3,$F$3)","v":"Ͽ"},{"$f":"IF(INDIRECT(\"'\"&Go!$G$2&\"'!\"&N$5&$AJ17)=1,$D$3,$F$3)","v":"Ͽ"},{"$f":"IF(INDIRECT(\"'\"&Go!$G$2&\"'!\"&O$5&$AJ17)=1,$D$3,$F$3)","v":"Ͽ"},{"$f":"IF(INDIRECT(\"'\"&Go!$G$2&\"'!\"&P$5&$AJ17)=1,$D$3,$F$3)","v":"Ͼ"},{"$f":"IF(INDIRECT(\"'\"&Go!$G$2&\"'!\"&Q$5&$AJ17)=1,$D$3,$F$3)","v":"Ͼ"},{"$f":"IF(INDIRECT(\"'\"&Go!$G$2&\"'!\"&R$5&$AJ17)=1,$D$3,$F$3)","v":"Ͼ"},{"$f":"IF(INDIRECT(\"'\"&Go!$G$2&\"'!\"&S$5&$AJ17)=1,$D$3,$F$3)","v":"Ͽ"},{"$f":"IF(INDIRECT(\"'\"&Go!$G$2&\"'!\"&T$5&$AJ17)=1,$D$3,$F$3)","v":"Ͽ"},{"$f":"IF(INDIRECT(\"'\"&Go!$G$2&\"'!\"&U$5&$AJ17)=1,$D$3,$F$3)","v":"Ͽ"},{"$f":"IF(INDIRECT(\"'\"&Go!$G$2&\"'!\"&V$5&$AJ17)=1,$D$3,$F$3)","v":"Ͽ"},{"$f":"IF(INDIRECT(\"'\"&Go!$G$2&\"'!\"&W$5&$AJ17)=1,$D$3,$F$3)","v":"Ͽ"},{"$f":"IF(INDIRECT(\"'\"&Go!$G$2&\"'!\"&X$5&$AJ17)=1,$D$3,$F$3)","v":"Ͼ"},{"$f":"IF(INDIRECT(\"'\"&Go!$G$2&\"'!\"&Y$5&$AJ17)=1,$D$3,$F$3)","v":"Ͼ"},{"$f":"IF(INDIRECT(\"'\"&Go!$G$2&\"'!\"&Z$5&$AJ17)=1,$D$3,$F$3)","v":"Ͼ"},{"$f":"IF(INDIRECT(\"'\"&Go!$G$2&\"'!\"&AA$5&$AJ17)=1,$D$3,$F$3)","v":"Ͼ"},{"$f":"IF(INDIRECT(\"'\"&Go!$G$2&\"'!\"&AB$5&$AJ17)=1,$D$3,$F$3)","v":"Ͼ"},{"$f":"IF(INDIRECT(\"'\"&Go!$G$2&\"'!\"&AC$5&$AJ17)=1,$D$3,$F$3)","v":"Ͼ"},{"$f":"IF(INDIRECT(\"'\"&Go!$G$2&\"'!\"&AD$5&$AJ17)=1,$D$3,$F$3)","v":"Ͽ"},{"$f":"IF(INDIRECT(\"'\"&Go!$G$2&\"'!\"&AE$5&$AJ17)=1,$D$3,$F$3)","v":"Ͽ"},{"$f":"IF(INDIRECT(\"'\"&Go!$G$2&\"'!\"&AF$5&$AJ17)=1,$D$3,$F$3)","v":"Ͼ"},{"$f":"IF(INDIRECT(\"'\"&Go!$G$2&\"'!\"&AG$5&$AJ17)=1,$D$3,$F$3)","v":"Ͽ"},{"$f":"IF(INDIRECT(\"'\"&Go!$G$2&\"'!\"&AH$5&$AJ17)=1,$D$3,$F$3)","v":"Ͽ"},11,13]
[null,null,null,12,{"$f":"IF(INDIRECT(\"'\"&Go!$G$2&\"'!\"&E$5&$AJ18)=1,$D$3,$F$3)","v":"Ͽ"},{"$f":"IF(INDIRECT(\"'\"&Go!$G$2&\"'!\"&F$5&$AJ18)=1,$D$3,$F$3)","v":"Ͼ"},{"$f":"IF(INDIRECT(\"'\"&Go!$G$2&\"'!\"&G$5&$AJ18)=1,$D$3,$F$3)","v":"Ͽ"},{"$f":"IF(INDIRECT(\"'\"&Go!$G$2&\"'!\"&H$5&$AJ18)=1,$D$3,$F$3)","v":"Ͼ"},{"$f":"IF(INDIRECT(\"'\"&Go!$G$2&\"'!\"&I$5&$AJ18)=1,$D$3,$F$3)","v":"Ͼ"},{"$f":"IF(INDIRECT(\"'\"&Go!$G$2&\"'!\"&J$5&$AJ18)=1,$D$3,$F$3)","v":"Ͼ"},{"$f":"IF(INDIRECT(\"'\"&Go!$G$2&\"'!\"&K$5&$AJ18)=1,$D$3,$F$3)","v":"Ͼ"},{"$f":"IF(INDIRECT(\"'\"&Go!$G$2&\"'!\"&L$5&$AJ18)=1,$D$3,$F$3)","v":"Ͼ"},{"$f":"IF(INDIRECT(\"'\"&Go!$G$2&\"'!\"&M$5&$AJ18)=1,$D$3,$F$3)","v":"Ͽ"},{"$f":"IF(INDIRECT(\"'\"&Go!$G$2&\"'!\"&N$5&$AJ18)=1,$D$3,$F$3)","v":"Ͼ"},{"$f":"IF(INDIRECT(\"'\"&Go!$G$2&\"'!\"&O$5&$AJ18)=1,$D$3,$F$3)","v":"Ͼ"},{"$f":"IF(INDIRECT(\"'\"&Go!$G$2&\"'!\"&P$5&$AJ18)=1,$D$3,$F$3)","v":"Ͼ"},{"$f":"IF(INDIRECT(\"'\"&Go!$G$2&\"'!\"&Q$5&$AJ18)=1,$D$3,$F$3)","v":"Ͽ"},{"$f":"IF(INDIRECT(\"'\"&Go!$G$2&\"'!\"&R$5&$AJ18)=1,$D$3,$F$3)","v":"Ͼ"},{"$f":"IF(INDIRECT(\"'\"&Go!$G$2&\"'!\"&S$5&$AJ18)=1,$D$3,$F$3)","v":"Ͽ"},{"$f":"IF(INDIRECT(\"'\"&Go!$G$2&\"'!\"&T$5&$AJ18)=1,$D$3,$F$3)","v":"Ͼ"},{"$f":"IF(INDIRECT(\"'\"&Go!$G$2&\"'!\"&U$5&$AJ18)=1,$D$3,$F$3)","v":"Ͽ"},{"$f":"IF(INDIRECT(\"'\"&Go!$G$2&\"'!\"&V$5&$AJ18)=1,$D$3,$F$3)","v":"Ͼ"},{"$f":"IF(INDIRECT(\"'\"&Go!$G$2&\"'!\"&W$5&$AJ18)=1,$D$3,$F$3)","v":"Ͽ"},{"$f":"IF(INDIRECT(\"'\"&Go!$G$2&\"'!\"&X$5&$AJ18)=1,$D$3,$F$3)","v":"Ͼ"},{"$f":"IF(INDIRECT(\"'\"&Go!$G$2&\"'!\"&Y$5&$AJ18)=1,$D$3,$F$3)","v":"Ͽ"},{"$f":"IF(INDIRECT(\"'\"&Go!$G$2&\"'!\"&Z$5&$AJ18)=1,$D$3,$F$3)","v":"Ͼ"},{"$f":"IF(INDIRECT(\"'\"&Go!$G$2&\"'!\"&AA$5&$AJ18)=1,$D$3,$F$3)","v":"Ͼ"},{"$f":"IF(INDIRECT(\"'\"&Go!$G$2&\"'!\"&AB$5&$AJ18)=1,$D$3,$F$3)","v":"Ͽ"},{"$f":"IF(INDIRECT(\"'\"&Go!$G$2&\"'!\"&AC$5&$AJ18)=1,$D$3,$F$3)","v":"Ͽ"},{"$f":"IF(INDIRECT(\"'\"&Go!$G$2&\"'!\"&AD$5&$AJ18)=1,$D$3,$F$3)","v":"Ͽ"},{"$f":"IF(INDIRECT(\"'\"&Go!$G$2&\"'!\"&AE$5&$AJ18)=1,$D$3,$F$3)","v":"Ͽ"},{"$f":"IF(INDIRECT(\"'\"&Go!$G$2&\"'!\"&AF$5&$AJ18)=1,$D$3,$F$3)","v":"Ͼ"},{"$f":"IF(INDIRECT(\"'\"&Go!$G$2&\"'!\"&AG$5&$AJ18)=1,$D$3,$F$3)","v":"Ͼ"},{"$f":"IF(INDIRECT(\"'\"&Go!$G$2&\"'!\"&AH$5&$AJ18)=1,$D$3,$F$3)","v":"Ͽ"},12,14]
[null,null,null,13,{"$f":"IF(INDIRECT(\"'\"&Go!$G$2&\"'!\"&E$5&$AJ19)=1,$D$3,$F$3)","v":"Ͼ"},{"$f":"IF(INDIRECT(\"'\"&Go!$G$2&\"'!\"&F$5&$AJ19)=1,$D$3,$F$3)","v":"Ͽ"},{"$f":"IF(INDIRECT(\"'\"&Go!$G$2&\"'!\"&G$5&$AJ19)=1,$D$3,$F$3)","v":"Ͽ"},{"$f":"IF(INDIRECT(\"'\"&Go!$G$2&\"'!\"&H$5&$AJ19)=1,$D$3,$F$3)","v":"Ͼ"},{"$f":"IF(INDIRECT(\"'\"&Go!$G$2&\"'!\"&I$5&$AJ19)=1,$D$3,$F$3)","v":"Ͼ"},{"$f":"IF(INDIRECT(\"'\"&Go!$G$2&\"'!\"&J$5&$AJ19)=1,$D$3,$F$3)","v":"Ͽ"},{"$f":"IF(INDIRECT(\"'\"&Go!$G$2&\"'!\"&K$5&$AJ19)=1,$D$3,$F$3)","v":"Ͼ"},{"$f":"IF(INDIRECT(\"'\"&Go!$G$2&\"'!\"&L$5&$AJ19)=1,$D$3,$F$3)","v":"Ͼ"},{"$f":"IF(INDIRECT(\"'\"&Go!$G$2&\"'!\"&M$5&$AJ19)=1,$D$3,$F$3)","v":"Ͼ"},{"$f":"IF(INDIRECT(\"'\"&Go!$G$2&\"'!\"&N$5&$AJ19)=1,$D$3,$F$3)","v":"Ͼ"},{"$f":"IF(INDIRECT(\"'\"&Go!$G$2&\"'!\"&O$5&$AJ19)=1,$D$3,$F$3)","v":"Ͽ"},{"$f":"IF(INDIRECT(\"'\"&Go!$G$2&\"'!\"&P$5&$AJ19)=1,$D$3,$F$3)","v":"Ͽ"},{"$f":"IF(INDIRECT(\"'\"&Go!$G$2&\"'!\"&Q$5&$AJ19)=1,$D$3,$F$3)","v":"Ͼ"},{"$f":"IF(INDIRECT(\"'\"&Go!$G$2&\"'!\"&R$5&$AJ19)=1,$D$3,$F$3)","v":"Ͽ"},{"$f":"IF(INDIRECT(\"'\"&Go!$G$2&\"'!\"&S$5&$AJ19)=1,$D$3,$F$3)","v":"Ͼ"},{"$f":"IF(INDIRECT(\"'\"&Go!$G$2&\"'!\"&T$5&$AJ19)=1,$D$3,$F$3)","v":"Ͽ"},{"$f":"IF(INDIRECT(\"'\"&Go!$G$2&\"'!\"&U$5&$AJ19)=1,$D$3,$F$3)","v":"Ͼ"},{"$f":"IF(INDIRECT(\"'\"&Go!$G$2&\"'!\"&V$5&$AJ19)=1,$D$3,$F$3)","v":"Ͽ"},{"$f":"IF(INDIRECT(\"'\"&Go!$G$2&\"'!\"&W$5&$AJ19)=1,$D$3,$F$3)","v":"Ͽ"},{"$f":"IF(INDIRECT(\"'\"&Go!$G$2&\"'!\"&X$5&$AJ19)=1,$D$3,$F$3)","v":"Ͼ"},{"$f":"IF(INDIRECT(\"'\"&Go!$G$2&\"'!\"&Y$5&$AJ19)=1,$D$3,$F$3)","v":"Ͼ"},{"$f":"IF(INDIRECT(\"'\"&Go!$G$2&\"'!\"&Z$5&$AJ19)=1,$D$3,$F$3)","v":"Ͼ"},{"$f":"IF(INDIRECT(\"'\"&Go!$G$2&\"'!\"&AA$5&$AJ19)=1,$D$3,$F$3)","v":"Ͽ"},{"$f":"IF(INDIRECT(\"'\"&Go!$G$2&\"'!\"&AB$5&$AJ19)=1,$D$3,$F$3)","v":"Ͼ"},{"$f":"IF(INDIRECT(\"'\"&Go!$G$2&\"'!\"&AC$5&$AJ19)=1,$D$3,$F$3)","v":"Ͼ"},{"$f":"IF(INDIRECT(\"'\"&Go!$G$2&\"'!\"&AD$5&$AJ19)=1,$D$3,$F$3)","v":"Ͼ"},{"$f":"IF(INDIRECT(\"'\"&Go!$G$2&\"'!\"&AE$5&$AJ19)=1,$D$3,$F$3)","v":"Ͼ"},{"$f":"IF(INDIRECT(\"'\"&Go!$G$2&\"'!\"&AF$5&$AJ19)=1,$D$3,$F$3)","v":"Ͼ"},{"$f":"IF(INDIRECT(\"'\"&Go!$G$2&\"'!\"&AG$5&$AJ19)=1,$D$3,$F$3)","v":"Ͽ"},{"$f":"IF(INDIRECT(\"'\"&Go!$G$2&\"'!\"&AH$5&$AJ19)=1,$D$3,$F$3)","v":"Ͽ"},13,15]
[null,null,null,14,{"$f":"IF(INDIRECT(\"'\"&Go!$G$2&\"'!\"&E$5&$AJ20)=1,$D$3,$F$3)","v":"Ͽ"},{"$f":"IF(INDIRECT(\"'\"&Go!$G$2&\"'!\"&F$5&$AJ20)=1,$D$3,$F$3)","v":"Ͽ"},{"$f":"IF(INDIRECT(\"'\"&Go!$G$2&\"'!\"&G$5&$AJ20)=1,$D$3,$F$3)","v":"Ͽ"},{"$f":"IF(INDIRECT(\"'\"&Go!$G$2&\"'!\"&H$5&$AJ20)=1,$D$3,$F$3)","v":"Ͽ"},{"$f":"IF(INDIRECT(\"'\"&Go!$G$2&\"'!\"&I$5&$AJ20)=1,$D$3,$F$3)","v":"Ͽ"},{"$f":"IF(INDIRECT(\"'\"&Go!$G$2&\"'!\"&J$5&$AJ20)=1,$D$3,$F$3)","v":"Ͼ"},{"$f":"IF(INDIRECT(\"'\"&Go!$G$2&\"'!\"&K$5&$AJ20)=1,$D$3,$F$3)","v":"Ͽ"},{"$f":"IF(INDIRECT(\"'\"&Go!$G$2&\"'!\"&L$5&$AJ20)=1,$D$3,$F$3)","v":"Ͽ"},{"$f":"IF(INDIRECT(\"'\"&Go!$G$2&\"'!\"&M$5&$AJ20)=1,$D$3,$F$3)","v":"Ͽ"},{"$f":"IF(INDIRECT(\"'\"&Go!$G$2&\"'!\"&N$5&$AJ20)=1,$D$3,$F$3)","v":"Ͼ"},{"$f":"IF(INDIRECT(\"'\"&Go!$G$2&\"'!\"&O$5&$AJ20)=1,$D$3,$F$3)","v":"Ͼ"},{"$f":"IF(INDIRECT(\"'\"&Go!$G$2&\"'!\"&P$5&$AJ20)=1,$D$3,$F$3)","v":"Ͽ"},{"$f":"IF(INDIRECT(\"'\"&Go!$G$2&\"'!\"&Q$5&$AJ20)=1,$D$3,$F$3)","v":"Ͼ"},{"$f":"IF(INDIRECT(\"'\"&Go!$G$2&\"'!\"&R$5&$AJ20)=1,$D$3,$F$3)","v":"Ͼ"},{"$f":"IF(INDIRECT(\"'\"&Go!$G$2&\"'!\"&S$5&$AJ20)=1,$D$3,$F$3)","v":"Ͼ"},{"$f":"IF(INDIRECT(\"'\"&Go!$G$2&\"'!\"&T$5&$AJ20)=1,$D$3,$F$3)","v":"Ͽ"},{"$f":"IF(INDIRECT(\"'\"&Go!$G$2&\"'!\"&U$5&$AJ20)=1,$D$3,$F$3)","v":"Ͽ"},{"$f":"IF(INDIRECT(\"'\"&Go!$G$2&\"'!\"&V$5&$AJ20)=1,$D$3,$F$3)","v":"Ͽ"},{"$f":"IF(INDIRECT(\"'\"&Go!$G$2&\"'!\"&W$5&$AJ20)=1,$D$3,$F$3)","v":"Ͽ"},{"$f":"IF(INDIRECT(\"'\"&Go!$G$2&\"'!\"&X$5&$AJ20)=1,$D$3,$F$3)","v":"Ͽ"},{"$f":"IF(INDIRECT(\"'\"&Go!$G$2&\"'!\"&Y$5&$AJ20)=1,$D$3,$F$3)","v":"Ͼ"},{"$f":"IF(INDIRECT(\"'\"&Go!$G$2&\"'!\"&Z$5&$AJ20)=1,$D$3,$F$3)","v":"Ͼ"},{"$f":"IF(INDIRECT(\"'\"&Go!$G$2&\"'!\"&AA$5&$AJ20)=1,$D$3,$F$3)","v":"Ͼ"},{"$f":"IF(INDIRECT(\"'\"&Go!$G$2&\"'!\"&AB$5&$AJ20)=1,$D$3,$F$3)","v":"Ͼ"},{"$f":"IF(INDIRECT(\"'\"&Go!$G$2&\"'!\"&AC$5&$AJ20)=1,$D$3,$F$3)","v":"Ͼ"},{"$f":"IF(INDIRECT(\"'\"&Go!$G$2&\"'!\"&AD$5&$AJ20)=1,$D$3,$F$3)","v":"Ͽ"},{"$f":"IF(INDIRECT(\"'\"&Go!$G$2&\"'!\"&AE$5&$AJ20)=1,$D$3,$F$3)","v":"Ͼ"},{"$f":"IF(INDIRECT(\"'\"&Go!$G$2&\"'!\"&AF$5&$AJ20)=1,$D$3,$F$3)","v":"Ͽ"},{"$f":"IF(INDIRECT(\"'\"&Go!$G$2&\"'!\"&AG$5&$AJ20)=1,$D$3,$F$3)","v":"Ͼ"},{"$f":"IF(INDIRECT(\"'\"&Go!$G$2&\"'!\"&AH$5&$AJ20)=1,$D$3,$F$3)","v":"Ͽ"},14,16]
[null,null,null,15,{"$f":"IF(INDIRECT(\"'\"&Go!$G$2&\"'!\"&E$5&$AJ21)=1,$D$3,$F$3)","v":"Ͼ"},{"$f":"IF(INDIRECT(\"'\"&Go!$G$2&\"'!\"&F$5&$AJ21)=1,$D$3,$F$3)","v":"Ͽ"},{"$f":"IF(INDIRECT(\"'\"&Go!$G$2&\"'!\"&G$5&$AJ21)=1,$D$3,$F$3)","v":"Ͽ"},{"$f":"IF(INDIRECT(\"'\"&Go!$G$2&\"'!\"&H$5&$AJ21)=1,$D$3,$F$3)","v":"Ͽ"},{"$f":"IF(INDIRECT(\"'\"&Go!$G$2&\"'!\"&I$5&$AJ21)=1,$D$3,$F$3)","v":"Ͼ"},{"$f":"IF(INDIRECT(\"'\"&Go!$G$2&\"'!\"&J$5&$AJ21)=1,$D$3,$F$3)","v":"Ͽ"},{"$f":"IF(INDIRECT(\"'\"&Go!$G$2&\"'!\"&K$5&$AJ21)=1,$D$3,$F$3)","v":"Ͽ"},{"$f":"IF(INDIRECT(\"'\"&Go!$G$2&\"'!\"&L$5&$AJ21)=1,$D$3,$F$3)","v":"Ͼ"},{"$f":"IF(INDIRECT(\"'\"&Go!$G$2&\"'!\"&M$5&$AJ21)=1,$D$3,$F$3)","v":"Ͼ"},{"$f":"IF(INDIRECT(\"'\"&Go!$G$2&\"'!\"&N$5&$AJ21)=1,$D$3,$F$3)","v":"Ͼ"},{"$f":"IF(INDIRECT(\"'\"&Go!$G$2&\"'!\"&O$5&$AJ21)=1,$D$3,$F$3)","v":"Ͽ"},{"$f":"IF(INDIRECT(\"'\"&Go!$G$2&\"'!\"&P$5&$AJ21)=1,$D$3,$F$3)","v":"Ͼ"},{"$f":"IF(INDIRECT(\"'\"&Go!$G$2&\"'!\"&Q$5&$AJ21)=1,$D$3,$F$3)","v":"Ͽ"},{"$f":"IF(INDIRECT(\"'\"&Go!$G$2&\"'!\"&R$5&$AJ21)=1,$D$3,$F$3)","v":"Ͽ"},{"$f":"IF(INDIRECT(\"'\"&Go!$G$2&\"'!\"&S$5&$AJ21)=1,$D$3,$F$3)","v":"Ͽ"},{"$f":"IF(INDIRECT(\"'\"&Go!$G$2&\"'!\"&T$5&$AJ21)=1,$D$3,$F$3)","v":"Ͽ"},{"$f":"IF(INDIRECT(\"'\"&Go!$G$2&\"'!\"&U$5&$AJ21)=1,$D$3,$F$3)","v":"Ͽ"},{"$f":"IF(INDIRECT(\"'\"&Go!$G$2&\"'!\"&V$5&$AJ21)=1,$D$3,$F$3)","v":"Ͽ"},{"$f":"IF(INDIRECT(\"'\"&Go!$G$2&\"'!\"&W$5&$AJ21)=1,$D$3,$F$3)","v":"Ͽ"},{"$f":"IF(INDIRECT(\"'\"&Go!$G$2&\"'!\"&X$5&$AJ21)=1,$D$3,$F$3)","v":"Ͼ"},{"$f":"IF(INDIRECT(\"'\"&Go!$G$2&\"'!\"&Y$5&$AJ21)=1,$D$3,$F$3)","v":"Ͼ"},{"$f":"IF(INDIRECT(\"'\"&Go!$G$2&\"'!\"&Z$5&$AJ21)=1,$D$3,$F$3)","v":"Ͼ"},{"$f":"IF(INDIRECT(\"'\"&Go!$G$2&\"'!\"&AA$5&$AJ21)=1,$D$3,$F$3)","v":"Ͽ"},{"$f":"IF(INDIRECT(\"'\"&Go!$G$2&\"'!\"&AB$5&$AJ21)=1,$D$3,$F$3)","v":"Ͽ"},{"$f":"IF(INDIRECT(\"'\"&Go!$G$2&\"'!\"&AC$5&$AJ21)=1,$D$3,$F$3)","v":"Ͽ"},{"$f":"IF(INDIRECT(\"'\"&Go!$G$2&\"'!\"&AD$5&$AJ21)=1,$D$3,$F$3)","v":"Ͼ"},{"$f":"IF(INDIRECT(\"'\"&Go!$G$2&\"'!\"&AE$5&$AJ21)=1,$D$3,$F$3)","v":"Ͽ"},{"$f":"IF(INDIRECT(\"'\"&Go!$G$2&\"'!\"&AF$5&$AJ21)=1,$D$3,$F$3)","v":"Ͽ"},{"$f":"IF(INDIRECT(\"'\"&Go!$G$2&\"'!\"&AG$5&$AJ21)=1,$D$3,$F$3)","v":"Ͽ"},{"$f":"IF(INDIRECT(\"'\"&Go!$G$2&\"'!\"&AH$5&$AJ21)=1,$D$3,$F$3)","v":"Ͽ"},15,17]
[null,null,null,16,{"$f":"IF(INDIRECT(\"'\"&Go!$G$2&\"'!\"&E$5&$AJ22)=1,$D$3,$F$3)","v":"Ͽ"},{"$f":"IF(INDIRECT(\"'\"&Go!$G$2&\"'!\"&F$5&$AJ22)=1,$D$3,$F$3)","v":"Ͼ"},{"$f":"IF(INDIRECT(\"'\"&Go!$G$2&\"'!\"&G$5&$AJ22)=1,$D$3,$F$3)","v":"Ͽ"},{"$f":"IF(INDIRECT(\"'\"&Go!$G$2&\"'!\"&H$5&$AJ22)=1,$D$3,$F$3)","v":"Ͼ"},{"$f":"IF(INDIRECT(\"'\"&Go!$G$2&\"'!\"&I$5&$AJ22)=1,$D$3,$F$3)","v":"Ͼ"},{"$f":"IF(INDIRECT(\"'\"&Go!$G$2&\"'!\"&J$5&$AJ22)=1,$D$3,$F$3)","v":"Ͽ"},{"$f":"IF(INDIRECT(\"'\"&Go!$G$2&\"'!\"&K$5&$AJ22)=1,$D$3,$F$3)","v":"Ͽ"},{"$f":"IF(INDIRECT(\"'\"&Go!$G$2&\"'!\"&L$5&$AJ22)=1,$D$3,$F$3)","v":"Ͼ"},{"$f":"IF(INDIRECT(\"'\"&Go!$G$2&\"'!\"&M$5&$AJ22)=1,$D$3,$F$3)","v":"Ͼ"},{"$f":"IF(INDIRECT(\"'\"&Go!$G$2&\"'!\"&N$5&$AJ22)=1,$D$3,$F$3)","v":"Ͼ"},{"$f":"IF(INDIRECT(\"'\"&Go!$G$2&\"'!\"&O$5&$AJ22)=1,$D$3,$F$3)","v":"Ͽ"},{"$f":"IF(INDIRECT(\"'\"&Go!$G$2&\"'!\"&P$5&$AJ22)=1,$D$3,$F$3)","v":"Ͽ"},{"$f":"IF(INDIRECT(\"'\"&Go!$G$2&\"'!\"&Q$5&$AJ22)=1,$D$3,$F$3)","v":"Ͽ"},{"$f":"IF(INDIRECT(\"'\"&Go!$G$2&\"'!\"&R$5&$AJ22)=1,$D$3,$F$3)","v":"Ͼ"},{"$f":"IF(INDIRECT(\"'\"&Go!$G$2&\"'!\"&S$5&$AJ22)=1,$D$3,$F$3)","v":"Ͽ"},{"$f":"IF(INDIRECT(\"'\"&Go!$G$2&\"'!\"&T$5&$AJ22)=1,$D$3,$F$3)","v":"Ͼ"},{"$f":"IF(INDIRECT(\"'\"&Go!$G$2&\"'!\"&U$5&$AJ22)=1,$D$3,$F$3)","v":"Ͽ"},{"$f":"IF(INDIRECT(\"'\"&Go!$G$2&\"'!\"&V$5&$AJ22)=1,$D$3,$F$3)","v":"Ͼ"},{"$f":"IF(INDIRECT(\"'\"&Go!$G$2&\"'!\"&W$5&$AJ22)=1,$D$3,$F$3)","v":"Ͽ"},{"$f":"IF(INDIRECT(\"'\"&Go!$G$2&\"'!\"&X$5&$AJ22)=1,$D$3,$F$3)","v":"Ͽ"},{"$f":"IF(INDIRECT(\"'\"&Go!$G$2&\"'!\"&Y$5&$AJ22)=1,$D$3,$F$3)","v":"Ͼ"},{"$f":"IF(INDIRECT(\"'\"&Go!$G$2&\"'!\"&Z$5&$AJ22)=1,$D$3,$F$3)","v":"Ͽ"},{"$f":"IF(INDIRECT(\"'\"&Go!$G$2&\"'!\"&AA$5&$AJ22)=1,$D$3,$F$3)","v":"Ͽ"},{"$f":"IF(INDIRECT(\"'\"&Go!$G$2&\"'!\"&AB$5&$AJ22)=1,$D$3,$F$3)","v":"Ͽ"},{"$f":"IF(INDIRECT(\"'\"&Go!$G$2&\"'!\"&AC$5&$AJ22)=1,$D$3,$F$3)","v":"Ͽ"},{"$f":"IF(INDIRECT(\"'\"&Go!$G$2&\"'!\"&AD$5&$AJ22)=1,$D$3,$F$3)","v":"Ͽ"},{"$f":"IF(INDIRECT(\"'\"&Go!$G$2&\"'!\"&AE$5&$AJ22)=1,$D$3,$F$3)","v":"Ͽ"},{"$f":"IF(INDIRECT(\"'\"&Go!$G$2&\"'!\"&AF$5&$AJ22)=1,$D$3,$F$3)","v":"Ͽ"},{"$f":"IF(INDIRECT(\"'\"&Go!$G$2&\"'!\"&AG$5&$AJ22)=1,$D$3,$F$3)","v":"Ͼ"},{"$f":"IF(INDIRECT(\"'\"&Go!$G$2&\"'!\"&AH$5&$AJ22)=1,$D$3,$F$3)","v":"Ͼ"},16,18]
[null,null,null,17,{"$f":"IF(INDIRECT(\"'\"&Go!$G$2&\"'!\"&E$5&$AJ23)=1,$D$3,$F$3)","v":"Ͼ"},{"$f":"IF(INDIRECT(\"'\"&Go!$G$2&\"'!\"&F$5&$AJ23)=1,$D$3,$F$3)","v":"Ͽ"},{"$f":"IF(INDIRECT(\"'\"&Go!$G$2&\"'!\"&G$5&$AJ23)=1,$D$3,$F$3)","v":"Ͼ"},{"$f":"IF(INDIRECT(\"'\"&Go!$G$2&\"'!\"&H$5&$AJ23)=1,$D$3,$F$3)","v":"Ͽ"},{"$f":"IF(INDIRECT(\"'\"&Go!$G$2&\"'!\"&I$5&$AJ23)=1,$D$3,$F$3)","v":"Ͼ"},{"$f":"IF(INDIRECT(\"'\"&Go!$G$2&\"'!\"&J$5&$AJ23)=1,$D$3,$F$3)","v":"Ͼ"},{"$f":"IF(INDIRECT(\"'\"&Go!$G$2&\"'!\"&K$5&$AJ23)=1,$D$3,$F$3)","v":"Ͼ"},{"$f":"IF(INDIRECT(\"'\"&Go!$G$2&\"'!\"&L$5&$AJ23)=1,$D$3,$F$3)","v":"Ͽ"},{"$f":"IF(INDIRECT(\"'\"&Go!$G$2&\"'!\"&M$5&$AJ23)=1,$D$3,$F$3)","v":"Ͽ"},{"$f":"IF(INDIRECT(\"'\"&Go!$G$2&\"'!\"&N$5&$AJ23)=1,$D$3,$F$3)","v":"Ͼ"},{"$f":"IF(INDIRECT(\"'\"&Go!$G$2&\"'!\"&O$5&$AJ23)=1,$D$3,$F$3)","v":"Ͼ"},{"$f":"IF(INDIRECT(\"'\"&Go!$G$2&\"'!\"&P$5&$AJ23)=1,$D$3,$F$3)","v":"Ͼ"},{"$f":"IF(INDIRECT(\"'\"&Go!$G$2&\"'!\"&Q$5&$AJ23)=1,$D$3,$F$3)","v":"Ͼ"},{"$f":"IF(INDIRECT(\"'\"&Go!$G$2&\"'!\"&R$5&$AJ23)=1,$D$3,$F$3)","v":"Ͽ"},{"$f":"IF(INDIRECT(\"'\"&Go!$G$2&\"'!\"&S$5&$AJ23)=1,$D$3,$F$3)","v":"Ͽ"},{"$f":"IF(INDIRECT(\"'\"&Go!$G$2&\"'!\"&T$5&$AJ23)=1,$D$3,$F$3)","v":"Ͼ"},{"$f":"IF(INDIRECT(\"'\"&Go!$G$2&\"'!\"&U$5&$AJ23)=1,$D$3,$F$3)","v":"Ͽ"},{"$f":"IF(INDIRECT(\"'\"&Go!$G$2&\"'!\"&V$5&$AJ23)=1,$D$3,$F$3)","v":"Ͼ"},{"$f":"IF(INDIRECT(\"'\"&Go!$G$2&\"'!\"&W$5&$AJ23)=1,$D$3,$F$3)","v":"Ͽ"},{"$f":"IF(INDIRECT(\"'\"&Go!$G$2&\"'!\"&X$5&$AJ23)=1,$D$3,$F$3)","v":"Ͼ"},{"$f":"IF(INDIRECT(\"'\"&Go!$G$2&\"'!\"&Y$5&$AJ23)=1,$D$3,$F$3)","v":"Ͽ"},{"$f":"IF(INDIRECT(\"'\"&Go!$G$2&\"'!\"&Z$5&$AJ23)=1,$D$3,$F$3)","v":"Ͼ"},{"$f":"IF(INDIRECT(\"'\"&Go!$G$2&\"'!\"&AA$5&$AJ23)=1,$D$3,$F$3)","v":"Ͽ"},{"$f":"IF(INDIRECT(\"'\"&Go!$G$2&\"'!\"&AB$5&$AJ23)=1,$D$3,$F$3)","v":"Ͼ"},{"$f":"IF(INDIRECT(\"'\"&Go!$G$2&\"'!\"&AC$5&$AJ23)=1,$D$3,$F$3)","v":"Ͽ"},{"$f":"IF(INDIRECT(\"'\"&Go!$G$2&\"'!\"&AD$5&$AJ23)=1,$D$3,$F$3)","v":"Ͼ"},{"$f":"IF(INDIRECT(\"'\"&Go!$G$2&\"'!\"&AE$5&$AJ23)=1,$D$3,$F$3)","v":"Ͼ"},{"$f":"IF(INDIRECT(\"'\"&Go!$G$2&\"'!\"&AF$5&$AJ23)=1,$D$3,$F$3)","v":"Ͽ"},{"$f":"IF(INDIRECT(\"'\"&Go!$G$2&\"'!\"&AG$5&$AJ23)=1,$D$3,$F$3)","v":"Ͼ"},{"$f":"IF(INDIRECT(\"'\"&Go!$G$2&\"'!\"&AH$5&$AJ23)=1,$D$3,$F$3)","v":"Ͼ"},17,19]
[null,null,null,18,{"$f":"IF(INDIRECT(\"'\"&Go!$G$2&\"'!\"&E$5&$AJ24)=1,$D$3,$F$3)","v":"Ͼ"},{"$f":"IF(INDIRECT(\"'\"&Go!$G$2&\"'!\"&F$5&$AJ24)=1,$D$3,$F$3)","v":"Ͼ"},{"$f":"IF(INDIRECT(\"'\"&Go!$G$2&\"'!\"&G$5&$AJ24)=1,$D$3,$F$3)","v":"Ͽ"},{"$f":"IF(INDIRECT(\"'\"&Go!$G$2&\"'!\"&H$5&$AJ24)=1,$D$3,$F$3)","v":"Ͼ"},{"$f":"IF(INDIRECT(\"'\"&Go!$G$2&\"'!\"&I$5&$AJ24)=1,$D$3,$F$3)","v":"Ͼ"},{"$f":"IF(INDIRECT(\"'\"&Go!$G$2&\"'!\"&J$5&$AJ24)=1,$D$3,$F$3)","v":"Ͼ"},{"$f":"IF(INDIRECT(\"'\"&Go!$G$2&\"'!\"&K$5&$AJ24)=1,$D$3,$F$3)","v":"Ͽ"},{"$f":"IF(INDIRECT(\"'\"&Go!$G$2&\"'!\"&L$5&$AJ24)=1,$D$3,$F$3)","v":"Ͽ"},{"$f":"IF(INDIRECT(\"'\"&Go!$G$2&\"'!\"&M$5&$AJ24)=1,$D$3,$F$3)","v":"Ͽ"},{"$f":"IF(INDIRECT(\"'\"&Go!$G$2&\"'!\"&N$5&$AJ24)=1,$D$3,$F$3)","v":"Ͽ"},{"$f":"IF(INDIRECT(\"'\"&Go!$G$2&\"'!\"&O$5&$AJ24)=1,$D$3,$F$3)","v":"Ͽ"},{"$f":"IF(INDIRECT(\"'\"&Go!$G$2&\"'!\"&P$5&$AJ24)=1,$D$3,$F$3)","v":"Ͽ"},{"$f":"IF(INDIRECT(\"'\"&Go!$G$2&\"'!\"&Q$5&$AJ24)=1,$D$3,$F$3)","v":"Ͽ"},{"$f":"IF(INDIRECT(\"'\"&Go!$G$2&\"'!\"&R$5&$AJ24)=1,$D$3,$F$3)","v":"Ͼ"},{"$f":"IF(INDIRECT(\"'\"&Go!$G$2&\"'!\"&S$5&$AJ24)=1,$D$3,$F$3)","v":"Ͼ"},{"$f":"IF(INDIRECT(\"'\"&Go!$G$2&\"'!\"&T$5&$AJ24)=1,$D$3,$F$3)","v":"Ͽ"},{"$f":"IF(INDIRECT(\"'\"&Go!$G$2&\"'!\"&U$5&$AJ24)=1,$D$3,$F$3)","v":"Ͽ"},{"$f":"IF(INDIRECT(\"'\"&Go!$G$2&\"'!\"&V$5&$AJ24)=1,$D$3,$F$3)","v":"Ͼ"},{"$f":"IF(INDIRECT(\"'\"&Go!$G$2&\"'!\"&W$5&$AJ24)=1,$D$3,$F$3)","v":"Ͼ"},{"$f":"IF(INDIRECT(\"'\"&Go!$G$2&\"'!\"&X$5&$AJ24)=1,$D$3,$F$3)","v":"Ͽ"},{"$f":"IF(INDIRECT(\"'\"&Go!$G$2&\"'!\"&Y$5&$AJ24)=1,$D$3,$F$3)","v":"Ͽ"},{"$f":"IF(INDIRECT(\"'\"&Go!$G$2&\"'!\"&Z$5&$AJ24)=1,$D$3,$F$3)","v":"Ͼ"},{"$f":"IF(INDIRECT(\"'\"&Go!$G$2&\"'!\"&AA$5&$AJ24)=1,$D$3,$F$3)","v":"Ͽ"},{"$f":"IF(INDIRECT(\"'\"&Go!$G$2&\"'!\"&AB$5&$AJ24)=1,$D$3,$F$3)","v":"Ͼ"},{"$f":"IF(INDIRECT(\"'\"&Go!$G$2&\"'!\"&AC$5&$AJ24)=1,$D$3,$F$3)","v":"Ͽ"},{"$f":"IF(INDIRECT(\"'\"&Go!$G$2&\"'!\"&AD$5&$AJ24)=1,$D$3,$F$3)","v":"Ͼ"},{"$f":"IF(INDIRECT(\"'\"&Go!$G$2&\"'!\"&AE$5&$AJ24)=1,$D$3,$F$3)","v":"Ͼ"},{"$f":"IF(INDIRECT(\"'\"&Go!$G$2&\"'!\"&AF$5&$AJ24)=1,$D$3,$F$3)","v":"Ͼ"},{"$f":"IF(INDIRECT(\"'\"&Go!$G$2&\"'!\"&AG$5&$AJ24)=1,$D$3,$F$3)","v":"Ͼ"},{"$f":"IF(INDIRECT(\"'\"&Go!$G$2&\"'!\"&AH$5&$AJ24)=1,$D$3,$F$3)","v":"Ͽ"},18,20]
[null,null,null,19,{"$f":"IF(INDIRECT(\"'\"&Go!$G$2&\"'!\"&E$5&$AJ25)=1,$D$3,$F$3)","v":"Ͼ"},{"$f":"IF(INDIRECT(\"'\"&Go!$G$2&\"'!\"&F$5&$AJ25)=1,$D$3,$F$3)","v":"Ͽ"},{"$f":"IF(INDIRECT(\"'\"&Go!$G$2&\"'!\"&G$5&$AJ25)=1,$D$3,$F$3)","v":"Ͽ"},{"$f":"IF(INDIRECT(\"'\"&Go!$G$2&\"'!\"&H$5&$AJ25)=1,$D$3,$F$3)","v":"Ͼ"},{"$f":"IF(INDIRECT(\"'\"&Go!$G$2&\"'!\"&I$5&$AJ25)=1,$D$3,$F$3)","v":"Ͽ"},{"$f":"IF(INDIRECT(\"'\"&Go!$G$2&\"'!\"&J$5&$AJ25)=1,$D$3,$F$3)","v":"Ͽ"},{"$f":"IF(INDIRECT(\"'\"&Go!$G$2&\"'!\"&K$5&$AJ25)=1,$D$3,$F$3)","v":"Ͼ"},{"$f":"IF(INDIRECT(\"'\"&Go!$G$2&\"'!\"&L$5&$AJ25)=1,$D$3,$F$3)","v":"Ͽ"},{"$f":"IF(INDIRECT(\"'\"&Go!$G$2&\"'!\"&M$5&$AJ25)=1,$D$3,$F$3)","v":"Ͽ"},{"$f":"IF(INDIRECT(\"'\"&Go!$G$2&\"'!\"&N$5&$AJ25)=1,$D$3,$F$3)","v":"Ͼ"},{"$f":"IF(INDIRECT(\"'\"&Go!$G$2&\"'!\"&O$5&$AJ25)=1,$D$3,$F$3)","v":"Ͽ"},{"$f":"IF(INDIRECT(\"'\"&Go!$G$2&\"'!\"&P$5&$AJ25)=1,$D$3,$F$3)","v":"Ͽ"},{"$f":"IF(INDIRECT(\"'\"&Go!$G$2&\"'!\"&Q$5&$AJ25)=1,$D$3,$F$3)","v":"Ͼ"},{"$f":"IF(INDIRECT(\"'\"&Go!$G$2&\"'!\"&R$5&$AJ25)=1,$D$3,$F$3)","v":"Ͽ"},{"$f":"IF(INDIRECT(\"'\"&Go!$G$2&\"'!\"&S$5&$AJ25)=1,$D$3,$F$3)","v":"Ͼ"},{"$f":"IF(INDIRECT(\"'\"&Go!$G$2&\"'!\"&T$5&$AJ25)=1,$D$3,$F$3)","v":"Ͽ"},{"$f":"IF(INDIRECT(\"'\"&Go!$G$2&\"'!\"&U$5&$AJ25)=1,$D$3,$F$3)","v":"Ͼ"},{"$f":"IF(INDIRECT(\"'\"&Go!$G$2&\"'!\"&V$5&$AJ25)=1,$D$3,$F$3)","v":"Ͼ"},{"$f":"IF(INDIRECT(\"'\"&Go!$G$2&\"'!\"&W$5&$AJ25)=1,$D$3,$F$3)","v":"Ͼ"},{"$f":"IF(INDIRECT(\"'\"&Go!$G$2&\"'!\"&X$5&$AJ25)=1,$D$3,$F$3)","v":"Ͼ"},{"$f":"IF(INDIRECT(\"'\"&Go!$G$2&\"'!\"&Y$5&$AJ25)=1,$D$3,$F$3)","v":"Ͼ"},{"$f":"IF(INDIRECT(\"'\"&Go!$G$2&\"'!\"&Z$5&$AJ25)=1,$D$3,$F$3)","v":"Ͼ"},{"$f":"IF(INDIRECT(\"'\"&Go!$G$2&\"'!\"&AA$5&$AJ25)=1,$D$3,$F$3)","v":"Ͽ"},{"$f":"IF(INDIRECT(\"'\"&Go!$G$2&\"'!\"&AB$5&$AJ25)=1,$D$3,$F$3)","v":"Ͽ"},{"$f":"IF(INDIRECT(\"'\"&Go!$G$2&\"'!\"&AC$5&$AJ25)=1,$D$3,$F$3)","v":"Ͼ"},{"$f":"IF(INDIRECT(\"'\"&Go!$G$2&\"'!\"&AD$5&$AJ25)=1,$D$3,$F$3)","v":"Ͼ"},{"$f":"IF(INDIRECT(\"'\"&Go!$G$2&\"'!\"&AE$5&$AJ25)=1,$D$3,$F$3)","v":"Ͼ"},{"$f":"IF(INDIRECT(\"'\"&Go!$G$2&\"'!\"&AF$5&$AJ25)=1,$D$3,$F$3)","v":"Ͽ"},{"$f":"IF(INDIRECT(\"'\"&Go!$G$2&\"'!\"&AG$5&$AJ25)=1,$D$3,$F$3)","v":"Ͽ"},{"$f":"IF(INDIRECT(\"'\"&Go!$G$2&\"'!\"&AH$5&$AJ25)=1,$D$3,$F$3)","v":"Ͽ"},19,21]
[null,null,null,20,{"$f":"IF(INDIRECT(\"'\"&Go!$G$2&\"'!\"&E$5&$AJ26)=1,$D$3,$F$3)","v":"Ͽ"},{"$f":"IF(INDIRECT(\"'\"&Go!$G$2&\"'!\"&F$5&$AJ26)=1,$D$3,$F$3)","v":"Ͼ"},{"$f":"IF(INDIRECT(\"'\"&Go!$G$2&\"'!\"&G$5&$AJ26)=1,$D$3,$F$3)","v":"Ͼ"},{"$f":"IF(INDIRECT(\"'\"&Go!$G$2&\"'!\"&H$5&$AJ26)=1,$D$3,$F$3)","v":"Ͽ"},{"$f":"IF(INDIRECT(\"'\"&Go!$G$2&\"'!\"&I$5&$AJ26)=1,$D$3,$F$3)","v":"Ͼ"},{"$f":"IF(INDIRECT(\"'\"&Go!$G$2&\"'!\"&J$5&$AJ26)=1,$D$3,$F$3)","v":"Ͽ"},{"$f":"IF(INDIRECT(\"'\"&Go!$G$2&\"'!\"&K$5&$AJ26)=1,$D$3,$F$3)","v":"Ͽ"},{"$f":"IF(INDIRECT(\"'\"&Go!$G$2&\"'!\"&L$5&$AJ26)=1,$D$3,$F$3)","v":"Ͼ"},{"$f":"IF(INDIRECT(\"'\"&Go!$G$2&\"'!\"&M$5&$AJ26)=1,$D$3,$F$3)","v":"Ͽ"},{"$f":"IF(INDIRECT(\"'\"&Go!$G$2&\"'!\"&N$5&$AJ26)=1,$D$3,$F$3)","v":"Ͽ"},{"$f":"IF(INDIRECT(\"'\"&Go!$G$2&\"'!\"&O$5&$AJ26)=1,$D$3,$F$3)","v":"Ͽ"},{"$f":"IF(INDIRECT(\"'\"&Go!$G$2&\"'!\"&P$5&$AJ26)=1,$D$3,$F$3)","v":"Ͽ"},{"$f":"IF(INDIRECT(\"'\"&Go!$G$2&\"'!\"&Q$5&$AJ26)=1,$D$3,$F$3)","v":"Ͼ"},{"$f":"IF(INDIRECT(\"'\"&Go!$G$2&\"'!\"&R$5&$AJ26)=1,$D$3,$F$3)","v":"Ͽ"},{"$f":"IF(INDIRECT(\"'\"&Go!$G$2&\"'!\"&S$5&$AJ26)=1,$D$3,$F$3)","v":"Ͼ"},{"$f":"IF(INDIRECT(\"'\"&Go!$G$2&\"'!\"&T$5&$AJ26)=1,$D$3,$F$3)","v":"Ͼ"},{"$f":"IF(INDIRECT(\"'\"&Go!$G$2&\"'!\"&U$5&$AJ26)=1,$D$3,$F$3)","v":"Ͼ"},{"$f":"IF(INDIRECT(\"'\"&Go!$G$2&\"'!\"&V$5&$AJ26)=1,$D$3,$F$3)","v":"Ͼ"},{"$f":"IF(INDIRECT(\"'\"&Go!$G$2&\"'!\"&W$5&$AJ26)=1,$D$3,$F$3)","v":"Ͼ"},{"$f":"IF(INDIRECT(\"'\"&Go!$G$2&\"'!\"&X$5&$AJ26)=1,$D$3,$F$3)","v":"Ͼ"},{"$f":"IF(INDIRECT(\"'\"&Go!$G$2&\"'!\"&Y$5&$AJ26)=1,$D$3,$F$3)","v":"Ͼ"},{"$f":"IF(INDIRECT(\"'\"&Go!$G$2&\"'!\"&Z$5&$AJ26)=1,$D$3,$F$3)","v":"Ͼ"},{"$f":"IF(INDIRECT(\"'\"&Go!$G$2&\"'!\"&AA$5&$AJ26)=1,$D$3,$F$3)","v":"Ͼ"},{"$f":"IF(INDIRECT(\"'\"&Go!$G$2&\"'!\"&AB$5&$AJ26)=1,$D$3,$F$3)","v":"Ͼ"},{"$f":"IF(INDIRECT(\"'\"&Go!$G$2&\"'!\"&AC$5&$AJ26)=1,$D$3,$F$3)","v":"Ͼ"},{"$f":"IF(INDIRECT(\"'\"&Go!$G$2&\"'!\"&AD$5&$AJ26)=1,$D$3,$F$3)","v":"Ͼ"},{"$f":"IF(INDIRECT(\"'\"&Go!$G$2&\"'!\"&AE$5&$AJ26)=1,$D$3,$F$3)","v":"Ͼ"},{"$f":"IF(INDIRECT(\"'\"&Go!$G$2&\"'!\"&AF$5&$AJ26)=1,$D$3,$F$3)","v":"Ͽ"},{"$f":"IF(INDIRECT(\"'\"&Go!$G$2&\"'!\"&AG$5&$AJ26)=1,$D$3,$F$3)","v":"Ͼ"},{"$f":"IF(INDIRECT(\"'\"&Go!$G$2&\"'!\"&AH$5&$AJ26)=1,$D$3,$F$3)","v":"Ͼ"},20,22]
[null,null,null,21,{"$f":"IF(INDIRECT(\"'\"&Go!$G$2&\"'!\"&E$5&$AJ27)=1,$D$3,$F$3)","v":"Ͽ"},{"$f":"IF(INDIRECT(\"'\"&Go!$G$2&\"'!\"&F$5&$AJ27)=1,$D$3,$F$3)","v":"Ͽ"},{"$f":"IF(INDIRECT(\"'\"&Go!$G$2&\"'!\"&G$5&$AJ27)=1,$D$3,$F$3)","v":"Ͽ"},{"$f":"IF(INDIRECT(\"'\"&Go!$G$2&\"'!\"&H$5&$AJ27)=1,$D$3,$F$3)","v":"Ͽ"},{"$f":"IF(INDIRECT(\"'\"&Go!$G$2&\"'!\"&I$5&$AJ27)=1,$D$3,$F$3)","v":"Ͼ"},{"$f":"IF(INDIRECT(\"'\"&Go!$G$2&\"'!\"&J$5&$AJ27)=1,$D$3,$F$3)","v":"Ͽ"},{"$f":"IF(INDIRECT(\"'\"&Go!$G$2&\"'!\"&K$5&$AJ27)=1,$D$3,$F$3)","v":"Ͼ"},{"$f":"IF(INDIRECT(\"'\"&Go!$G$2&\"'!\"&L$5&$AJ27)=1,$D$3,$F$3)","v":"Ͽ"},{"$f":"IF(INDIRECT(\"'\"&Go!$G$2&\"'!\"&M$5&$AJ27)=1,$D$3,$F$3)","v":"Ͽ"},{"$f":"IF(INDIRECT(\"'\"&Go!$G$2&\"'!\"&N$5&$AJ27)=1,$D$3,$F$3)","v":"Ͼ"},{"$f":"IF(INDIRECT(\"'\"&Go!$G$2&\"'!\"&O$5&$AJ27)=1,$D$3,$F$3)","v":"Ͼ"},{"$f":"IF(INDIRECT(\"'\"&Go!$G$2&\"'!\"&P$5&$AJ27)=1,$D$3,$F$3)","v":"Ͽ"},{"$f":"IF(INDIRECT(\"'\"&Go!$G$2&\"'!\"&Q$5&$AJ27)=1,$D$3,$F$3)","v":"Ͽ"},{"$f":"IF(INDIRECT(\"'\"&Go!$G$2&\"'!\"&R$5&$AJ27)=1,$D$3,$F$3)","v":"Ͽ"},{"$f":"IF(INDIRECT(\"'\"&Go!$G$2&\"'!\"&S$5&$AJ27)=1,$D$3,$F$3)","v":"Ͽ"},{"$f":"IF(INDIRECT(\"'\"&Go!$G$2&\"'!\"&T$5&$AJ27)=1,$D$3,$F$3)","v":"Ͼ"},{"$f":"IF(INDIRECT(\"'\"&Go!$G$2&\"'!\"&U$5&$AJ27)=1,$D$3,$F$3)","v":"Ͽ"},{"$f":"IF(INDIRECT(\"'\"&Go!$G$2&\"'!\"&V$5&$AJ27)=1,$D$3,$F$3)","v":"Ͽ"},{"$f":"IF(INDIRECT(\"'\"&Go!$G$2&\"'!\"&W$5&$AJ27)=1,$D$3,$F$3)","v":"Ͽ"},{"$f":"IF(INDIRECT(\"'\"&Go!$G$2&\"'!\"&X$5&$AJ27)=1,$D$3,$F$3)","v":"Ͽ"},{"$f":"IF(INDIRECT(\"'\"&Go!$G$2&\"'!\"&Y$5&$AJ27)=1,$D$3,$F$3)","v":"Ͼ"},{"$f":"IF(INDIRECT(\"'\"&Go!$G$2&\"'!\"&Z$5&$AJ27)=1,$D$3,$F$3)","v":"Ͽ"},{"$f":"IF(INDIRECT(\"'\"&Go!$G$2&\"'!\"&AA$5&$AJ27)=1,$D$3,$F$3)","v":"Ͽ"},{"$f":"IF(INDIRECT(\"'\"&Go!$G$2&\"'!\"&AB$5&$AJ27)=1,$D$3,$F$3)","v":"Ͼ"},{"$f":"IF(INDIRECT(\"'\"&Go!$G$2&\"'!\"&AC$5&$AJ27)=1,$D$3,$F$3)","v":"Ͼ"},{"$f":"IF(INDIRECT(\"'\"&Go!$G$2&\"'!\"&AD$5&$AJ27)=1,$D$3,$F$3)","v":"Ͽ"},{"$f":"IF(INDIRECT(\"'\"&Go!$G$2&\"'!\"&AE$5&$AJ27)=1,$D$3,$F$3)","v":"Ͽ"},{"$f":"IF(INDIRECT(\"'\"&Go!$G$2&\"'!\"&AF$5&$AJ27)=1,$D$3,$F$3)","v":"Ͼ"},{"$f":"IF(INDIRECT(\"'\"&Go!$G$2&\"'!\"&AG$5&$AJ27)=1,$D$3,$F$3)","v":"Ͼ"},{"$f":"IF(INDIRECT(\"'\"&Go!$G$2&\"'!\"&AH$5&$AJ27)=1,$D$3,$F$3)","v":"Ͼ"},21,23]
[null,null,null,22,{"$f":"IF(INDIRECT(\"'\"&Go!$G$2&\"'!\"&E$5&$AJ28)=1,$D$3,$F$3)","v":"Ͼ"},{"$f":"IF(INDIRECT(\"'\"&Go!$G$2&\"'!\"&F$5&$AJ28)=1,$D$3,$F$3)","v":"Ͼ"},{"$f":"IF(INDIRECT(\"'\"&Go!$G$2&\"'!\"&G$5&$AJ28)=1,$D$3,$F$3)","v":"Ͼ"},{"$f":"IF(INDIRECT(\"'\"&Go!$G$2&\"'!\"&H$5&$AJ28)=1,$D$3,$F$3)","v":"Ͼ"},{"$f":"IF(INDIRECT(\"'\"&Go!$G$2&\"'!\"&I$5&$AJ28)=1,$D$3,$F$3)","v":"Ͽ"},{"$f":"IF(INDIRECT(\"'\"&Go!$G$2&\"'!\"&J$5&$AJ28)=1,$D$3,$F$3)","v":"Ͽ"},{"$f":"IF(INDIRECT(\"'\"&Go!$G$2&\"'!\"&K$5&$AJ28)=1,$D$3,$F$3)","v":"Ͽ"},{"$f":"IF(INDIRECT(\"'\"&Go!$G$2&\"'!\"&L$5&$AJ28)=1,$D$3,$F$3)","v":"Ͽ"},{"$f":"IF(INDIRECT(\"'\"&Go!$G$2&\"'!\"&M$5&$AJ28)=1,$D$3,$F$3)","v":"Ͽ"},{"$f":"IF(INDIRECT(\"'\"&Go!$G$2&\"'!\"&N$5&$AJ28)=1,$D$3,$F$3)","v":"Ͼ"},{"$f":"IF(INDIRECT(\"'\"&Go!$G$2&\"'!\"&O$5&$AJ28)=1,$D$3,$F$3)","v":"Ͽ"},{"$f":"IF(INDIRECT(\"'\"&Go!$G$2&\"'!\"&P$5&$AJ28)=1,$D$3,$F$3)","v":"Ͽ"},{"$f":"IF(INDIRECT(\"'\"&Go!$G$2&\"'!\"&Q$5&$AJ28)=1,$D$3,$F$3)","v":"Ͼ"},{"$f":"IF(INDIRECT(\"'\"&Go!$G$2&\"'!\"&R$5&$AJ28)=1,$D$3,$F$3)","v":"Ͼ"},{"$f":"IF(INDIRECT(\"'\"&Go!$G$2&\"'!\"&S$5&$AJ28)=1,$D$3,$F$3)","v":"Ͼ"},{"$f":"IF(INDIRECT(\"'\"&Go!$G$2&\"'!\"&T$5&$AJ28)=1,$D$3,$F$3)","v":"Ͽ"},{"$f":"IF(INDIRECT(\"'\"&Go!$G$2&\"'!\"&U$5&$AJ28)=1,$D$3,$F$3)","v":"Ͽ"},{"$f":"IF(INDIRECT(\"'\"&Go!$G$2&\"'!\"&V$5&$AJ28)=1,$D$3,$F$3)","v":"Ͼ"},{"$f":"IF(INDIRECT(\"'\"&Go!$G$2&\"'!\"&W$5&$AJ28)=1,$D$3,$F$3)","v":"Ͼ"},{"$f":"IF(INDIRECT(\"'\"&Go!$G$2&\"'!\"&X$5&$AJ28)=1,$D$3,$F$3)","v":"Ͽ"},{"$f":"IF(INDIRECT(\"'\"&Go!$G$2&\"'!\"&Y$5&$AJ28)=1,$D$3,$F$3)","v":"Ͽ"},{"$f":"IF(INDIRECT(\"'\"&Go!$G$2&\"'!\"&Z$5&$AJ28)=1,$D$3,$F$3)","v":"Ͼ"},{"$f":"IF(INDIRECT(\"'\"&Go!$G$2&\"'!\"&AA$5&$AJ28)=1,$D$3,$F$3)","v":"Ͼ"},{"$f":"IF(INDIRECT(\"'\"&Go!$G$2&\"'!\"&AB$5&$AJ28)=1,$D$3,$F$3)","v":"Ͽ"},{"$f":"IF(INDIRECT(\"'\"&Go!$G$2&\"'!\"&AC$5&$AJ28)=1,$D$3,$F$3)","v":"Ͼ"},{"$f":"IF(INDIRECT(\"'\"&Go!$G$2&\"'!\"&AD$5&$AJ28)=1,$D$3,$F$3)","v":"Ͼ"},{"$f":"IF(INDIRECT(\"'\"&Go!$G$2&\"'!\"&AE$5&$AJ28)=1,$D$3,$F$3)","v":"Ͼ"},{"$f":"IF(INDIRECT(\"'\"&Go!$G$2&\"'!\"&AF$5&$AJ28)=1,$D$3,$F$3)","v":"Ͼ"},{"$f":"IF(INDIRECT(\"'\"&Go!$G$2&\"'!\"&AG$5&$AJ28)=1,$D$3,$F$3)","v":"Ͽ"},{"$f":"IF(INDIRECT(\"'\"&Go!$G$2&\"'!\"&AH$5&$AJ28)=1,$D$3,$F$3)","v":"Ͽ"},22,24]
[null,null,null,23,{"$f":"IF(INDIRECT(\"'\"&Go!$G$2&\"'!\"&E$5&$AJ29)=1,$D$3,$F$3)","v":"Ͽ"},{"$f":"IF(INDIRECT(\"'\"&Go!$G$2&\"'!\"&F$5&$AJ29)=1,$D$3,$F$3)","v":"Ͼ"},{"$f":"IF(INDIRECT(\"'\"&Go!$G$2&\"'!\"&G$5&$AJ29)=1,$D$3,$F$3)","v":"Ͽ"},{"$f":"IF(INDIRECT(\"'\"&Go!$G$2&\"'!\"&H$5&$AJ29)=1,$D$3,$F$3)","v":"Ͽ"},{"$f":"IF(INDIRECT(\"'\"&Go!$G$2&\"'!\"&I$5&$AJ29)=1,$D$3,$F$3)","v":"Ͼ"},{"$f":"IF(INDIRECT(\"'\"&Go!$G$2&\"'!\"&J$5&$AJ29)=1,$D$3,$F$3)","v":"Ͽ"},{"$f":"IF(INDIRECT(\"'\"&Go!$G$2&\"'!\"&K$5&$AJ29)=1,$D$3,$F$3)","v":"Ͽ"},{"$f":"IF(INDIRECT(\"'\"&Go!$G$2&\"'!\"&L$5&$AJ29)=1,$D$3,$F$3)","v":"Ͼ"},{"$f":"IF(INDIRECT(\"'\"&Go!$G$2&\"'!\"&M$5&$AJ29)=1,$D$3,$F$3)","v":"Ͼ"},{"$f":"IF(INDIRECT(\"'\"&Go!$G$2&\"'!\"&N$5&$AJ29)=1,$D$3,$F$3)","v":"Ͼ"},{"$f":"IF(INDIRECT(\"'\"&Go!$G$2&\"'!\"&O$5&$AJ29)=1,$D$3,$F$3)","v":"Ͼ"},{"$f":"IF(INDIRECT(\"'\"&Go!$G$2&\"'!\"&P$5&$AJ29)=1,$D$3,$F$3)","v":"Ͼ"},{"$f":"IF(INDIRECT(\"'\"&Go!$G$2&\"'!\"&Q$5&$AJ29)=1,$D$3,$F$3)","v":"Ͽ"},{"$f":"IF(INDIRECT(\"'\"&Go!$G$2&\"'!\"&R$5&$AJ29)=1,$D$3,$F$3)","v":"Ͼ"},{"$f":"IF(INDIRECT(\"'\"&Go!$G$2&\"'!\"&S$5&$AJ29)=1,$D$3,$F$3)","v":"Ͼ"},{"$f":"IF(INDIRECT(\"'\"&Go!$G$2&\"'!\"&T$5&$AJ29)=1,$D$3,$F$3)","v":"Ͽ"},{"$f":"IF(INDIRECT(\"'\"&Go!$G$2&\"'!\"&U$5&$AJ29)=1,$D$3,$F$3)","v":"Ͼ"},{"$f":"IF(INDIRECT(\"'\"&Go!$G$2&\"'!\"&V$5&$AJ29)=1,$D$3,$F$3)","v":"Ͼ"},{"$f":"IF(INDIRECT(\"'\"&Go!$G$2&\"'!\"&W$5&$AJ29)=1,$D$3,$F$3)","v":"Ͽ"},{"$f":"IF(INDIRECT(\"'\"&Go!$G$2&\"'!\"&X$5&$AJ29)=1,$D$3,$F$3)","v":"Ͼ"},{"$f":"IF(INDIRECT(\"'\"&Go!$G$2&\"'!\"&Y$5&$AJ29)=1,$D$3,$F$3)","v":"Ͼ"},{"$f":"IF(INDIRECT(\"'\"&Go!$G$2&\"'!\"&Z$5&$AJ29)=1,$D$3,$F$3)","v":"Ͼ"},{"$f":"IF(INDIRECT(\"'\"&Go!$G$2&\"'!\"&AA$5&$AJ29)=1,$D$3,$F$3)","v":"Ͼ"},{"$f":"IF(INDIRECT(\"'\"&Go!$G$2&\"'!\"&AB$5&$AJ29)=1,$D$3,$F$3)","v":"Ͽ"},{"$f":"IF(INDIRECT(\"'\"&Go!$G$2&\"'!\"&AC$5&$AJ29)=1,$D$3,$F$3)","v":"Ͼ"},{"$f":"IF(INDIRECT(\"'\"&Go!$G$2&\"'!\"&AD$5&$AJ29)=1,$D$3,$F$3)","v":"Ͽ"},{"$f":"IF(INDIRECT(\"'\"&Go!$G$2&\"'!\"&AE$5&$AJ29)=1,$D$3,$F$3)","v":"Ͼ"},{"$f":"IF(INDIRECT(\"'\"&Go!$G$2&\"'!\"&AF$5&$AJ29)=1,$D$3,$F$3)","v":"Ͼ"},{"$f":"IF(INDIRECT(\"'\"&Go!$G$2&\"'!\"&AG$5&$AJ29)=1,$D$3,$F$3)","v":"Ͼ"},{"$f":"IF(INDIRECT(\"'\"&Go!$G$2&\"'!\"&AH$5&$AJ29)=1,$D$3,$F$3)","v":"Ͼ"},23,25]
[null,null,null,24,{"$f":"IF(INDIRECT(\"'\"&Go!$G$2&\"'!\"&E$5&$AJ30)=1,$D$3,$F$3)","v":"Ͼ"},{"$f":"IF(INDIRECT(\"'\"&Go!$G$2&\"'!\"&F$5&$AJ30)=1,$D$3,$F$3)","v":"Ͽ"},{"$f":"IF(INDIRECT(\"'\"&Go!$G$2&\"'!\"&G$5&$AJ30)=1,$D$3,$F$3)","v":"Ͽ"},{"$f":"IF(INDIRECT(\"'\"&Go!$G$2&\"'!\"&H$5&$AJ30)=1,$D$3,$F$3)","v":"Ͼ"},{"$f":"IF(INDIRECT(\"'\"&Go!$G$2&\"'!\"&I$5&$AJ30)=1,$D$3,$F$3)","v":"Ͽ"},{"$f":"IF(INDIRECT(\"'\"&Go!$G$2&\"'!\"&J$5&$AJ30)=1,$D$3,$F$3)","v":"Ͼ"},{"$f":"IF(INDIRECT(\"'\"&Go!$G$2&\"'!\"&K$5&$AJ30)=1,$D$3,$F$3)","v":"Ͼ"},{"$f":"IF(INDIRECT(\"'\"&Go!$G$2&\"'!\"&L$5&$AJ30)=1,$D$3,$F$3)","v":"Ͽ"},{"$f":"IF(INDIRECT(\"'\"&Go!$G$2&\"'!\"&M$5&$AJ30)=1,$D$3,$F$3)","v":"Ͽ"},{"$f":"IF(INDIRECT(\"'\"&Go!$G$2&\"'!\"&N$5&$AJ30)=1,$D$3,$F$3)","v":"Ͼ"},{"$f":"IF(INDIRECT(\"'\"&Go!$G$2&\"'!\"&O$5&$AJ30)=1,$D$3,$F$3)","v":"Ͽ"},{"$f":"IF(INDIRECT(\"'\"&Go!$G$2&\"'!\"&P$5&$AJ30)=1,$D$3,$F$3)","v":"Ͼ"},{"$f":"IF(INDIRECT(\"'\"&Go!$G$2&\"'!\"&Q$5&$AJ30)=1,$D$3,$F$3)","v":"Ͽ"},{"$f":"IF(INDIRECT(\"'\"&Go!$G$2&\"'!\"&R$5&$AJ30)=1,$D$3,$F$3)","v":"Ͼ"},{"$f":"IF(INDIRECT(\"'\"&Go!$G$2&\"'!\"&S$5&$AJ30)=1,$D$3,$F$3)","v":"Ͽ"},{"$f":"IF(INDIRECT(\"'\"&Go!$G$2&\"'!\"&T$5&$AJ30)=1,$D$3,$F$3)","v":"Ͽ"},{"$f":"IF(INDIRECT(\"'\"&Go!$G$2&\"'!\"&U$5&$AJ30)=1,$D$3,$F$3)","v":"Ͼ"},{"$f":"IF(INDIRECT(\"'\"&Go!$G$2&\"'!\"&V$5&$AJ30)=1,$D$3,$F$3)","v":"Ͼ"},{"$f":"IF(INDIRECT(\"'\"&Go!$G$2&\"'!\"&W$5&$AJ30)=1,$D$3,$F$3)","v":"Ͽ"},{"$f":"IF(INDIRECT(\"'\"&Go!$G$2&\"'!\"&X$5&$AJ30)=1,$D$3,$F$3)","v":"Ͼ"},{"$f":"IF(INDIRECT(\"'\"&Go!$G$2&\"'!\"&Y$5&$AJ30)=1,$D$3,$F$3)","v":"Ͼ"},{"$f":"IF(INDIRECT(\"'\"&Go!$G$2&\"'!\"&Z$5&$AJ30)=1,$D$3,$F$3)","v":"Ͼ"},{"$f":"IF(INDIRECT(\"'\"&Go!$G$2&\"'!\"&AA$5&$AJ30)=1,$D$3,$F$3)","v":"Ͽ"},{"$f":"IF(INDIRECT(\"'\"&Go!$G$2&\"'!\"&AB$5&$AJ30)=1,$D$3,$F$3)","v":"Ͼ"},{"$f":"IF(INDIRECT(\"'\"&Go!$G$2&\"'!\"&AC$5&$AJ30)=1,$D$3,$F$3)","v":"Ͽ"},{"$f":"IF(INDIRECT(\"'\"&Go!$G$2&\"'!\"&AD$5&$AJ30)=1,$D$3,$F$3)","v":"Ͽ"},{"$f":"IF(INDIRECT(\"'\"&Go!$G$2&\"'!\"&AE$5&$AJ30)=1,$D$3,$F$3)","v":"Ͼ"},{"$f":"IF(INDIRECT(\"'\"&Go!$G$2&\"'!\"&AF$5&$AJ30)=1,$D$3,$F$3)","v":"Ͽ"},{"$f":"IF(INDIRECT(\"'\"&Go!$G$2&\"'!\"&AG$5&$AJ30)=1,$D$3,$F$3)","v":"Ͼ"},{"$f":"IF(INDIRECT(\"'\"&Go!$G$2&\"'!\"&AH$5&$AJ30)=1,$D$3,$F$3)","v":"Ͼ"},24,26]
[null,null,null,25,{"$f":"IF(INDIRECT(\"'\"&Go!$G$2&\"'!\"&E$5&$AJ31)=1,$D$3,$F$3)","v":"Ͼ"},{"$f":"IF(INDIRECT(\"'\"&Go!$G$2&\"'!\"&F$5&$AJ31)=1,$D$3,$F$3)","v":"Ͼ"},{"$f":"IF(INDIRECT(\"'\"&Go!$G$2&\"'!\"&G$5&$AJ31)=1,$D$3,$F$3)","v":"Ͼ"},{"$f":"IF(INDIRECT(\"'\"&Go!$G$2&\"'!\"&H$5&$AJ31)=1,$D$3,$F$3)","v":"Ͽ"},{"$f":"IF(INDIRECT(\"'\"&Go!$G$2&\"'!\"&I$5&$AJ31)=1,$D$3,$F$3)","v":"Ͼ"},{"$f":"IF(INDIRECT(\"'\"&Go!$G$2&\"'!\"&J$5&$AJ31)=1,$D$3,$F$3)","v":"Ͼ"},{"$f":"IF(INDIRECT(\"'\"&Go!$G$2&\"'!\"&K$5&$AJ31)=1,$D$3,$F$3)","v":"Ͽ"},{"$f":"IF(INDIRECT(\"'\"&Go!$G$2&\"'!\"&L$5&$AJ31)=1,$D$3,$F$3)","v":"Ͽ"},{"$f":"IF(INDIRECT(\"'\"&Go!$G$2&\"'!\"&M$5&$AJ31)=1,$D$3,$F$3)","v":"Ͼ"},{"$f":"IF(INDIRECT(\"'\"&Go!$G$2&\"'!\"&N$5&$AJ31)=1,$D$3,$F$3)","v":"Ͽ"},{"$f":"IF(INDIRECT(\"'\"&Go!$G$2&\"'!\"&O$5&$AJ31)=1,$D$3,$F$3)","v":"Ͼ"},{"$f":"IF(INDIRECT(\"'\"&Go!$G$2&\"'!\"&P$5&$AJ31)=1,$D$3,$F$3)","v":"Ͽ"},{"$f":"IF(INDIRECT(\"'\"&Go!$G$2&\"'!\"&Q$5&$AJ31)=1,$D$3,$F$3)","v":"Ͼ"},{"$f":"IF(INDIRECT(\"'\"&Go!$G$2&\"'!\"&R$5&$AJ31)=1,$D$3,$F$3)","v":"Ͽ"},{"$f":"IF(INDIRECT(\"'\"&Go!$G$2&\"'!\"&S$5&$AJ31)=1,$D$3,$F$3)","v":"Ͼ"},{"$f":"IF(INDIRECT(\"'\"&Go!$G$2&\"'!\"&T$5&$AJ31)=1,$D$3,$F$3)","v":"Ͽ"},{"$f":"IF(INDIRECT(\"'\"&Go!$G$2&\"'!\"&U$5&$AJ31)=1,$D$3,$F$3)","v":"Ͼ"},{"$f":"IF(INDIRECT(\"'\"&Go!$G$2&\"'!\"&V$5&$AJ31)=1,$D$3,$F$3)","v":"Ͽ"},{"$f":"IF(INDIRECT(\"'\"&Go!$G$2&\"'!\"&W$5&$AJ31)=1,$D$3,$F$3)","v":"Ͼ"},{"$f":"IF(INDIRECT(\"'\"&Go!$G$2&\"'!\"&X$5&$AJ31)=1,$D$3,$F$3)","v":"Ͼ"},{"$f":"IF(INDIRECT(\"'\"&Go!$G$2&\"'!\"&Y$5&$AJ31)=1,$D$3,$F$3)","v":"Ͼ"},{"$f":"IF(INDIRECT(\"'\"&Go!$G$2&\"'!\"&Z$5&$AJ31)=1,$D$3,$F$3)","v":"Ͼ"},{"$f":"IF(INDIRECT(\"'\"&Go!$G$2&\"'!\"&AA$5&$AJ31)=1,$D$3,$F$3)","v":"Ͼ"},{"$f":"IF(INDIRECT(\"'\"&Go!$G$2&\"'!\"&AB$5&$AJ31)=1,$D$3,$F$3)","v":"Ͽ"},{"$f":"IF(INDIRECT(\"'\"&Go!$G$2&\"'!\"&AC$5&$AJ31)=1,$D$3,$F$3)","v":"Ͽ"},{"$f":"IF(INDIRECT(\"'\"&Go!$G$2&\"'!\"&AD$5&$AJ31)=1,$D$3,$F$3)","v":"Ͽ"},{"$f":"IF(INDIRECT(\"'\"&Go!$G$2&\"'!\"&AE$5&$AJ31)=1,$D$3,$F$3)","v":"Ͼ"},{"$f":"IF(INDIRECT(\"'\"&Go!$G$2&\"'!\"&AF$5&$AJ31)=1,$D$3,$F$3)","v":"Ͽ"},{"$f":"IF(INDIRECT(\"'\"&Go!$G$2&\"'!\"&AG$5&$AJ31)=1,$D$3,$F$3)","v":"Ͽ"},{"$f":"IF(INDIRECT(\"'\"&Go!$G$2&\"'!\"&AH$5&$AJ31)=1,$D$3,$F$3)","v":"Ͼ"},25,27]
[null,null,null,26,{"$f":"IF(INDIRECT(\"'\"&Go!$G$2&\"'!\"&E$5&$AJ32)=1,$D$3,$F$3)","v":"Ͼ"},{"$f":"IF(INDIRECT(\"'\"&Go!$G$2&\"'!\"&F$5&$AJ32)=1,$D$3,$F$3)","v":"Ͼ"},{"$f":"IF(INDIRECT(\"'\"&Go!$G$2&\"'!\"&G$5&$AJ32)=1,$D$3,$F$3)","v":"Ͽ"},{"$f":"IF(INDIRECT(\"'\"&Go!$G$2&\"'!\"&H$5&$AJ32)=1,$D$3,$F$3)","v":"Ͽ"},{"$f":"IF(INDIRECT(\"'\"&Go!$G$2&\"'!\"&I$5&$AJ32)=1,$D$3,$F$3)","v":"Ͼ"},{"$f":"IF(INDIRECT(\"'\"&Go!$G$2&\"'!\"&J$5&$AJ32)=1,$D$3,$F$3)","v":"Ͼ"},{"$f":"IF(INDIRECT(\"'\"&Go!$G$2&\"'!\"&K$5&$AJ32)=1,$D$3,$F$3)","v":"Ͽ"},{"$f":"IF(INDIRECT(\"'\"&Go!$G$2&\"'!\"&L$5&$AJ32)=1,$D$3,$F$3)","v":"Ͽ"},{"$f":"IF(INDIRECT(\"'\"&Go!$G$2&\"'!\"&M$5&$AJ32)=1,$D$3,$F$3)","v":"Ͽ"},{"$f":"IF(INDIRECT(\"'\"&Go!$G$2&\"'!\"&N$5&$AJ32)=1,$D$3,$F$3)","v":"Ͽ"},{"$f":"IF(INDIRECT(\"'\"&Go!$G$2&\"'!\"&O$5&$AJ32)=1,$D$3,$F$3)","v":"Ͽ"},{"$f":"IF(INDIRECT(\"'\"&Go!$G$2&\"'!\"&P$5&$AJ32)=1,$D$3,$F$3)","v":"Ͼ"},{"$f":"IF(INDIRECT(\"'\"&Go!$G$2&\"'!\"&Q$5&$AJ32)=1,$D$3,$F$3)","v":"Ͼ"},{"$f":"IF(INDIRECT(\"'\"&Go!$G$2&\"'!\"&R$5&$AJ32)=1,$D$3,$F$3)","v":"Ͽ"},{"$f":"IF(INDIRECT(\"'\"&Go!$G$2&\"'!\"&S$5&$AJ32)=1,$D$3,$F$3)","v":"Ͼ"},{"$f":"IF(INDIRECT(\"'\"&Go!$G$2&\"'!\"&T$5&$AJ32)=1,$D$3,$F$3)","v":"Ͼ"},{"$f":"IF(INDIRECT(\"'\"&Go!$G$2&\"'!\"&U$5&$AJ32)=1,$D$3,$F$3)","v":"Ͼ"},{"$f":"IF(INDIRECT(\"'\"&Go!$G$2&\"'!\"&V$5&$AJ32)=1,$D$3,$F$3)","v":"Ͽ"},{"$f":"IF(INDIRECT(\"'\"&Go!$G$2&\"'!\"&W$5&$AJ32)=1,$D$3,$F$3)","v":"Ͽ"},{"$f":"IF(INDIRECT(\"'\"&Go!$G$2&\"'!\"&X$5&$AJ32)=1,$D$3,$F$3)","v":"Ͼ"},{"$f":"IF(INDIRECT(\"'\"&Go!$G$2&\"'!\"&Y$5&$AJ32)=1,$D$3,$F$3)","v":"Ͼ"},{"$f":"IF(INDIRECT(\"'\"&Go!$G$2&\"'!\"&Z$5&$AJ32)=1,$D$3,$F$3)","v":"Ͼ"},{"$f":"IF(INDIRECT(\"'\"&Go!$G$2&\"'!\"&AA$5&$AJ32)=1,$D$3,$F$3)","v":"Ͼ"},{"$f":"IF(INDIRECT(\"'\"&Go!$G$2&\"'!\"&AB$5&$AJ32)=1,$D$3,$F$3)","v":"Ͽ"},{"$f":"IF(INDIRECT(\"'\"&Go!$G$2&\"'!\"&AC$5&$AJ32)=1,$D$3,$F$3)","v":"Ͽ"},{"$f":"IF(INDIRECT(\"'\"&Go!$G$2&\"'!\"&AD$5&$AJ32)=1,$D$3,$F$3)","v":"Ͽ"},{"$f":"IF(INDIRECT(\"'\"&Go!$G$2&\"'!\"&AE$5&$AJ32)=1,$D$3,$F$3)","v":"Ͽ"},{"$f":"IF(INDIRECT(\"'\"&Go!$G$2&\"'!\"&AF$5&$AJ32)=1,$D$3,$F$3)","v":"Ͼ"},{"$f":"IF(INDIRECT(\"'\"&Go!$G$2&\"'!\"&AG$5&$AJ32)=1,$D$3,$F$3)","v":"Ͼ"},{"$f":"IF(INDIRECT(\"'\"&Go!$G$2&\"'!\"&AH$5&$AJ32)=1,$D$3,$F$3)","v":"Ͽ"},26,28]
[null,null,null,27,{"$f":"IF(INDIRECT(\"'\"&Go!$G$2&\"'!\"&E$5&$AJ33)=1,$D$3,$F$3)","v":"Ͽ"},{"$f":"IF(INDIRECT(\"'\"&Go!$G$2&\"'!\"&F$5&$AJ33)=1,$D$3,$F$3)","v":"Ͼ"},{"$f":"IF(INDIRECT(\"'\"&Go!$G$2&\"'!\"&G$5&$AJ33)=1,$D$3,$F$3)","v":"Ͼ"},{"$f":"IF(INDIRECT(\"'\"&Go!$G$2&\"'!\"&H$5&$AJ33)=1,$D$3,$F$3)","v":"Ͽ"},{"$f":"IF(INDIRECT(\"'\"&Go!$G$2&\"'!\"&I$5&$AJ33)=1,$D$3,$F$3)","v":"Ͼ"},{"$f":"IF(INDIRECT(\"'\"&Go!$G$2&\"'!\"&J$5&$AJ33)=1,$D$3,$F$3)","v":"Ͽ"},{"$f":"IF(INDIRECT(\"'\"&Go!$G$2&\"'!\"&K$5&$AJ33)=1,$D$3,$F$3)","v":"Ͼ"},{"$f":"IF(INDIRECT(\"'\"&Go!$G$2&\"'!\"&L$5&$AJ33)=1,$D$3,$F$3)","v":"Ͽ"},{"$f":"IF(INDIRECT(\"'\"&Go!$G$2&\"'!\"&M$5&$AJ33)=1,$D$3,$F$3)","v":"Ͼ"},{"$f":"IF(INDIRECT(\"'\"&Go!$G$2&\"'!\"&N$5&$AJ33)=1,$D$3,$F$3)","v":"Ͼ"},{"$f":"IF(INDIRECT(\"'\"&Go!$G$2&\"'!\"&O$5&$AJ33)=1,$D$3,$F$3)","v":"Ͼ"},{"$f":"IF(INDIRECT(\"'\"&Go!$G$2&\"'!\"&P$5&$AJ33)=1,$D$3,$F$3)","v":"Ͽ"},{"$f":"IF(INDIRECT(\"'\"&Go!$G$2&\"'!\"&Q$5&$AJ33)=1,$D$3,$F$3)","v":"Ͽ"},{"$f":"IF(INDIRECT(\"'\"&Go!$G$2&\"'!\"&R$5&$AJ33)=1,$D$3,$F$3)","v":"Ͼ"},{"$f":"IF(INDIRECT(\"'\"&Go!$G$2&\"'!\"&S$5&$AJ33)=1,$D$3,$F$3)","v":"Ͼ"},{"$f":"IF(INDIRECT(\"'\"&Go!$G$2&\"'!\"&T$5&$AJ33)=1,$D$3,$F$3)","v":"Ͼ"},{"$f":"IF(INDIRECT(\"'\"&Go!$G$2&\"'!\"&U$5&$AJ33)=1,$D$3,$F$3)","v":"Ͽ"},{"$f":"IF(INDIRECT(\"'\"&Go!$G$2&\"'!\"&V$5&$AJ33)=1,$D$3,$F$3)","v":"Ͼ"},{"$f":"IF(INDIRECT(\"'\"&Go!$G$2&\"'!\"&W$5&$AJ33)=1,$D$3,$F$3)","v":"Ͼ"},{"$f":"IF(INDIRECT(\"'\"&Go!$G$2&\"'!\"&X$5&$AJ33)=1,$D$3,$F$3)","v":"Ͽ"},{"$f":"IF(INDIRECT(\"'\"&Go!$G$2&\"'!\"&Y$5&$AJ33)=1,$D$3,$F$3)","v":"Ͽ"},{"$f":"IF(INDIRECT(\"'\"&Go!$G$2&\"'!\"&Z$5&$AJ33)=1,$D$3,$F$3)","v":"Ͼ"},{"$f":"IF(INDIRECT(\"'\"&Go!$G$2&\"'!\"&AA$5&$AJ33)=1,$D$3,$F$3)","v":"Ͼ"},{"$f":"IF(INDIRECT(\"'\"&Go!$G$2&\"'!\"&AB$5&$AJ33)=1,$D$3,$F$3)","v":"Ͼ"},{"$f":"IF(INDIRECT(\"'\"&Go!$G$2&\"'!\"&AC$5&$AJ33)=1,$D$3,$F$3)","v":"Ͼ"},{"$f":"IF(INDIRECT(\"'\"&Go!$G$2&\"'!\"&AD$5&$AJ33)=1,$D$3,$F$3)","v":"Ͼ"},{"$f":"IF(INDIRECT(\"'\"&Go!$G$2&\"'!\"&AE$5&$AJ33)=1,$D$3,$F$3)","v":"Ͼ"},{"$f":"IF(INDIRECT(\"'\"&Go!$G$2&\"'!\"&AF$5&$AJ33)=1,$D$3,$F$3)","v":"Ͽ"},{"$f":"IF(INDIRECT(\"'\"&Go!$G$2&\"'!\"&AG$5&$AJ33)=1,$D$3,$F$3)","v":"Ͽ"},{"$f":"IF(INDIRECT(\"'\"&Go!$G$2&\"'!\"&AH$5&$AJ33)=1,$D$3,$F$3)","v":"Ͼ"},27,29]
[null,null,null,28,{"$f":"IF(INDIRECT(\"'\"&Go!$G$2&\"'!\"&E$5&$AJ34)=1,$D$3,$F$3)","v":"Ͼ"},{"$f":"IF(INDIRECT(\"'\"&Go!$G$2&\"'!\"&F$5&$AJ34)=1,$D$3,$F$3)","v":"Ͼ"},{"$f":"IF(INDIRECT(\"'\"&Go!$G$2&\"'!\"&G$5&$AJ34)=1,$D$3,$F$3)","v":"Ͼ"},{"$f":"IF(INDIRECT(\"'\"&Go!$G$2&\"'!\"&H$5&$AJ34)=1,$D$3,$F$3)","v":"Ͽ"},{"$f":"IF(INDIRECT(\"'\"&Go!$G$2&\"'!\"&I$5&$AJ34)=1,$D$3,$F$3)","v":"Ͽ"},{"$f":"IF(INDIRECT(\"'\"&Go!$G$2&\"'!\"&J$5&$AJ34)=1,$D$3,$F$3)","v":"Ͼ"},{"$f":"IF(INDIRECT(\"'\"&Go!$G$2&\"'!\"&K$5&$AJ34)=1,$D$3,$F$3)","v":"Ͼ"},{"$f":"IF(INDIRECT(\"'\"&Go!$G$2&\"'!\"&L$5&$AJ34)=1,$D$3,$F$3)","v":"Ͼ"},{"$f":"IF(INDIRECT(\"'\"&Go!$G$2&\"'!\"&M$5&$AJ34)=1,$D$3,$F$3)","v":"Ͽ"},{"$f":"IF(INDIRECT(\"'\"&Go!$G$2&\"'!\"&N$5&$AJ34)=1,$D$3,$F$3)","v":"Ͽ"},{"$f":"IF(INDIRECT(\"'\"&Go!$G$2&\"'!\"&O$5&$AJ34)=1,$D$3,$F$3)","v":"Ͼ"},{"$f":"IF(INDIRECT(\"'\"&Go!$G$2&\"'!\"&P$5&$AJ34)=1,$D$3,$F$3)","v":"Ͼ"},{"$f":"IF(INDIRECT(\"'\"&Go!$G$2&\"'!\"&Q$5&$AJ34)=1,$D$3,$F$3)","v":"Ͽ"},{"$f":"IF(INDIRECT(\"'\"&Go!$G$2&\"'!\"&R$5&$AJ34)=1,$D$3,$F$3)","v":"Ͽ"},{"$f":"IF(INDIRECT(\"'\"&Go!$G$2&\"'!\"&S$5&$AJ34)=1,$D$3,$F$3)","v":"Ͼ"},{"$f":"IF(INDIRECT(\"'\"&Go!$G$2&\"'!\"&T$5&$AJ34)=1,$D$3,$F$3)","v":"Ͽ"},{"$f":"IF(INDIRECT(\"'\"&Go!$G$2&\"'!\"&U$5&$AJ34)=1,$D$3,$F$3)","v":"Ͽ"},{"$f":"IF(INDIRECT(\"'\"&Go!$G$2&\"'!\"&V$5&$AJ34)=1,$D$3,$F$3)","v":"Ͼ"},{"$f":"IF(INDIRECT(\"'\"&Go!$G$2&\"'!\"&W$5&$AJ34)=1,$D$3,$F$3)","v":"Ͼ"},{"$f":"IF(INDIRECT(\"'\"&Go!$G$2&\"'!\"&X$5&$AJ34)=1,$D$3,$F$3)","v":"Ͽ"},{"$f":"IF(INDIRECT(\"'\"&Go!$G$2&\"'!\"&Y$5&$AJ34)=1,$D$3,$F$3)","v":"Ͼ"},{"$f":"IF(INDIRECT(\"'\"&Go!$G$2&\"'!\"&Z$5&$AJ34)=1,$D$3,$F$3)","v":"Ͼ"},{"$f":"IF(INDIRECT(\"'\"&Go!$G$2&\"'!\"&AA$5&$AJ34)=1,$D$3,$F$3)","v":"Ͼ"},{"$f":"IF(INDIRECT(\"'\"&Go!$G$2&\"'!\"&AB$5&$AJ34)=1,$D$3,$F$3)","v":"Ͼ"},{"$f":"IF(INDIRECT(\"'\"&Go!$G$2&\"'!\"&AC$5&$AJ34)=1,$D$3,$F$3)","v":"Ͽ"},{"$f":"IF(INDIRECT(\"'\"&Go!$G$2&\"'!\"&AD$5&$AJ34)=1,$D$3,$F$3)","v":"Ͽ"},{"$f":"IF(INDIRECT(\"'\"&Go!$G$2&\"'!\"&AE$5&$AJ34)=1,$D$3,$F$3)","v":"Ͽ"},{"$f":"IF(INDIRECT(\"'\"&Go!$G$2&\"'!\"&AF$5&$AJ34)=1,$D$3,$F$3)","v":"Ͼ"},{"$f":"IF(INDIRECT(\"'\"&Go!$G$2&\"'!\"&AG$5&$AJ34)=1,$D$3,$F$3)","v":"Ͼ"},{"$f":"IF(INDIRECT(\"'\"&Go!$G$2&\"'!\"&AH$5&$AJ34)=1,$D$3,$F$3)","v":"Ͼ"},28,30]
[null,null,null,29,{"$f":"IF(INDIRECT(\"'\"&Go!$G$2&\"'!\"&E$5&$AJ35)=1,$D$3,$F$3)","v":"Ͼ"},{"$f":"IF(INDIRECT(\"'\"&Go!$G$2&\"'!\"&F$5&$AJ35)=1,$D$3,$F$3)","v":"Ͼ"},{"$f":"IF(INDIRECT(\"'\"&Go!$G$2&\"'!\"&G$5&$AJ35)=1,$D$3,$F$3)","v":"Ͽ"},{"$f":"IF(INDIRECT(\"'\"&Go!$G$2&\"'!\"&H$5&$AJ35)=1,$D$3,$F$3)","v":"Ͼ"},{"$f":"IF(INDIRECT(\"'\"&Go!$G$2&\"'!\"&I$5&$AJ35)=1,$D$3,$F$3)","v":"Ͽ"},{"$f":"IF(INDIRECT(\"'\"&Go!$G$2&\"'!\"&J$5&$AJ35)=1,$D$3,$F$3)","v":"Ͽ"},{"$f":"IF(INDIRECT(\"'\"&Go!$G$2&\"'!\"&K$5&$AJ35)=1,$D$3,$F$3)","v":"Ͽ"},{"$f":"IF(INDIRECT(\"'\"&Go!$G$2&\"'!\"&L$5&$AJ35)=1,$D$3,$F$3)","v":"Ͽ"},{"$f":"IF(INDIRECT(\"'\"&Go!$G$2&\"'!\"&M$5&$AJ35)=1,$D$3,$F$3)","v":"Ͽ"},{"$f":"IF(INDIRECT(\"'\"&Go!$G$2&\"'!\"&N$5&$AJ35)=1,$D$3,$F$3)","v":"Ͽ"},{"$f":"IF(INDIRECT(\"'\"&Go!$G$2&\"'!\"&O$5&$AJ35)=1,$D$3,$F$3)","v":"Ͼ"},{"$f":"IF(INDIRECT(\"'\"&Go!$G$2&\"'!\"&P$5&$AJ35)=1,$D$3,$F$3)","v":"Ͽ"},{"$f":"IF(INDIRECT(\"'\"&Go!$G$2&\"'!\"&Q$5&$AJ35)=1,$D$3,$F$3)","v":"Ͼ"},{"$f":"IF(INDIRECT(\"'\"&Go!$G$2&\"'!\"&R$5&$AJ35)=1,$D$3,$F$3)","v":"Ͽ"},{"$f":"IF(INDIRECT(\"'\"&Go!$G$2&\"'!\"&S$5&$AJ35)=1,$D$3,$F$3)","v":"Ͼ"},{"$f":"IF(INDIRECT(\"'\"&Go!$G$2&\"'!\"&T$5&$AJ35)=1,$D$3,$F$3)","v":"Ͽ"},{"$f":"IF(INDIRECT(\"'\"&Go!$G$2&\"'!\"&U$5&$AJ35)=1,$D$3,$F$3)","v":"Ͽ"},{"$f":"IF(INDIRECT(\"'\"&Go!$G$2&\"'!\"&V$5&$AJ35)=1,$D$3,$F$3)","v":"Ͽ"},{"$f":"IF(INDIRECT(\"'\"&Go!$G$2&\"'!\"&W$5&$AJ35)=1,$D$3,$F$3)","v":"Ͽ"},{"$f":"IF(INDIRECT(\"'\"&Go!$G$2&\"'!\"&X$5&$AJ35)=1,$D$3,$F$3)","v":"Ͼ"},{"$f":"IF(INDIRECT(\"'\"&Go!$G$2&\"'!\"&Y$5&$AJ35)=1,$D$3,$F$3)","v":"Ͽ"},{"$f":"IF(INDIRECT(\"'\"&Go!$G$2&\"'!\"&Z$5&$AJ35)=1,$D$3,$F$3)","v":"Ͽ"},{"$f":"IF(INDIRECT(\"'\"&Go!$G$2&\"'!\"&AA$5&$AJ35)=1,$D$3,$F$3)","v":"Ͽ"},{"$f":"IF(INDIRECT(\"'\"&Go!$G$2&\"'!\"&AB$5&$AJ35)=1,$D$3,$F$3)","v":"Ͽ"},{"$f":"IF(INDIRECT(\"'\"&Go!$G$2&\"'!\"&AC$5&$AJ35)=1,$D$3,$F$3)","v":"Ͼ"},{"$f":"IF(INDIRECT(\"'\"&Go!$G$2&\"'!\"&AD$5&$AJ35)=1,$D$3,$F$3)","v":"Ͽ"},{"$f":"IF(INDIRECT(\"'\"&Go!$G$2&\"'!\"&AE$5&$AJ35)=1,$D$3,$F$3)","v":"Ͽ"},{"$f":"IF(INDIRECT(\"'\"&Go!$G$2&\"'!\"&AF$5&$AJ35)=1,$D$3,$F$3)","v":"Ͼ"},{"$f":"IF(INDIRECT(\"'\"&Go!$G$2&\"'!\"&AG$5&$AJ35)=1,$D$3,$F$3)","v":"Ͽ"},{"$f":"IF(INDIRECT(\"'\"&Go!$G$2&\"'!\"&AH$5&$AJ35)=1,$D$3,$F$3)","v":"Ͼ"},29,31]
[null,null,null,30,{"$f":"IF(INDIRECT(\"'\"&Go!$G$2&\"'!\"&E$5&$AJ36)=1,$D$3,$F$3)","v":"Ͽ"},{"$f":"IF(INDIRECT(\"'\"&Go!$G$2&\"'!\"&F$5&$AJ36)=1,$D$3,$F$3)","v":"Ͼ"},{"$f":"IF(INDIRECT(\"'\"&Go!$G$2&\"'!\"&G$5&$AJ36)=1,$D$3,$F$3)","v":"Ͼ"},{"$f":"IF(INDIRECT(\"'\"&Go!$G$2&\"'!\"&H$5&$AJ36)=1,$D$3,$F$3)","v":"Ͽ"},{"$f":"IF(INDIRECT(\"'\"&Go!$G$2&\"'!\"&I$5&$AJ36)=1,$D$3,$F$3)","v":"Ͽ"},{"$f":"IF(INDIRECT(\"'\"&Go!$G$2&\"'!\"&J$5&$AJ36)=1,$D$3,$F$3)","v":"Ͽ"},{"$f":"IF(INDIRECT(\"'\"&Go!$G$2&\"'!\"&K$5&$AJ36)=1,$D$3,$F$3)","v":"Ͽ"},{"$f":"IF(INDIRECT(\"'\"&Go!$G$2&\"'!\"&L$5&$AJ36)=1,$D$3,$F$3)","v":"Ͽ"},{"$f":"IF(INDIRECT(\"'\"&Go!$G$2&\"'!\"&M$5&$AJ36)=1,$D$3,$F$3)","v":"Ͼ"},{"$f":"IF(INDIRECT(\"'\"&Go!$G$2&\"'!\"&N$5&$AJ36)=1,$D$3,$F$3)","v":"Ͽ"},{"$f":"IF(INDIRECT(\"'\"&Go!$G$2&\"'!\"&O$5&$AJ36)=1,$D$3,$F$3)","v":"Ͽ"},{"$f":"IF(INDIRECT(\"'\"&Go!$G$2&\"'!\"&P$5&$AJ36)=1,$D$3,$F$3)","v":"Ͽ"},{"$f":"IF(INDIRECT(\"'\"&Go!$G$2&\"'!\"&Q$5&$AJ36)=1,$D$3,$F$3)","v":"Ͼ"},{"$f":"IF(INDIRECT(\"'\"&Go!$G$2&\"'!\"&R$5&$AJ36)=1,$D$3,$F$3)","v":"Ͼ"},{"$f":"IF(INDIRECT(\"'\"&Go!$G$2&\"'!\"&S$5&$AJ36)=1,$D$3,$F$3)","v":"Ͼ"},{"$f":"IF(INDIRECT(\"'\"&Go!$G$2&\"'!\"&T$5&$AJ36)=1,$D$3,$F$3)","v":"Ͼ"},{"$f":"IF(INDIRECT(\"'\"&Go!$G$2&\"'!\"&U$5&$AJ36)=1,$D$3,$F$3)","v":"Ͼ"},{"$f":"IF(INDIRECT(\"'\"&Go!$G$2&\"'!\"&V$5&$AJ36)=1,$D$3,$F$3)","v":"Ͼ"},{"$f":"IF(INDIRECT(\"'\"&Go!$G$2&\"'!\"&W$5&$AJ36)=1,$D$3,$F$3)","v":"Ͼ"},{"$f":"IF(INDIRECT(\"'\"&Go!$G$2&\"'!\"&X$5&$AJ36)=1,$D$3,$F$3)","v":"Ͼ"},{"$f":"IF(INDIRECT(\"'\"&Go!$G$2&\"'!\"&Y$5&$AJ36)=1,$D$3,$F$3)","v":"Ͼ"},{"$f":"IF(INDIRECT(\"'\"&Go!$G$2&\"'!\"&Z$5&$AJ36)=1,$D$3,$F$3)","v":"Ͽ"},{"$f":"IF(INDIRECT(\"'\"&Go!$G$2&\"'!\"&AA$5&$AJ36)=1,$D$3,$F$3)","v":"Ͽ"},{"$f":"IF(INDIRECT(\"'\"&Go!$G$2&\"'!\"&AB$5&$AJ36)=1,$D$3,$F$3)","v":"Ͼ"},{"$f":"IF(INDIRECT(\"'\"&Go!$G$2&\"'!\"&AC$5&$AJ36)=1,$D$3,$F$3)","v":"Ͽ"},{"$f":"IF(INDIRECT(\"'\"&Go!$G$2&\"'!\"&AD$5&$AJ36)=1,$D$3,$F$3)","v":"Ͼ"},{"$f":"IF(INDIRECT(\"'\"&Go!$G$2&\"'!\"&AE$5&$AJ36)=1,$D$3,$F$3)","v":"Ͼ"},{"$f":"IF(INDIRECT(\"'\"&Go!$G$2&\"'!\"&AF$5&$AJ36)=1,$D$3,$F$3)","v":"Ͽ"},{"$f":"IF(INDIRECT(\"'\"&Go!$G$2&\"'!\"&AG$5&$AJ36)=1,$D$3,$F$3)","v":"Ͽ"},{"$f":"IF(INDIRECT(\"'\"&Go!$G$2&\"'!\"&AH$5&$AJ36)=1,$D$3,$F$3)","v":"Ͼ"},30,32]
[null,null,null,31,{"$f":"IF(INDIRECT(\"'\"&Go!$G$2&\"'!\"&E$5&$AJ37)=1,$D$3,$F$3)","v":"Ͽ"},{"$f":"IF(INDIRECT(\"'\"&Go!$G$2&\"'!\"&F$5&$AJ37)=1,$D$3,$F$3)","v":"Ͼ"},{"$f":"IF(INDIRECT(\"'\"&Go!$G$2&\"'!\"&G$5&$AJ37)=1,$D$3,$F$3)","v":"Ͽ"},{"$f":"IF(INDIRECT(\"'\"&Go!$G$2&\"'!\"&H$5&$AJ37)=1,$D$3,$F$3)","v":"Ͽ"},{"$f":"IF(INDIRECT(\"'\"&Go!$G$2&\"'!\"&I$5&$AJ37)=1,$D$3,$F$3)","v":"Ͽ"},{"$f":"IF(INDIRECT(\"'\"&Go!$G$2&\"'!\"&J$5&$AJ37)=1,$D$3,$F$3)","v":"Ͼ"},{"$f":"IF(INDIRECT(\"'\"&Go!$G$2&\"'!\"&K$5&$AJ37)=1,$D$3,$F$3)","v":"Ͽ"},{"$f":"IF(INDIRECT(\"'\"&Go!$G$2&\"'!\"&L$5&$AJ37)=1,$D$3,$F$3)","v":"Ͽ"},{"$f":"IF(INDIRECT(\"'\"&Go!$G$2&\"'!\"&M$5&$AJ37)=1,$D$3,$F$3)","v":"Ͼ"},{"$f":"IF(INDIRECT(\"'\"&Go!$G$2&\"'!\"&N$5&$AJ37)=1,$D$3,$F$3)","v":"Ͽ"},{"$f":"IF(INDIRECT(\"'\"&Go!$G$2&\"'!\"&O$5&$AJ37)=1,$D$3,$F$3)","v":"Ͼ"},{"$f":"IF(INDIRECT(\"'\"&Go!$G$2&\"'!\"&P$5&$AJ37)=1,$D$3,$F$3)","v":"Ͼ"},{"$f":"IF(INDIRECT(\"'\"&Go!$G$2&\"'!\"&Q$5&$AJ37)=1,$D$3,$F$3)","v":"Ͽ"},{"$f":"IF(INDIRECT(\"'\"&Go!$G$2&\"'!\"&R$5&$AJ37)=1,$D$3,$F$3)","v":"Ͽ"},{"$f":"IF(INDIRECT(\"'\"&Go!$G$2&\"'!\"&S$5&$AJ37)=1,$D$3,$F$3)","v":"Ͽ"},{"$f":"IF(INDIRECT(\"'\"&Go!$G$2&\"'!\"&T$5&$AJ37)=1,$D$3,$F$3)","v":"Ͽ"},{"$f":"IF(INDIRECT(\"'\"&Go!$G$2&\"'!\"&U$5&$AJ37)=1,$D$3,$F$3)","v":"Ͽ"},{"$f":"IF(INDIRECT(\"'\"&Go!$G$2&\"'!\"&V$5&$AJ37)=1,$D$3,$F$3)","v":"Ͽ"},{"$f":"IF(INDIRECT(\"'\"&Go!$G$2&\"'!\"&W$5&$AJ37)=1,$D$3,$F$3)","v":"Ͼ"},{"$f":"IF(INDIRECT(\"'\"&Go!$G$2&\"'!\"&X$5&$AJ37)=1,$D$3,$F$3)","v":"Ͼ"},{"$f":"IF(INDIRECT(\"'\"&Go!$G$2&\"'!\"&Y$5&$AJ37)=1,$D$3,$F$3)","v":"Ͼ"},{"$f":"IF(INDIRECT(\"'\"&Go!$G$2&\"'!\"&Z$5&$AJ37)=1,$D$3,$F$3)","v":"Ͽ"},{"$f":"IF(INDIRECT(\"'\"&Go!$G$2&\"'!\"&AA$5&$AJ37)=1,$D$3,$F$3)","v":"Ͽ"},{"$f":"IF(INDIRECT(\"'\"&Go!$G$2&\"'!\"&AB$5&$AJ37)=1,$D$3,$F$3)","v":"Ͼ"},{"$f":"IF(INDIRECT(\"'\"&Go!$G$2&\"'!\"&AC$5&$AJ37)=1,$D$3,$F$3)","v":"Ͼ"},{"$f":"IF(INDIRECT(\"'\"&Go!$G$2&\"'!\"&AD$5&$AJ37)=1,$D$3,$F$3)","v":"Ͼ"},{"$f":"IF(INDIRECT(\"'\"&Go!$G$2&\"'!\"&AE$5&$AJ37)=1,$D$3,$F$3)","v":"Ͼ"},{"$f":"IF(INDIRECT(\"'\"&Go!$G$2&\"'!\"&AF$5&$AJ37)=1,$D$3,$F$3)","v":"Ͽ"},{"$f":"IF(INDIRECT(\"'\"&Go!$G$2&\"'!\"&AG$5&$AJ37)=1,$D$3,$F$3)","v":"Ͽ"},{"$f":"IF(INDIRECT(\"'\"&Go!$G$2&\"'!\"&AH$5&$AJ37)=1,$D$3,$F$3)","v":"Ͽ"},31,33]
[null,null,null,32,{"$f":"IF(INDIRECT(\"'\"&Go!$G$2&\"'!\"&E$5&$AJ38)=1,$D$3,$F$3)","v":"Ͼ"},{"$f":"IF(INDIRECT(\"'\"&Go!$G$2&\"'!\"&F$5&$AJ38)=1,$D$3,$F$3)","v":"Ͼ"},{"$f":"IF(INDIRECT(\"'\"&Go!$G$2&\"'!\"&G$5&$AJ38)=1,$D$3,$F$3)","v":"Ͽ"},{"$f":"IF(INDIRECT(\"'\"&Go!$G$2&\"'!\"&H$5&$AJ38)=1,$D$3,$F$3)","v":"Ͼ"},{"$f":"IF(INDIRECT(\"'\"&Go!$G$2&\"'!\"&I$5&$AJ38)=1,$D$3,$F$3)","v":"Ͼ"},{"$f":"IF(INDIRECT(\"'\"&Go!$G$2&\"'!\"&J$5&$AJ38)=1,$D$3,$F$3)","v":"Ͽ"},{"$f":"IF(INDIRECT(\"'\"&Go!$G$2&\"'!\"&K$5&$AJ38)=1,$D$3,$F$3)","v":"Ͼ"},{"$f":"IF(INDIRECT(\"'\"&Go!$G$2&\"'!\"&L$5&$AJ38)=1,$D$3,$F$3)","v":"Ͽ"},{"$f":"IF(INDIRECT(\"'\"&Go!$G$2&\"'!\"&M$5&$AJ38)=1,$D$3,$F$3)","v":"Ͽ"},{"$f":"IF(INDIRECT(\"'\"&Go!$G$2&\"'!\"&N$5&$AJ38)=1,$D$3,$F$3)","v":"Ͽ"},{"$f":"IF(INDIRECT(\"'\"&Go!$G$2&\"'!\"&O$5&$AJ38)=1,$D$3,$F$3)","v":"Ͼ"},{"$f":"IF(INDIRECT(\"'\"&Go!$G$2&\"'!\"&P$5&$AJ38)=1,$D$3,$F$3)","v":"Ͼ"},{"$f":"IF(INDIRECT(\"'\"&Go!$G$2&\"'!\"&Q$5&$AJ38)=1,$D$3,$F$3)","v":"Ͼ"},{"$f":"IF(INDIRECT(\"'\"&Go!$G$2&\"'!\"&R$5&$AJ38)=1,$D$3,$F$3)","v":"Ͼ"},{"$f":"IF(INDIRECT(\"'\"&Go!$G$2&\"'!\"&S$5&$AJ38)=1,$D$3,$F$3)","v":"Ͽ"},{"$f":"IF(INDIRECT(\"'\"&Go!$G$2&\"'!\"&T$5&$AJ38)=1,$D$3,$F$3)","v":"Ͼ"},{"$f":"IF(INDIRECT(\"'\"&Go!$G$2&\"'!\"&U$5&$AJ38)=1,$D$3,$F$3)","v":"Ͼ"},{"$f":"IF(INDIRECT(\"'\"&Go!$G$2&\"'!\"&V$5&$AJ38)=1,$D$3,$F$3)","v":"Ͽ"},{"$f":"IF(INDIRECT(\"'\"&Go!$G$2&\"'!\"&W$5&$AJ38)=1,$D$3,$F$3)","v":"Ͼ"},{"$f":"IF(INDIRECT(\"'\"&Go!$G$2&\"'!\"&X$5&$AJ38)=1,$D$3,$F$3)","v":"Ͼ"},{"$f":"IF(INDIRECT(\"'\"&Go!$G$2&\"'!\"&Y$5&$AJ38)=1,$D$3,$F$3)","v":"Ͼ"},{"$f":"IF(INDIRECT(\"'\"&Go!$G$2&\"'!\"&Z$5&$AJ38)=1,$D$3,$F$3)","v":"Ͼ"},{"$f":"IF(INDIRECT(\"'\"&Go!$G$2&\"'!\"&AA$5&$AJ38)=1,$D$3,$F$3)","v":"Ͽ"},{"$f":"IF(INDIRECT(\"'\"&Go!$G$2&\"'!\"&AB$5&$AJ38)=1,$D$3,$F$3)","v":"Ͼ"},{"$f":"IF(INDIRECT(\"'\"&Go!$G$2&\"'!\"&AC$5&$AJ38)=1,$D$3,$F$3)","v":"Ͼ"},{"$f":"IF(INDIRECT(\"'\"&Go!$G$2&\"'!\"&AD$5&$AJ38)=1,$D$3,$F$3)","v":"Ͼ"},{"$f":"IF(INDIRECT(\"'\"&Go!$G$2&\"'!\"&AE$5&$AJ38)=1,$D$3,$F$3)","v":"Ͽ"},{"$f":"IF(INDIRECT(\"'\"&Go!$G$2&\"'!\"&AF$5&$AJ38)=1,$D$3,$F$3)","v":"Ͼ"},{"$f":"IF(INDIRECT(\"'\"&Go!$G$2&\"'!\"&AG$5&$AJ38)=1,$D$3,$F$3)","v":"Ͼ"},{"$f":"IF(INDIRECT(\"'\"&Go!$G$2&\"'!\"&AH$5&$AJ38)=1,$D$3,$F$3)","v":"Ͼ"},32,34]
[null,null,null,33,{"$f":"IF(INDIRECT(\"'\"&Go!$G$2&\"'!\"&E$5&$AJ39)=1,$D$3,$F$3)","v":"Ͼ"},{"$f":"IF(INDIRECT(\"'\"&Go!$G$2&\"'!\"&F$5&$AJ39)=1,$D$3,$F$3)","v":"Ͽ"},{"$f":"IF(INDIRECT(\"'\"&Go!$G$2&\"'!\"&G$5&$AJ39)=1,$D$3,$F$3)","v":"Ͽ"},{"$f":"IF(INDIRECT(\"'\"&Go!$G$2&\"'!\"&H$5&$AJ39)=1,$D$3,$F$3)","v":"Ͼ"},{"$f":"IF(INDIRECT(\"'\"&Go!$G$2&\"'!\"&I$5&$AJ39)=1,$D$3,$F$3)","v":"Ͼ"},{"$f":"IF(INDIRECT(\"'\"&Go!$G$2&\"'!\"&J$5&$AJ39)=1,$D$3,$F$3)","v":"Ͽ"},{"$f":"IF(INDIRECT(\"'\"&Go!$G$2&\"'!\"&K$5&$AJ39)=1,$D$3,$F$3)","v":"Ͽ"},{"$f":"IF(INDIRECT(\"'\"&Go!$G$2&\"'!\"&L$5&$AJ39)=1,$D$3,$F$3)","v":"Ͼ"},{"$f":"IF(INDIRECT(\"'\"&Go!$G$2&\"'!\"&M$5&$AJ39)=1,$D$3,$F$3)","v":"Ͽ"},{"$f":"IF(INDIRECT(\"'\"&Go!$G$2&\"'!\"&N$5&$AJ39)=1,$D$3,$F$3)","v":"Ͽ"},{"$f":"IF(INDIRECT(\"'\"&Go!$G$2&\"'!\"&O$5&$AJ39)=1,$D$3,$F$3)","v":"Ͼ"},{"$f":"IF(INDIRECT(\"'\"&Go!$G$2&\"'!\"&P$5&$AJ39)=1,$D$3,$F$3)","v":"Ͼ"},{"$f":"IF(INDIRECT(\"'\"&Go!$G$2&\"'!\"&Q$5&$AJ39)=1,$D$3,$F$3)","v":"Ͼ"},{"$f":"IF(INDIRECT(\"'\"&Go!$G$2&\"'!\"&R$5&$AJ39)=1,$D$3,$F$3)","v":"Ͽ"},{"$f":"IF(INDIRECT(\"'\"&Go!$G$2&\"'!\"&S$5&$AJ39)=1,$D$3,$F$3)","v":"Ͽ"},{"$f":"IF(INDIRECT(\"'\"&Go!$G$2&\"'!\"&T$5&$AJ39)=1,$D$3,$F$3)","v":"Ͼ"},{"$f":"IF(INDIRECT(\"'\"&Go!$G$2&\"'!\"&U$5&$AJ39)=1,$D$3,$F$3)","v":"Ͼ"},{"$f":"IF(INDIRECT(\"'\"&Go!$G$2&\"'!\"&V$5&$AJ39)=1,$D$3,$F$3)","v":"Ͽ"},{"$f":"IF(INDIRECT(\"'\"&Go!$G$2&\"'!\"&W$5&$AJ39)=1,$D$3,$F$3)","v":"Ͽ"},{"$f":"IF(INDIRECT(\"'\"&Go!$G$2&\"'!\"&X$5&$AJ39)=1,$D$3,$F$3)","v":"Ͽ"},{"$f":"IF(INDIRECT(\"'\"&Go!$G$2&\"'!\"&Y$5&$AJ39)=1,$D$3,$F$3)","v":"Ͼ"},{"$f":"IF(INDIRECT(\"'\"&Go!$G$2&\"'!\"&Z$5&$AJ39)=1,$D$3,$F$3)","v":"Ͽ"},{"$f":"IF(INDIRECT(\"'\"&Go!$G$2&\"'!\"&AA$5&$AJ39)=1,$D$3,$F$3)","v":"Ͼ"},{"$f":"IF(INDIRECT(\"'\"&Go!$G$2&\"'!\"&AB$5&$AJ39)=1,$D$3,$F$3)","v":"Ͽ"},{"$f":"IF(INDIRECT(\"'\"&Go!$G$2&\"'!\"&AC$5&$AJ39)=1,$D$3,$F$3)","v":"Ͼ"},{"$f":"IF(INDIRECT(\"'\"&Go!$G$2&\"'!\"&AD$5&$AJ39)=1,$D$3,$F$3)","v":"Ͽ"},{"$f":"IF(INDIRECT(\"'\"&Go!$G$2&\"'!\"&AE$5&$AJ39)=1,$D$3,$F$3)","v":"Ͼ"},{"$f":"IF(INDIRECT(\"'\"&Go!$G$2&\"'!\"&AF$5&$AJ39)=1,$D$3,$F$3)","v":"Ͼ"},{"$f":"IF(INDIRECT(\"'\"&Go!$G$2&\"'!\"&AG$5&$AJ39)=1,$D$3,$F$3)","v":"Ͼ"},{"$f":"IF(INDIRECT(\"'\"&Go!$G$2&\"'!\"&AH$5&$AJ39)=1,$D$3,$F$3)","v":"Ͽ"},33,35]
[null,null,null,34,{"$f":"IF(INDIRECT(\"'\"&Go!$G$2&\"'!\"&E$5&$AJ40)=1,$D$3,$F$3)","v":"Ͼ"},{"$f":"IF(INDIRECT(\"'\"&Go!$G$2&\"'!\"&F$5&$AJ40)=1,$D$3,$F$3)","v":"Ͼ"},{"$f":"IF(INDIRECT(\"'\"&Go!$G$2&\"'!\"&G$5&$AJ40)=1,$D$3,$F$3)","v":"Ͼ"},{"$f":"IF(INDIRECT(\"'\"&Go!$G$2&\"'!\"&H$5&$AJ40)=1,$D$3,$F$3)","v":"Ͼ"},{"$f":"IF(INDIRECT(\"'\"&Go!$G$2&\"'!\"&I$5&$AJ40)=1,$D$3,$F$3)","v":"Ͼ"},{"$f":"IF(INDIRECT(\"'\"&Go!$G$2&\"'!\"&J$5&$AJ40)=1,$D$3,$F$3)","v":"Ͼ"},{"$f":"IF(INDIRECT(\"'\"&Go!$G$2&\"'!\"&K$5&$AJ40)=1,$D$3,$F$3)","v":"Ͽ"},{"$f":"IF(INDIRECT(\"'\"&Go!$G$2&\"'!\"&L$5&$AJ40)=1,$D$3,$F$3)","v":"Ͽ"},{"$f":"IF(INDIRECT(\"'\"&Go!$G$2&\"'!\"&M$5&$AJ40)=1,$D$3,$F$3)","v":"Ͽ"},{"$f":"IF(INDIRECT(\"'\"&Go!$G$2&\"'!\"&N$5&$AJ40)=1,$D$3,$F$3)","v":"Ͼ"},{"$f":"IF(INDIRECT(\"'\"&Go!$G$2&\"'!\"&O$5&$AJ40)=1,$D$3,$F$3)","v":"Ͽ"},{"$f":"IF(INDIRECT(\"'\"&Go!$G$2&\"'!\"&P$5&$AJ40)=1,$D$3,$F$3)","v":"Ͼ"},{"$f":"IF(INDIRECT(\"'\"&Go!$G$2&\"'!\"&Q$5&$AJ40)=1,$D$3,$F$3)","v":"Ͽ"},{"$f":"IF(INDIRECT(\"'\"&Go!$G$2&\"'!\"&R$5&$AJ40)=1,$D$3,$F$3)","v":"Ͼ"},{"$f":"IF(INDIRECT(\"'\"&Go!$G$2&\"'!\"&S$5&$AJ40)=1,$D$3,$F$3)","v":"Ͼ"},{"$f":"IF(INDIRECT(\"'\"&Go!$G$2&\"'!\"&T$5&$AJ40)=1,$D$3,$F$3)","v":"Ͽ"},{"$f":"IF(INDIRECT(\"'\"&Go!$G$2&\"'!\"&U$5&$AJ40)=1,$D$3,$F$3)","v":"Ͽ"},{"$f":"IF(INDIRECT(\"'\"&Go!$G$2&\"'!\"&V$5&$AJ40)=1,$D$3,$F$3)","v":"Ͼ"},{"$f":"IF(INDIRECT(\"'\"&Go!$G$2&\"'!\"&W$5&$AJ40)=1,$D$3,$F$3)","v":"Ͽ"},{"$f":"IF(INDIRECT(\"'\"&Go!$G$2&\"'!\"&X$5&$AJ40)=1,$D$3,$F$3)","v":"Ͽ"},{"$f":"IF(INDIRECT(\"'\"&Go!$G$2&\"'!\"&Y$5&$AJ40)=1,$D$3,$F$3)","v":"Ͼ"},{"$f":"IF(INDIRECT(\"'\"&Go!$G$2&\"'!\"&Z$5&$AJ40)=1,$D$3,$F$3)","v":"Ͼ"},{"$f":"IF(INDIRECT(\"'\"&Go!$G$2&\"'!\"&AA$5&$AJ40)=1,$D$3,$F$3)","v":"Ͽ"},{"$f":"IF(INDIRECT(\"'\"&Go!$G$2&\"'!\"&AB$5&$AJ40)=1,$D$3,$F$3)","v":"Ͼ"},{"$f":"IF(INDIRECT(\"'\"&Go!$G$2&\"'!\"&AC$5&$AJ40)=1,$D$3,$F$3)","v":"Ͼ"},{"$f":"IF(INDIRECT(\"'\"&Go!$G$2&\"'!\"&AD$5&$AJ40)=1,$D$3,$F$3)","v":"Ͽ"},{"$f":"IF(INDIRECT(\"'\"&Go!$G$2&\"'!\"&AE$5&$AJ40)=1,$D$3,$F$3)","v":"Ͽ"},{"$f":"IF(INDIRECT(\"'\"&Go!$G$2&\"'!\"&AF$5&$AJ40)=1,$D$3,$F$3)","v":"Ͽ"},{"$f":"IF(INDIRECT(\"'\"&Go!$G$2&\"'!\"&AG$5&$AJ40)=1,$D$3,$F$3)","v":"Ͼ"},{"$f":"IF(INDIRECT(\"'\"&Go!$G$2&\"'!\"&AH$5&$AJ40)=1,$D$3,$F$3)","v":"Ͼ"},34,36]
[null,null,null,35,{"$f":"IF(INDIRECT(\"'\"&Go!$G$2&\"'!\"&E$5&$AJ41)=1,$D$3,$F$3)","v":"Ͽ"},{"$f":"IF(INDIRECT(\"'\"&Go!$G$2&\"'!\"&F$5&$AJ41)=1,$D$3,$F$3)","v":"Ͽ"},{"$f":"IF(INDIRECT(\"'\"&Go!$G$2&\"'!\"&G$5&$AJ41)=1,$D$3,$F$3)","v":"Ͽ"},{"$f":"IF(INDIRECT(\"'\"&Go!$G$2&\"'!\"&H$5&$AJ41)=1,$D$3,$F$3)","v":"Ͽ"},{"$f":"IF(INDIRECT(\"'\"&Go!$G$2&\"'!\"&I$5&$AJ41)=1,$D$3,$F$3)","v":"Ͽ"},{"$f":"IF(INDIRECT(\"'\"&Go!$G$2&\"'!\"&J$5&$AJ41)=1,$D$3,$F$3)","v":"Ͽ"},{"$f":"IF(INDIRECT(\"'\"&Go!$G$2&\"'!\"&K$5&$AJ41)=1,$D$3,$F$3)","v":"Ͽ"},{"$f":"IF(INDIRECT(\"'\"&Go!$G$2&\"'!\"&L$5&$AJ41)=1,$D$3,$F$3)","v":"Ͼ"},{"$f":"IF(INDIRECT(\"'\"&Go!$G$2&\"'!\"&M$5&$AJ41)=1,$D$3,$F$3)","v":"Ͼ"},{"$f":"IF(INDIRECT(\"'\"&Go!$G$2&\"'!\"&N$5&$AJ41)=1,$D$3,$F$3)","v":"Ͼ"},{"$f":"IF(INDIRECT(\"'\"&Go!$G$2&\"'!\"&O$5&$AJ41)=1,$D$3,$F$3)","v":"Ͽ"},{"$f":"IF(INDIRECT(\"'\"&Go!$G$2&\"'!\"&P$5&$AJ41)=1,$D$3,$F$3)","v":"Ͽ"},{"$f":"IF(INDIRECT(\"'\"&Go!$G$2&\"'!\"&Q$5&$AJ41)=1,$D$3,$F$3)","v":"Ͽ"},{"$f":"IF(INDIRECT(\"'\"&Go!$G$2&\"'!\"&R$5&$AJ41)=1,$D$3,$F$3)","v":"Ͽ"},{"$f":"IF(INDIRECT(\"'\"&Go!$G$2&\"'!\"&S$5&$AJ41)=1,$D$3,$F$3)","v":"Ͽ"},{"$f":"IF(INDIRECT(\"'\"&Go!$G$2&\"'!\"&T$5&$AJ41)=1,$D$3,$F$3)","v":"Ͼ"},{"$f":"IF(INDIRECT(\"'\"&Go!$G$2&\"'!\"&U$5&$AJ41)=1,$D$3,$F$3)","v":"Ͼ"},{"$f":"IF(INDIRECT(\"'\"&Go!$G$2&\"'!\"&V$5&$AJ41)=1,$D$3,$F$3)","v":"Ͽ"},{"$f":"IF(INDIRECT(\"'\"&Go!$G$2&\"'!\"&W$5&$AJ41)=1,$D$3,$F$3)","v":"Ͽ"},{"$f":"IF(INDIRECT(\"'\"&Go!$G$2&\"'!\"&X$5&$AJ41)=1,$D$3,$F$3)","v":"Ͽ"},{"$f":"IF(INDIRECT(\"'\"&Go!$G$2&\"'!\"&Y$5&$AJ41)=1,$D$3,$F$3)","v":"Ͼ"},{"$f":"IF(INDIRECT(\"'\"&Go!$G$2&\"'!\"&Z$5&$AJ41)=1,$D$3,$F$3)","v":"Ͽ"},{"$f":"IF(INDIRECT(\"'\"&Go!$G$2&\"'!\"&AA$5&$AJ41)=1,$D$3,$F$3)","v":"Ͼ"},{"$f":"IF(INDIRECT(\"'\"&Go!$G$2&\"'!\"&AB$5&$AJ41)=1,$D$3,$F$3)","v":"Ͽ"},{"$f":"IF(INDIRECT(\"'\"&Go!$G$2&\"'!\"&AC$5&$AJ41)=1,$D$3,$F$3)","v":"Ͼ"},{"$f":"IF(INDIRECT(\"'\"&Go!$G$2&\"'!\"&AD$5&$AJ41)=1,$D$3,$F$3)","v":"Ͽ"},{"$f":"IF(INDIRECT(\"'\"&Go!$G$2&\"'!\"&AE$5&$AJ41)=1,$D$3,$F$3)","v":"Ͽ"},{"$f":"IF(INDIRECT(\"'\"&Go!$G$2&\"'!\"&AF$5&$AJ41)=1,$D$3,$F$3)","v":"Ͽ"},{"$f":"IF(INDIRECT(\"'\"&Go!$G$2&\"'!\"&AG$5&$AJ41)=1,$D$3,$F$3)","v":"Ͼ"},{"$f":"IF(INDIRECT(\"'\"&Go!$G$2&\"'!\"&AH$5&$AJ41)=1,$D$3,$F$3)","v":"Ͽ"},35,37]
[null,null,null,36,{"$f":"IF(INDIRECT(\"'\"&Go!$G$2&\"'!\"&E$5&$AJ42)=1,$D$3,$F$3)","v":"Ͼ"},{"$f":"IF(INDIRECT(\"'\"&Go!$G$2&\"'!\"&F$5&$AJ42)=1,$D$3,$F$3)","v":"Ͽ"},{"$f":"IF(INDIRECT(\"'\"&Go!$G$2&\"'!\"&G$5&$AJ42)=1,$D$3,$F$3)","v":"Ͼ"},{"$f":"IF(INDIRECT(\"'\"&Go!$G$2&\"'!\"&H$5&$AJ42)=1,$D$3,$F$3)","v":"Ͽ"},{"$f":"IF(INDIRECT(\"'\"&Go!$G$2&\"'!\"&I$5&$AJ42)=1,$D$3,$F$3)","v":"Ͼ"},{"$f":"IF(INDIRECT(\"'\"&Go!$G$2&\"'!\"&J$5&$AJ42)=1,$D$3,$F$3)","v":"Ͽ"},{"$f":"IF(INDIRECT(\"'\"&Go!$G$2&\"'!\"&K$5&$AJ42)=1,$D$3,$F$3)","v":"Ͽ"},{"$f":"IF(INDIRECT(\"'\"&Go!$G$2&\"'!\"&L$5&$AJ42)=1,$D$3,$F$3)","v":"Ͽ"},{"$f":"IF(INDIRECT(\"'\"&Go!$G$2&\"'!\"&M$5&$AJ42)=1,$D$3,$F$3)","v":"Ͼ"},{"$f":"IF(INDIRECT(\"'\"&Go!$G$2&\"'!\"&N$5&$AJ42)=1,$D$3,$F$3)","v":"Ͽ"},{"$f":"IF(INDIRECT(\"'\"&Go!$G$2&\"'!\"&O$5&$AJ42)=1,$D$3,$F$3)","v":"Ͼ"},{"$f":"IF(INDIRECT(\"'\"&Go!$G$2&\"'!\"&P$5&$AJ42)=1,$D$3,$F$3)","v":"Ͽ"},{"$f":"IF(INDIRECT(\"'\"&Go!$G$2&\"'!\"&Q$5&$AJ42)=1,$D$3,$F$3)","v":"Ͽ"},{"$f":"IF(INDIRECT(\"'\"&Go!$G$2&\"'!\"&R$5&$AJ42)=1,$D$3,$F$3)","v":"Ͼ"},{"$f":"IF(INDIRECT(\"'\"&Go!$G$2&\"'!\"&S$5&$AJ42)=1,$D$3,$F$3)","v":"Ͼ"},{"$f":"IF(INDIRECT(\"'\"&Go!$G$2&\"'!\"&T$5&$AJ42)=1,$D$3,$F$3)","v":"Ͼ"},{"$f":"IF(INDIRECT(\"'\"&Go!$G$2&\"'!\"&U$5&$AJ42)=1,$D$3,$F$3)","v":"Ͼ"},{"$f":"IF(INDIRECT(\"'\"&Go!$G$2&\"'!\"&V$5&$AJ42)=1,$D$3,$F$3)","v":"Ͼ"},{"$f":"IF(INDIRECT(\"'\"&Go!$G$2&\"'!\"&W$5&$AJ42)=1,$D$3,$F$3)","v":"Ͼ"},{"$f":"IF(INDIRECT(\"'\"&Go!$G$2&\"'!\"&X$5&$AJ42)=1,$D$3,$F$3)","v":"Ͼ"},{"$f":"IF(INDIRECT(\"'\"&Go!$G$2&\"'!\"&Y$5&$AJ42)=1,$D$3,$F$3)","v":"Ͽ"},{"$f":"IF(INDIRECT(\"'\"&Go!$G$2&\"'!\"&Z$5&$AJ42)=1,$D$3,$F$3)","v":"Ͼ"},{"$f":"IF(INDIRECT(\"'\"&Go!$G$2&\"'!\"&AA$5&$AJ42)=1,$D$3,$F$3)","v":"Ͽ"},{"$f":"IF(INDIRECT(\"'\"&Go!$G$2&\"'!\"&AB$5&$AJ42)=1,$D$3,$F$3)","v":"Ͽ"},{"$f":"IF(INDIRECT(\"'\"&Go!$G$2&\"'!\"&AC$5&$AJ42)=1,$D$3,$F$3)","v":"Ͼ"},{"$f":"IF(INDIRECT(\"'\"&Go!$G$2&\"'!\"&AD$5&$AJ42)=1,$D$3,$F$3)","v":"Ͼ"},{"$f":"IF(INDIRECT(\"'\"&Go!$G$2&\"'!\"&AE$5&$AJ42)=1,$D$3,$F$3)","v":"Ͽ"},{"$f":"IF(INDIRECT(\"'\"&Go!$G$2&\"'!\"&AF$5&$AJ42)=1,$D$3,$F$3)","v":"Ͽ"},{"$f":"IF(INDIRECT(\"'\"&Go!$G$2&\"'!\"&AG$5&$AJ42)=1,$D$3,$F$3)","v":"Ͽ"},{"$f":"IF(INDIRECT(\"'\"&Go!$G$2&\"'!\"&AH$5&$AJ42)=1,$D$3,$F$3)","v":"Ͽ"},36,38]
[null,null,null,37,{"$f":"IF(INDIRECT(\"'\"&Go!$G$2&\"'!\"&E$5&$AJ43)=1,$D$3,$F$3)","v":"Ͼ"},{"$f":"IF(INDIRECT(\"'\"&Go!$G$2&\"'!\"&F$5&$AJ43)=1,$D$3,$F$3)","v":"Ͽ"},{"$f":"IF(INDIRECT(\"'\"&Go!$G$2&\"'!\"&G$5&$AJ43)=1,$D$3,$F$3)","v":"Ͽ"},{"$f":"IF(INDIRECT(\"'\"&Go!$G$2&\"'!\"&H$5&$AJ43)=1,$D$3,$F$3)","v":"Ͼ"},{"$f":"IF(INDIRECT(\"'\"&Go!$G$2&\"'!\"&I$5&$AJ43)=1,$D$3,$F$3)","v":"Ͼ"},{"$f":"IF(INDIRECT(\"'\"&Go!$G$2&\"'!\"&J$5&$AJ43)=1,$D$3,$F$3)","v":"Ͽ"},{"$f":"IF(INDIRECT(\"'\"&Go!$G$2&\"'!\"&K$5&$AJ43)=1,$D$3,$F$3)","v":"Ͼ"},{"$f":"IF(INDIRECT(\"'\"&Go!$G$2&\"'!\"&L$5&$AJ43)=1,$D$3,$F$3)","v":"Ͽ"},{"$f":"IF(INDIRECT(\"'\"&Go!$G$2&\"'!\"&M$5&$AJ43)=1,$D$3,$F$3)","v":"Ͽ"},{"$f":"IF(INDIRECT(\"'\"&Go!$G$2&\"'!\"&N$5&$AJ43)=1,$D$3,$F$3)","v":"Ͼ"},{"$f":"IF(INDIRECT(\"'\"&Go!$G$2&\"'!\"&O$5&$AJ43)=1,$D$3,$F$3)","v":"Ͽ"},{"$f":"IF(INDIRECT(\"'\"&Go!$G$2&\"'!\"&P$5&$AJ43)=1,$D$3,$F$3)","v":"Ͽ"},{"$f":"IF(INDIRECT(\"'\"&Go!$G$2&\"'!\"&Q$5&$AJ43)=1,$D$3,$F$3)","v":"Ͼ"},{"$f":"IF(INDIRECT(\"'\"&Go!$G$2&\"'!\"&R$5&$AJ43)=1,$D$3,$F$3)","v":"Ͼ"},{"$f":"IF(INDIRECT(\"'\"&Go!$G$2&\"'!\"&S$5&$AJ43)=1,$D$3,$F$3)","v":"Ͼ"},{"$f":"IF(INDIRECT(\"'\"&Go!$G$2&\"'!\"&T$5&$AJ43)=1,$D$3,$F$3)","v":"Ͽ"},{"$f":"IF(INDIRECT(\"'\"&Go!$G$2&\"'!\"&U$5&$AJ43)=1,$D$3,$F$3)","v":"Ͽ"},{"$f":"IF(INDIRECT(\"'\"&Go!$G$2&\"'!\"&V$5&$AJ43)=1,$D$3,$F$3)","v":"Ͼ"},{"$f":"IF(INDIRECT(\"'\"&Go!$G$2&\"'!\"&W$5&$AJ43)=1,$D$3,$F$3)","v":"Ͽ"},{"$f":"IF(INDIRECT(\"'\"&Go!$G$2&\"'!\"&X$5&$AJ43)=1,$D$3,$F$3)","v":"Ͼ"},{"$f":"IF(INDIRECT(\"'\"&Go!$G$2&\"'!\"&Y$5&$AJ43)=1,$D$3,$F$3)","v":"Ͼ"},{"$f":"IF(INDIRECT(\"'\"&Go!$G$2&\"'!\"&Z$5&$AJ43)=1,$D$3,$F$3)","v":"Ͽ"},{"$f":"IF(INDIRECT(\"'\"&Go!$G$2&\"'!\"&AA$5&$AJ43)=1,$D$3,$F$3)","v":"Ͽ"},{"$f":"IF(INDIRECT(\"'\"&Go!$G$2&\"'!\"&AB$5&$AJ43)=1,$D$3,$F$3)","v":"Ͼ"},{"$f":"IF(INDIRECT(\"'\"&Go!$G$2&\"'!\"&AC$5&$AJ43)=1,$D$3,$F$3)","v":"Ͼ"},{"$f":"IF(INDIRECT(\"'\"&Go!$G$2&\"'!\"&AD$5&$AJ43)=1,$D$3,$F$3)","v":"Ͽ"},{"$f":"IF(INDIRECT(\"'\"&Go!$G$2&\"'!\"&AE$5&$AJ43)=1,$D$3,$F$3)","v":"Ͽ"},{"$f":"IF(INDIRECT(\"'\"&Go!$G$2&\"'!\"&AF$5&$AJ43)=1,$D$3,$F$3)","v":"Ͼ"},{"$f":"IF(INDIRECT(\"'\"&Go!$G$2&\"'!\"&AG$5&$AJ43)=1,$D$3,$F$3)","v":"Ͽ"},{"$f":"IF(INDIRECT(\"'\"&Go!$G$2&\"'!\"&AH$5&$AJ43)=1,$D$3,$F$3)","v":"Ͼ"},37,39]
[null,null,null,38,{"$f":"IF(INDIRECT(\"'\"&Go!$G$2&\"'!\"&E$5&$AJ44)=1,$D$3,$F$3)","v":"Ͽ"},{"$f":"IF(INDIRECT(\"'\"&Go!$G$2&\"'!\"&F$5&$AJ44)=1,$D$3,$F$3)","v":"Ͼ"},{"$f":"IF(INDIRECT(\"'\"&Go!$G$2&\"'!\"&G$5&$AJ44)=1,$D$3,$F$3)","v":"Ͽ"},{"$f":"IF(INDIRECT(\"'\"&Go!$G$2&\"'!\"&H$5&$AJ44)=1,$D$3,$F$3)","v":"Ͼ"},{"$f":"IF(INDIRECT(\"'\"&Go!$G$2&\"'!\"&I$5&$AJ44)=1,$D$3,$F$3)","v":"Ͽ"},{"$f":"IF(INDIRECT(\"'\"&Go!$G$2&\"'!\"&J$5&$AJ44)=1,$D$3,$F$3)","v":"Ͼ"},{"$f":"IF(INDIRECT(\"'\"&Go!$G$2&\"'!\"&K$5&$AJ44)=1,$D$3,$F$3)","v":"Ͽ"},{"$f":"IF(INDIRECT(\"'\"&Go!$G$2&\"'!\"&L$5&$AJ44)=1,$D$3,$F$3)","v":"Ͽ"},{"$f":"IF(INDIRECT(\"'\"&Go!$G$2&\"'!\"&M$5&$AJ44)=1,$D$3,$F$3)","v":"Ͽ"},{"$f":"IF(INDIRECT(\"'\"&Go!$G$2&\"'!\"&N$5&$AJ44)=1,$D$3,$F$3)","v":"Ͼ"},{"$f":"IF(INDIRECT(\"'\"&Go!$G$2&\"'!\"&O$5&$AJ44)=1,$D$3,$F$3)","v":"Ͼ"},{"$f":"IF(INDIRECT(\"'\"&Go!$G$2&\"'!\"&P$5&$AJ44)=1,$D$3,$F$3)","v":"Ͼ"},{"$f":"IF(INDIRECT(\"'\"&Go!$G$2&\"'!\"&Q$5&$AJ44)=1,$D$3,$F$3)","v":"Ͽ"},{"$f":"IF(INDIRECT(\"'\"&Go!$G$2&\"'!\"&R$5&$AJ44)=1,$D$3,$F$3)","v":"Ͽ"},{"$f":"IF(INDIRECT(\"'\"&Go!$G$2&\"'!\"&S$5&$AJ44)=1,$D$3,$F$3)","v":"Ͽ"},{"$f":"IF(INDIRECT(\"'\"&Go!$G$2&\"'!\"&T$5&$AJ44)=1,$D$3,$F$3)","v":"Ͼ"},{"$f":"IF(INDIRECT(\"'\"&Go!$G$2&\"'!\"&U$5&$AJ44)=1,$D$3,$F$3)","v":"Ͽ"},{"$f":"IF(INDIRECT(\"'\"&Go!$G$2&\"'!\"&V$5&$AJ44)=1,$D$3,$F$3)","v":"Ͽ"},{"$f":"IF(INDIRECT(\"'\"&Go!$G$2&\"'!\"&W$5&$AJ44)=1,$D$3,$F$3)","v":"Ͼ"},{"$f":"IF(INDIRECT(\"'\"&Go!$G$2&\"'!\"&X$5&$AJ44)=1,$D$3,$F$3)","v":"Ͼ"},{"$f":"IF(INDIRECT(\"'\"&Go!$G$2&\"'!\"&Y$5&$AJ44)=1,$D$3,$F$3)","v":"Ͼ"},{"$f":"IF(INDIRECT(\"'\"&Go!$G$2&\"'!\"&Z$5&$AJ44)=1,$D$3,$F$3)","v":"Ͽ"},{"$f":"IF(INDIRECT(\"'\"&Go!$G$2&\"'!\"&AA$5&$AJ44)=1,$D$3,$F$3)","v":"Ͽ"},{"$f":"IF(INDIRECT(\"'\"&Go!$G$2&\"'!\"&AB$5&$AJ44)=1,$D$3,$F$3)","v":"Ͽ"},{"$f":"IF(INDIRECT(\"'\"&Go!$G$2&\"'!\"&AC$5&$AJ44)=1,$D$3,$F$3)","v":"Ͼ"},{"$f":"IF(INDIRECT(\"'\"&Go!$G$2&\"'!\"&AD$5&$AJ44)=1,$D$3,$F$3)","v":"Ͼ"},{"$f":"IF(INDIRECT(\"'\"&Go!$G$2&\"'!\"&AE$5&$AJ44)=1,$D$3,$F$3)","v":"Ͽ"},{"$f":"IF(INDIRECT(\"'\"&Go!$G$2&\"'!\"&AF$5&$AJ44)=1,$D$3,$F$3)","v":"Ͽ"},{"$f":"IF(INDIRECT(\"'\"&Go!$G$2&\"'!\"&AG$5&$AJ44)=1,$D$3,$F$3)","v":"Ͼ"},{"$f":"IF(INDIRECT(\"'\"&Go!$G$2&\"'!\"&AH$5&$AJ44)=1,$D$3,$F$3)","v":"Ͽ"},38,40]
[null,null,null,39,{"$f":"IF(INDIRECT(\"'\"&Go!$G$2&\"'!\"&E$5&$AJ45)=1,$D$3,$F$3)","v":"Ͽ"},{"$f":"IF(INDIRECT(\"'\"&Go!$G$2&\"'!\"&F$5&$AJ45)=1,$D$3,$F$3)","v":"Ͽ"},{"$f":"IF(INDIRECT(\"'\"&Go!$G$2&\"'!\"&G$5&$AJ45)=1,$D$3,$F$3)","v":"Ͼ"},{"$f":"IF(INDIRECT(\"'\"&Go!$G$2&\"'!\"&H$5&$AJ45)=1,$D$3,$F$3)","v":"Ͼ"},{"$f":"IF(INDIRECT(\"'\"&Go!$G$2&\"'!\"&I$5&$AJ45)=1,$D$3,$F$3)","v":"Ͼ"},{"$f":"IF(INDIRECT(\"'\"&Go!$G$2&\"'!\"&J$5&$AJ45)=1,$D$3,$F$3)","v":"Ͽ"},{"$f":"IF(INDIRECT(\"'\"&Go!$G$2&\"'!\"&K$5&$AJ45)=1,$D$3,$F$3)","v":"Ͼ"},{"$f":"IF(INDIRECT(\"'\"&Go!$G$2&\"'!\"&L$5&$AJ45)=1,$D$3,$F$3)","v":"Ͼ"},{"$f":"IF(INDIRECT(\"'\"&Go!$G$2&\"'!\"&M$5&$AJ45)=1,$D$3,$F$3)","v":"Ͽ"},{"$f":"IF(INDIRECT(\"'\"&Go!$G$2&\"'!\"&N$5&$AJ45)=1,$D$3,$F$3)","v":"Ͽ"},{"$f":"IF(INDIRECT(\"'\"&Go!$G$2&\"'!\"&O$5&$AJ45)=1,$D$3,$F$3)","v":"Ͽ"},{"$f":"IF(INDIRECT(\"'\"&Go!$G$2&\"'!\"&P$5&$AJ45)=1,$D$3,$F$3)","v":"Ͼ"},{"$f":"IF(INDIRECT(\"'\"&Go!$G$2&\"'!\"&Q$5&$AJ45)=1,$D$3,$F$3)","v":"Ͽ"},{"$f":"IF(INDIRECT(\"'\"&Go!$G$2&\"'!\"&R$5&$AJ45)=1,$D$3,$F$3)","v":"Ͼ"},{"$f":"IF(INDIRECT(\"'\"&Go!$G$2&\"'!\"&S$5&$AJ45)=1,$D$3,$F$3)","v":"Ͽ"},{"$f":"IF(INDIRECT(\"'\"&Go!$G$2&\"'!\"&T$5&$AJ45)=1,$D$3,$F$3)","v":"Ͼ"},{"$f":"IF(INDIRECT(\"'\"&Go!$G$2&\"'!\"&U$5&$AJ45)=1,$D$3,$F$3)","v":"Ͼ"},{"$f":"IF(INDIRECT(\"'\"&Go!$G$2&\"'!\"&V$5&$AJ45)=1,$D$3,$F$3)","v":"Ͽ"},{"$f":"IF(INDIRECT(\"'\"&Go!$G$2&\"'!\"&W$5&$AJ45)=1,$D$3,$F$3)","v":"Ͽ"},{"$f":"IF(INDIRECT(\"'\"&Go!$G$2&\"'!\"&X$5&$AJ45)=1,$D$3,$F$3)","v":"Ͽ"},{"$f":"IF(INDIRECT(\"'\"&Go!$G$2&\"'!\"&Y$5&$AJ45)=1,$D$3,$F$3)","v":"Ͽ"},{"$f":"IF(INDIRECT(\"'\"&Go!$G$2&\"'!\"&Z$5&$AJ45)=1,$D$3,$F$3)","v":"Ͽ"},{"$f":"IF(INDIRECT(\"'\"&Go!$G$2&\"'!\"&AA$5&$AJ45)=1,$D$3,$F$3)","v":"Ͼ"},{"$f":"IF(INDIRECT(\"'\"&Go!$G$2&\"'!\"&AB$5&$AJ45)=1,$D$3,$F$3)","v":"Ͽ"},{"$f":"IF(INDIRECT(\"'\"&Go!$G$2&\"'!\"&AC$5&$AJ45)=1,$D$3,$F$3)","v":"Ͼ"},{"$f":"IF(INDIRECT(\"'\"&Go!$G$2&\"'!\"&AD$5&$AJ45)=1,$D$3,$F$3)","v":"Ͽ"},{"$f":"IF(INDIRECT(\"'\"&Go!$G$2&\"'!\"&AE$5&$AJ45)=1,$D$3,$F$3)","v":"Ͼ"},{"$f":"IF(INDIRECT(\"'\"&Go!$G$2&\"'!\"&AF$5&$AJ45)=1,$D$3,$F$3)","v":"Ͽ"},{"$f":"IF(INDIRECT(\"'\"&Go!$G$2&\"'!\"&AG$5&$AJ45)=1,$D$3,$F$3)","v":"Ͽ"},{"$f":"IF(INDIRECT(\"'\"&Go!$G$2&\"'!\"&AH$5&$AJ45)=1,$D$3,$F$3)","v":"Ͽ"},39,41]
[null,null,null,40,{"$f":"IF(INDIRECT(\"'\"&Go!$G$2&\"'!\"&E$5&$AJ46)=1,$D$3,$F$3)","v":"Ͼ"},{"$f":"IF(INDIRECT(\"'\"&Go!$G$2&\"'!\"&F$5&$AJ46)=1,$D$3,$F$3)","v":"Ͼ"},{"$f":"IF(INDIRECT(\"'\"&Go!$G$2&\"'!\"&G$5&$AJ46)=1,$D$3,$F$3)","v":"Ͽ"},{"$f":"IF(INDIRECT(\"'\"&Go!$G$2&\"'!\"&H$5&$AJ46)=1,$D$3,$F$3)","v":"Ͽ"},{"$f":"IF(INDIRECT(\"'\"&Go!$G$2&\"'!\"&I$5&$AJ46)=1,$D$3,$F$3)","v":"Ͽ"},{"$f":"IF(INDIRECT(\"'\"&Go!$G$2&\"'!\"&J$5&$AJ46)=1,$D$3,$F$3)","v":"Ͼ"},{"$f":"IF(INDIRECT(\"'\"&Go!$G$2&\"'!\"&K$5&$AJ46)=1,$D$3,$F$3)","v":"Ͽ"},{"$f":"IF(INDIRECT(\"'\"&Go!$G$2&\"'!\"&L$5&$AJ46)=1,$D$3,$F$3)","v":"Ͼ"},{"$f":"IF(INDIRECT(\"'\"&Go!$G$2&\"'!\"&M$5&$AJ46)=1,$D$3,$F$3)","v":"Ͽ"},{"$f":"IF(INDIRECT(\"'\"&Go!$G$2&\"'!\"&N$5&$AJ46)=1,$D$3,$F$3)","v":"Ͼ"},{"$f":"IF(INDIRECT(\"'\"&Go!$G$2&\"'!\"&O$5&$AJ46)=1,$D$3,$F$3)","v":"Ͽ"},{"$f":"IF(INDIRECT(\"'\"&Go!$G$2&\"'!\"&P$5&$AJ46)=1,$D$3,$F$3)","v":"Ͼ"},{"$f":"IF(INDIRECT(\"'\"&Go!$G$2&\"'!\"&Q$5&$AJ46)=1,$D$3,$F$3)","v":"Ͽ"},{"$f":"IF(INDIRECT(\"'\"&Go!$G$2&\"'!\"&R$5&$AJ46)=1,$D$3,$F$3)","v":"Ͼ"},{"$f":"IF(INDIRECT(\"'\"&Go!$G$2&\"'!\"&S$5&$AJ46)=1,$D$3,$F$3)","v":"Ͼ"},{"$f":"IF(INDIRECT(\"'\"&Go!$G$2&\"'!\"&T$5&$AJ46)=1,$D$3,$F$3)","v":"Ͽ"},{"$f":"IF(INDIRECT(\"'\"&Go!$G$2&\"'!\"&U$5&$AJ46)=1,$D$3,$F$3)","v":"Ͽ"},{"$f":"IF(INDIRECT(\"'\"&Go!$G$2&\"'!\"&V$5&$AJ46)=1,$D$3,$F$3)","v":"Ͽ"},{"$f":"IF(INDIRECT(\"'\"&Go!$G$2&\"'!\"&W$5&$AJ46)=1,$D$3,$F$3)","v":"Ͽ"},{"$f":"IF(INDIRECT(\"'\"&Go!$G$2&\"'!\"&X$5&$AJ46)=1,$D$3,$F$3)","v":"Ͽ"},{"$f":"IF(INDIRECT(\"'\"&Go!$G$2&\"'!\"&Y$5&$AJ46)=1,$D$3,$F$3)","v":"Ͼ"},{"$f":"IF(INDIRECT(\"'\"&Go!$G$2&\"'!\"&Z$5&$AJ46)=1,$D$3,$F$3)","v":"Ͼ"},{"$f":"IF(INDIRECT(\"'\"&Go!$G$2&\"'!\"&AA$5&$AJ46)=1,$D$3,$F$3)","v":"Ͽ"},{"$f":"IF(INDIRECT(\"'\"&Go!$G$2&\"'!\"&AB$5&$AJ46)=1,$D$3,$F$3)","v":"Ͽ"},{"$f":"IF(INDIRECT(\"'\"&Go!$G$2&\"'!\"&AC$5&$AJ46)=1,$D$3,$F$3)","v":"Ͽ"},{"$f":"IF(INDIRECT(\"'\"&Go!$G$2&\"'!\"&AD$5&$AJ46)=1,$D$3,$F$3)","v":"Ͽ"},{"$f":"IF(INDIRECT(\"'\"&Go!$G$2&\"'!\"&AE$5&$AJ46)=1,$D$3,$F$3)","v":"Ͼ"},{"$f":"IF(INDIRECT(\"'\"&Go!$G$2&\"'!\"&AF$5&$AJ46)=1,$D$3,$F$3)","v":"Ͼ"},{"$f":"IF(INDIRECT(\"'\"&Go!$G$2&\"'!\"&AG$5&$AJ46)=1,$D$3,$F$3)","v":"Ͼ"},{"$f":"IF(INDIRECT(\"'\"&Go!$G$2&\"'!\"&AH$5&$AJ46)=1,$D$3,$F$3)","v":"Ͽ"},40,42]
[null,null,null,14,"Ͼ","Ͽ",3,4,5,6,7,8,9,10,11,12,13,14,15,16,17,18,19,20,21,22,23,24,25,26,27,28,29,30,14]

{"sheet":"Neu","index":3,"n_rows":221,"n_cols":40,"rows_kept":221,"cut":false,"hidden":true,"merged":[]}
[]
[]
[]
[]
[]
[null,null,null,"Wähle eine Übunbsnummer von 1 bis 5 oder den Zufallsgenerator Random und und klicke auf",null,null,null,null,null,null,null,null,null,null,null,null,null,null,null,null,null,"Choisi un no d'excercice de 1 à 5 ou coche l'aléatoire avant cliquer sur \"start\".",null,null,null,null,null,null,null,null,null,null,null,null,null,null,null,1,"Ͼ Ͽ","00:12:00"]
[null,"status",null,"\"start\". Anschliessend erscheinen in der Tabelle durcheinander zwei Zeichen. Klicke nun, wie",null,null,null,null,null,null,null,null,null,null,null,null,null,null,null,null,null,"Deux sortes de caractères s'affichent. Clique sur tous les caractère dun type",null,null,null,null,null,null,null,null,null,null,null,null,null,null,null,2,"x +","00:10:00"]
[null,"READY?",null,"im Beispiel unten angezeigt, auf alle Zeichen, welche linienübergreifend auf zwei gleiche folgen!",null,null,null,null,null,null,null,null,null,null,null,null,null,null,null,null,null,"qui suivent les deux caractères de l'autre type, comme l'exemple indique",null,null,null,null,null,null,null,null,null,null,null,null,null,null,null,3,": ;","00:05:00"]
[null,"starttime",null,null,null,null,null,null,null,null,null,null,null,null,null,null,"Beispiel / exemple",null,null,null,null,null,null,null,null,null,null,null,null,null,null,null,null,null,null,null,null,4,"$ §","00:02:00"]
[null,"00:00:00",null,"X",1,2,3,4,5,6,7,8,9,10,11,12,13,14,15,16,17,18,19,20,21,22,23,24,25,26,27,28,29,30,"X",null,null,5,"Ʒ Ƹ","00:01:00"]
[null,"past time",null,1,{"$f":"copy!$D$3","v":"Ͼ"},{"$f":"copy!$F$3","v":"Ͽ"},{"$f":"copy!$D$3","v":"Ͼ"},{"$f":"copy!$D$3","v":"Ͼ"},{"$f":"copy!$D$3","v":"Ͼ"},{"$f":"copy!$F$3","v":"Ͽ"},{"$f":"copy!$D$3","v":"Ͼ"},{"$f":"copy!$D$3","v":"Ͼ"},{"$f":"copy!$F$3","v":"Ͽ"},{"$f":"copy!$F$3","v":"Ͽ"},{"$f":"copy!$F$3","v":"Ͽ"},{"$f":"copy!$F$3","v":"Ͽ"},{"$f":"copy!$F$3","v":"Ͽ"},{"$f":"copy!$D$3","v":"Ͼ"},{"$f":"copy!$D$3","v":"Ͼ"},{"$f":"copy!$F$3","v":"Ͽ"},{"$f":"copy!$F$3","v":"Ͽ"},{"$f":"copy!$F$3","v":"Ͽ"},{"$f":"copy!$F$3","v":"Ͽ"},{"$f":"copy!$F$3","v":"Ͽ"},{"$f":"copy!$F$3","v":"Ͽ"},{"$f":"copy!$D$3","v":"Ͼ"},{"$f":"copy!$D$3","v":"Ͼ"},{"$f":"copy!$F$3","v":"Ͽ"},{"$f":"copy!$F$3","v":"Ͽ"},{"$f":"copy!$D$3","v":"Ͼ"},{"$f":"copy!$D$3","v":"Ͼ"},{"$f":"copy!$F$3","v":"Ͽ"},{"$f":"copy!$D$3","v":"Ͼ"},{"$f":"copy!$D$3","v":"Ͼ"},1,null,null,"Random","y ʎ"]
[null,{"$f":"B14-B10","v":"00:00:00"},null,2,{"$f":"copy!$F$3","v":"Ͽ"},{"$f":"copy!$D$3","v":"Ͼ"},{"$f":"copy!$F$3","v":"Ͽ"},{"$f":"copy!$F$3","v":"Ͽ"},{"$f":"copy!$F$3","v":"Ͽ"},{"$f":"copy!$D$3","v":"Ͼ"},{"$f":"copy!$F$3","v":"Ͽ"},{"$f":"copy!$D$3","v":"Ͼ"},{"$f":"copy!$F$3","v":"Ͽ"},{"$f":"copy!$F$3","v":"Ͽ"},{"$f":"copy!$F$3","v":"Ͽ"},{"$f":"copy!$D$3","v":"Ͼ"},{"$f":"copy!$D$3","v":"Ͼ"},{"$f":"copy!$D$3","v":"Ͼ"},{"$f":"copy!$F$3","v":"Ͽ"},{"$f":"copy!$D$3","v":"Ͼ"},{"$f":"copy!$F$3","v":"Ͽ"},{"$f":"copy!$D$3","v":"Ͼ"},{"$f":"copy!$F$3","v":"Ͽ"},{"$f":"copy!$F$3","v":"Ͽ"},{"$f":"copy!$F$3","v":"Ͽ"},{"$f":"copy!$F$3","v":"Ͽ"},{"$f":"copy!$D$3","v":"Ͼ"},{"$f":"copy!$F$3","v":"Ͽ"},{"$f":"copy!$D$3","v":"Ͼ"},{"$f":"copy!$D$3","v":"Ͼ"},{"$f":"copy!$D$3","v":"Ͼ"},{"$f":"copy!$D$3","v":"Ͼ"},{"$f":"copy!$F$3","v":"Ͽ"},{"$f":"copy!$F$3","v":"Ͽ"},2,null,null,null,"Λ V"]
[null,"update",null,"…","arbeite von links => rechts",null,null,null,null,null,null,null,null,null,null,null,null,null,null,null,null,"traiter depuis gauche à droite!",null,null,null,null,null,null,null,null,null,null,null,null,"…",null,null,null,"M W"]
[null,"00:00:00",null,"X",1,2,3,4,5,6,7,8,9,10,11,12,13,14,15,16,17,18,19,20,21,22,23,24,25,26,27,28,29,30,"X"]
[null,null,null,"Du kannst auch die Zeichen unter \"police\" und Dauer unter \"time\" ändern. Sobald die Zeit abgelaufen ist,",null,null,null,null,null,null,null,null,null,null,null,null,null,null,null,null,null,"Tu peux changer les caractères par \"police\" et le temps à disposition par \"time\"."]
[null,null,null,"wird die Umrandung rot und der Status wechselt auf \"STOP!\". Nun kannst Du das Ergebnis mit",null,null,null,null,null,null,null,null,null,null,null,null,null,null,null,null,null,"Après le temps écoule, le cadre vient rouge et le statut passe à \"STOP!\". Dès"]
[null,null,null,"\"result\" anschauen. Du kannst anschliessend direkt mit \"start\" oder über \"new\" neu beginnen.",null,null,null,null,null,null,null,null,null,null,null,null,null,null,null,null,null,"maintenant tu peux visauliser le résultat par \"result\" et continuer avec \"new\"."]
[]
[]
[]
[]
[]
[]
[]
[]
[]
[]
[]
[]
[]
[]
[]
[]
[]
[]
[]
[]
[]
[]
[]
[]
[]
[]
[]
[]
[]
[]
[null,1]
[]
[]
[]
[]
[]
[]
[null,1]
[]
[]
[]
[]
[]
[]
[]
[]
[]
[]
[]
[]
[]
[]
[]
[]
[]
[]
[]
[]
[]
[]
[]
[]
[]
[]
[]
[]
[]
[]
[]
[]
[]
[]
[]
[]
[]
[]
[]
[]
[]
[]
[]
[]
[]
[null,null,null,1]
[]
[]
[]
[]
[]
[]
[]
[]
[]
[]
[]
[]
[]
[]
[]
[]
[]
[]
[]
[]
[]
[]
[]
[]
[]
[]
[]
[]
[]
[]
[]
[]
[]
[]
[]
[]
[]
[]
[]
[null,null,null,1]
[]
[]
[]
[]
[]
[]
[]
[]
[]
[]
[]
[]
[]
[]
[]
[]
[]
[]
[]
[]
[]
[]
[]
[]
[]
[]
[]
[]
[]
[]
[]
[]
[]
[]
[]
[]
[]
[]
[]
[null,null,null,1]
[]
[]
[]
[]
[]
[]
[]
[]
[]
[]
[]
[]
[]
[]
[]
[]
[]
[]
[]
[]
[]
[]
[]
[]
[]
[]
[]
[]
[]
[]
[]
[]
[]
[]
[]
[]
[]
[]
[]
[null,null,null,1]

{"sheet":"r","index":4,"n_rows":42,"n_cols":33,"rows_kept":42,"cut":false,"hidden":true,"merged":[]}
[null,null,1,2,3,4,5,6,7,8,9,10,11,12,13,14,15,16,17,18,19,20,21,22,23,24,25,26,27,28,29,30]
[null,1,{"$f":"RANDBETWEEN(1,2)","v":1},1,1,1,1,1,2,1,2,2,2,1,2,2,1,1,2,1,2,1,1,1,1,2,1,1,1,2,1,1,1]
[null,2,1,1,2,2,1,2,1,2,2,1,2,1,1,1,1,1,2,1,2,1,1,1,2,2,2,2,2,2,1,1,2]
[null,3,1,2,1,2,1,2,2,2,2,2,1,2,2,1,2,1,2,2,1,2,1,1,2,2,1,1,2,2,2,2,3]
[null,4,2,2,2,2,1,1,1,2,1,2,1,2,1,2,2,2,2,1,1,1,1,1,2,1,1,2,2,1,2,2,4]
[null,5,1,2,1,1,1,2,2,2,1,1,2,1,1,1,2,2,1,2,2,2,1,2,2,1,2,2,1,1,1,2,5]
[null,6,1,2,2,1,1,1,1,1,2,2,2,2,1,2,2,2,1,2,1,1,1,2,1,2,2,2,1,2,2,2,6]
[null,7,1,1,2,1,2,2,2,2,1,1,2,1,1,2,1,1,1,1,2,1,1,1,2,1,1,2,2,1,1,2,7]
[null,8,2,2,2,1,2,2,2,2,2,1,{"$f":"RANDBETWEEN(1,2)","v":1},1,2,2,2,2,1,1,1,1,2,2,1,2,2,1,2,2,1,2,8]
[null,9,{"$f":"RANDBETWEEN(1,2)","v":1},2,1,1,2,1,2,2,2,1,1,1,2,1,1,1,2,2,2,2,1,2,1,2,1,2,2,2,1,1,9]
[null,10,2,1,2,2,1,2,1,2,1,1,1,2,2,1,2,2,2,2,2,1,2,2,1,2,2,1,2,2,1,1,10]
[null,11,2,1,2,1,1,1,1,1,2,2,2,1,1,1,2,2,2,2,2,1,1,1,1,1,1,2,2,1,2,2,11]
[null,12,2,1,2,1,1,1,1,1,2,1,1,1,2,1,2,1,2,1,2,1,2,1,1,2,2,2,2,1,1,2,12]
[null,13,1,2,2,1,1,2,1,1,1,1,2,2,1,2,1,2,1,2,2,1,1,1,2,1,1,1,1,1,2,2,13]
[null,14,2,2,2,2,2,1,2,2,2,1,1,2,1,1,1,2,2,2,2,2,1,1,1,1,1,2,1,2,1,2,14]
[null,15,1,2,2,2,1,2,2,1,1,1,2,1,2,2,2,2,2,2,2,1,1,1,2,2,2,1,2,2,2,2,15]
[null,16,2,1,2,1,1,2,2,1,1,1,2,2,2,1,2,1,2,1,2,2,1,2,2,2,2,2,2,2,1,1,16]
[null,17,1,2,1,2,1,1,1,2,2,1,1,1,1,2,2,1,2,1,2,1,2,1,2,{"$f":"RANDBETWEEN(1,2)","v":1},2,1,1,2,1,1,17]
[null,18,{"$f":"RANDBETWEEN(1,2)","v":1},1,2,1,1,1,2,2,2,2,2,2,2,1,1,2,2,1,1,2,2,1,2,1,2,1,1,1,1,2,18]
[null,19,1,2,2,1,2,2,1,2,2,1,2,2,1,2,1,2,1,1,1,1,1,1,2,2,1,1,1,2,2,2,19]
[null,20,2,1,1,2,1,2,2,1,2,2,2,2,1,2,1,1,1,1,1,1,1,1,1,1,1,1,1,2,1,1,20]
[null,21,2,2,2,2,1,2,1,2,2,1,1,2,2,2,2,1,2,2,2,2,1,2,2,1,1,2,2,1,1,1,21]
[null,22,1,1,1,1,2,2,2,2,2,1,2,2,1,1,1,2,2,1,1,2,2,1,1,2,1,1,1,1,2,2,22]
[null,23,2,1,2,2,1,2,2,1,1,1,1,1,2,1,1,2,1,1,2,1,1,1,1,2,1,2,1,1,1,1,23]
[null,24,1,2,2,1,2,1,1,2,2,1,2,1,2,1,2,2,1,1,2,1,1,1,2,1,2,2,1,2,1,1,24]
[null,25,1,1,1,2,1,1,2,2,1,2,1,2,1,2,1,2,1,2,1,1,1,1,1,2,2,2,1,2,2,1,25]
[null,26,1,1,2,2,1,1,2,2,2,2,2,1,1,2,1,1,1,2,2,1,1,1,1,{"$f":"RANDBETWEEN(1,2)","v":2},2,2,2,1,1,2,26]
[null,27,{"$f":"RANDBETWEEN(1,2)","v":2},1,1,2,1,2,1,2,1,1,1,2,2,1,1,1,2,1,1,2,2,1,1,1,1,1,1,2,2,1,27]
[null,28,1,1,1,2,2,1,1,1,2,2,1,1,2,2,1,2,2,1,1,2,1,1,1,1,2,2,2,1,1,1,28]
[null,29,1,1,2,1,2,2,2,2,2,2,1,2,1,2,1,2,2,2,2,1,2,2,2,2,1,2,2,1,2,1,29]
[null,30,2,1,1,2,2,2,2,2,1,2,2,2,1,1,1,1,1,1,1,1,1,2,2,1,2,1,1,2,2,1,30]
[null,31,2,1,2,2,2,1,2,2,1,2,1,1,2,2,2,2,2,2,1,1,1,2,2,1,1,1,1,2,2,2,31]
[null,32,1,1,2,1,1,2,1,2,2,2,1,1,1,1,2,1,1,2,1,1,1,1,2,1,1,1,2,1,1,1,32]
[null,33,1,2,2,1,1,2,2,1,2,2,1,1,1,2,2,1,1,2,2,2,1,2,1,2,1,2,1,1,1,{"$f":"RANDBETWEEN(1,2)","v":2},33]
[null,34,1,1,1,1,1,1,2,2,2,1,2,1,2,1,1,2,2,1,2,2,1,1,2,1,1,2,2,2,1,1,34]
[null,35,2,2,2,2,2,2,2,1,1,1,2,2,2,2,2,1,1,2,2,2,1,2,1,{"$f":"RANDBETWEEN(1,2)","v":2},1,2,2,2,1,2,35]
[null,36,{"$f":"RANDBETWEEN(1,2)","v":1},2,1,2,1,2,2,2,1,2,1,2,2,1,1,1,1,1,1,1,2,1,2,2,1,1,2,2,2,2,36]
[null,37,1,2,2,1,1,2,1,2,2,1,2,2,1,1,1,2,2,1,2,1,1,2,2,1,1,2,2,1,2,1,37]
[null,38,2,1,2,1,2,1,2,2,2,1,1,1,2,2,2,1,2,2,1,1,1,2,2,2,1,1,2,2,1,2,38]
[null,39,2,2,1,1,1,2,1,1,2,2,2,1,2,1,2,1,1,2,2,2,2,2,1,2,1,2,1,2,2,2,39]
[null,40,1,1,2,2,2,1,2,1,2,1,2,1,2,1,1,2,2,2,2,2,1,1,2,2,2,2,1,1,1,2,40]
[null,null,1,2,3,4,5,6,7,8,9,10,11,12,13,14,15,16,17,18,19,20,21,22,23,24,25,26,27,28,29,30]

{"sheet":"1","index":5,"n_rows":43,"n_cols":33,"rows_kept":43,"cut":false,"hidden":true,"merged":[]}
[]
[null,"X",1,2,3,4,5,6,7,8,9,10,11,12,13,14,15,16,17,18,19,20,21,22,23,24,25,26,27,28,29,30,"X"]
[null,1,2,2,2,1,2,2,2,1,2,1,2,2,2,1,2,1,1,2,1,2,1,1,1,1,2,1,2,2,2,1,1]
[null,2,2,1,2,1,2,1,2,2,1,1,1,2,2,2,1,2,2,1,2,2,2,2,2,2,1,1,2,2,2,2,2]
[null,3,2,1,2,2,1,2,2,1,1,2,2,2,2,1,2,2,1,2,2,1,2,1,1,2,1,1,2,2,2,1,3]
[null,4,2,2,1,1,1,1,2,1,2,2,2,1,1,1,2,2,1,2,2,1,2,1,2,1,1,2,2,1,1,1,4]
[null,5,2,1,2,1,2,2,2,2,2,2,2,1,2,2,1,2,1,2,2,2,2,1,2,1,1,2,1,2,1,2,5]
[null,6,1,1,1,2,1,2,1,2,1,1,2,1,1,2,2,2,2,1,1,1,2,1,2,1,1,1,1,2,1,2,6]
[null,7,2,2,1,2,1,2,1,2,1,1,2,2,2,2,1,2,1,1,2,1,1,1,2,1,2,1,1,2,2,2,7]
[null,8,2,1,1,2,2,1,2,2,1,2,1,1,2,2,1,2,1,2,2,1,1,1,1,1,2,1,1,2,1,2,8]
[null,9,2,2,1,1,2,2,1,1,1,1,2,1,2,1,2,1,1,2,2,1,2,2,1,1,1,1,1,1,1,2,9]
[null,10,2,2,2,2,2,2,2,2,2,1,2,2,1,2,1,1,2,2,1,1,1,1,2,2,1,2,2,1,1,1,10]
[null,11,2,1,2,2,2,2,1,1,2,1,2,2,2,1,2,2,1,2,2,1,2,2,1,2,2,1,2,1,2,1,11]
[null,12,1,2,1,1,1,1,1,1,2,2,1,2,1,2,2,1,2,2,2,2,1,2,2,1,2,1,1,2,2,2,12]
[null,13,2,2,1,2,2,1,1,1,2,2,1,2,2,1,1,1,1,1,1,1,2,1,1,2,2,1,1,1,2,2,13]
[null,14,1,1,2,1,1,2,2,2,2,2,1,1,2,2,1,1,2,1,2,1,2,1,2,2,2,2,2,2,1,1,14]
[null,15,2,2,1,1,1,1,1,2,1,2,1,2,2,1,1,1,1,1,1,1,1,1,2,2,1,2,1,2,2,2,15]
[null,16,1,1,2,1,1,1,2,1,2,2,1,2,1,2,1,1,2,2,1,2,1,2,1,1,1,2,2,2,1,1,16]
[null,17,1,1,1,2,2,2,2,1,2,1,2,2,2,2,2,2,1,1,1,1,2,1,2,2,1,1,1,2,1,1,17]
[null,18,1,2,2,1,2,1,1,1,1,1,1,2,1,1,2,1,2,2,2,1,1,2,1,1,1,1,2,2,1,1,18]
[null,19,1,1,2,1,2,1,2,1,1,1,2,1,2,1,1,1,1,2,1,2,2,1,1,2,2,1,1,1,1,2,19]
[null,20,1,2,2,1,1,1,1,1,1,1,1,2,2,2,2,2,1,1,1,1,1,2,2,2,1,2,1,1,1,2,20]
[null,21,2,2,1,1,1,1,2,1,2,2,2,2,1,2,1,1,2,2,1,1,2,2,2,1,2,1,2,2,2,1,21]
[null,22,1,2,2,1,1,1,1,1,1,2,2,1,1,2,1,2,2,2,2,1,1,1,1,1,2,1,1,2,1,1,22]
[null,23,2,2,2,2,1,1,2,2,1,1,1,1,2,2,1,2,1,1,2,2,1,1,2,2,1,2,1,2,1,2,23]
[null,24,1,1,2,1,2,2,2,1,1,1,1,1,2,2,1,1,1,1,1,2,2,1,1,2,2,2,1,2,2,2,24]
[null,25,1,1,2,2,1,2,1,2,1,1,2,2,1,2,2,1,2,2,1,1,2,1,2,2,2,2,1,1,2,2,25]
[null,26,1,2,1,2,2,2,2,2,2,2,1,2,1,1,2,1,1,1,2,1,2,1,1,2,1,1,1,1,2,2,26]
[null,27,2,1,2,2,2,1,2,1,2,1,2,2,2,1,1,1,1,1,1,1,2,2,1,1,2,1,1,2,1,2,27]
[null,28,2,1,2,2,1,2,2,2,2,2,1,1,1,2,2,2,1,2,1,2,1,1,1,1,1,1,1,2,1,2,28]
[null,29,2,2,2,2,1,2,1,1,1,1,2,1,2,1,2,1,1,1,1,2,2,1,1,2,2,2,1,2,1,1,29]
[null,30,1,2,1,2,1,1,1,2,1,2,1,2,2,1,2,1,1,1,2,1,1,2,2,1,1,2,1,1,1,2,30]
[null,31,1,1,1,1,1,1,1,2,1,2,2,2,1,2,1,2,2,2,2,1,1,1,2,2,1,2,2,1,1,1,31]
[null,32,2,2,2,2,1,1,1,2,1,2,1,2,1,1,2,2,1,2,2,2,2,2,2,1,2,2,2,2,1,2,32]
[null,33,2,2,2,2,2,2,1,1,2,1,2,1,2,2,2,1,1,2,2,2,1,2,2,2,1,1,2,2,1,2,33]
[null,34,1,1,1,2,2,2,2,1,2,2,2,1,1,1,2,2,1,1,2,1,1,1,1,2,2,2,2,1,2,2,34]
[null,35,2,1,1,2,1,2,1,1,2,1,1,2,2,2,2,2,2,2,1,2,1,2,2,1,2,2,1,2,1,1,35]
[null,36,1,2,1,2,1,1,1,2,1,1,1,1,2,1,2,1,1,2,2,2,2,2,2,2,2,2,1,2,1,2,36]
[null,37,2,1,2,1,1,1,2,1,2,1,2,2,1,2,2,1,2,2,1,2,1,1,1,2,2,1,2,1,2,1,37]
[null,38,2,2,2,2,2,2,1,2,2,2,1,2,1,1,2,1,2,1,2,1,1,2,1,2,1,1,2,1,2,2,38]
[null,39,2,1,2,1,2,1,2,1,2,1,1,1,1,2,2,2,2,2,1,1,2,1,2,2,2,1,2,2,2,1,39]
[null,40,2,1,2,1,2,2,2,1,1,1,2,2,2,2,2,1,2,1,2,1,1,1,1,1,1,1,1,2,1,1,40]
[null,"X","Ͼ","Ͽ",3,4,5,6,7,8,9,10,11,12,13,14,15,16,17,18,19,20,21,22,23,24,25,26,27,28,29,30,"X"]

{"sheet":"2","index":6,"n_rows":43,"n_cols":33,"rows_kept":43,"cut":false,"hidden":true,"merged":[]}
[]
[null,"X",1,2,3,4,5,6,7,8,9,10,11,12,13,14,15,16,17,18,19,20,21,22,23,24,25,26,27,28,29,30,"X"]
[null,1,2,1,1,2,2,1,2,2,1,1,1,1,1,2,2,2,1,1,2,2,1,1,2,1,1,1,2,1,2,1,1]
[null,2,1,2,1,1,1,1,1,1,1,2,1,1,2,2,2,2,2,2,1,2,2,1,2,1,2,1,2,2,1,1,2]
[null,3,1,2,1,1,1,2,2,2,1,2,1,2,2,1,2,1,1,1,1,2,1,2,1,2,2,2,2,2,2,1,3]
[null,4,2,1,2,1,1,1,2,1,2,1,2,2,1,1,2,2,1,2,1,1,1,1,1,2,1,2,2,2,1,2,4]
[null,5,1,1,1,1,1,2,1,1,2,1,1,1,1,1,2,2,1,2,1,2,2,2,1,2,2,2,2,1,1,2,5]
[null,6,1,1,2,1,2,1,2,2,1,2,1,1,1,1,1,1,1,2,1,2,2,2,2,2,1,1,2,2,1,2,6]
[null,7,2,2,1,2,1,1,2,1,2,2,1,1,1,2,1,1,2,2,2,1,1,1,2,1,2,2,1,1,1,2,7]
[null,8,1,1,2,2,2,2,2,1,1,2,2,1,2,1,1,1,1,1,1,1,1,2,1,1,2,2,1,1,2,2,8]
[null,9,1,1,1,2,1,2,2,2,1,2,2,1,2,1,2,2,1,1,2,1,1,1,1,2,2,2,1,2,2,2,9]
[null,10,1,1,1,2,2,1,1,1,2,2,1,2,1,2,2,1,2,1,2,1,2,1,1,2,2,2,1,2,1,1,10]
[null,11,2,1,2,2,1,2,2,1,1,2,2,1,2,2,2,2,2,2,1,1,2,2,1,1,1,2,2,1,1,1,11]
[null,12,1,2,1,2,2,2,1,1,1,2,2,1,1,1,1,2,2,1,2,1,1,1,1,1,2,2,1,2,2,2,12]
[null,13,2,2,1,2,1,1,2,1,2,2,1,1,1,2,2,1,2,2,2,1,2,1,1,1,1,1,2,1,1,2,13]
[null,14,2,1,2,1,2,1,1,2,1,2,1,1,2,2,2,2,2,2,2,2,1,1,1,2,2,2,1,2,1,1,14]
[null,15,2,1,2,2,2,2,2,2,2,1,1,1,1,2,1,2,2,2,2,1,2,1,2,1,1,2,2,2,1,1,15]
[null,16,2,1,2,1,1,2,1,2,1,1,1,2,2,1,1,2,1,1,1,2,1,2,2,1,1,2,1,1,2,2,16]
[null,17,2,2,1,2,2,1,1,2,1,2,2,1,2,1,2,2,2,1,2,2,1,2,2,1,2,1,2,1,2,1,17]
[null,18,2,1,2,1,2,2,2,1,2,1,2,2,2,2,1,1,1,2,1,1,1,2,1,1,1,1,2,2,2,2,18]
[null,19,1,1,1,1,1,1,1,2,1,2,2,1,2,2,2,1,1,1,1,2,1,2,2,1,2,1,2,2,2,1,19]
[null,20,2,2,2,1,1,1,2,2,2,1,2,1,1,2,2,1,1,2,1,2,1,2,1,1,1,1,2,1,1,2,20]
[null,21,2,2,1,2,1,2,1,1,2,2,1,2,1,1,2,2,1,1,2,1,1,2,2,1,1,2,1,1,1,1,21]
[null,22,1,1,2,2,1,1,1,2,2,1,2,2,2,2,1,1,1,2,2,2,2,2,1,2,2,2,1,1,2,1,22]
[null,23,1,2,1,1,1,1,2,2,2,1,2,2,1,2,2,1,1,2,1,2,1,1,1,2,1,1,1,1,2,1,23]
[null,24,2,1,1,1,1,1,2,2,2,2,1,2,2,1,2,1,2,2,2,2,1,2,2,1,2,1,2,1,1,1,24]
[null,25,1,1,1,1,2,2,1,1,1,1,1,1,1,1,1,1,1,1,1,2,2,2,2,2,2,2,1,1,1,1,25]
[null,26,1,1,2,2,2,1,1,1,2,2,1,2,2,1,1,1,2,2,1,1,2,1,1,2,1,1,1,2,1,2,26]
[null,27,2,1,1,2,1,2,1,2,1,1,1,2,2,1,2,2,2,2,2,2,1,1,2,2,2,2,2,1,1,1,27]
[null,28,2,2,1,1,1,1,2,2,2,2,1,1,1,2,2,2,2,1,2,2,2,2,1,1,2,1,2,1,1,1,28]
[null,29,1,2,2,2,2,2,2,2,1,2,1,2,2,1,2,2,2,1,2,2,2,2,1,1,2,2,2,2,2,2,29]
[null,30,2,1,2,1,2,2,1,2,1,2,1,2,2,2,1,2,1,2,1,1,2,2,1,2,2,2,2,2,2,1,30]
[null,31,2,2,2,2,1,2,2,2,1,1,1,1,2,2,2,1,1,2,1,1,2,1,2,1,1,1,2,1,1,2,31]
[null,32,1,1,2,2,2,1,2,2,2,2,2,1,1,1,2,1,2,2,1,1,1,2,2,1,1,1,1,2,2,2,32]
[null,33,1,1,2,2,1,2,1,2,2,1,2,1,1,2,2,2,1,1,2,1,1,1,1,1,1,2,2,1,2,1,33]
[null,34,2,2,1,2,2,2,2,1,1,1,1,2,1,1,1,2,2,1,2,2,1,2,2,1,1,1,1,2,1,2,34]
[null,35,1,2,2,2,1,1,2,1,2,2,2,1,1,1,2,2,1,1,2,2,2,1,2,2,1,2,2,1,2,1,35]
[null,36,2,1,1,2,2,2,2,2,1,2,1,2,1,2,2,2,2,2,1,2,1,2,1,2,1,2,2,1,1,1,36]
[null,37,1,1,1,1,2,1,2,1,1,2,1,1,2,2,1,2,2,1,1,1,1,1,1,1,2,1,1,2,1,2,37]
[null,38,2,1,2,1,2,1,2,1,1,1,1,2,2,2,2,2,1,1,1,1,1,1,2,2,2,2,1,2,2,2,38]
[null,39,2,1,1,2,2,2,2,2,2,2,2,2,2,2,2,2,1,1,1,2,2,1,2,2,1,1,2,1,1,1,39]
[null,40,2,1,1,2,1,2,2,1,2,1,1,2,2,2,2,1,2,1,2,1,1,1,2,1,2,2,1,2,2,1,40]
[null,"X","Ͼ","Ͽ",3,4,5,6,7,8,9,10,11,12,13,14,15,16,17,18,19,20,21,22,23,24,25,26,27,28,29,30,"X"]

{"sheet":"3","index":7,"n_rows":43,"n_cols":33,"rows_kept":43,"cut":false,"hidden":true,"merged":[]}
[]
[null,"X",1,2,3,4,5,6,7,8,9,10,11,12,13,14,15,16,17,18,19,20,21,22,23,24,25,26,27,28,29,30,"X"]
[null,1,2,1,1,1,2,2,2,1,2,1,2,2,1,2,1,2,2,1,2,2,2,1,2,1,1,1,2,2,1,1,1]
[null,2,2,1,2,2,1,2,2,2,1,2,1,2,1,2,1,2,1,1,2,2,2,1,1,2,1,1,2,2,2,1,2]
[null,3,1,1,2,1,2,2,2,2,2,2,1,2,1,2,1,2,1,2,2,2,1,1,1,2,2,1,1,2,1,2,3]
[null,4,2,2,2,1,2,1,2,2,1,1,1,1,2,1,2,2,2,2,2,1,1,2,1,2,1,1,2,1,1,2,4]
[null,5,1,2,2,2,1,2,1,1,1,2,1,1,2,2,2,2,1,1,1,2,1,2,1,2,2,1,2,1,2,2,5]
[null,6,1,1,1,1,1,2,1,1,2,2,1,2,1,2,1,2,2,1,1,1,1,1,2,1,2,2,2,2,1,1,6]
[null,7,2,1,2,1,2,1,2,2,1,2,2,2,2,2,1,1,1,2,2,1,2,2,2,1,2,1,1,1,2,2,7]
[null,8,2,2,1,1,1,1,2,2,2,1,2,1,1,2,1,2,1,1,1,2,2,1,1,1,2,2,1,2,1,2,8]
[null,9,2,1,2,1,1,1,1,2,2,2,1,1,1,1,2,2,1,2,1,1,2,1,2,2,1,2,1,1,1,1,9]
[null,10,2,1,1,1,1,1,2,1,2,2,1,1,1,2,1,2,1,1,1,2,2,2,2,1,1,2,1,2,2,2,10]
[null,11,1,2,1,1,2,2,2,2,1,1,2,1,1,2,2,2,1,1,1,2,1,2,1,2,2,2,1,1,2,1,11]
[null,12,1,2,1,2,2,2,2,1,1,1,2,1,1,1,2,2,2,2,2,1,2,1,1,1,1,2,1,1,2,1,12]
[null,13,2,2,1,2,2,2,1,2,1,1,1,2,2,2,1,2,1,1,2,1,1,2,2,1,1,1,2,1,1,2,13]
[null,14,2,1,2,1,1,2,1,1,2,1,1,2,1,2,1,1,1,1,1,2,1,2,2,2,2,2,2,1,1,1,14]
[null,15,2,2,2,2,2,1,1,2,2,1,1,2,2,2,1,2,1,2,2,1,1,1,1,1,2,1,2,2,1,2,15]
[null,16,1,1,1,2,1,2,1,1,2,1,2,2,1,1,2,1,2,1,1,1,1,2,1,2,1,2,2,2,2,2,16]
[null,17,1,2,2,2,1,2,1,2,2,2,2,1,2,1,1,1,1,1,1,1,2,2,1,1,1,1,1,1,2,1,17]
[null,18,1,1,2,1,2,1,1,2,2,2,2,1,1,2,1,1,2,1,1,2,1,2,2,2,2,2,2,1,2,2,18]
[null,19,1,2,1,2,2,1,2,2,1,1,1,2,1,2,1,1,2,1,2,2,1,1,2,1,2,2,2,2,1,1,19]
[null,20,2,1,1,1,1,1,1,2,1,2,1,1,1,1,2,1,2,1,1,1,2,1,2,1,2,1,2,1,1,1,20]
[null,21,1,2,1,1,1,1,1,1,2,1,1,2,2,1,2,2,1,1,1,1,1,1,2,2,1,1,2,1,1,2,21]
[null,22,1,1,2,1,1,2,1,1,2,2,1,2,1,2,2,2,1,1,1,1,2,2,1,1,1,2,2,2,1,1,22]
[null,23,2,2,1,2,1,2,1,2,1,2,2,2,1,2,1,2,2,1,1,1,1,1,1,2,1,2,2,2,2,2,23]
[null,24,1,2,2,1,1,1,2,1,1,2,2,1,2,1,2,2,2,1,1,1,1,1,2,2,1,2,2,2,2,2,24]
[null,25,2,2,1,1,1,1,1,1,1,1,2,1,1,1,1,1,2,1,2,1,1,1,2,2,2,2,2,2,2,2,25]
[null,26,2,2,2,1,1,2,1,1,2,2,2,2,2,2,2,1,1,2,2,1,1,1,1,2,2,1,1,2,1,2,26]
[null,27,2,1,2,1,1,2,1,2,1,2,1,2,2,2,1,2,2,1,1,2,1,1,2,2,1,2,1,2,1,1,27]
[null,28,2,2,2,1,1,1,2,2,1,2,1,2,1,1,1,2,1,2,2,2,1,1,1,2,2,2,1,1,1,1,28]
[null,29,2,2,1,1,1,1,2,2,2,1,1,2,2,2,2,1,1,1,1,1,1,1,1,2,1,1,1,2,1,2,29]
[null,30,1,1,2,2,1,1,1,2,1,2,1,1,1,2,1,1,1,2,2,2,1,1,1,1,2,2,1,2,2,2,30]
[null,31,1,1,2,2,2,1,2,2,2,1,2,2,2,1,1,1,2,1,2,2,2,2,2,1,2,1,2,2,1,1,31]
[null,32,1,1,1,2,2,2,1,2,1,2,1,1,1,2,2,1,1,2,1,2,1,2,2,2,2,1,2,2,1,1,32]
[null,33,1,1,1,1,2,2,1,1,1,1,2,1,1,2,2,1,2,2,2,2,2,1,1,2,2,2,2,2,1,2,33]
[null,34,1,2,1,2,1,2,1,2,2,2,2,2,2,2,1,2,2,1,2,2,2,1,1,2,2,2,1,2,2,2,34]
[null,35,1,2,1,1,2,1,2,2,1,1,2,1,1,1,1,1,2,2,2,2,2,1,1,1,1,1,2,1,1,2,35]
[null,36,1,1,2,2,2,2,1,1,1,2,1,1,2,1,1,1,2,1,1,2,1,2,2,2,1,1,1,2,1,2,36]
[null,37,1,2,2,2,1,1,2,2,2,2,1,2,1,1,2,1,1,2,1,1,1,1,2,1,1,1,2,1,2,2,37]
[null,38,2,1,2,1,1,2,1,2,1,1,1,1,2,2,1,2,2,1,1,1,2,2,1,2,2,2,1,1,2,1,38]
[null,39,1,1,2,1,2,2,1,2,2,1,2,2,2,1,2,2,2,2,2,1,1,1,2,2,1,2,2,1,1,2,39]
[null,40,2,2,1,2,2,1,2,2,1,2,2,1,2,1,1,2,2,2,2,2,1,1,2,1,2,1,2,1,2,1,40]
[null,"X","Ͼ","Ͽ",3,4,5,6,7,8,9,10,11,12,13,14,15,16,17,18,19,20,21,22,23,24,25,26,27,28,29,30,"X"]

{"sheet":"4","index":8,"n_rows":43,"n_cols":33,"rows_kept":43,"cut":false,"hidden":true,"merged":[]}
[]
[null,"X",1,2,3,4,5,6,7,8,9,10,11,12,13,14,15,16,17,18,19,20,21,22,23,24,25,26,27,28,29,30,"X"]
[null,1,2,2,1,1,1,2,1,1,1,1,2,2,1,1,1,2,1,1,1,2,1,1,2,1,2,2,1,1,1,1,1]
[null,2,2,2,2,2,2,1,1,2,1,1,2,2,1,1,2,2,2,1,2,2,1,1,2,1,2,1,2,1,2,2,2]
[null,3,2,1,1,2,2,1,1,1,2,2,2,2,1,2,1,2,1,2,2,2,1,2,2,2,2,1,2,2,1,2,3]
[null,4,1,2,2,1,1,2,1,2,1,1,2,1,1,2,1,2,1,2,2,2,2,1,1,2,2,2,1,2,2,2,4]
[null,5,1,1,1,1,2,2,1,2,2,1,1,2,2,2,1,1,2,2,1,1,1,1,1,2,1,1,2,2,2,2,5]
[null,6,1,1,2,2,2,2,2,1,1,1,2,1,1,1,1,2,1,1,1,1,1,1,2,2,2,2,1,2,1,1,6]
[null,7,1,1,1,2,2,1,2,2,2,1,2,2,2,1,1,2,2,2,1,2,2,2,1,2,2,1,1,1,2,2,7]
[null,8,2,2,2,2,2,2,1,1,2,2,1,2,1,2,2,1,1,2,2,2,1,2,2,1,1,1,1,1,2,1,8]
[null,9,2,1,1,1,2,1,1,1,2,1,1,2,2,1,2,2,1,2,2,2,2,1,2,2,1,1,1,2,2,2,9]
[null,10,1,1,1,1,1,1,1,1,2,2,2,1,1,2,2,1,1,1,2,2,2,1,1,1,2,1,2,2,2,1,10]
[null,11,2,2,1,1,2,2,1,2,2,2,1,2,2,2,1,1,1,1,2,2,2,2,2,2,2,2,2,2,2,2,11]
[null,12,2,1,2,2,1,2,2,1,1,2,1,1,2,1,2,1,1,2,1,1,1,1,1,1,1,1,1,1,2,1,12]
[null,13,1,2,1,2,2,1,2,2,1,2,2,2,1,2,1,2,2,1,1,2,2,1,2,2,1,2,2,1,1,2,13]
[null,14,2,1,2,1,1,2,2,2,1,2,2,1,2,1,1,1,2,2,2,2,2,1,2,1,1,1,1,1,2,1,14]
[null,15,1,1,2,1,2,2,1,2,2,2,1,1,1,1,2,1,1,2,2,1,1,1,2,2,2,1,2,1,2,2,15]
[null,16,1,2,2,1,1,2,2,2,1,2,1,1,2,1,2,1,1,2,1,1,1,2,2,1,2,2,1,1,2,1,16]
[null,17,2,1,1,1,2,1,2,1,2,1,2,2,1,2,1,1,2,1,1,2,2,1,1,1,1,1,1,2,1,1,17]
[null,18,2,1,2,2,1,2,1,1,2,2,2,1,1,2,2,2,1,2,2,1,1,1,1,1,1,1,1,2,1,2,18]
[null,19,1,2,2,1,2,2,2,1,2,2,2,2,1,1,1,2,1,2,2,2,2,2,1,1,2,2,1,2,2,2,19]
[null,20,1,2,2,1,1,2,1,1,2,1,2,1,2,2,1,1,2,1,2,1,1,1,1,2,2,2,2,2,1,1,20]
[null,21,1,1,2,1,1,2,2,1,1,1,2,1,1,1,1,2,2,2,2,1,2,1,2,1,2,2,2,2,1,1,21]
[null,22,1,2,2,1,2,1,1,2,1,2,1,1,2,1,1,2,2,1,2,1,2,2,2,1,2,1,1,1,2,2,22]
[null,23,1,1,1,2,2,1,2,1,2,2,2,1,1,2,2,1,1,2,1,2,1,2,1,1,1,2,1,1,1,1,23]
[null,24,2,2,1,1,2,1,1,1,1,2,1,1,1,1,1,1,2,2,2,1,1,2,1,2,2,1,2,2,2,1,24]
[null,25,2,1,1,1,1,1,2,2,1,2,1,1,1,2,1,1,1,1,2,1,1,2,1,2,2,2,2,2,1,2,25]
[null,26,2,2,2,2,2,2,1,2,2,1,2,2,1,1,2,2,2,1,2,1,1,2,2,2,2,2,2,1,2,1,26]
[null,27,2,2,2,1,2,2,2,2,1,1,1,2,1,2,2,2,1,1,2,2,2,1,2,2,2,2,2,2,2,2,27]
[null,28,1,2,1,1,1,1,1,2,1,2,2,1,2,2,1,2,2,2,2,2,1,2,2,1,2,1,1,2,1,1,28]
[null,29,1,1,2,2,1,2,1,1,2,1,1,2,1,1,2,1,1,1,2,1,1,2,2,1,1,2,2,1,2,2,29]
[null,30,2,1,2,2,1,1,1,1,1,1,2,2,2,2,1,1,1,2,2,1,2,1,1,2,2,1,1,2,2,2,30]
[null,31,2,1,2,1,1,1,1,2,1,2,2,2,1,1,2,2,2,1,1,1,1,2,2,2,2,2,2,2,2,1,31]
[null,32,2,1,2,1,2,2,1,1,1,2,1,2,1,2,1,1,1,1,2,2,1,1,2,1,1,2,2,1,1,1,32]
[null,33,2,2,1,2,2,1,1,1,2,1,2,1,2,1,1,1,1,1,2,2,2,2,1,2,2,2,2,2,2,1,33]
[null,34,2,2,2,1,1,2,2,2,1,2,1,2,1,2,2,2,2,1,1,2,2,1,1,2,1,2,2,2,1,2,34]
[null,35,2,2,1,1,2,2,1,2,1,1,2,1,2,2,1,1,1,1,2,2,1,1,1,2,1,1,1,2,1,2,35]
[null,36,1,2,2,1,1,1,2,2,1,2,1,1,2,2,1,2,2,1,2,1,2,1,2,2,1,2,1,2,1,1,36]
[null,37,1,2,2,2,1,1,2,2,1,1,1,2,2,1,1,2,2,2,2,2,1,2,1,2,1,2,2,2,2,1,37]
[null,38,1,1,1,1,1,2,1,2,2,2,2,2,1,2,2,2,1,2,2,1,1,1,2,2,2,2,2,1,1,2,38]
[null,39,1,2,2,2,1,2,2,2,1,1,2,2,1,1,1,2,1,1,1,1,2,1,2,2,1,1,1,2,1,2,39]
[null,40,2,1,2,1,2,2,2,1,1,1,2,2,2,2,2,1,2,1,2,1,1,1,1,1,1,1,1,2,1,1,40]
[null,"X","Ͼ","Ͽ",3,4,5,6,7,8,9,10,11,12,13,14,15,16,17,18,19,20,21,22,23,24,25,26,27,28,29,30,"X"]

{"sheet":"5","index":9,"n_rows":43,"n_cols":33,"rows_kept":43,"cut":false,"hidden":true,"merged":[]}
[]
[null,"X",1,2,3,4,5,6,7,8,9,10,11,12,13,14,15,16,17,18,19,20,21,22,23,24,25,26,27,28,29,30,"X"]
[null,1,2,2,1,2,1,1,1,2,1,2,1,1,2,1,2,2,1,2,1,1,1,2,2,2,1,2,2,2,1,2,1]
[null,2,1,2,1,1,1,2,2,2,1,1,2,2,1,1,1,1,2,1,2,1,1,1,1,2,2,2,1,1,2,2,2]
[null,3,2,1,2,1,2,2,1,2,2,1,1,2,2,2,1,2,1,1,2,1,1,1,1,2,1,2,1,2,1,1,3]
[null,4,2,1,2,2,1,2,2,2,2,2,2,2,1,2,2,1,2,2,2,2,2,2,2,1,1,1,2,1,2,1,4]
[null,5,2,2,2,2,1,1,2,1,1,2,1,2,1,2,2,1,1,1,1,2,1,1,1,2,1,1,2,1,2,2,5]
[null,6,2,1,1,1,2,1,1,2,1,1,1,2,1,1,2,2,1,1,1,1,1,2,2,1,1,2,1,1,2,2,6]
[null,7,2,2,2,2,1,1,1,2,1,1,2,2,2,2,1,1,2,2,2,2,2,1,1,2,2,1,1,1,1,2,7]
[null,8,2,2,2,2,2,2,2,2,1,1,1,2,2,2,1,2,1,2,1,2,1,2,2,1,1,2,2,1,2,1,8]
[null,9,1,1,1,2,2,2,1,1,1,1,2,1,2,2,1,2,2,2,1,2,2,2,1,1,2,2,1,1,1,1,9]
[null,10,1,1,1,1,2,1,1,1,2,2,2,2,1,2,1,1,2,2,1,1,2,2,1,1,1,2,1,2,1,2,10]
[null,11,2,2,2,1,1,2,2,1,2,1,2,1,1,1,1,1,2,1,1,1,1,2,1,2,2,2,1,1,2,2,11]
[null,12,1,2,2,1,1,2,2,2,2,1,1,2,2,2,1,2,1,2,1,2,2,2,1,2,1,1,1,1,1,1,12]
[null,13,2,1,1,2,2,2,1,1,1,2,2,1,2,2,2,2,2,1,1,2,2,1,1,2,1,2,2,2,2,1,13]
[null,14,1,2,2,1,2,1,2,2,2,2,1,2,1,2,2,2,2,2,1,2,1,2,2,2,2,2,1,2,2,1,14]
[null,15,2,1,2,1,1,1,1,1,2,1,2,1,1,1,1,1,1,1,2,1,1,2,2,2,1,1,2,1,2,1,15]
[null,16,1,1,1,1,2,2,2,1,2,2,1,1,2,1,1,2,2,2,2,1,1,2,1,1,1,1,2,2,2,2,16]
[null,17,1,2,2,1,2,1,1,1,2,1,2,1,1,2,2,2,2,1,1,2,2,1,2,1,1,1,1,1,1,2,17]
[null,18,2,1,1,2,1,1,2,2,2,1,2,1,2,2,1,1,1,2,1,1,2,1,2,2,2,2,2,2,2,1,18]
[null,19,1,2,2,1,2,1,1,2,1,1,2,1,1,2,2,2,1,2,1,1,2,2,1,1,2,1,2,2,1,2,19]
[null,20,2,2,1,2,1,1,2,2,1,2,2,2,2,1,2,2,1,2,1,2,2,1,2,1,2,1,1,2,2,1,20]
[null,21,2,2,1,1,2,1,1,1,1,2,1,2,1,2,1,1,1,1,1,1,2,2,2,2,2,2,1,1,1,1,21]
[null,22,1,1,1,1,1,2,2,1,1,2,2,1,2,2,2,1,2,1,1,1,2,1,2,2,1,1,2,2,2,1,22]
[null,23,2,1,2,1,1,1,2,2,1,1,1,2,1,2,1,1,2,1,1,2,2,2,2,2,1,2,1,2,1,1,23]
[null,24,1,1,2,2,2,1,1,2,1,1,2,2,1,2,1,1,2,2,1,2,1,1,1,1,2,1,1,2,1,1,24]
[null,25,2,1,2,2,2,2,1,1,2,2,1,2,2,1,1,2,1,1,1,1,2,1,1,1,1,1,1,2,2,1,25]
[null,26,1,2,2,2,1,2,1,2,1,2,1,2,2,2,1,2,1,2,2,1,2,1,1,2,2,1,2,2,2,2,26]
[null,27,1,2,2,2,1,2,1,2,2,2,1,2,2,2,2,2,2,2,2,2,1,1,1,2,2,1,1,2,2,2,27]
[null,28,2,2,2,2,2,1,2,2,1,1,1,1,1,1,1,2,2,2,1,2,2,1,1,2,2,2,1,1,1,1,28]
[null,29,1,2,2,1,2,2,2,2,2,1,2,1,1,2,1,1,2,2,2,1,1,1,1,2,1,2,2,2,2,1,29]
[null,30,1,2,1,2,1,1,1,2,2,2,2,2,2,2,1,1,1,2,1,1,2,1,2,2,2,1,2,1,1,1,30]
[null,31,1,1,1,1,1,2,1,1,2,2,1,2,2,2,1,1,2,2,2,2,2,1,1,2,1,2,1,1,2,2,31]
[null,32,2,2,2,1,2,2,1,2,2,1,2,1,1,2,1,2,1,2,1,2,2,2,2,2,2,2,2,2,1,1,32]
[null,33,1,1,1,2,1,2,2,2,2,1,2,2,2,1,2,2,1,2,2,2,1,1,2,1,1,1,1,1,1,2,33]
[null,34,2,2,2,1,1,2,1,1,1,1,1,2,2,1,1,2,1,2,1,2,2,2,2,2,1,1,1,2,1,2,34]
[null,35,1,2,1,2,2,2,1,1,1,1,2,2,1,2,2,2,1,2,2,1,1,2,2,2,1,2,1,2,2,1,35]
[null,36,1,2,2,2,2,2,2,1,1,1,1,2,2,2,1,1,2,1,1,2,2,1,1,2,1,1,2,1,2,1,36]
[null,37,2,1,1,1,2,2,1,1,1,1,2,1,2,1,1,2,2,1,1,2,1,2,2,1,1,1,1,2,2,1,37]
[null,38,1,1,1,2,1,1,2,1,1,1,2,1,1,2,1,2,2,1,2,1,1,1,2,2,2,1,1,2,1,1,38]
[null,39,1,1,2,2,1,1,2,2,2,1,1,2,2,1,1,1,2,1,2,1,1,1,2,1,1,1,2,2,1,2,39]
[null,40,1,1,2,1,2,1,2,2,2,2,1,1,2,1,2,1,2,1,1,1,2,2,1,1,1,2,2,1,2,2,40]
[null,"X","Ͼ","Ͽ",3,4,5,6,7,8,9,10,11,12,13,14,15,16,17,18,19,20,21,22,23,24,25,26,27,28,29,30,"X"]

{"sheet":"Random","index":10,"n_rows":43,"n_cols":33,"rows_kept":43,"cut":false,"hidden":true,"merged":[]}
[]
[null,"X",1,2,3,4,5,6,7,8,9,10,11,12,13,14,15,16,17,18,19,20,21,22,23,24,25,26,27,28,29,30,"X"]
[null,1,{"$f":"'r'!C2","v":1},{"$f":"'r'!D2","v":1},{"$f":"'r'!E2","v":1},{"$f":"'r'!F2","v":1},{"$f":"'r'!G2","v":1},{"$f":"'r'!H2","v":1},{"$f":"'r'!I2","v":2},{"$f":"'r'!J2","v":1},{"$f":"'r'!K2","v":2},{"$f":"'r'!L2","v":2},{"$f":"'r'!M2","v":2},{"$f":"'r'!N2","v":1},{"$f":"'r'!O2","v":2},{"$f":"'r'!P2","v":2},{"$f":"'r'!Q2","v":1},{"$f":"'r'!R2","v":1},{"$f":"'r'!S2","v":2},{"$f":"'r'!T2","v":1},{"$f":"'r'!U2","v":2},{"$f":"'r'!V2","v":1},{"$f":"'r'!W2","v":1},{"$f":"'r'!X2","v":1},{"$f":"'r'!Y2","v":1},{"$f":"'r'!Z2","v":2},{"$f":"'r'!AA2","v":1},{"$f":"'r'!AB2","v":1},{"$f":"'r'!AC2","v":1},{"$f":"'r'!AD2","v":2},{"$f":"'r'!AE2","v":1},{"$f":"'r'!AF2","v":1},1]
[null,2,{"$f":"'r'!C3","v":1},{"$f":"'r'!D3","v":1},{"$f":"'r'!E3","v":2},{"$f":"'r'!F3","v":2},{"$f":"'r'!G3","v":1},{"$f":"'r'!H3","v":2},{"$f":"'r'!I3","v":1},{"$f":"'r'!J3","v":2},{"$f":"'r'!K3","v":2},{"$f":"'r'!L3","v":1},{"$f":"'r'!M3","v":2},{"$f":"'r'!N3","v":1},{"$f":"'r'!O3","v":1},{"$f":"'r'!P3","v":1},{"$f":"'r'!Q3","v":1},{"$f":"'r'!R3","v":1},{"$f":"'r'!S3","v":2},{"$f":"'r'!T3","v":1},{"$f":"'r'!U3","v":2},{"$f":"'r'!V3","v":1},{"$f":"'r'!W3","v":1},{"$f":"'r'!X3","v":1},{"$f":"'r'!Y3","v":2},{"$f":"'r'!Z3","v":2},{"$f":"'r'!AA3","v":2},{"$f":"'r'!AB3","v":2},{"$f":"'r'!AC3","v":2},{"$f":"'r'!AD3","v":2},{"$f":"'r'!AE3","v":1},{"$f":"'r'!AF3","v":1},2]
[null,3,{"$f":"'r'!C4","v":1},{"$f":"'r'!D4","v":2},{"$f":"'r'!E4","v":1},{"$f":"'r'!F4","v":2},{"$f":"'r'!G4","v":1},{"$f":"'r'!H4","v":2},{"$f":"'r'!I4","v":2},{"$f":"'r'!J4","v":2},{"$f":"'r'!K4","v":2},{"$f":"'r'!L4","v":2},{"$f":"'r'!M4","v":1},{"$f":"'r'!N4","v":2},{"$f":"'r'!O4","v":2},{"$f":"'r'!P4","v":1},{"$f":"'r'!Q4","v":2},{"$f":"'r'!R4","v":1},{"$f":"'r'!S4","v":2},{"$f":"'r'!T4","v":2},{"$f":"'r'!U4","v":1},{"$f":"'r'!V4","v":2},{"$f":"'r'!W4","v":1},{"$f":"'r'!X4","v":1},{"$f":"'r'!Y4","v":2},{"$f":"'r'!Z4","v":2},{"$f":"'r'!AA4","v":1},{"$f":"'r'!AB4","v":1},{"$f":"'r'!AC4","v":2},{"$f":"'r'!AD4","v":2},{"$f":"'r'!AE4","v":2},{"$f":"'r'!AF4","v":2},3]
[null,4,{"$f":"'r'!C5","v":2},{"$f":"'r'!D5","v":2},{"$f":"'r'!E5","v":2},{"$f":"'r'!F5","v":2},{"$f":"'r'!G5","v":1},{"$f":"'r'!H5","v":1},{"$f":"'r'!I5","v":1},{"$f":"'r'!J5","v":2},{"$f":"'r'!K5","v":1},{"$f":"'r'!L5","v":2},{"$f":"'r'!M5","v":1},{"$f":"'r'!N5","v":2},{"$f":"'r'!O5","v":1},{"$f":"'r'!P5","v":2},{"$f":"'r'!Q5","v":2},{"$f":"'r'!R5","v":2},{"$f":"'r'!S5","v":2},{"$f":"'r'!T5","v":1},{"$f":"'r'!U5","v":1},{"$f":"'r'!V5","v":1},{"$f":"'r'!W5","v":1},{"$f":"'r'!X5","v":1},{"$f":"'r'!Y5","v":2},{"$f":"'r'!Z5","v":1},{"$f":"'r'!AA5","v":1},{"$f":"'r'!AB5","v":2},{"$f":"'r'!AC5","v":2},{"$f":"'r'!AD5","v":1},{"$f":"'r'!AE5","v":2},{"$f":"'r'!AF5","v":2},4]
[null,5,{"$f":"'r'!C6","v":1},{"$f":"'r'!D6","v":2},{"$f":"'r'!E6","v":1},{"$f":"'r'!F6","v":1},{"$f":"'r'!G6","v":1},{"$f":"'r'!H6","v":2},{"$f":"'r'!I6","v":2},{"$f":"'r'!J6","v":2},{"$f":"'r'!K6","v":1},{"$f":"'r'!L6","v":1},{"$f":"'r'!M6","v":2},{"$f":"'r'!N6","v":1},{"$f":"'r'!O6","v":1},{"$f":"'r'!P6","v":1},{"$f":"'r'!Q6","v":2},{"$f":"'r'!R6","v":2},{"$f":"'r'!S6","v":1},{"$f":"'r'!T6","v":2},{"$f":"'r'!U6","v":2},{"$f":"'r'!V6","v":2},{"$f":"'r'!W6","v":1},{"$f":"'r'!X6","v":2},{"$f":"'r'!Y6","v":2},{"$f":"'r'!Z6","v":1},{"$f":"'r'!AA6","v":2},{"$f":"'r'!AB6","v":2},{"$f":"'r'!AC6","v":1},{"$f":"'r'!AD6","v":1},{"$f":"'r'!AE6","v":1},{"$f":"'r'!AF6","v":2},5]
[null,6,{"$f":"'r'!C7","v":1},{"$f":"'r'!D7","v":2},{"$f":"'r'!E7","v":2},{"$f":"'r'!F7","v":1},{"$f":"'r'!G7","v":1},{"$f":"'r'!H7","v":1},{"$f":"'r'!I7","v":1},{"$f":"'r'!J7","v":1},{"$f":"'r'!K7","v":2},{"$f":"'r'!L7","v":2},{"$f":"'r'!M7","v":2},{"$f":"'r'!N7","v":2},{"$f":"'r'!O7","v":1},{"$f":"'r'!P7","v":2},{"$f":"'r'!Q7","v":2},{"$f":"'r'!R7","v":2},{"$f":"'r'!S7","v":1},{"$f":"'r'!T7","v":2},{"$f":"'r'!U7","v":1},{"$f":"'r'!V7","v":1},{"$f":"'r'!W7","v":1},{"$f":"'r'!X7","v":2},{"$f":"'r'!Y7","v":1},{"$f":"'r'!Z7","v":2},{"$f":"'r'!AA7","v":2},{"$f":"'r'!AB7","v":2},{"$f":"'r'!AC7","v":1},{"$f":"'r'!AD7","v":2},{"$f":"'r'!AE7","v":2},{"$f":"'r'!AF7","v":2},6]
[null,7,{"$f":"'r'!C8","v":1},{"$f":"'r'!D8","v":1},{"$f":"'r'!E8","v":2},{"$f":"'r'!F8","v":1},{"$f":"'r'!G8","v":2},{"$f":"'r'!H8","v":2},{"$f":"'r'!I8","v":2},{"$f":"'r'!J8","v":2},{"$f":"'r'!K8","v":1},{"$f":"'r'!L8","v":1},{"$f":"'r'!M8","v":2},{"$f":"'r'!N8","v":1},{"$f":"'r'!O8","v":1},{"$f":"'r'!P8","v":2},{"$f":"'r'!Q8","v":1},{"$f":"'r'!R8","v":1},{"$f":"'r'!S8","v":1},{"$f":"'r'!T8","v":1},{"$f":"'r'!U8","v":2},{"$f":"'r'!V8","v":1},{"$f":"'r'!W8","v":1},{"$f":"'r'!X8","v":1},{"$f":"'r'!Y8","v":2},{"$f":"'r'!Z8","v":1},{"$f":"'r'!AA8","v":1},{"$f":"'r'!AB8","v":2},{"$f":"'r'!AC8","v":2},{"$f":"'r'!AD8","v":1},{"$f":"'r'!AE8","v":1},{"$f":"'r'!AF8","v":2},7]
[null,8,{"$f":"'r'!C9","v":2},{"$f":"'r'!D9","v":2},{"$f":"'r'!E9","v":2},{"$f":"'r'!F9","v":1},{"$f":"'r'!G9","v":2},{"$f":"'r'!H9","v":2},{"$f":"'r'!I9","v":2},{"$f":"'r'!J9","v":2},{"$f":"'r'!K9","v":2},{"$f":"'r'!L9","v":1},{"$f":"'r'!M9","v":1},{"$f":"'r'!N9","v":1},{"$f":"'r'!O9","v":2},{"$f":"'r'!P9","v":2},{"$f":"'r'!Q9","v":2},{"$f":"'r'!R9","v":2},{"$f":"'r'!S9","v":1},{"$f":"'r'!T9","v":1},{"$f":"'r'!U9","v":1},{"$f":"'r'!V9","v":1},{"$f":"'r'!W9","v":2},{"$f":"'r'!X9","v":2},{"$f":"'r'!Y9","v":1},{"$f":"'r'!Z9","v":2},{"$f":"'r'!AA9","v":2},{"$f":"'r'!AB9","v":1},{"$f":"'r'!AC9","v":2},{"$f":"'r'!AD9","v":2},{"$f":"'r'!AE9","v":1},{"$f":"'r'!AF9","v":2},8]
[null,9,{"$f":"'r'!C10","v":1},{"$f":"'r'!D10","v":2},{"$f":"'r'!E10","v":1},{"$f":"'r'!F10","v":1},{"$f":"'r'!G10","v":2},{"$f":"'r'!H10","v":1},{"$f":"'r'!I10","v":2},{"$f":"'r'!J10","v":2},{"$f":"'r'!K10","v":2},{"$f":"'r'!L10","v":1},{"$f":"'r'!M10","v":1},{"$f":"'r'!N10","v":1},{"$f":"'r'!O10","v":2},{"$f":"'r'!P10","v":1},{"$f":"'r'!Q10","v":1},{"$f":"'r'!R10","v":1},{"$f":"'r'!S10","v":2},{"$f":"'r'!T10","v":2},{"$f":"'r'!U10","v":2},{"$f":"'r'!V10","v":2},{"$f":"'r'!W10","v":1},{"$f":"'r'!X10","v":2},{"$f":"'r'!Y10","v":1},{"$f":"'r'!Z10","v":2},{"$f":"'r'!AA10","v":1},{"$f":"'r'!AB10","v":2},{"$f":"'r'!AC10","v":2},{"$f":"'r'!AD10","v":2},{"$f":"'r'!AE10","v":1},{"$f":"'r'!AF10","v":1},9]
[null,10,{"$f":"'r'!C11","v":2},{"$f":"'r'!D11","v":1},{"$f":"'r'!E11","v":2},{"$f":"'r'!F11","v":2},{"$f":"'r'!G11","v":1},{"$f":"'r'!H11","v":2},{"$f":"'r'!I11","v":1},{"$f":"'r'!J11","v":2},{"$f":"'r'!K11","v":1},{"$f":"'r'!L11","v":1},{"$f":"'r'!M11","v":1},{"$f":"'r'!N11","v":2},{"$f":"'r'!O11","v":2},{"$f":"'r'!P11","v":1},{"$f":"'r'!Q11","v":2},{"$f":"'r'!R11","v":2},{"$f":"'r'!S11","v":2},{"$f":"'r'!T11","v":2},{"$f":"'r'!U11","v":2},{"$f":"'r'!V11","v":1},{"$f":"'r'!W11","v":2},{"$f":"'r'!X11","v":2},{"$f":"'r'!Y11","v":1},{"$f":"'r'!Z11","v":2},{"$f":"'r'!AA11","v":2},{"$f":"'r'!AB11","v":1},{"$f":"'r'!AC11","v":2},{"$f":"'r'!AD11","v":2},{"$f":"'r'!AE11","v":1},{"$f":"'r'!AF11","v":1},10]
[null,11,{"$f":"'r'!C12","v":2},{"$f":"'r'!D12","v":1},{"$f":"'r'!E12","v":2},{"$f":"'r'!F12","v":1},{"$f":"'r'!G12","v":1},{"$f":"'r'!H12","v":1},{"$f":"'r'!I12","v":1},{"$f":"'r'!J12","v":1},{"$f":"'r'!K12","v":2},{"$f":"'r'!L12","v":2},{"$f":"'r'!M12","v":2},{"$f":"'r'!N12","v":1},{"$f":"'r'!O12","v":1},{"$f":"'r'!P12","v":1},{"$f":"'r'!Q12","v":2},{"$f":"'r'!R12","v":2},{"$f":"'r'!S12","v":2},{"$f":"'r'!T12","v":2},{"$f":"'r'!U12","v":2},{"$f":"'r'!V12","v":1},{"$f":"'r'!W12","v":1},{"$f":"'r'!X12","v":1},{"$f":"'r'!Y12","v":1},{"$f":"'r'!Z12","v":1},{"$f":"'r'!AA12","v":1},{"$f":"'r'!AB12","v":2},{"$f":"'r'!AC12","v":2},{"$f":"'r'!AD12","v":1},{"$f":"'r'!AE12","v":2},{"$f":"'r'!AF12","v":2},11]
[null,12,{"$f":"'r'!C13","v":2},{"$f":"'r'!D13","v":1},{"$f":"'r'!E13","v":2},{"$f":"'r'!F13","v":1},{"$f":"'r'!G13","v":1},{"$f":"'r'!H13","v":1},{"$f":"'r'!I13","v":1},{"$f":"'r'!J13","v":1},{"$f":"'r'!K13","v":2},{"$f":"'r'!L13","v":1},{"$f":"'r'!M13","v":1},{"$f":"'r'!N13","v":1},{"$f":"'r'!O13","v":2},{"$f":"'r'!P13","v":1},{"$f":"'r'!Q13","v":2},{"$f":"'r'!R13","v":1},{"$f":"'r'!S13","v":2},{"$f":"'r'!T13","v":1},{"$f":"'r'!U13","v":2},{"$f":"'r'!V13","v":1},{"$f":"'r'!W13","v":2},{"$f":"'r'!X13","v":1},{"$f":"'r'!Y13","v":1},{"$f":"'r'!Z13","v":2},{"$f":"'r'!AA13","v":2},{"$f":"'r'!AB13","v":2},{"$f":"'r'!AC13","v":2},{"$f":"'r'!AD13","v":1},{"$f":"'r'!AE13","v":1},{"$f":"'r'!AF13","v":2},12]
[null,13,{"$f":"'r'!C14","v":1},{"$f":"'r'!D14","v":2},{"$f":"'r'!E14","v":2},{"$f":"'r'!F14","v":1},{"$f":"'r'!G14","v":1},{"$f":"'r'!H14","v":2},{"$f":"'r'!I14","v":1},{"$f":"'r'!J14","v":1},{"$f":"'r'!K14","v":1},{"$f":"'r'!L14","v":1},{"$f":"'r'!M14","v":2},{"$f":"'r'!N14","v":2},{"$f":"'r'!O14","v":1},{"$f":"'r'!P14","v":2},{"$f":"'r'!Q14","v":1},{"$f":"'r'!R14","v":2},{"$f":"'r'!S14","v":1},{"$f":"'r'!T14","v":2},{"$f":"'r'!U14","v":2},{"$f":"'r'!V14","v":1},{"$f":"'r'!W14","v":1},{"$f":"'r'!X14","v":1},{"$f":"'r'!Y14","v":2},{"$f":"'r'!Z14","v":1},{"$f":"'r'!AA14","v":1},{"$f":"'r'!AB14","v":1},{"$f":"'r'!AC14","v":1},{"$f":"'r'!AD14","v":1},{"$f":"'r'!AE14","v":2},{"$f":"'r'!AF14","v":2},13]
[null,14,{"$f":"'r'!C15","v":2},{"$f":"'r'!D15","v":2},{"$f":"'r'!E15","v":2},{"$f":"'r'!F15","v":2},{"$f":"'r'!G15","v":2},{"$f":"'r'!H15","v":1},{"$f":"'r'!I15","v":2},{"$f":"'r'!J15","v":2},{"$f":"'r'!K15","v":2},{"$f":"'r'!L15","v":1},{"$f":"'r'!M15","v":1},{"$f":"'r'!N15","v":2},{"$f":"'r'!O15","v":1},{"$f":"'r'!P15","v":1},{"$f":"'r'!Q15","v":1},{"$f":"'r'!R15","v":2},{"$f":"'r'!S15","v":2},{"$f":"'r'!T15","v":2},{"$f":"'r'!U15","v":2},{"$f":"'r'!V15","v":2},{"$f":"'r'!W15","v":1},{"$f":"'r'!X15","v":1},{"$f":"'r'!Y15","v":1},{"$f":"'r'!Z15","v":1},{"$f":"'r'!AA15","v":1},{"$f":"'r'!AB15","v":2},{"$f":"'r'!AC15","v":1},{"$f":"'r'!AD15","v":2},{"$f":"'r'!AE15","v":1},{"$f":"'r'!AF15","v":2},14]
[null,15,{"$f":"'r'!C16","v":1},{"$f":"'r'!D16","v":2},{"$f":"'r'!E16","v":2},{"$f":"'r'!F16","v":2},{"$f":"'r'!G16","v":1},{"$f":"'r'!H16","v":2},{"$f":"'r'!I16","v":2},{"$f":"'r'!J16","v":1},{"$f":"'r'!K16","v":1},{"$f":"'r'!L16","v":1},{"$f":"'r'!M16","v":2},{"$f":"'r'!N16","v":1},{"$f":"'r'!O16","v":2},{"$f":"'r'!P16","v":2},{"$f":"'r'!Q16","v":2},{"$f":"'r'!R16","v":2},{"$f":"'r'!S16","v":2},{"$f":"'r'!T16","v":2},{"$f":"'r'!U16","v":2},{"$f":"'r'!V16","v":1},{"$f":"'r'!W16","v":1},{"$f":"'r'!X16","v":1},{"$f":"'r'!Y16","v":2},{"$f":"'r'!Z16","v":2},{"$f":"'r'!AA16","v":2},{"$f":"'r'!AB16","v":1},{"$f":"'r'!AC16","v":2},{"$f":"'r'!AD16","v":2},{"$f":"'r'!AE16","v":2},{"$f":"'r'!AF16","v":2},15]
[null,16,{"$f":"'r'!C17","v":2},{"$f":"'r'!D17","v":1},{"$f":"'r'!E17","v":2},{"$f":"'r'!F17","v":1},{"$f":"'r'!G17","v":1},{"$f":"'r'!H17","v":2},{"$f":"'r'!I17","v":2},{"$f":"'r'!J17","v":1},{"$f":"'r'!K17","v":1},{"$f":"'r'!L17","v":1},{"$f":"'r'!M17","v":2},{"$f":"'r'!N17","v":2},{"$f":"'r'!O17","v":2},{"$f":"'r'!P17","v":1},{"$f":"'r'!Q17","v":2},{"$f":"'r'!R17","v":1},{"$f":"'r'!S17","v":2},{"$f":"'r'!T17","v":1},{"$f":"'r'!U17","v":2},{"$f":"'r'!V17","v":2},{"$f":"'r'!W17","v":1},{"$f":"'r'!X17","v":2},{"$f":"'r'!Y17","v":2},{"$f":"'r'!Z17","v":2},{"$f":"'r'!AA17","v":2},{"$f":"'r'!AB17","v":2},{"$f":"'r'!AC17","v":2},{"$f":"'r'!AD17","v":2},{"$f":"'r'!AE17","v":1},{"$f":"'r'!AF17","v":1},16]
[null,17,{"$f":"'r'!C18","v":1},{"$f":"'r'!D18","v":2},{"$f":"'r'!E18","v":1},{"$f":"'r'!F18","v":2},{"$f":"'r'!G18","v":1},{"$f":"'r'!H18","v":1},{"$f":"'r'!I18","v":1},{"$f":"'r'!J18","v":2},{"$f":"'r'!K18","v":2},{"$f":"'r'!L18","v":1},{"$f":"'r'!M18","v":1},{"$f":"'r'!N18","v":1},{"$f":"'r'!O18","v":1},{"$f":"'r'!P18","v":2},{"$f":"'r'!Q18","v":2},{"$f":"'r'!R18","v":1},{"$f":"'r'!S18","v":2},{"$f":"'r'!T18","v":1},{"$f":"'r'!U18","v":2},{"$f":"'r'!V18","v":1},{"$f":"'r'!W18","v":2},{"$f":"'r'!X18","v":1},{"$f":"'r'!Y18","v":2},{"$f":"'r'!Z18","v":1},{"$f":"'r'!AA18","v":2},{"$f":"'r'!AB18","v":1},{"$f":"'r'!AC18","v":1},{"$f":"'r'!AD18","v":2},{"$f":"'r'!AE18","v":1},{"$f":"'r'!AF18","v":1},17]
[null,18,{"$f":"'r'!C19","v":1},{"$f":"'r'!D19","v":1},{"$f":"'r'!E19","v":2},{"$f":"'r'!F19","v":1},{"$f":"'r'!G19","v":1},{"$f":"'r'!H19","v":1},{"$f":"'r'!I19","v":2},{"$f":"'r'!J19","v":2},{"$f":"'r'!K19","v":2},{"$f":"'r'!L19","v":2},{"$f":"'r'!M19","v":2},{"$f":"'r'!N19","v":2},{"$f":"'r'!O19","v":2},{"$f":"'r'!P19","v":1},{"$f":"'r'!Q19","v":1},{"$f":"'r'!R19","v":2},{"$f":"'r'!S19","v":2},{"$f":"'r'!T19","v":1},{"$f":"'r'!U19","v":1},{"$f":"'r'!V19","v":2},{"$f":"'r'!W19","v":2},{"$f":"'r'!X19","v":1},{"$f":"'r'!Y19","v":2},{"$f":"'r'!Z19","v":1},{"$f":"'r'!AA19","v":2},{"$f":"'r'!AB19","v":1},{"$f":"'r'!AC19","v":1},{"$f":"'r'!AD19","v":1},{"$f":"'r'!AE19","v":1},{"$f":"'r'!AF19","v":2},18]
[null,19,{"$f":"'r'!C20","v":1},{"$f":"'r'!D20","v":2},{"$f":"'r'!E20","v":2},{"$f":"'r'!F20","v":1},{"$f":"'r'!G20","v":2},{"$f":"'r'!H20","v":2},{"$f":"'r'!I20","v":1},{"$f":"'r'!J20","v":2},{"$f":"'r'!K20","v":2},{"$f":"'r'!L20","v":1},{"$f":"'r'!M20","v":2},{"$f":"'r'!N20","v":2},{"$f":"'r'!O20","v":1},{"$f":"'r'!P20","v":2},{"$f":"'r'!Q20","v":1},{"$f":"'r'!R20","v":2},{"$f":"'r'!S20","v":1},{"$f":"'r'!T20","v":1},{"$f":"'r'!U20","v":1},{"$f":"'r'!V20","v":1},{"$f":"'r'!W20","v":1},{"$f":"'r'!X20","v":1},{"$f":"'r'!Y20","v":2},{"$f":"'r'!Z20","v":2},{"$f":"'r'!AA20","v":1},{"$f":"'r'!AB20","v":1},{"$f":"'r'!AC20","v":1},{"$f":"'r'!AD20","v":2},{"$f":"'r'!AE20","v":2},{"$f":"'r'!AF20","v":2},19]
[null,20,{"$f":"'r'!C21","v":2},{"$f":"'r'!D21","v":1},{"$f":"'r'!E21","v":1},{"$f":"'r'!F21","v":2},{"$f":"'r'!G21","v":1},{"$f":"'r'!H21","v":2},{"$f":"'r'!I21","v":2},{"$f":"'r'!J21","v":1},{"$f":"'r'!K21","v":2},{"$f":"'r'!L21","v":2},{"$f":"'r'!M21","v":2},{"$f":"'r'!N21","v":2},{"$f":"'r'!O21","v":1},{"$f":"'r'!P21","v":2},{"$f":"'r'!Q21","v":1},{"$f":"'r'!R21","v":1},{"$f":"'r'!S21","v":1},{"$f":"'r'!T21","v":1},{"$f":"'r'!U21","v":1},{"$f":"'r'!V21","v":1},{"$f":"'r'!W21","v":1},{"$f":"'r'!X21","v":1},{"$f":"'r'!Y21","v":1},{"$f":"'r'!Z21","v":1},{"$f":"'r'!AA21","v":1},{"$f":"'r'!AB21","v":1},{"$f":"'r'!AC21","v":1},{"$f":"'r'!AD21","v":2},{"$f":"'r'!AE21","v":1},{"$f":"'r'!AF21","v":1},20]
[null,21,{"$f":"'r'!C22","v":2},{"$f":"'r'!D22","v":2},{"$f":"'r'!E22","v":2},{"$f":"'r'!F22","v":2},{"$f":"'r'!G22","v":1},{"$f":"'r'!H22","v":2},{"$f":"'r'!I22","v":1},{"$f":"'r'!J22","v":2},{"$f":"'r'!K22","v":2},{"$f":"'r'!L22","v":1},{"$f":"'r'!M22","v":1},{"$f":"'r'!N22","v":2},{"$f":"'r'!O22","v":2},{"$f":"'r'!P22","v":2},{"$f":"'r'!Q22","v":2},{"$f":"'r'!R22","v":1},{"$f":"'r'!S22","v":2},{"$f":"'r'!T22","v":2},{"$f":"'r'!U22","v":2},{"$f":"'r'!V22","v":2},{"$f":"'r'!W22","v":1},{"$f":"'r'!X22","v":2},{"$f":"'r'!Y22","v":2},{"$f":"'r'!Z22","v":1},{"$f":"'r'!AA22","v":1},{"$f":"'r'!AB22","v":2},{"$f":"'r'!AC22","v":2},{"$f":"'r'!AD22","v":1},{"$f":"'r'!AE22","v":1},{"$f":"'r'!AF22","v":1},21]
[null,22,{"$f":"'r'!C23","v":1},{"$f":"'r'!D23","v":1},{"$f":"'r'!E23","v":1},{"$f":"'r'!F23","v":1},{"$f":"'r'!G23","v":2},{"$f":"'r'!H23","v":2},{"$f":"'r'!I23","v":2},{"$f":"'r'!J23","v":2},{"$f":"'r'!K23","v":2},{"$f":"'r'!L23","v":1},{"$f":"'r'!M23","v":2},{"$f":"'r'!N23","v":2},{"$f":"'r'!O23","v":1},{"$f":"'r'!P23","v":1},{"$f":"'r'!Q23","v":1},{"$f":"'r'!R23","v":2},{"$f":"'r'!S23","v":2},{"$f":"'r'!T23","v":1},{"$f":"'r'!U23","v":1},{"$f":"'r'!V23","v":2},{"$f":"'r'!W23","v":2},{"$f":"'r'!X23","v":1},{"$f":"'r'!Y23","v":1},{"$f":"'r'!Z23","v":2},{"$f":"'r'!AA23","v":1},{"$f":"'r'!AB23","v":1},{"$f":"'r'!AC23","v":1},{"$f":"'r'!AD23","v":1},{"$f":"'r'!AE23","v":2},{"$f":"'r'!AF23","v":2},22]
[null,23,{"$f":"'r'!C24","v":2},{"$f":"'r'!D24","v":1},{"$f":"'r'!E24","v":2},{"$f":"'r'!F24","v":2},{"$f":"'r'!G24","v":1},{"$f":"'r'!H24","v":2},{"$f":"'r'!I24","v":2},{"$f":"'r'!J24","v":1},{"$f":"'r'!K24","v":1},{"$f":"'r'!L24","v":1},{"$f":"'r'!M24","v":1},{"$f":"'r'!N24","v":1},{"$f":"'r'!O24","v":2},{"$f":"'r'!P24","v":1},{"$f":"'r'!Q24","v":1},{"$f":"'r'!R24","v":2},{"$f":"'r'!S24","v":1},{"$f":"'r'!T24","v":1},{"$f":"'r'!U24","v":2},{"$f":"'r'!V24","v":1},{"$f":"'r'!W24","v":1},{"$f":"'r'!X24","v":1},{"$f":"'r'!Y24","v":1},{"$f":"'r'!Z24","v":2},{"$f":"'r'!AA24","v":1},{"$f":"'r'!AB24","v":2},{"$f":"'r'!AC24","v":1},{"$f":"'r'!AD24","v":1},{"$f":"'r'!AE24","v":1},{"$f":"'r'!AF24","v":1},23]
[null,24,{"$f":"'r'!C25","v":1},{"$f":"'r'!D25","v":2},{"$f":"'r'!E25","v":2},{"$f":"'r'!F25","v":1},{"$f":"'r'!G25","v":2},{"$f":"'r'!H25","v":1},{"$f":"'r'!I25","v":1},{"$f":"'r'!J25","v":2},{"$f":"'r'!K25","v":2},{"$f":"'r'!L25","v":1},{"$f":"'r'!M25","v":2},{"$f":"'r'!N25","v":1},{"$f":"'r'!O25","v":2},{"$f":"'r'!P25","v":1},{"$f":"'r'!Q25","v":2},{"$f":"'r'!R25","v":2},{"$f":"'r'!S25","v":1},{"$f":"'r'!T25","v":1},{"$f":"'r'!U25","v":2},{"$f":"'r'!V25","v":1},{"$f":"'r'!W25","v":1},{"$f":"'r'!X25","v":1},{"$f":"'r'!Y25","v":2},{"$f":"'r'!Z25","v":1},{"$f":"'r'!AA25","v":2},{"$f":"'r'!AB25","v":2},{"$f":"'r'!AC25","v":1},{"$f":"'r'!AD25","v":2},{"$f":"'r'!AE25","v":1},{"$f":"'r'!AF25","v":1},24]
[null,25,{"$f":"'r'!C26","v":1},{"$f":"'r'!D26","v":1},{"$f":"'r'!E26","v":1},{"$f":"'r'!F26","v":2},{"$f":"'r'!G26","v":1},{"$f":"'r'!H26","v":1},{"$f":"'r'!I26","v":2},{"$f":"'r'!J26","v":2},{"$f":"'r'!K26","v":1},{"$f":"'r'!L26","v":2},{"$f":"'r'!M26","v":1},{"$f":"'r'!N26","v":2},{"$f":"'r'!O26","v":1},{"$f":"'r'!P26","v":2},{"$f":"'r'!Q26","v":1},{"$f":"'r'!R26","v":2},{"$f":"'r'!S26","v":1},{"$f":"'r'!T26","v":2},{"$f":"'r'!U26","v":1},{"$f":"'r'!V26","v":1},{"$f":"'r'!W26","v":1},{"$f":"'r'!X26","v":1},{"$f":"'r'!Y26","v":1},{"$f":"'r'!Z26","v":2},{"$f":"'r'!AA26","v":2},{"$f":"'r'!AB26","v":2},{"$f":"'r'!AC26","v":1},{"$f":"'r'!AD26","v":2},{"$f":"'r'!AE26","v":2},{"$f":"'r'!AF26","v":1},25]
[null,26,{"$f":"'r'!C27","v":1},{"$f":"'r'!D27","v":1},{"$f":"'r'!E27","v":2},{"$f":"'r'!F27","v":2},{"$f":"'r'!G27","v":1},{"$f":"'r'!H27","v":1},{"$f":"'r'!I27","v":2},{"$f":"'r'!J27","v":2},{"$f":"'r'!K27","v":2},{"$f":"'r'!L27","v":2},{"$f":"'r'!M27","v":2},{"$f":"'r'!N27","v":1},{"$f":"'r'!O27","v":1},{"$f":"'r'!P27","v":2},{"$f":"'r'!Q27","v":1},{"$f":"'r'!R27","v":1},{"$f":"'r'!S27","v":1},{"$f":"'r'!T27","v":2},{"$f":"'r'!U27","v":2},{"$f":"'r'!V27","v":1},{"$f":"'r'!W27","v":1},{"$f":"'r'!X27","v":1},{"$f":"'r'!Y27","v":1},{"$f":"'r'!Z27","v":2},{"$f":"'r'!AA27","v":2},{"$f":"'r'!AB27","v":2},{"$f":"'r'!AC27","v":2},{"$f":"'r'!AD27","v":1},{"$f":"'r'!AE27","v":1},{"$f":"'r'!AF27","v":2},26]
[null,27,{"$f":"'r'!C28","v":2},{"$f":"'r'!D28","v":1},{"$f":"'r'!E28","v":1},{"$f":"'r'!F28","v":2},{"$f":"'r'!G28","v":1},{"$f":"'r'!H28","v":2},{"$f":"'r'!I28","v":1},{"$f":"'r'!J28","v":2},{"$f":"'r'!K28","v":1},{"$f":"'r'!L28","v":1},{"$f":"'r'!M28","v":1},{"$f":"'r'!N28","v":2},{"$f":"'r'!O28","v":2},{"$f":"'r'!P28","v":1},{"$f":"'r'!Q28","v":1},{"$f":"'r'!R28","v":1},{"$f":"'r'!S28","v":2},{"$f":"'r'!T28","v":1},{"$f":"'r'!U28","v":1},{"$f":"'r'!V28","v":2},{"$f":"'r'!W28","v":2},{"$f":"'r'!X28","v":1},{"$f":"'r'!Y28","v":1},{"$f":"'r'!Z28","v":1},{"$f":"'r'!AA28","v":1},{"$f":"'r'!AB28","v":1},{"$f":"'r'!AC28","v":1},{"$f":"'r'!AD28","v":2},{"$f":"'r'!AE28","v":2},{"$f":"'r'!AF28","v":1},27]
[null,28,{"$f":"'r'!C29","v":1},{"$f":"'r'!D29","v":1},{"$f":"'r'!E29","v":1},{"$f":"'r'!F29","v":2},{"$f":"'r'!G29","v":2},{"$f":"'r'!H29","v":1},{"$f":"'r'!I29","v":1},{"$f":"'r'!J29","v":1},{"$f":"'r'!K29","v":2},{"$f":"'r'!L29","v":2},{"$f":"'r'!M29","v":1},{"$f":"'r'!N29","v":1},{"$f":"'r'!O29","v":2},{"$f":"'r'!P29","v":2},{"$f":"'r'!Q29","v":1},{"$f":"'r'!R29","v":2},{"$f":"'r'!S29","v":2},{"$f":"'r'!T29","v":1},{"$f":"'r'!U29","v":1},{"$f":"'r'!V29","v":2},{"$f":"'r'!W29","v":1},{"$f":"'r'!X29","v":1},{"$f":"'r'!Y29","v":1},{"$f":"'r'!Z29","v":1},{"$f":"'r'!AA29","v":2},{"$f":"'r'!AB29","v":2},{"$f":"'r'!AC29","v":2},{"$f":"'r'!AD29","v":1},{"$f":"'r'!AE29","v":1},{"$f":"'r'!AF29","v":1},28]
[null,29,{"$f":"'r'!C30","v":1},{"$f":"'r'!D30","v":1},{"$f":"'r'!E30","v":2},{"$f":"'r'!F30","v":1},{"$f":"'r'!G30","v":2},{"$f":"'r'!H30","v":2},{"$f":"'r'!I30","v":2},{"$f":"'r'!J30","v":2},{"$f":"'r'!K30","v":2},{"$f":"'r'!L30","v":2},{"$f":"'r'!M30","v":1},{"$f":"'r'!N30","v":2},{"$f":"'r'!O30","v":1},{"$f":"'r'!P30","v":2},{"$f":"'r'!Q30","v":1},{"$f":"'r'!R30","v":2},{"$f":"'r'!S30","v":2},{"$f":"'r'!T30","v":2},{"$f":"'r'!U30","v":2},{"$f":"'r'!V30","v":1},{"$f":"'r'!W30","v":2},{"$f":"'r'!X30","v":2},{"$f":"'r'!Y30","v":2},{"$f":"'r'!Z30","v":2},{"$f":"'r'!AA30","v":1},{"$f":"'r'!AB30","v":2},{"$f":"'r'!AC30","v":2},{"$f":"'r'!AD30","v":1},{"$f":"'r'!AE30","v":2},{"$f":"'r'!AF30","v":1},29]
[null,30,{"$f":"'r'!C31","v":2},{"$f":"'r'!D31","v":1},{"$f":"'r'!E31","v":1},{"$f":"'r'!F31","v":2},{"$f":"'r'!G31","v":2},{"$f":"'r'!H31","v":2},{"$f":"'r'!I31","v":2},{"$f":"'r'!J31","v":2},{"$f":"'r'!K31","v":1},{"$f":"'r'!L31","v":2},{"$f":"'r'!M31","v":2},{"$f":"'r'!N31","v":2},{"$f":"'r'!O31","v":1},{"$f":"'r'!P31","v":1},{"$f":"'r'!Q31","v":1},{"$f":"'r'!R31","v":1},{"$f":"'r'!S31","v":1},{"$f":"'r'!T31","v":1},{"$f":"'r'!U31","v":1},{"$f":"'r'!V31","v":1},{"$f":"'r'!W31","v":1},{"$f":"'r'!X31","v":2},{"$f":"'r'!Y31","v":2},{"$f":"'r'!Z31","v":1},{"$f":"'r'!AA31","v":2},{"$f":"'r'!AB31","v":1},{"$f":"'r'!AC31","v":1},{"$f":"'r'!AD31","v":2},{"$f":"'r'!AE31","v":2},{"$f":"'r'!AF31","v":1},30]
[null,31,{"$f":"'r'!C32","v":2},{"$f":"'r'!D32","v":1},{"$f":"'r'!E32","v":2},{"$f":"'r'!F32","v":2},{"$f":"'r'!G32","v":2},{"$f":"'r'!H32","v":1},{"$f":"'r'!I32","v":2},{"$f":"'r'!J32","v":2},{"$f":"'r'!K32","v":1},{"$f":"'r'!L32","v":2},{"$f":"'r'!M32","v":1},{"$f":"'r'!N32","v":1},{"$f":"'r'!O32","v":2},{"$f":"'r'!P32","v":2},{"$f":"'r'!Q32","v":2},{"$f":"'r'!R32","v":2},{"$f":"'r'!S32","v":2},{"$f":"'r'!T32","v":2},{"$f":"'r'!U32","v":1},{"$f":"'r'!V32","v":1},{"$f":"'r'!W32","v":1},{"$f":"'r'!X32","v":2},{"$f":"'r'!Y32","v":2},{"$f":"'r'!Z32","v":1},{"$f":"'r'!AA32","v":1},{"$f":"'r'!AB32","v":1},{"$f":"'r'!AC32","v":1},{"$f":"'r'!AD32","v":2},{"$f":"'r'!AE32","v":2},{"$f":"'r'!AF32","v":2},31]
[null,32,{"$f":"'r'!C33","v":1},{"$f":"'r'!D33","v":1},{"$f":"'r'!E33","v":2},{"$f":"'r'!F33","v":1},{"$f":"'r'!G33","v":1},{"$f":"'r'!H33","v":2},{"$f":"'r'!I33","v":1},{"$f":"'r'!J33","v":2},{"$f":"'r'!K33","v":2},{"$f":"'r'!L33","v":2},{"$f":"'r'!M33","v":1},{"$f":"'r'!N33","v":1},{"$f":"'r'!O33","v":1},{"$f":"'r'!P33","v":1},{"$f":"'r'!Q33","v":2},{"$f":"'r'!R33","v":1},{"$f":"'r'!S33","v":1},{"$f":"'r'!T33","v":2},{"$f":"'r'!U33","v":1},{"$f":"'r'!V33","v":1},{"$f":"'r'!W33","v":1},{"$f":"'r'!X33","v":1},{"$f":"'r'!Y33","v":2},{"$f":"'r'!Z33","v":1},{"$f":"'r'!AA33","v":1},{"$f":"'r'!AB33","v":1},{"$f":"'r'!AC33","v":2},{"$f":"'r'!AD33","v":1},{"$f":"'r'!AE33","v":1},{"$f":"'r'!AF33","v":1},32]
[null,33,{"$f":"'r'!C34","v":1},{"$f":"'r'!D34","v":2},{"$f":"'r'!E34","v":2},{"$f":"'r'!F34","v":1},{"$f":"'r'!G34","v":1},{"$f":"'r'!H34","v":2},{"$f":"'r'!I34","v":2},{"$f":"'r'!J34","v":1},{"$f":"'r'!K34","v":2},{"$f":"'r'!L34","v":2},{"$f":"'r'!M34","v":1},{"$f":"'r'!N34","v":1},{"$f":"'r'!O34","v":1},{"$f":"'r'!P34","v":2},{"$f":"'r'!Q34","v":2},{"$f":"'r'!R34","v":1},{"$f":"'r'!S34","v":1},{"$f":"'r'!T34","v":2},{"$f":"'r'!U34","v":2},{"$f":"'r'!V34","v":2},{"$f":"'r'!W34","v":1},{"$f":"'r'!X34","v":2},{"$f":"'r'!Y34","v":1},{"$f":"'r'!Z34","v":2},{"$f":"'r'!AA34","v":1},{"$f":"'r'!AB34","v":2},{"$f":"'r'!AC34","v":1},{"$f":"'r'!AD34","v":1},{"$f":"'r'!AE34","v":1},{"$f":"'r'!AF34","v":2},33]
[null,34,{"$f":"'r'!C35","v":1},{"$f":"'r'!D35","v":1},{"$f":"'r'!E35","v":1},{"$f":"'r'!F35","v":1},{"$f":"'r'!G35","v":1},{"$f":"'r'!H35","v":1},{"$f":"'r'!I35","v":2},{"$f":"'r'!J35","v":2},{"$f":"'r'!K35","v":2},{"$f":"'r'!L35","v":1},{"$f":"'r'!M35","v":2},{"$f":"'r'!N35","v":1},{"$f":"'r'!O35","v":2},{"$f":"'r'!P35","v":1},{"$f":"'r'!Q35","v":1},{"$f":"'r'!R35","v":2},{"$f":"'r'!S35","v":2},{"$f":"'r'!T35","v":1},{"$f":"'r'!U35","v":2},{"$f":"'r'!V35","v":2},{"$f":"'r'!W35","v":1},{"$f":"'r'!X35","v":1},{"$f":"'r'!Y35","v":2},{"$f":"'r'!Z35","v":1},{"$f":"'r'!AA35","v":1},{"$f":"'r'!AB35","v":2},{"$f":"'r'!AC35","v":2},{"$f":"'r'!AD35","v":2},{"$f":"'r'!AE35","v":1},{"$f":"'r'!AF35","v":1},34]
[null,35,{"$f":"'r'!C36","v":2},{"$f":"'r'!D36","v":2},{"$f":"'r'!E36","v":2},{"$f":"'r'!F36","v":2},{"$f":"'r'!G36","v":2},{"$f":"'r'!H36","v":2},{"$f":"'r'!I36","v":2},{"$f":"'r'!J36","v":1},{"$f":"'r'!K36","v":1},{"$f":"'r'!L36","v":1},{"$f":"'r'!M36","v":2},{"$f":"'r'!N36","v":2},{"$f":"'r'!O36","v":2},{"$f":"'r'!P36","v":2},{"$f":"'r'!Q36","v":2},{"$f":"'r'!R36","v":1},{"$f":"'r'!S36","v":1},{"$f":"'r'!T36","v":2},{"$f":"'r'!U36","v":2},{"$f":"'r'!V36","v":2},{"$f":"'r'!W36","v":1},{"$f":"'r'!X36","v":2},{"$f":"'r'!Y36","v":1},{"$f":"'r'!Z36","v":2},{"$f":"'r'!AA36","v":1},{"$f":"'r'!AB36","v":2},{"$f":"'r'!AC36","v":2},{"$f":"'r'!AD36","v":2},{"$f":"'r'!AE36","v":1},{"$f":"'r'!AF36","v":2},35]
[null,36,{"$f":"'r'!C37","v":1},{"$f":"'r'!D37","v":2},{"$f":"'r'!E37","v":1},{"$f":"'r'!F37","v":2},{"$f":"'r'!G37","v":1},{"$f":"'r'!H37","v":2},{"$f":"'r'!I37","v":2},{"$f":"'r'!J37","v":2},{"$f":"'r'!K37","v":1},{"$f":"'r'!L37","v":2},{"$f":"'r'!M37","v":1},{"$f":"'r'!N37","v":2},{"$f":"'r'!O37","v":2},{"$f":"'r'!P37","v":1},{"$f":"'r'!Q37","v":1},{"$f":"'r'!R37","v":1},{"$f":"'r'!S37","v":1},{"$f":"'r'!T37","v":1},{"$f":"'r'!U37","v":1},{"$f":"'r'!V37","v":1},{"$f":"'r'!W37","v":2},{"$f":"'r'!X37","v":1},{"$f":"'r'!Y37","v":2},{"$f":"'r'!Z37","v":2},{"$f":"'r'!AA37","v":1},{"$f":"'r'!AB37","v":1},{"$f":"'r'!AC37","v":2},{"$f":"'r'!AD37","v":2},{"$f":"'r'!AE37","v":2},{"$f":"'r'!AF37","v":2},36]
[null,37,{"$f":"'r'!C38","v":1},{"$f":"'r'!D38","v":2},{"$f":"'r'!E38","v":2},{"$f":"'r'!F38","v":1},{"$f":"'r'!G38","v":1},{"$f":"'r'!H38","v":2},{"$f":"'r'!I38","v":1},{"$f":"'r'!J38","v":2},{"$f":"'r'!K38","v":2},{"$f":"'r'!L38","v":1},{"$f":"'r'!M38","v":2},{"$f":"'r'!N38","v":2},{"$f":"'r'!O38","v":1},{"$f":"'r'!P38","v":1},{"$f":"'r'!Q38","v":1},{"$f":"'r'!R38","v":2},{"$f":"'r'!S38","v":2},{"$f":"'r'!T38","v":1},{"$f":"'r'!U38","v":2},{"$f":"'r'!V38","v":1},{"$f":"'r'!W38","v":1},{"$f":"'r'!X38","v":2},{"$f":"'r'!Y38","v":2},{"$f":"'r'!Z38","v":1},{"$f":"'r'!AA38","v":1},{"$f":"'r'!AB38","v":2},{"$f":"'r'!AC38","v":2},{"$f":"'r'!AD38","v":1},{"$f":"'r'!AE38","v":2},{"$f":"'r'!AF38","v":1},37]
[null,38,{"$f":"'r'!C39","v":2},{"$f":"'r'!D39","v":1},{"$f":"'r'!E39","v":2},{"$f":"'r'!F39","v":1},{"$f":"'r'!G39","v":2},{"$f":"'r'!H39","v":1},{"$f":"'r'!I39","v":2},{"$f":"'r'!J39","v":2},{"$f":"'r'!K39","v":2},{"$f":"'r'!L39","v":1},{"$f":"'r'!M39","v":1},{"$f":"'r'!N39","v":1},{"$f":"'r'!O39","v":2},{"$f":"'r'!P39","v":2},{"$f":"'r'!Q39","v":2},{"$f":"'r'!R39","v":1},{"$f":"'r'!S39","v":2},{"$f":"'r'!T39","v":2},{"$f":"'r'!U39","v":1},{"$f":"'r'!V39","v":1},{"$f":"'r'!W39","v":1},{"$f":"'r'!X39","v":2},{"$f":"'r'!Y39","v":2},{"$f":"'r'!Z39","v":2},{"$f":"'r'!AA39","v":1},{"$f":"'r'!AB39","v":1},{"$f":"'r'!AC39","v":2},{"$f":"'r'!AD39","v":2},{"$f":"'r'!AE39","v":1},{"$f":"'r'!AF39","v":2},38]
[null,39,{"$f":"'r'!C40","v":2},{"$f":"'r'!D40","v":2},{"$f":"'r'!E40","v":1},{"$f":"'r'!F40","v":1},{"$f":"'r'!G40","v":1},{"$f":"'r'!H40","v":2},{"$f":"'r'!I40","v":1},{"$f":"'r'!J40","v":1},{"$f":"'r'!K40","v":2},{"$f":"'r'!L40","v":2},{"$f":"'r'!M40","v":2},{"$f":"'r'!N40","v":1},{"$f":"'r'!O40","v":2},{"$f":"'r'!P40","v":1},{"$f":"'r'!Q40","v":2},{"$f":"'r'!R40","v":1},{"$f":"'r'!S40","v":1},{"$f":"'r'!T40","v":2},{"$f":"'r'!U40","v":2},{"$f":"'r'!V40","v":2},{"$f":"'r'!W40","v":2},{"$f":"'r'!X40","v":2},{"$f":"'r'!Y40","v":1},{"$f":"'r'!Z40","v":2},{"$f":"'r'!AA40","v":1},{"$f":"'r'!AB40","v":2},{"$f":"'r'!AC40","v":1},{"$f":"'r'!AD40","v":2},{"$f":"'r'!AE40","v":2},{"$f":"'r'!AF40","v":2},39]
[null,40,{"$f":"'r'!C41","v":1},{"$f":"'r'!D41","v":1},{"$f":"'r'!E41","v":2},{"$f":"'r'!F41","v":2},{"$f":"'r'!G41","v":2},{"$f":"'r'!H41","v":1},{"$f":"'r'!I41","v":2},{"$f":"'r'!J41","v":1},{"$f":"'r'!K41","v":2},{"$f":"'r'!L41","v":1},{"$f":"'r'!M41","v":2},{"$f":"'r'!N41","v":1},{"$f":"'r'!O41","v":2},{"$f":"'r'!P41","v":1},{"$f":"'r'!Q41","v":1},{"$f":"'r'!R41","v":2},{"$f":"'r'!S41","v":2},{"$f":"'r'!T41","v":2},{"$f":"'r'!U41","v":2},{"$f":"'r'!V41","v":2},{"$f":"'r'!W41","v":1},{"$f":"'r'!X41","v":1},{"$f":"'r'!Y41","v":2},{"$f":"'r'!Z41","v":2},{"$f":"'r'!AA41","v":2},{"$f":"'r'!AB41","v":2},{"$f":"'r'!AC41","v":1},{"$f":"'r'!AD41","v":1},{"$f":"'r'!AE41","v":1},{"$f":"'r'!AF41","v":2},40]
[null,"X","Ͼ","Ͽ",3,4,5,6,7,8,9,10,11,12,13,14,15,16,17,18,19,20,21,22,23,24,25,26,27,28,29,30,"X"]